{"text_format":"1","workbook":"xlsx","n_sheets":14,"sheets":["General Information","Transport Services","Tank Cleaning","ESAD","Warehouse","WH - II(1)","WH - FCI","WH - II(2)","WH - II(3)","Rail","Status","Data","Combo","lang"],"not_rendered":{"charts":0,"images":4,"macros":1,"external_links":0,"defined_names":55,"comments":9,"pivot_tables":0},"unopened":[],"bounds":{"document_bytes":16777216,"sheet_cells":100000,"rows_first":2000,"rows_last":500,"rows_between":2000,"halvings":0,"cell_chars":16384,"cell_head_chars":4096},"cells_cut":0,"cells_raw":0,"read":"whole","date_system":"1900"}

{"sheet":"General Information","index":0,"n_rows":240,"n_cols":28,"rows_kept":240,"cut":false,"hidden":false,"merged":[[51,8,53,14],[15,7,15,14],[82,7,82,14],[112,3,113,8],[128,8,128,10],[84,7,84,14],[114,3,115,8],[88,7,88,14],[21,7,23,14],[33,7,33,14],[37,7,37,14],[41,3,42,6],[43,3,44,6],[47,8,47,14],[90,7,90,14],[63,8,63,14],[55,8,55,10],[57,7,59,14],[57,3,57,6],[100,7,100,14],[98,7,98,14],[68,7,68,14],[27,7,27,14],[70,7,70,14],[80,7,80,14],[146,8,146,12],[165,8,165,10],[165,12,165,14],[165,5,165,6],[167,5,167,6],[163,12,163,14],[163,8,163,10],[116,3,117,8],[129,3,133,6],[161,8,161,10],[144,3,145,6],[148,3,149,6],[150,8,150,12],[108,3,108,6],[108,10,108,13],[146,3,147,6],[158,5,159,6],[120,3,121,8],[152,3,153,6],[167,2,167,3],[149,8,149,14],[47,3,48,6],[29,7,29,14],[31,7,31,14],[48,8,48,14],[206,8,208,15],[110,3,111,8],[94,7,94,14],[210,3,212,6],[216,8,218,15],[210,8,212,15],[178,11,178,15],[169,2,169,3],[176,10,176,12],[174,3,175,8],[169,12,169,14],[49,8,49,14],[118,3,119,8],[78,7,78,14],[130,8,130,10],[142,8,142,12],[161,12,161,14],[43,7,45,14],[140,8,140,12],[41,7,41,14],[239,1,239,17],[231,3,233,6],[231,8,233,15],[238,1,238,18],[228,3,230,8],[216,3,219,6],[226,3,226,6],[222,3,222,6],[222,8,222,10],[235,3,235,6],[235,8,235,10],[226,8,226,10],[224,8,224,15],[224,3,224,6],[136,16,137,16],[96,7,96,14],[55,3,56,6],[58,3,59,6],[158,16,159,17],[158,12,159,14],[158,8,159,10],[206,3,208,6],[51,3,53,6],[61,3,63,6],[76,7,76,14],[61,8,61,14],[62,8,62,14],[72,7,74,14],[149,15,149,17],[152,8,152,12],[167,8,167,10],[169,8,169,10],[182,3,183,8],[184,3,185,8],[186,3,187,8],[188,3,189,8],[198,3,199,8],[169,5,169,6],[0,6,0,12],[1,6,1,12],[2,6,2,12],[13,7,13,14],[4,0,4,17],[7,0,7,17],[39,7,39,14],[6,0,6,17],[5,0,5,17],[8,0,8,17],[25,7,25,14],[17,7,17,14],[19,7,19,14],[35,7,35,14],[200,3,200,8],[201,3,201,8],[202,3,202,8],[203,3,203,8],[132,8,132,10],[158,1,159,3],[138,8,138,12],[161,5,161,6],[163,5,163,6],[167,12,167,14],[196,3,197,8],[194,3,195,8],[144,8,144,12],[148,8,148,12],[190,3,191,8],[192,3,193,8],[200,1,202,1]]}
[null,null,null,null,null,null,{"$f":"IF(X1,lang!A30,lang!A31)","v":"This sheet needs to be answered"},null,null,null,null,null,null,null,null,null,null,null,null,null,null,null,null,true,{"$f":"IF(R_GI,AB11,0)","v":-2}]
[null,null,null,null,null,null,{"$f":"IF(X1,IF(Y2,lang!A32,IF(X2,lang!A33,lang!A34)),\"\")","v":"This sheet is not yet completed"},null,null,null,null,null,null,null,null,null,null,null,null,null,null,null,null,{"$f":"X11","v":false},{"$f":"Y11","v":false}]
[null,null,null,null,null,null,{"$f":"IF(Y3,lang!A35,IF(X3,lang!A36,lang!A37))","v":"The document is not yet completed"},null,null,null,null,null,null,null,null,null,null,null,null,null,null,null,null,{"$f":"NOT(Status!F20)","v":false},{"$f":"Status!G20","v":false}]
[]
["Gulf SQAS 2025\nRev 4.0 - 8 July 2025"]
[{"$f":"lang!A40","v":"ASSESSMENT INFORMATION AND SCOPE - Part I"}]
[{"$f":"lang!A39","v":"(Please, complete a PAD for every site to be assessed)"}]
[{"$f":"lang!A42","v":"(Items marked with a (*) and/or magenta background must always be completed)"}]
[{"$f":"lang!A43","v":"(For checkboxes \"checked\" means \"Yes\", \"unchecked\" - \"No\")"}]
[]
[null,null,"0.1",{"$f":"lang!A48","v":"Assessment information"},null,null,null,null,null,null,null,null,null,null,null,null,null,null,null,null,null,null,null,{"$f":"AND(X14:X272)","v":false},{"$f":"(OR(Y14:Y272))","v":false},null,null,{"$f":"SUM(AB13:AB272)","v":-2}]
[null,null,"0.1.1",{"$f":"lang!A49","v":"Assessed Company"},null,null,null,null,null,null,null,null,null,null,null,null,null,null,null,"value","raw",null,"Validation","Mand OK","Error"]
[]
[null,null,"(*)",{"$f":"lang!A50","v":"Name "},null,null,null,null,null,null,null,null,null,null,null,null,{"$f":"lang!A51","v":"(Use the same name used in the prenotification)"},null,null,null,null,null,null,{"$f":"LEN(H14)>0","v":false},{"$f":"IF(ISERROR(H14),TRUE,LEN(H14)>=160)","v":false},"2","H"]
[]
[null,null,"(*)",{"$f":"lang!A52","v":"Location (=Town/City)"},null,null,null,null,null,null,null,null,null,null,null,null,null,null,null,null,null,null,null,{"$f":"LEN(H16)>0","v":false},{"$f":"IF(ISERROR(H16),TRUE,LEN(H16)>=160)","v":false},{"$f":"Z14+1","v":3},"H"]
[]
[null,null,"(*)",{"$f":"lang!A53","v":"Country"},null,null,null,null,null,null,null,null,null,null,null,null,{"$f":"lang!A54","v":"(Select from the dropdown list)"},null,null,{"$f":"IF(LEN(H18)>0,VLOOKUP(H18,countries_arab,2,FALSE),\"\")","v":""},null,null,{"$f":"IF(ISNA(MATCH(H18,countries,0)), 0, MATCH(H18,countries,0))","v":0},{"$f":"AND(NOT(ISNA(MATCH(H18,countries_gulfsqas,0))),H18<>\"\")","v":false},{"$f":"IF(ISERROR(H18), TRUE, IF(ISERROR(T18),TRUE,ISNA(T18)))","v":false},{"$f":"Z16+1","v":4},"H"]
[]
[null,null,"(*)",{"$f":"lang!A55","v":"Postal code / P.O. Box"},null,null,null,null,null,null,null,null,null,null,null,null,null,null,null,null,null,null,null,{"$f":"LEN(H20)>0","v":false},{"$f":"IF(ISERROR(H20),TRUE,LEN(H20)>=15)","v":false},{"$f":"Z18+1","v":5},"H"]
[]
[null,null,"(*)",{"$f":"lang!A56","v":"Postal Address"},null,null,null,null,null,null,null,null,null,null,null," ",null,null,null,null,null,null,null,{"$f":"LEN(H22)>0","v":false},{"$f":"IF(ISERROR(H22),TRUE,LEN(H22)>=400)","v":false},{"$f":"Z20+1","v":6},"H"]
[]
[]
[]
[null,null,"(*)",{"$f":"lang!A57","v":"Phone"},null,null,null,null,null,null,null,null,null,null,null,null,null,null,null,null,null,null,{"$f":"AND(NOT(OR(LEFT(H26,1)=\"+\", LEN(TRIM(H26))=0)), LEN(H26)<30)","v":false},{"$f":"AND(LEN(H26)>0,NOT(W26))","v":false},{"$f":"IF(ISERROR(H26),TRUE,IF(ISERROR(W26),TRUE,W26))","v":false},{"$f":"Z22+1","v":7},"H"]
[]
[null,null,null,{"$f":"lang!A58","v":"Website"},null,null,null,null,null,null,null,null,null,null,null,null,null,null,null,null,null,null,null,"TRUE",{"$f":"IF(ISERROR(H28),TRUE,LEN(H28)>=50)","v":false},{"$f":"Z26+1","v":8},"H"]
[]
[null,null,"(*)",{"$f":"lang!A59","v":"1. Contact person"},null,null,null,null,null,null,null,null,null,null,null,null,null,null,null,null,null,null,null,{"$f":"LEN(H30)>0","v":false},{"$f":"IF(ISERROR(H30),TRUE,LEN(H30)>=50)","v":false},{"$f":"Z28+1","v":9},"H"]
[]
[null,null,"(*)",{"$f":"lang!A60","v":"Email"},null,null,null,null,null,null,null,null,null,null,null,null,null,null,null,null,null,null,{"$f":"AND(NOT(OR(ISNUMBER(FIND(\".\",H32,FIND(\"@\",H32))), LEN(TRIM(H32))=0)), LEN(H32)<99)","v":false},{"$f":"AND(LEN(H32)>0,NOT(W32))","v":false},{"$f":"IF(ISERROR(H32),TRUE,IF(ISERROR(W32),TRUE,W32))","v":false},{"$f":"Z30+1","v":10},"H"]
[]
[null,null,null,{"$f":"lang!A61","v":"2. Contact person"},null,null,null,null,null,null,null,null,null,null,null,null,null,null,null,null,null,null,null,"TRUE",{"$f":"IF(ISERROR(H34),TRUE,LEN(H34)>=50)","v":false},{"$f":"Z32+1","v":11},"H"]
[]
[null,null,null,{"$f":"lang!A62","v":"Email"},null,null,null,null,null,null,null,null,null,null,null,null,null,null,null,null,null,null,{"$f":"AND(NOT(OR(ISNUMBER(FIND(\".\",H36,FIND(\"@\",H36))), LEN(TRIM(H36))=0)), LEN(H36)<99)","v":false},{"$f":"AND(NOT(W36))","v":true},{"$f":"IF(ISERROR(H36),TRUE,IF(ISERROR(W36),TRUE,W36))","v":false},{"$f":"Z34+1","v":12},"H"]
[]
[null,null,null,{"$f":"lang!A63","v":"3. Contact person"},null,null,null,null,null,null,null,null,null,null,null,null,null,null,null,null,null,null,null,"TRUE",{"$f":"IF(ISERROR(H38),TRUE,LEN(H38)>=50)","v":false},{"$f":"Z36+1","v":13},"H"]
[null,null,null,null,null,null,null,null,null,null,null,null,null,null,null,null,null,null,null,null,null,null,{"$f":"NOT(OR(LEFT(H39,1)=\"+\", LEN(TRIM(H39))=0))","v":false}]
[null,null,null,{"$f":"lang!A64","v":"Email"},null,null,null,null,null,null,null,null,null,null,null,null,null,null,null,null,null,null,{"$f":"AND(NOT(OR(ISNUMBER(FIND(\".\",H40,FIND(\"@\",H40))), LEN(TRIM(H40))=0)), LEN(H40)<99)","v":false},{"$f":"AND(NOT(W40))","v":true},{"$f":"IF(ISERROR(H40),TRUE,IF(ISERROR(W40),TRUE,W40))","v":false},{"$f":"Z38+1","v":14},"H"]
[]
[null,null,"(*)",{"$f":"lang!A65","v":"Headquarter's Name"},null,null,null,null,null,null,null,null,null,null,null,null,null,null,null,null,null,null,null,{"$f":"LEN(H42)>0","v":false},{"$f":"IF(ISERROR(H42),TRUE,LEN(H42)>=160)","v":false},{"$f":"Z40+1","v":15},"H"]
[]
[null,null,"(*)",{"$f":"lang!A66","v":"Headquarter's Address"},null,null,null,null,null,null,null,null,null,null,null,null,null,null,null,null,null,null,null,{"$f":"LEN(H44)>0","v":false},{"$f":"IF(ISERROR(H44),TRUE,LEN(H44)>=400)","v":false},{"$f":"Z42+1","v":16},"H"]
[]
[]
[]
[null,null,"(*)",{"$f":"lang!A67","v":"Type of company"},null,null,null,null,{"$f":"lang!A68","v":"Stand alone"},null,null,null,null,null,null,null,null,null,null,{"$f":"(V48-1)","v":0},{"$f":"(V48=0)","v":false},1,null,{"$f":"V48>0","v":true}]
[null,null,null,null,null,null,null,null,{"$f":"lang!A69","v":"Headquarter"},null,null,null,null,null,null,null,null,null,null,{"$f":"IF(V48=2,\"Y\",IF(V48>0,\"N\",\"\"))","v":"N"},{"$f":"(V48=2)","v":false},null,{"$f":"NOT(AND(U49,U50))","v":true},null,null,{"$f":"Z44+1","v":17},"T",{"$f":"IF(U49,6,0)","v":0}]
[null,null,null,null,null,null,null,null,{"$f":"lang!A72","v":"Subsidiary"},null,null,null,null,null,null,null,null,null,null,{"$f":"IF(V48=3,\"Y\",IF(V48>0,\"N\",\"\"))","v":"N"},{"$f":"(V48=3)","v":false},null,{"$f":"NOT(AND(U50,U49))","v":true},null,null,{"$f":"Z52+1","v":19},"T",{"$f":"IF(U50,-4,0)","v":0}]
[]
[null,null,{"$f":"IF(IF(ISERROR(U49),FALSE,U49),\"(*)\",\"\")","v":""},{"$f":"lang!A70","v":"For headquarter, name subsidiaries."},null,null,null,null,null,null,null,null,null,null,null,null,{"$f":"IF(IF(ISERROR(I52),FALSE,AND(LEN(I52)>0,NOT(U49))),lang!A71,\"\")","v":""},null,null,null,null,null,null,{"$f":"OR(AND(LEN(I52)>0,U49),AND(LEN(I52)=0,NOT(U49)))","v":true},{"$f":"IF(ISERROR(I52),TRUE,LEN(I52)>=400)","v":false},{"$f":"Z49+1","v":18},"H"]
[]
[]
[]
[null,null,{"$f":"IF(IF(ISERROR(U50),FALSE,U50),\"(*)\",\"\")","v":""},{"$f":"lang!A73","v":"For subsidiary, indicate the number of the report of the headquarter."},{"$f":"lang!B78","v":"If yes, indicate the number of the report of the headquarter."},{"$f":"lang!C78","v":"Wenn ja, bitte geben Sie die Berichtsnummer des Hauptsitzes an "},{"$f":"lang!D78","v":"Se sim, indique o número do relatório da Sede"},null,null,null,null,null,null,null,null,null,{"$f":"IF(IF(ISERROR(I56),TRUE,AND(LEN(I56)>0,NOT(U50))),lang!A74,\"\")","v":""},null,null,null,null,null,{"$f":"OR(AND(ISNUMBER(VALUE(CONCATENATE(MID(I56,1,5),MID(I56,8,2)))),LEN(I56)<10,SUBSTITUTE(I56,\" \",\"\")=I56),LEN(I56)=0)","v":true},{"$f":"OR(AND(LEN(I56)>0,U50),AND(LEN(I56)=0,NOT(U50)))","v":true},{"$f":"IF(ISERROR(I56),TRUE,IF(ISERROR(W56),TRUE,NOT(W56)))","v":false},{"$f":"Z50+1","v":20},"I"]
[null,null,null,{"$f":"lang!A79","v":"Company Membership"},{"$f":"lang!B79","v":"Company Membership"},{"$f":"lang!C79","v":"Mitgliedschaften des Unternehmens"},{"$f":"lang!D79","v":"Entidades  associadas"}]
[null,null,null,{"$f":"lang!A79","v":"Company Membership"},null,null,null,null,null,null,null,null,null,null,null,null,null,null,null,null,null,null,null,"TRUE",{"$f":"IF(ISERROR(H58),TRUE,LEN(H58)>=400)","v":false},{"$f":"Z56+2","v":22},"H"]
[null,null,null,{"$f":"lang!A80","v":"GPCA"},{"$f":"lang!B80","v":"GPCA"},{"$f":"lang!C80","v":"GPCA"},{"$f":"lang!D80","v":"GPCA"}]
[null,null,null,{"$f":"lang!A81","v":"Total number of employees for all assessed activities "},{"$f":"lang!B81","v":"Total number of employees for all assessed activities "},{"$f":"lang!C81","v":"Gesamtzahl der Mitarbeiter für alle bewerteten Aktivitäten"},{"$f":"lang!D81","v":"Número total de de empregados das actividades avaliadas "}]
[]
[null,null,"(*)",{"$f":"lang!A81","v":"Total number of employees for all assessed activities "},null,null,null,null,{"$f":"lang!A771","v":"Less than 10"},null,null,null,null,null,null,null,null,null,null,"Column1","Column2","Column3",null,{"$f":"NOT(U63)","v":true},false,{"$f":"Z58+1","v":23},"T",{"$f":"IF(V63=2,2,IF(V63=3,3,0))","v":0}]
[null,null,null,null,null,null,null,null,{"$f":"lang!A772","v":"10-50"},null,null,null,null,null,null,null,null,null,null,{"$f":"IF(X62,CHOOSE(V63,lang!B771,lang!B772,lang!B773),\"\")","v":"Less than 10"},{"$f":"(V63=0)","v":false},1]
[null,null,null,null,null,null,null,null,{"$f":"lang!A773","v":"more than 50"}]
[]
[null,null,"0.1.2",{"$f":"lang!A82","v":"Assessor"}]
[null,null,null,"u Lead Assessor"]
[]
[null,null,null,"(*)",null,"Name"]
[]
[null,null,null,null,null,"Assessment Agency"]
[]
[null,null,null,null,null,"Address"]
[]
[]
[]
[null,null,null,"(*)",null,"Country"]
[]
[null,null,null,"(*)",null,"Phone",null,null,null,null,null,null,null,null,null,null,null,null,null,null,null,null,{"$f":"NOT(OR(LEFT(H79,1)=\"+\", LEN(TRIM(H79))=0))","v":false}]
[]
[null,null,null,null,null,"Mobile Phone",null,null,null,null,null,null,null,null,null,null,null,null,null,null,null,null,{"$f":"NOT(OR(LEFT(H81,1)=\"+\", LEN(TRIM(H81))=0))","v":false}]
[]
[null,null,null,null,null,"Fax",null,null,null,null,null,null,null,null,null,null,null,null,null,null,null,null,{"$f":"NOT(OR(LEFT(H83,1)=\"+\", LEN(TRIM(H83))=0))","v":false}]
[]
[null,null,null,"(*)",null,"Email"]
[]
[null,null,null,"u Other assessors"]
[]
[null,null,null,null,null,"Name(s)"]
[]
[]
[]
[null,null,null,"u Observers"]
[]
[null,null,null,null,null,"1. Name"]
[]
[null,null,null,null,null,"Company"]
[]
[null,null,null,null,null,"2. Name"]
[]
[null,null,null,null,null,"Company"]
[]
[]
[null,null,null,{"$f":"lang!A83","v":"This section is intentionally left blank"}]
[]
[null,null,"0.1.3",{"$f":"lang!A108","v":"Activities Assessed"},null,null,null,null,null,null,null,null,null,null,null,null,null,null,null,null,{"$f":"OR(U111,U113,U115,U117,U121)","v":false},null,null,null,{"$f":"IF(ISERROR(V111+V115),FALSE,  AND(V111=1,V115=1))","v":false},null,null,{"$f":"IF(U106,6,0)","v":0}]
[null,null,null,{"$f":"lang!A83","v":"This section is intentionally left blank"}]
[]
[null,null,null,{"$f":"lang!A109","v":"Road Transport"}]
[null,null,null,null,null,null,null,null,null,null,null,null,null,null,null,null,null,null,null,null,{"$f":"OR(U111,U115)","v":false},null,null,{"$f":"OR(U110:U121)","v":false},null,null,null,{"$f":"IF(U110,4,0)","v":0}]
[null,null,"(*)",{"$f":"lang!A109","v":"Road Transport"},null,null,null,null,null,null,{"$f":"lang!A$755","v":"Yes"},null,{"$f":"lang!A$756","v":"No"},null,{"$f":"IF(Y111,lang!A113,\"\")","v":""},null,null,null,null,{"$f":"IF(V111=1,\"Y\",IF(V111=2,\"N\",\"\"))","v":"N"},{"$f":"(V111=1)","v":false},2,{"$f":"$X$110","v":false},{"$f":"AND(V111>0,W111)","v":false},{"$f":"AND(U111,U115)","v":false},81,"T"]
[]
[null,null,"(*)",{"$f":"lang!A111","v":"Tank cleaning"},null,null,null,null,null,null,{"$f":"lang!A$755","v":"Yes"},null,{"$f":"lang!A$756","v":"No"},null,null,null,null,null,null,{"$f":"IF(V113=3,\"Y\",IF(V113=4,\"N\",\"\"))","v":"N"},{"$f":"(V113=3)","v":false},4,{"$f":"$X$110","v":false},{"$f":"AND(V113>0,W113)","v":false},false,{"$f":"Z111+2","v":83},"T",{"$f":"IF(U113,7,0)","v":0}]
[]
[null,null,"(*)",{"$f":"lang!A112","v":"Intermodal terminal"},null,null,null,null,null,null,{"$f":"lang!A$755","v":"Yes"},null,{"$f":"lang!A$756","v":"No"},null,{"$f":"IF(Y115,lang!A113,\"\")","v":""},null,null,null,null,{"$f":"IF(V115=1,\"Y\",IF(V115=2,\"N\",\"\"))","v":"N"},{"$f":"(V115=1)","v":false},2,{"$f":"$X$110","v":false},{"$f":"AND(V115>0,W115)","v":false},{"$f":"AND(U111,U115)","v":false},{"$f":"Z113+1","v":84},"T"]
[]
[null,null,"(*)",{"$f":"lang!A114","v":"Warehouse activities"},null,null,null,null,null,null,{"$f":"lang!A$755","v":"Yes"},null,{"$f":"lang!A$756","v":"No"},null,null,null,null,null,null,{"$f":"IF(V117=1,\"Y\",IF(V117=2,\"N\",\"\"))","v":"N"},{"$f":"(V117=1)","v":false},2,{"$f":"$X$110","v":false},{"$f":"AND(V117>0,W117)","v":false},false,{"$f":"Z115+1","v":85},"T",{"$f":"IF(U117,4,0)","v":0}]
[]
[null,null,"(*)",{"$f":"lang!A115","v":"Chemical distribution"},null,null,null,null,null,null,{"$f":"lang!A$755","v":"Yes"},null,{"$f":"lang!A$756","v":"No"},null,null,null,null,null,null,{"$f":"IF(V119=1,\"Y\",IF(V119=2,\"N\",\"\"))","v":"N"},{"$f":"(V119=1)","v":false},2,{"$f":"$X$110","v":false},{"$f":"AND(V119>0,W119)","v":false},false,{"$f":"Z117+1","v":86},"T"]
[]
[null,null,"(*)",{"$f":"lang!A116","v":"Rail transport "},null,null,null,null,null,null,{"$f":"lang!A$755","v":"Yes"},null,{"$f":"lang!A$756","v":"No"},{"$f":"lang!A117","v":"(Rail Carrier)"},null,null,null,null,null,{"$f":"IF(V121=1,\"Y\",IF(V121=2,\"N\",\"\"))","v":"N"},{"$f":"(V121=1)","v":false},2,{"$f":"$X$110","v":false},{"$f":"AND(V121>0,W121)","v":false},false,{"$f":"Z119+1","v":87},"T",{"$f":"IF(U121,6,0)","v":0}]
[]
[]
[null,null,"0.1.4",{"$f":"lang!A84","v":"Assessment"}]
[]
[null,null,{"$f":"IF(V126<>2,\"(*)\",\"\")","v":"(*)"},{"$f":"lang!A85","v":"First assessment"},null,null,null,null,null,null,null,null,null,null,null,null,null,null,null,{"$f":"IF(V126=1,\"Y\",IF(V126=2,\"N\",\"\"))","v":"Y"},{"$f":"(V126=1)","v":true},1,null,{"$f":"V126>0","v":true},null,38,"T",{"$f":"IF(U126,-2,0)","v":-2}]
[]
[null,null,{"$f":"IF(V126<>1,\"(*)\",\"\")","v":""},{"$f":"lang!A86","v":"Re-assessment"},null,null,null,null,null,null,null,null,null,null,null,null,null,null,null,{"$f":"IF(V126=2,\"Y\",IF(V126=1,\"N\",\"\"))","v":"N"},{"$f":"(V126=2)","v":false},null,null,null,null,"39_0","T",{"$f":"IF(U128,-8,0)","v":0}]
[null,null,{"$f":"IF(V126=2,\"(*)\",\"\")","v":""},{"$f":"lang!A87","v":"Report number "},null,null,null,null,null,null,null,null,{"$f":"IF(IF(ISERROR(I129),TRUE,AND(LEN(I129)>0,NOT(U$128))),lang!A$89,\"\")","v":""},null,null,null,null,null,null,null,null,null,{"$f":"OR(AND(ISNUMBER(VALUE(CONCATENATE(MID(I129,1,5),MID(I129,8,2)))),LEN(I129)<10,SUBSTITUTE(I129,\" \",\"\")=I129),LEN(I129)=0)","v":true},{"$f":"OR(AND(LEN(I129)>0,$U$128),AND(LEN(I129)=0,NOT($U$128)))","v":true},{"$f":"IF(ISERROR(I129),TRUE,IF(ISERROR(W129),TRUE,NOT(W129)))","v":false},39,"I"]
[null,null,null,{"$f":"IF(V126=2,lang!A88,\"\")","v":""}]
[null,null,null,null,null,null,null,null,null,null,null,null,{"$f":"IF(IF(ISERROR(I131),TRUE,AND(LEN(I131)>0,NOT(U$128))),lang!A$89,\"\")","v":""},null,null,null,null,null,null,null,null,null,{"$f":"OR(AND(ISNUMBER(VALUE(CONCATENATE(MID(I131,1,5),MID(I131,8,2)))),LEN(I131)<10,SUBSTITUTE(I131,\" \",\"\")=I131),LEN(I131)=0)","v":true},{"$f":"OR(AND($U$128),AND(LEN(I131)=0,NOT($U$128)))","v":true},{"$f":"IF(ISERROR(I131),TRUE,IF(ISERROR(W131),TRUE,NOT(W131)))","v":false},"39_1","I"]
[]
[null,null,null,null,null,null,null,null,null,null,null,null,{"$f":"IF(IF(ISERROR(I133),TRUE,AND(LEN(I133)>0,NOT(U$128))),lang!A$89,\"\")","v":""},null,null,null,null,null,null,null,null,null,{"$f":"OR(AND(ISNUMBER(VALUE(CONCATENATE(MID(I133,1,5),MID(I133,8,2)))),LEN(I133)<10,SUBSTITUTE(I133,\" \",\"\")=I133),LEN(I133)=0)","v":true},{"$f":"OR(AND($U$128),AND(LEN(I133)=0,NOT($U$128)))","v":true},{"$f":"IF(ISERROR(I133),TRUE,IF(ISERROR(W133),TRUE,NOT(W133)))","v":false},"39_2","I"]
[]
[null,null,"0.2",{"$f":"lang!A90","v":"Assessed company profile"}]
[]
[null,null,"0.2.1",{"$f":"lang!A91","v":"Key Contacts"},null,null,null,null,null,null,null,null,null,null,null,null,{"$f":"lang!A92","v":"Location"}]
[]
[null,null,"(*)",{"$f":"lang!A93","v":"General Manager"},null,null,null,null,null,null,null,null,null,null,null,null,null,null,null,null,null,null,null,{"$f":"LEN(I139)>0","v":false},{"$f":"IF(ISERROR(I139),TRUE,LEN(I139)>=160)","v":false},"52|53","I|P"]
[null,null,null,null,null,null,null,null,null,null,null,null,null,null,null,null,null,null,null,null,null,null,null,{"$f":"LEN(Q139)>0","v":false},{"$f":"IF(ISERROR(Q139),TRUE,LEN(Q139)>=50)","v":false}]
[null,null,"(*)",{"$f":"lang!A94","v":"Operations Manager"},null,null,null,null,null,null,null,null,null,null,null,null,null,null,null,null,null,null,null,{"$f":"LEN(I141)>0","v":false},{"$f":"IF(ISERROR(I141),TRUE,LEN(I141)>=160)","v":false},"54|55","I|P"]
[null,null,null,null,null,null,null,null,null,null,null,null,null,null,null,null,null,null,null,null,null,null,null,{"$f":"LEN(Q141)>0","v":false},{"$f":"IF(ISERROR(Q141),TRUE,LEN(Q141)>=50)","v":false}]
[null,null,"(*)",{"$f":"lang!A95","v":"Quality Assurance Manager"},null,null,null,null,null,null,null,null,null,null,null,null,null,null,null,null,null,null,null,{"$f":"LEN(I143)>0","v":false},{"$f":"IF(ISERROR(I143),TRUE,LEN(I143)>=160)","v":false},"56|57","I|P"]
[null,null,null,null,null,null,null,null,null,null,null,null,null,null,null,null,null,null,null,null,null,null,null,{"$f":"LEN(Q143)>0","v":false},{"$f":"IF(ISERROR(Q143),TRUE,LEN(Q143)>=50)","v":false}]
[null,null,"(*)",{"$f":"lang!A96","v":"Safety & Health Manager"},null,null,null,null,null,null,null,null,null,null,null,null,null,null,null,null,null,null,null,{"$f":"LEN(I145)>0","v":false},{"$f":"IF(ISERROR(I145),TRUE,LEN(I145)>=160)","v":false},"58|59","I|P"]
[null,null,null,null,null,null,null,null,null,null,null,null,null,null,null,null,null,null,null,null,null,null,null,{"$f":"LEN(Q145)>0","v":false},{"$f":"IF(ISERROR(Q145),TRUE,LEN(Q145)>=50)","v":false}]
[null,null,"(*)",{"$f":"lang!A97","v":"Environmental Manager"},null,null,null,null,null,null,null,null,null,null,null,null,null,null,null,null,null,null,null,{"$f":"LEN(I147)>0","v":false},{"$f":"IF(ISERROR(I147),TRUE,LEN(I147)>=160)","v":false},"60|61","I|P"]
[null,null,null,null,null,null,null,null,null,null,null,null,null,null,null,null,null,null,null,null,null,null,null,{"$f":"LEN(Q147)>0","v":false},{"$f":"IF(ISERROR(Q147),TRUE,LEN(Q147)>=50)","v":false}]
[null,null,"(*)",null,null,null,null,null,"-",null,null,null,null,null,null,null,"-",null,null,null,null,null,null,{"$f":"LEN(I149)>0","v":true},{"$f":"IF(ISERROR(I149),TRUE,LEN(I149)>=160)","v":false},"62|63","I|P"]
[null,null,null,null,null,null,null,null,{"$f":"lang!A99","v":"Number Certificate DGSA"},null,null,null,null,null,null,{"$f":"lang!A100","v":"Valid until"},null,null,null,null,null,null,null,{"$f":"LEN(Q149)>0","v":true},{"$f":"IF(ISERROR(Q149),TRUE,LEN(Q149)>=50)","v":false}]
[null,null,null,null,null,null,null,null,null,null,null,null,null,null,null,null,null,null,null,null,null,null,null,true,{"$f":"IF(ISERROR(I151),TRUE,LEN(I151)>=160)","v":false},"64|65","I|P"]
[null,null,null,null,null,null,null,null,null,null,null,null,null,null,null,null,null,null,null,null,null,null,{"$f":"OR(LEN(Q151)=0,ISNUMBER(Q151))","v":true},true,{"$f":"IF(ISERROR(Q151),TRUE,IF(ISERROR(W152),TRUE,NOT(W152)))","v":false}]
[null,null,null,{"$f":"lang!A101","v":"Security Advisor"},null,null,null,null,null,null,null,null,null,null,null,null,null,null,null,null,null,null,null,true,{"$f":"IF(ISERROR(I153),TRUE,LEN(I153)>=160)","v":false},"66|67","I|P"]
[null,null,null,null,null,null,null,null,null,null,null,null,null,null,null,null,null,null,null,null,null,null,null,true,{"$f":"IF(ISERROR(Q153),TRUE,LEN(Q153)>=50)","v":false}]
[]
[null,null,"0.2.2",{"$f":"lang!A102","v":"Quality Management and Environmental Management System Certification"}]
[]
[]
[null,{"$f":"lang!A103","v":"Type"},null,null,null,{"$f":"lang!A104","v":"Certification body"},null,null,{"$f":"lang!A105","v":"Scope"},null,null,null,{"$f":"lang!A106","v":"Registration Number"},null,null,null,{"$f":"lang!A107","v":"Expiry Date"}]
[]
[]
[null,null,"ISO 9001",null,null,null,null,null,null,null,null,null,null,null,null,null,null,null,null,null,null,{"$f":"OR(LEN(Q162)=0,ISNUMBER(Q162))","v":true},{"$f":"IF(ISERROR(V162),TRUE,NOT(V162))","v":false},null,{"$f":"OR(ISERROR(CONCATENATE(F162,I162,M162,Q162)),W162)","v":false},"70|71|71_a|72","F|I|M|P"]
[]
[null,null,"ISO 14001",null,null,null,null,null,null,null,null,null,null,null,null,null,null,null,null,null,null,{"$f":"OR(LEN(Q164)=0,ISNUMBER(Q164))","v":true},{"$f":"IF(ISERROR(V164),TRUE,NOT(V164))","v":false},null,{"$f":"OR(ISERROR(CONCATENATE(F164,I164,M164,Q164)),W164)","v":false},"74|75|75_a|76","F|I|M|P"]
[]
[null,null,"RC 14001",null,null,null,null,null,null,null,null,null,null,null,null,null,null,null,null,null,null,{"$f":"OR(LEN(Q166)=0,ISNUMBER(Q166))","v":true},{"$f":"IF(ISERROR(V166),TRUE,NOT(V166))","v":false},null,{"$f":"OR(ISERROR(CONCATENATE(F166,I166,M166,Q166)),W166)","v":false},"77|78|79|79_a|80","C|F|I|M|P"]
[]
[null,null,null,null,null,null,null,null,null,null,null,null,null,null,null,null,null,null,null,null,null,{"$f":"OR(LEN(Q168)=0,ISNUMBER(Q168))","v":true},{"$f":"IF(ISERROR(V168),TRUE,NOT(V168))","v":false},null,{"$f":"OR(ISERROR(CONCATENATE(F168,I168,M168,Q168)),W168)","v":false},"77a|78a|79a|79a_a|80a","C|F|I|M|P"]
[]
[null,null,null,null,null,null,null,null,null,null,null,null,null,null,null,null,null,null,null,null,null,{"$f":"OR(LEN(Q170)=0,ISNUMBER(Q170))","v":true},{"$f":"IF(ISERROR(V170),TRUE,NOT(V170))","v":false},null,{"$f":"OR(ISERROR(CONCATENATE(F170,I170,M170,Q170)),W170)","v":false},"77b|78b|79b|79b_a|80b","C|F|I|M|P"]
[]
[]
[null,null,"0.2.3",{"$f":"lang!A118","v":"Responsible Care"}]
[]
[null,null,null,{"$f":"lang!A119","v":"Is the company a member of an approved Responsible Care Programme?"},null,null,null,null,null,null,{"$f":"lang!A$755","v":"Yes"},null,{"$f":"lang!A$756","v":"No"},null,null,null,null,null,null,{"$f":"IF(V175=1,\"Y\",IF(V175=2,\"N\",\"\"))","v":""},{"$f":"(V175=1)","v":false},4,null,{"$f":"AND(NOT(AND(LEN(K177)>0,NOT(U175))))","v":true},null,90,"T"]
[]
[null,null,{"$f":"IF(U175,\"(*)\",\"\")","v":""},{"$f":"lang!A120","v":"If yes, which?"},null,null,null,null,null,null,null,null,null,null,null,null,{"$f":"IF(U175,lang!A54, IF(IF(ISERROR(K177),TRUE,AND(LEN(K177)>0,NOT(U175))),lang!A121,\"\"))","v":""},null,null,{"$f":"IF(LEN(K177)>0,VLOOKUP(K177,rc_typeeng,2,FALSE),\"\")","v":""},null,{"$f":"IF(ISNA(MATCH(K177,rc_type,0)),\"\",MATCH(K177,rc_type,0))","v":""},{"$f":"OR(LEN(K177)=0,ISNUMBER(V177))","v":true},{"$f":"OR(AND(IF(ISNA(V177),FALSE,V177>1),U175),AND(LEN(K177)=0,NOT(U175)))","v":true},{"$f":"ISERROR(K177)","v":false},91,"T"]
[]
[null,null,{"$f":"IF(AND(U175, IF(ISNA(V177),FALSE,V177=7)),\"(*)\",\"\")","v":""},{"$f":"lang!A122","v":"For Other, specify"},null,null,null,null,null,null,null,null,null,null,null,null,{"$f":"IF(IF(ISERROR(L179),TRUE,AND(LEN(L179)>0,V177<>7)),lang!A123,\"\")","v":""},null,null,null,null,null,null,{"$f":"OR(AND(U175, LEN(L179)>0,IF(ISNA(V177),FALSE,V177=7)),AND(LEN(L179)=0,OR(NOT(U175), IF(ISNA(V177),TRUE,V177<>7))))","v":true},{"$f":"IF(ISERROR(L179),TRUE,LEN(L179)>=160)","v":false},92,"L"]
[]
[null,null,"0.2.3",{"$f":"lang!A124","v":"Infrastructure"}]
[]
[null,null,"(*)",{"$f":"lang!A125","v":"Office building"},null,null,null,null,null,null,{"$f":"lang!A$755","v":"Yes"},null,{"$f":"lang!A$756","v":"No"},null,null,null,null,null,null,{"$f":"IF(V183=1,\"Y\",IF(V183=2,\"N\",\"\"))","v":"Y"},null,1,null,{"$f":"V183>0","v":true},false,95,"T"]
[]
[null,null,"(*)",{"$f":"lang!A126","v":"Parking of empty vehicles/tanks/containers"},null,null,null,null,null,null,{"$f":"lang!A$755","v":"Yes"},null,{"$f":"lang!A$756","v":"No"},null,null,null,null,null,null,{"$f":"IF(V185=1,\"Y\",IF(V185=2,\"N\",\"\"))","v":"N"},null,2,null,{"$f":"V185>0","v":true},false,{"$f":"Z183+1","v":96},"T"]
[]
[null,null,"(*)",{"$f":"lang!A127","v":"Parking of loaded vehicles/tanks/containers"},null,null,null,null,null,null,{"$f":"lang!A$755","v":"Yes"},null,{"$f":"lang!A$756","v":"No"},null,null,null,null,null,null,{"$f":"IF(V187=1,\"Y\",IF(V187=2,\"N\",\"\"))","v":"N"},null,2,null,{"$f":"V187>0","v":true},false,{"$f":"Z185+1","v":97},"T"]
[]
[null,null,null,{"$f":"lang!A132","v":"Canteen present for visiting operators/drivers"},null,null,null,null,null,null,{"$f":"lang!A$755","v":"Yes"},null,{"$f":"lang!A$756","v":"No"},null,null,null,null,null,null,{"$f":"IF(V189=1,\"Y\",IF(V189=2,\"N\",\"\"))","v":"N"},null,2,null,true,false,{"$f":"Z187+1","v":98},"T"]
[]
[null,null,"(*)",{"$f":"lang!A133","v":"Temporary storage of packaged products"},null,null,null,null,null,null,{"$f":"lang!A$755","v":"Yes"},null,{"$f":"lang!A$756","v":"No"},null,null,null,null,null,null,{"$f":"IF(V191=1,\"Y\",IF(V191=2,\"N\",\"\"))","v":"N"},null,2,null,{"$f":"V191>0","v":true},false,{"$f":"Z189+1","v":99},"T"]
[]
[null,null,"(*)",{"$f":"lang!A134","v":"Fuel storage and refuelling"},null,null,null,null,null,null,{"$f":"lang!A$755","v":"Yes"},null,{"$f":"lang!A$756","v":"No"},null,null,null,null,null,null,{"$f":"IF(V193=1,\"Y\",IF(V193=2,\"N\",\"\"))","v":"N"},null,2,null,{"$f":"V193>0","v":true},false,{"$f":"Z191+1","v":100},"T"]
[]
[null,null,"(*)",{"$f":"lang!A135","v":"Waste storage/treatment"},null,null,null,null,null,null,{"$f":"lang!A$755","v":"Yes"},null,{"$f":"lang!A$756","v":"No"},null,null,null,null,null,null,{"$f":"IF(V195=1,\"Y\",IF(V195=2,\"N\",\"\"))","v":"N"},null,2,null,{"$f":"V195>0","v":true},false,{"$f":"Z193+1","v":101},"T"]
[]
[null,null,"(*)",{"$f":"lang!A136","v":"Railway connection"},null,null,null,null,null,null,{"$f":"lang!A$755","v":"Yes"},null,{"$f":"lang!A$756","v":"No"},null,null,null,null,null,null,{"$f":"IF(V197=1,\"Y\",IF(V197=2,\"N\",\"\"))","v":"N"},null,2,null,{"$f":"V197>0","v":true},false,{"$f":"Z195+2","v":103},"T"]
[]
[null,null,"(*)",{"$f":"lang!A137","v":"Waste water connection"},null,null,null,null,null,null,{"$f":"lang!A$755","v":"Yes"},null,{"$f":"lang!A$756","v":"No"},null,null,null,null,null,null,{"$f":"IF(V199=1,\"Y\",IF(V199=2,\"N\",\"\"))","v":"N"},null,2,null,{"$f":"V199>0","v":true},false,{"$f":"Z197+1","v":104},"T"]
[]
[null,"Answer does not affect assessment hours","(*)",{"$f":"lang!A138","v":"Company provided employee accommodation"},null,null,null,null,null,null,{"$f":"lang!A$755","v":"Yes"},null,{"$f":"lang!A$756","v":"No"},null,null,null,null,null,null,null,null,1,null,{"$f":"V201>0","v":true},false]
[]
[null,null,"(*)",{"$f":"lang!A139","v":"Employee transportation (to/from work)"},null,null,null,null,null,null,{"$f":"lang!A$755","v":"Yes"},null,{"$f":"lang!A$756","v":"No"},null,null,null,null,null,null,null,null,1,null,{"$f":"V203>0","v":true},false]
[]
[null,null,"0.2.4",{"$f":"lang!A140","v":"Incident response"}]
[]
[null,null,null,{"$f":"lang!A141","v":"Description of onsite incident response team and equipment"},null,null,null,null,null,null,null,null,null,null,null,null,null,null,null,null,null,null,null,"TRUE",{"$f":"IF(ISERROR(I207),TRUE,LEN(I207)>=400)","v":false},111,"I"]
[]
[]
[]
[null,null,null,{"$f":"lang!A142","v":"Description of the local fire brigade (manpower, equipment, response time)"},null,null,null,null,null,null,null,null,null,null,null,null,null,null,null,null,null,null,null,"TRUE",{"$f":"IF(ISERROR(I211),TRUE,LEN(I211)>=400)","v":false},112,"I"]
[]
[]
[]
[null,null,"0.2.5",{"$f":"lang!A143","v":"Emergency equipment"}]
[]
[null,null,"(*)",{"$f":"lang!A144","v":"Description of emergency equipment that can be used for off-site emergencies."},null,null,null,null,null,null,null,null,null,null,null,null,null,null,null,null,null,null,null,{"$f":"LEN(I217)>0","v":false},{"$f":"IF(ISERROR(I217),TRUE,LEN(I217)>=400)","v":false},113,"I"]
[]
[]
[]
[null,null,"0.2.6",{"$f":"lang!A145","v":"Valid operating license"}]
[]
[null,null,"(*)",{"$f":"lang!A146","v":"Number"},null,null,null,null,null,null,null,null,null,null,null,null,{"$f":"lang!A147","v":"(answer N.A. if is is not needed)"},null,null,null,null,null,null,{"$f":"LEN(I223)>0","v":false},{"$f":"IF(ISERROR(I223),TRUE,LEN(I223)>=30)","v":false},116,"I"]
[]
[null,null,"(*)",{"$f":"lang!A148","v":"Scope"},null,null,null,null,null,null,null,null,null,null,null,null,{"$f":"lang!A149","v":"(answer N.A. if it is not needed)"},null,null,null,null,null,null,{"$f":"LEN(I225)>0","v":false},{"$f":"IF(ISERROR(I225),TRUE,LEN(I225)>=160)","v":false},{"$f":"Z223+1","v":117},"I"]
[]
[null,null,null,{"$f":"lang!A150","v":"Validity until "},null,null,null,null,null,null,null,null,null,null,null,null,{"$f":"lang!A151","v":"(answer \"indefinite\" if it has no expiration date)"},null,null,null,null,null,null,true,{"$f":"IF(ISERROR(I227),TRUE,LEN(I227)>=30)","v":false},{"$f":"Z225+1","v":118},"I"]
[]
[null,null,"(*)",{"$f":"lang!A152","v":"Are all activities within the scope of the assessment mentioned in the operating license?"},null,null,null,null,null,null,{"$f":"lang!A$755","v":"Yes"},null,{"$f":"lang!A$756","v":"No"},null,{"$f":"lang!A$757","v":"N/A"},null,null,null,null,{"$f":"IF(V229=1,\"Y\",IF(V229=2,\"N\",IF(V229=3,\"X\",\"\")))","v":"Y"},{"$f":"OR(V229=2,V229=3)","v":false},1,null,{"$f":"V229>0","v":true},false,{"$f":"Z227+1","v":119},"T"]
[]
[]
[null,null,{"$f":"IF(V229=2,\"(*)\",\"\")","v":""},{"$f":"lang!A153","v":"If not 'Yes' please specify"},null,null,null,null,null,null,null,null,null,null,null,null,{"$f":"IF(IF(ISERROR(I232),TRUE,AND(LEN(I232)>0,V229<2)),lang!A155,\"\")","v":""},null,null,null,null,null,null,{"$f":"OR(AND(LEN(I232)=0,NOT(U229)),AND(LEN(I232)>0,(U229)))","v":true},{"$f":"IF(ISERROR(I232),TRUE,LEN(I232)>=400)","v":false},{"$f":"Z229+1","v":120},"I"]
[]
[]
[null,null,null,null,null,null,null,null,null,null,null,null,null,null,null,null,null,null,null,"end"]
[null,null,null,{"$f":"lang!A154","v":"Issuing Government Agency"},null,null,null,null,null,null,null,null,null,null,null,null,null,null,null,null,null,null,null,{"$f":"LEN(I236)>0","v":false},{"$f":"IF(ISERROR(I236),TRUE,LEN(I236)>=120)","v":false},116,"I"]
[]
[]
[null,{"$f":"HYPERLINK(Status!$L$9,Status!$K$9)","v":"Please check the next sheet (Status)"},{"$f":"HYPERLINK(B239,#REF!)","v":{"$error":"#REF!"}},{"$error":"#REF!"},{"$error":"#REF!"},{"$error":"#REF!"},{"$error":"#REF!"},{"$error":"#REF!"},{"$error":"#REF!"},null,{"$f":"HYPERLINK(I239,#REF!)","v":{"$error":"#REF!"}},{"$error":"#REF!"},{"$error":"#REF!"},null,{"$f":"HYPERLINK(M239,#REF!)","v":{"$error":"#REF!"}},{"$error":"#REF!"},{"$error":"#REF!"},{"$error":"#REF!"}]
[null,{"$f":"Status!$K$9","v":"Please check the next sheet (Status)"},{"$error":"#REF!"},{"$error":"#REF!"},{"$error":"#REF!"},{"$error":"#REF!"},{"$error":"#REF!"},{"$error":"#REF!"},{"$error":"#REF!"},null,{"$f":"HYPERLINK(I240,#REF!)","v":{"$error":"#REF!"}},{"$error":"#REF!"},{"$error":"#REF!"},null,{"$f":"HYPERLINK(M240,#REF!)","v":{"$error":"#REF!"}},{"$error":"#REF!"},{"$error":"#REF!"},{"$error":"#REF!"}]

{"sheet":"Transport Services","index":1,"n_rows":244,"n_cols":28,"rows_kept":244,"cut":false,"hidden":false,"merged":[[109,3,109,8],[101,3,102,8],[109,15,109,17],[113,11,113,13],[104,3,105,8],[106,3,107,8],[106,16,106,17],[103,3,103,17],[89,3,89,17],[104,15,104,17],[94,15,94,17],[101,16,101,17],[110,3,111,8],[91,12,91,14],[96,12,96,14],[99,11,99,13],[99,15,99,17],[101,12,101,14],[91,16,91,17],[94,3,95,8],[96,16,96,17],[90,11,90,13],[106,12,106,14],[104,11,104,13],[94,11,94,13],[98,3,98,17],[55,9,55,11],[62,9,62,11],[64,9,64,11],[69,10,69,12],[60,9,60,11],[130,15,130,17],[110,12,110,14],[115,12,115,14],[112,3,112,17],[114,15,114,17],[113,15,113,17],[129,3,129,17],[123,16,123,17],[119,3,120,8],[118,11,118,13],[126,3,126,8],[125,3,125,17],[113,3,113,8],[130,3,131,8],[117,3,117,17],[127,16,127,17],[127,3,128,8],[28,14,28,16],[29,14,29,16],[30,14,30,16],[31,14,31,16],[25,14,25,16],[26,14,26,16],[49,14,49,16],[34,10,34,12],[35,10,35,12],[39,10,39,12],[42,10,42,12],[46,10,46,12],[49,10,49,12],[34,14,34,16],[35,14,35,16],[36,10,36,12],[42,14,42,16],[46,14,46,16],[36,14,36,16],[14,14,14,16],[15,14,15,16],[16,14,16,16],[17,14,17,16],[18,14,18,16],[22,14,22,16],[19,14,19,16],[114,11,114,13],[119,12,119,14],[79,14,79,16],[82,10,82,12],[53,9,53,11],[27,14,27,16],[29,10,29,12],[30,10,30,12],[27,10,27,12],[28,10,28,12],[39,14,39,16],[31,10,31,12],[15,10,15,12],[16,10,16,12],[17,10,17,12],[19,10,19,12],[24,10,24,12],[0,5,0,13],[1,5,1,13],[2,5,2,13],[5,0,5,17],[53,3,53,7],[47,3,48,8],[11,14,11,16],[40,10,40,12],[44,10,44,12],[51,10,51,12],[4,0,4,17],[6,0,6,17],[7,0,7,17],[11,3,11,8],[8,0,8,17],[11,10,11,12],[18,10,18,12],[22,10,22,12],[23,10,23,12],[14,10,14,12],[23,14,23,16],[25,10,25,12],[26,10,26,12],[24,14,24,16],[25,3,25,8],[90,3,90,8],[93,3,93,17],[99,3,100,8],[71,10,71,12],[58,9,58,11],[67,8,67,13],[81,3,81,6],[85,3,85,8],[47,10,47,12],[40,3,41,8],[44,3,45,8],[51,3,52,8],[58,3,58,7],[42,3,43,8],[49,3,50,8],[79,3,80,8],[82,3,83,7],[62,3,63,7],[69,8,69,9],[71,8,71,9],[73,8,73,9],[64,3,64,7],[67,5,67,7],[135,14,135,16],[136,14,136,16],[135,10,135,12],[118,3,118,8],[115,16,115,17],[132,3,133,8],[132,10,132,12],[132,14,132,16],[126,15,126,17],[118,15,118,17],[130,11,130,13],[135,3,135,8],[122,3,122,8],[121,3,121,17],[126,11,126,13],[115,3,116,8],[119,16,119,17],[127,12,127,14],[123,12,123,14],[123,3,124,8],[122,11,122,13],[122,15,122,17],[60,3,61,7],[136,3,136,8],[134,3,134,8],[73,10,73,12],[82,8,82,9],[79,10,79,12],[77,9,77,11],[77,3,78,8],[114,3,114,8],[136,10,136,12],[86,3,86,8],[108,3,108,17],[85,11,85,13],[85,15,85,17],[86,11,86,13],[86,15,86,17],[87,12,87,14],[87,16,87,17],[87,3,88,8],[91,3,92,8],[96,3,97,8],[110,16,110,17],[90,15,90,17],[109,11,109,13],[150,1,150,18],[139,10,139,12],[139,14,139,16],[145,14,145,16],[140,14,140,16],[149,1,149,17],[146,10,146,12],[146,14,146,16],[147,10,147,12],[147,14,147,16],[142,10,142,12],[142,14,142,16],[145,10,145,12],[141,10,141,12],[141,14,141,16],[140,10,140,12]]}
[null,null,null,null,null,{"$f":"IF(X1,lang!A30,lang!A31)","v":"This sheet doesn't need to be answered"},null,null,null,null,null,null,null,null,null,null,null,null,null,null,null,null,null,{"$f":"'General Information'!U110","v":false},{"$f":"IF(R_TS,AB10,0)","v":0}]
[null,null,null,null,null,{"$f":"IF(X1,IF(Y2,lang!A32,IF(X2,lang!A33,lang!A34)),\"\")","v":""},null,null,null,null,null,null,null,null,null,null,null,null,null,null,null,null,null,{"$f":"X10","v":false},{"$f":"Y10","v":false}]
[null,null,null,null,null,{"$f":"IF(Y3,lang!A35,IF(X3,lang!A36,lang!A37))","v":"The document is not yet completed"},null,null,null,null,null,null,null,null,null,null,null,null,null,null,null,null,null,{"$f":"NOT(Status!F20)","v":false},{"$f":"Status!G20","v":false}]
[]
["Gulf SQAS 2025"]
[{"$f":"lang!A40","v":"ASSESSMENT INFORMATION AND SCOPE - Part I"}]
[{"$f":"lang!A11","v":"Transport Services"}]
[{"$f":"lang!A42","v":"(Items marked with a (*) and/or magenta background must always be completed)"}]
[{"$f":"lang!A43","v":"(For checkboxes \"checked\" means \"Yes\", \"unchecked\" - \"No\")"}]
[null,null,null,null,null,null,null,null,null,null,null,null,null,null,null,null,null,null,null,null,null,null,null,{"$f":"AND(X12:X160)","v":false},{"$f":"(OR(Y12:Y160))","v":false},null,null,{"$f":"SUM(AB12:AB219)","v":1}]
[null,null,"0.3.1",{"$f":"lang!A157","v":"Site information"},null,null,null,null,null,null,null,null,null,null,null,null,null,null,null,"value","yes","raw","Validation","Mand OK","Error"]
[null,null,{"$f":"IF(R_TS,\"(*)\",\"\")","v":""},{"$f":"lang!A158","v":"Operational activities present at the site"},{"$f":"lang!B158","v":"Operational activities present at the site"},{"$f":"lang!C158","v":"Betriebliche Tätigkeiten am Standort"},{"$f":"lang!D158","v":"Actividades operacionais referidas no sítio internet"},{"$f":"lang!E158","v":"Activités opérationnelles présentes sur le site"},{"$f":"lang!F158","v":"Actividades operacionales presentes en la instalación"},null,{"$f":"lang!A$755","v":"Yes"},null,null,null,{"$f":"lang!A$756","v":"No"},null,null,{"$f":"lang!A159","v":" (any activity mentioned in 0.3.2)"},null,{"$f":"IF(V12=1,\"Y\",IF(V12=2,\"N\",\"\"))","v":"N"},{"$f":"V12=2","v":true},2,null,{"$f":"OR(NOT(R_TS),V12>0)","v":true},null,"2","T",{"$f":"IF(U12,0,-1)","v":0}]
[]
[null,null,"0.3.2",{"$f":"lang!A160","v":"Main Activities"}]
[null,null,null,{"$f":"lang!A161","v":"Road transport service bulk liquids"},null,null,null,null,null,null,{"$f":"lang!A$755","v":"Yes"},null,null,null,{"$f":"lang!A$756","v":"No"},null,null,null,null,{"$f":"IF(V15=1,\"Y\",IF(V15=2,\"N\",\"\"))","v":"Y"},{"$f":"V15=1","v":true},1,null,true,null,"4","T"]
[null,null,null,{"$f":"lang!A162","v":"Road transport service bulk solids"},null,null,null,null,null,null,{"$f":"lang!A$755","v":"Yes"},null,null,null,{"$f":"lang!A$756","v":"No"},null,null,null,null,"N",false,2,null,true,null,{"$f":"Z15+1","v":5},"T"]
[null,null,null,{"$f":"lang!A163","v":"Road transport service packed goods"},null,null,null,null,null,null,{"$f":"lang!A$755","v":"Yes"},null,null,null,{"$f":"lang!A$756","v":"No"},null,null,null,null,"Y",true,1,null,true,null,{"$f":"Z16+1","v":6},"T"]
[null,null,null,{"$f":"lang!A164","v":"Intermodal transport"},null,null,null,null,null,null,{"$f":"lang!A$755","v":"Yes"},null,null,null,{"$f":"lang!A$756","v":"No"},null,null,null,null,"Y",true,1,null,true,null,{"$f":"Z17+1","v":7},"T"]
[null,null,null,{"$f":"lang!A165","v":"Freight forwarder"},null,null,null,null,null,null,{"$f":"lang!A$755","v":"Yes"},null,null,null,{"$f":"lang!A$756","v":"No"},null,null,null,null,"Y",true,1,null,true,null,{"$f":"Z18+1","v":8},"T"]
[null,null,null,{"$f":"lang!A166","v":"Transporting Hazardous Chemicals"},null,null,null,null,null,null,{"$f":"lang!A$755","v":"Yes"},null,null,null,{"$f":"lang!A$756","v":"No"},null,null,null,null,"Y",true,1,null,true,null,{"$f":"Z19+1","v":9},"T"]
[]
[null,null,"0.3.3",{"$f":"lang!A167","v":"Subactivities"}]
[null,null,{"$f":"IF(R_TS,\"(*)\",\"\")","v":""},{"$f":"lang!A168","v":"Temporary storage - transfer "},null,null,null,null,null,null,{"$f":"lang!A$755","v":"Yes"},null,null,null,{"$f":"lang!A$756","v":"No"},null,null,null,null,{"$f":"IF(V23=1,\"Y\",IF(V23=2,\"N\",\"\"))","v":"N"},{"$f":"V23=1","v":false},2,null,{"$f":"OR(NOT(R_TS),V23>0)","v":true},null,10,"T",{"$f":"IF(U23,1,0)","v":0}]
[null,null,null,{"$f":"lang!A169","v":"Maintenance workshop"},null,null,null,null,null,null,{"$f":"lang!A$755","v":"Yes"},null,null,null,{"$f":"lang!A$756","v":"No"},null,null,null,null,"Y",true,1,null,true,null,{"$f":"Z23+1","v":11},"T"]
[null,null,{"$f":"IF(R_TS,\"(*)\",\"\")","v":""},{"$f":"lang!A170","v":"Transfer (intermodal) terminal"},null,null,null,null,null,null,{"$f":"lang!A$755","v":"Yes"},null,null,null,{"$f":"lang!A$756","v":"No"},null,null,null,null,"N",false,2,null,{"$f":"OR(NOT(R_TS),V25>0)","v":true},null,{"$f":"Z24+1","v":12},"T",{"$f":"IF(U25,2,0)","v":0}]
[null,null,null,{"$f":"lang!A171","v":"Fixed storage tanks present (also tanks for fuel station)"},null,null,null,null,null,null,{"$f":"lang!A$755","v":"Yes"},null,null,null,{"$f":"lang!A$756","v":"No"},null,null,null,null,"N",false,2,null,true,null,13,"T"]
[null,null,null,{"$f":"lang!A172","v":"Tankcontainer heating"},null,null,null,null,null,null,{"$f":"lang!A$755","v":"Yes"},null,null,null,{"$f":"lang!A$756","v":"No"},null,null,null,null,"N",false,2,null,true,null,14,"T"]
[null,null,null,{"$f":"lang!A173","v":"Tank and/or trailer repair"},null,null,null,null,null,null,{"$f":"lang!A$755","v":"Yes"},null,null,null,{"$f":"lang!A$756","v":"No"},null,null,null,null,"N",false,2,null,true,null,15,"T"]
[null,null,null,{"$f":"lang!A174","v":"Empty container handling "},null,null,null,null,null,null,{"$f":"lang!A$755","v":"Yes"},null,null,null,{"$f":"lang!A$756","v":"No"},null,null,null,null,"N",false,2,null,true,null,16,"T"]
[null,null,null,{"$f":"lang!A175","v":"Full container handling "},null,null,null,null,null,null,{"$f":"lang!A$755","v":"Yes"},null,null,null,{"$f":"lang!A$756","v":"No"},null,null,null,null,"N",false,2,null,true,null,17,"T"]
[null,null,null,{"$f":"lang!A176","v":"Airfreight (linked)"},null,null,null,null,null,null,{"$f":"lang!A$755","v":"Yes"},null,null,null,{"$f":"lang!A$756","v":"No"},null,null,null,null,"N",false,2,null,true,null,18,"T"]
[null,null,null,{"$f":"lang!A177","v":"Shuttle service "},null,null,null,null,null,null,{"$f":"lang!A$755","v":"Yes"},null,null,null,{"$f":"lang!A$756","v":"No"},null,null,null,null,"N",false,2,null,true,null,19,"T"]
[]
[null,null,"0.3.4",{"$f":"lang!A178","v":"Geographical coverage"}]
[null,null,null,{"$f":"lang!A179","v":"National transport"},null,null,null,null,null,null,{"$f":"lang!A$755","v":"Yes"},null,null,null,{"$f":"lang!A$756","v":"No"},null,null,null,null,{"$f":"IF(V35=1,\"Y\",IF(V35=2,\"N\",\"\"))","v":"Y"},{"$f":"V35=1","v":true},1,null,true,null,22,"T"]
[null,null,null,{"$f":"lang!A180","v":"International transport"},null,null,null,null,null,null,{"$f":"lang!A$755","v":"Yes"},null,null,null,{"$f":"lang!A$756","v":"No"},null,null,null,null,{"$f":"IF(V36=1,\"Y\",IF(V36=2,\"N\",\"\"))","v":"Y"},{"$f":"V36=1","v":true},1,null,true,null,{"$f":"Z35+1","v":23},"T"]
[null,null,null,{"$f":"lang!A181","v":"Member of GCC"},null,null,null,null,null,null,{"$f":"lang!A$755","v":"Yes"},null,null,null,{"$f":"lang!A$756","v":"No"},null,null,null,null,{"$f":"IF(V37=1,\"Y\",IF(V37=2,\"N\",\"\"))","v":"N"},{"$f":"V37=1","v":false},2,null,true,null,{"$f":"Z36+1","v":24},"T"]
[]
[null,null,"0.3.5",{"$f":"lang!A182","v":"Type of operators/ drivers "}]
[null,null,{"$f":"IF(R_TS,\"(*)\",\"\")","v":""},{"$f":"lang!A183","v":"Own company drivers"},null,null,null,null,null,null,{"$f":"lang!A$755","v":"Yes"},null,null,null,{"$f":"lang!A$756","v":"No"},null,null,null,null,{"$f":"IF(V40=1,\"Y\",IF(V40=2,\"N\",\"\"))","v":"Y"},{"$f":"V40=1","v":true},1,null,{"$f":"AND(OR(NOT(R_TS),V40>0),NOT(AND(LEN(K41)>0,NOT(U40))))","v":true},null,24,"T",{"$f":"IF(U40,0,-1)","v":0}]
[null,null,{"$f":"IF(AND(R_TS,U40),\"(*)\",\"\")","v":""},{"$f":"lang!A184","v":"Number of own company drivers"},{"$f":"lang!B184","v":"Number of own company drivers"},{"$f":"lang!C184","v":"Anzahl eigene Fahrer"},{"$f":"lang!D184","v":"Número de motoristas próprios"},{"$f":"lang!E184","v":"Nombre de chauffeurs appartenant à la société"},null,null,null,null,null,null,null,null,null,{"$f":"IF(IF(ISERROR(K41),FALSE,AND(LEN(K41)>0,NOT(U40))),lang!A185,\"\")","v":""},null,null,{"$f":"OR(U43:U50)","v":false},null,{"$f":"OR(LEN(K41)=0,ISNUMBER(VALUE(K41)))","v":true},{"$f":"OR(AND(LEN(K41)>0,U40),AND(LEN(K41)=0,NOT(U40)))","v":false},{"$f":"IF(ISERROR(K41),TRUE,IF(ISERROR(W41),TRUE,NOT(W41)))","v":false},{"$f":"Z40+1","v":25},"K",{"$f":"IF(U41,2,0)","v":0}]
[]
[null,null,{"$f":"IF(R_TS,\"(*)\",\"\")","v":""},{"$f":"lang!A186","v":"Fully integrated subcontractors"},null,null,null,null,null,null,{"$f":"lang!A$755","v":"Yes"},null,null,null,{"$f":"lang!A$756","v":"No"},null,null,null,null,{"$f":"IF(V43=1,\"Y\",IF(V43=2,\"N\",\"\"))","v":"N"},{"$f":"V43=1","v":false},2,null,{"$f":"AND(OR(NOT(R_TS),V43>0),NOT(AND(LEN(K45)>0,NOT(U43))))","v":true},null,26,"T",{"$f":"IF(U43,1,0)","v":0}]
[]
[null,null,{"$f":"IF(AND(R_TS,U43),\"(*)\",\"\")","v":""},{"$f":"lang!A187","v":"Number of fully integrated drivers"},{"$f":"lang!B187","v":"Number of fully integrated drivers"},{"$f":"lang!C187","v":"Anzahl der vollintergrierten Fahrer"},{"$f":"lang!D187","v":"Número de motoristas totalmente integrados"},{"$f":"lang!E187","v":"Nombre de sous-traitants complètement intégrés"},null,null,null,null,null,null,null,null,null,{"$f":"IF(IF(ISERROR(K45),FALSE,AND(LEN(K45)>0,NOT(U43))),lang!A188,\"\")","v":""},null,null,null,null,{"$f":"OR(LEN(K45)=0,ISNUMBER(VALUE(K45)))","v":true},{"$f":"OR(AND(LEN(K45)>0,U43),AND(LEN(K45)=0,NOT(U43)))","v":true},{"$f":"IF(ISERROR(K45),TRUE,IF(ISERROR(W45),TRUE,NOT(W45)))","v":false},{"$f":"Z43+1","v":27},"K"]
[]
[null,null,{"$f":"IF(R_TS,\"(*)\",\"\")","v":""},{"$f":"lang!A189","v":"Non-integrated subcontractors"},null,null,null,null,null,null,{"$f":"lang!A$755","v":"Yes"},null,null,null,{"$f":"lang!A$756","v":"No"},null,null,null,null,{"$f":"IF(V47=1,\"Y\",IF(V47=2,\"N\",\"\"))","v":"N"},{"$f":"V47=1","v":false},2,null,{"$f":"AND(OR(NOT(R_TS),V47>0),NOT(AND(LEN(K48)>0,NOT(U47))))","v":true},null,28,"T",{"$f":"IF(U47,1,0)","v":0}]
[null,null,{"$f":"IF(AND(R_TS,U47),\"(*)\",\"\")","v":""},{"$f":"lang!A190","v":"Average of non-integrated drivers per day"},{"$f":"lang!B190","v":"Average of non-integrated drivers per day"},{"$f":"lang!C190","v":"Durchschnitt nicht integrierter Fahrer pro Tag"},{"$f":"lang!D190","v":"Média diária de motoristas não integrados"},{"$f":"lang!E190","v":"Moyenne journalière des sous-traitants ponctuels "},{"$f":"lang!F190","v":"Media diaria de conductores no integrados"},null,null,null,null,null,null,null,null,{"$f":"IF(IF(ISERROR(K48),FALSE,AND(LEN(K48)>0,NOT(U47))),lang!A191,\"\")","v":""},null,null,null,null,{"$f":"OR(LEN(K48)=0,ISNUMBER(VALUE(K48)))","v":true},{"$f":"OR(AND(LEN(K48)>0,U47),AND(LEN(K48)=0,NOT(U47)))","v":true},{"$f":"IF(ISERROR(K48),TRUE,IF(ISERROR(W48),TRUE,NOT(W48)))","v":false},{"$f":"Z47+1","v":29},"K"]
[]
[null,null,{"$f":"IF(R_TS,\"(*)\",\"\")","v":""},{"$f":"lang!A192","v":"Spot subcontracting"},null,null,null,null,null,null,{"$f":"lang!A$755","v":"Yes"},null,null,null,{"$f":"lang!A$756","v":"No"},null,null,null,null,{"$f":"IF(V50=1,\"Y\",IF(V50=2,\"N\",\"\"))","v":"N"},{"$f":"V50=1","v":false},2,null,{"$f":"AND(OR(NOT(R_TS),V50>0),NOT(AND(LEN(K52)>0,NOT(U50))))","v":true},null,30,"T"]
[]
[null,null,{"$f":"IF(AND(R_TS,U50),\"(*)\",\"\")","v":""},{"$f":"lang!A193","v":"Average of spot drivers per day"},{"$f":"lang!B193","v":"Average of spot drivers per day"},{"$f":"lang!C193","v":"Durchschnitt Spot Fahrer pro Tag"},{"$f":"lang!D193","v":"Média diária de motoristas esporáricos (spot)"},{"$f":"lang!E193","v":"Moyenne journalière des sous-traitants ponctuels"},null,null,null,null,null,null,null,null,null,{"$f":"IF(IF(ISERROR(K52),FALSE,AND(LEN(K52)>0,NOT(U50))),lang!A194,\"\")","v":""},null,null,null,null,{"$f":"OR(LEN(K52)=0,ISNUMBER(VALUE(K52)))","v":true},{"$f":"OR(AND(LEN(K52)>0,U50),AND(LEN(K52)=0,NOT(U50)))","v":true},{"$f":"IF(ISERROR(K52),TRUE,IF(ISERROR(W52),TRUE,NOT(W52)))","v":false},{"$f":"Z50+1","v":31},"K"]
[]
[null,null,{"$f":"IF(R_TS,\"(*)\",\"\")","v":""},{"$f":"lang!A195","v":"Number of office employees"},{"$f":"lang!B195","v":"Number of office employees"},{"$f":"lang!C195","v":"Anzahl derBüroangestellten"},{"$f":"lang!D195","v":"Número de trabalhadores da área administrativa"},{"$f":"lang!E195","v":"Nombre d'employés"},null,50,null,null,null,null,null,null,null,null,null,null,null,null,{"$f":"OR(LEN(J54)=0,ISNUMBER(VALUE(J54)))","v":true},{"$f":"OR(NOT(R_TS),LEN(J54)>0)","v":true},{"$f":"IF(ISERROR(J54),TRUE,IF(ISERROR(W54),TRUE,NOT(W54)))","v":false},32,"J"]
[]
[null,null,{"$f":"IF(R_TS,\"(*)\",\"\")","v":""},{"$f":"lang!A196","v":"Number of operators (others than drivers)"},null,null,null,null,null,0,null,null,null,null,null,null,null,null,null,null,null,null,{"$f":"OR(LEN(J56)=0,ISNUMBER(VALUE(J56)))","v":true},{"$f":"OR(NOT(R_TS),LEN(J56)>0)","v":true},{"$f":"IF(ISERROR(J56),TRUE,IF(ISERROR(W56),TRUE,NOT(W56)))","v":false},33,"J"]
[]
[null,null,"0.3.6",{"$f":"lang!A197","v":"Percentage transported"}]
[null,null,{"$f":"IF(AND(R_TS,U40),\"(*)\",\"\")","v":""},{"$f":"lang!A198","v":"Own company drivers"},{"$f":"lang!B198","v":"Own company drivers"},{"$f":"lang!C198","v":"Eigene Fahrer"},{"$f":"lang!D198","v":"Motoristas trabalhadores da empresa"},{"$f":"lang!E198","v":"Chauffeurs appartenant à la société"},"%",100,null,null,null,null,null,null,null,{"$f":"IF(IF(ISERROR(J59),FALSE,AND(LEN(J59)>0,NOT(U40))),lang!A185,\"\")","v":""},null,null,null,null,{"$f":"OR(LEN(J59)=0,ISNUMBER(VALUE(J59)))","v":true},{"$f":"OR(AND(LEN(J59)>0,U40),AND(LEN(J59)=0,NOT(U40)))","v":true},{"$f":"IF(ISERROR(J59),TRUE,IF(ISERROR(W59),TRUE,NOT(W59)))","v":false},34,"J"]
[]
[null,null,{"$f":"IF(AND(R_TS,U43),\"(*)\",\"\")","v":""},{"$f":"lang!A199","v":"Fully integrated subcontractors"},{"$f":"lang!B199","v":"Fully integrated subcontractors"},{"$f":"lang!C199","v":"Voll integrierte Unterauftragnehmer / Unternehmer"},{"$f":"lang!D199","v":"Subcontratados totalmente integrados"},{"$f":"lang!E199","v":"Sous-traitants complètement intégrés"},"%",null,null,null,null,null,null,null,null,{"$f":"IF(IF(ISERROR(J61),FALSE,AND(LEN(J61)>0,NOT(U43))),lang!A188,\"\")","v":""},null,null,null,null,{"$f":"OR(LEN(J61)=0,ISNUMBER(VALUE(J61)))","v":true},{"$f":"OR(AND(LEN(J61)>0,U43),AND(LEN(J61)=0,NOT(U43)))","v":true},{"$f":"IF(ISERROR(J61),TRUE,IF(ISERROR(W61),TRUE,NOT(W61)))","v":false},{"$f":"Z59+1","v":35},"J"]
[]
[null,null,{"$f":"IF(AND(R_TS,U47),\"(*)\",\"\")","v":""},{"$f":"lang!A200","v":"Non-integrated subcontractors"},{"$f":"lang!B200","v":"Non-integrated subcontractors"},{"$f":"lang!C200","v":"Nicht integrierte Unterauftragnehmer / Unternehmer"},{"$f":"lang!D200","v":"Subcontratados não integrados"},{"$f":"lang!E200","v":"Sous-traitants non intégrés"},"%",null,null,null,null,null,null,null,null,{"$f":"IF(IF(ISERROR(J63),FALSE,AND(LEN(J63)>0,NOT(U47))),lang!A191,\"\")","v":""},null,null,null,null,{"$f":"OR(LEN(J63)=0,ISNUMBER(VALUE(J63)))","v":true},{"$f":"OR(AND(LEN(J63)>0,U47),AND(LEN(J63)=0,NOT(U47)))","v":true},{"$f":"IF(ISERROR(J63),TRUE,IF(ISERROR(W63),TRUE,NOT(W63)))","v":false},{"$f":"Z61+1","v":36},"J"]
[]
[null,null,{"$f":"IF(AND(R_TS,U50),\"(*)\",\"\")","v":""},{"$f":"lang!A201","v":"Spot subcontracting"},{"$f":"lang!B201","v":"Spot subcontracting"},{"$f":"lang!C201","v":"Spotdienstleister"},{"$f":"lang!D201","v":"Subcontratação esporádica (spot)"},{"$f":"lang!E201","v":"Sous-traitants ponctuels"},"%",null,null,null,null,null,null,null,null,{"$f":"IF(IF(ISERROR(J65),FALSE,AND(LEN(J65)>0,NOT(U50))),lang!A194,\"\")","v":""},null,null,null,null,{"$f":"OR(LEN(J65)=0,ISNUMBER(VALUE(J65)))","v":true},{"$f":"OR(AND(LEN(J65)>0,U50),AND(LEN(J65)=0,NOT(U50)))","v":true},{"$f":"IF(ISERROR(J65),TRUE,IF(ISERROR(W65),TRUE,NOT(W65)))","v":false},{"$f":"Z63+1","v":37},"J"]
[]
[null,null,"0.3.7",{"$f":"lang!A202","v":"Type of transport transported by subcontractor"}]
[null,null,null,null,null,{"$f":"lang!A203","v":"Bulk"},null,null,{"$f":"lang!A204","v":"Packed"}]
[]
[null,null,null,{"$f":"CONCATENATE(\" \",lang!A205)","v":" Liquid"},null,"%",null,null,"%",null,null,null,null,null,null,null,null,null,null,{"$f":"IF(U70,\"Y\",\"\")","v":""},false,{"$f":"T71","v":""},{"$f":"OR(LEN(G70)=0,ISNUMBER(VALUE(G70)))","v":true},{"$f":"OR(AND(LEN(G70)>0,U70),AND(LEN(G70)=0,NOT(U70)))","v":true},{"$f":"IF(ISERROR(G70),TRUE,IF(ISERROR(W70),TRUE,NOT(W70)))","v":false},"39|40|45|46","T|G|V|K"]
[null,null,null,null,null,null,null,null,null,null,null,null,null,null,null,null,null,null,null,"",false,null,{"$f":"OR(LEN(K70)=0,ISNUMBER(VALUE(K70)))","v":true},{"$f":"OR(AND(LEN(K70)>0,U71),AND(LEN(K70)=0,NOT(U71)))","v":true},{"$f":"IF(ISERROR(K70),TRUE,IF(ISERROR(W71),TRUE,NOT(W71)))","v":false}]
[null,null,null,{"$f":"CONCATENATE(\" \",lang!A206)","v":" Solid"},null,"%",0,null,"%",null,100,null,null,null,null,null,null,null,null,"Y",true,{"$f":"T73","v":"Y"},{"$f":"OR(LEN(G72)=0,ISNUMBER(VALUE(G72)))","v":true},{"$f":"OR(AND(LEN(G72)>0,U72),AND(LEN(G72)=0,NOT(U72)))","v":true},{"$f":"IF(ISERROR(G72),TRUE,IF(ISERROR(W72),TRUE,NOT(W72)))","v":false},"41|42|47|48","T|G|V|K"]
[null,null,null,null,null,null,null,null,null,null,null,null,null,null,null,null,null,null,null,"Y",true,null,{"$f":"OR(LEN(K72)=0,ISNUMBER(VALUE(K72)))","v":true},{"$f":"OR(AND(LEN(K72)>0,U73),AND(LEN(K72)=0,NOT(U73)))","v":true},{"$f":"IF(ISERROR(K72),TRUE,IF(ISERROR(W73),TRUE,NOT(W73)))","v":false}]
[null,null,null,{"$f":"CONCATENATE(\" \",lang!A207)","v":" Gas"},null,"%",null,null,"%",null,null,null,null,null,null,null,null,null,null,"",false,{"$f":"T75","v":""},{"$f":"OR(LEN(G74)=0,ISNUMBER(VALUE(G74)))","v":true},{"$f":"OR(AND(LEN(G74)>0,U74),AND(LEN(G74)=0,NOT(U74)))","v":true},{"$f":"IF(ISERROR(G74),TRUE,IF(ISERROR(W74),TRUE,NOT(W74)))","v":false},"43|44|49|50","T|G|V|K"]
[null,null,null,null,null,null,null,null,null,null,null,null,null,null,null,null,null,null,null,"",false,null,{"$f":"OR(LEN(K74)=0,ISNUMBER(VALUE(K74)))","v":true},{"$f":"OR(AND(LEN(K74)>0,U75),AND(LEN(K74)=0,NOT(U75)))","v":true},{"$f":"IF(ISERROR(K74),TRUE,IF(ISERROR(W75),TRUE,NOT(W75)))","v":false}]
[]
[null,null,"0.3.8",{"$f":"lang!A208","v":"Products"}]
[null,null,null,{"$f":"lang!A209","v":"Tonnage chem. transported/handled per year"},{"$f":"lang!B209","v":"Tonnage chem. transported/handled per year"},{"$f":"lang!C209","v":"Gesamttonnage der transportierten chemischen Produkte pro Jahr? "},{"$f":"lang!D209","v":"Tonelagem de produtos químicos transportados por ano"},{"$f":"lang!E209","v":"Tonnage des produits chimiques transportés/ manutentionnés par an"},null,null,null,null,null,null,null,null,null,null,null,null,null,null,{"$f":"OR(LEN(J78)=0,ISNUMBER(VALUE(J78)))","v":true},true,{"$f":"IF(ISERROR(J78),TRUE,IF(ISERROR(W78),TRUE,NOT(W78)))","v":false},52,"J"]
[]
[null,null,{"$f":"IF(R_TS,\"(*)\",\"\")","v":""},{"$f":"lang!A210","v":"Are dangerous goods transported/handled?"},{"$f":"lang!B210","v":"Are dangerous goods transported/handled?"},{"$f":"lang!C210","v":"Werden Gefahrgüter transportiert / gehandelt?"},{"$f":"lang!D210","v":"Os produtos transportados são perigosos?"},{"$f":"lang!E210","v":"Des matières dangereuses sont-elles transportées ou manutentionnées ?"},null,null,{"$f":"lang!A$755","v":"Yes"},null,null,null,{"$f":"lang!A$756","v":"No"},null,null,null,null,{"$f":"IF(V80=1,\"Y\",IF(V80=2,\"N\",\"\"))","v":"N"},{"$f":"V80=1","v":false},2,{"$f":"OR(U80,NOT(OR(U86:U131)))","v":true},{"$f":"AND(OR(NOT(R_TS),V80>0),W80)","v":true},null,53,"T",{"$f":"IF(U80,3,0)","v":0}]
[]
[null,null,null,{"$f":"lang!A211","v":"If yes : "}]
[null,null,{"$f":"IF(U80,\"(*)\",\"\")","v":""},{"$f":"lang!A212","v":"% dangerous goods in regard to the total tonnage"},{"$f":"lang!B212","v":"% dangerous goods in regard to the total tonnage"},{"$f":"lang!C212","v":"Prozentanteil der gefährlichen Güter an der Gesamttonnage"},{"$f":"lang!D212","v":"% de mercadorias perigosas sobre a tonelagem total"},{"$f":"lang!E212","v":"Quel pourcentage du tonnage total est effectué en matières dangereuses ?"},"%",null,null,null,null,null,null,null,null,null,{"$f":"IF(IF(ISERROR(K83),FALSE,AND(LEN(K83)>0,NOT(U80))),lang!A213,\"\")","v":""},null,null,null,{"$f":"OR(LEN(K83)=0,ISNUMBER(VALUE(K83)))","v":true},{"$f":"OR(AND(LEN(K83)>0,U80),AND(LEN(K83)=0,NOT(U80)))","v":true},{"$f":"IF(ISERROR(J83),TRUE,IF(ISERROR(W83),TRUE,NOT(W83)))","v":false},54,"K"]
[null,null,null,{"$f":"lang!#REF!","v":{"$error":"#REF!"}},{"$f":"lang!#REF!","v":{"$error":"#REF!"}},{"$f":"lang!#REF!","v":{"$error":"#REF!"}},{"$f":"lang!#REF!","v":{"$error":"#REF!"}},{"$f":"lang!#REF!","v":{"$error":"#REF!"}}]
[null,null,null,{"$f":"lang!A216","v":"Class of products transported"}]
[null,null,null,{"$f":"lang!A217","v":"Class 1 : Explosive substances and articles"},{"$f":"lang!B217","v":"Class 1 : Explosive substances and articles"},{"$f":"lang!C217","v":"Klasse 1: Explosive Stoffe und Gegenstände mit Explosivstoff"},{"$f":"lang!D218","v":"Classe 2 : Gases"},{"$f":"lang!E217","v":"Classe 1 :   Matières et objets explosibles"},{"$f":"lang!F217","v":"Clase 1: Materias y objetos explosivos"},null,null,{"$f":"lang!A$755","v":"Yes"},null,null,null,{"$f":"lang!A$756","v":"No"},null,null,{"$f":"IF(AND(U86,NOT($U$80)),lang!A$214,\"\")","v":""},{"$f":"IF(V86=1,\"Y\",IF(V86=2,\"N\",\"\"))","v":"N"},{"$f":"V86=1","v":false},2,null,{"$f":"OR(NOT(U86),U$80)","v":true},null,55,"T"]
[null,null,{"$f":"IF(W87,\"(*)\",\"\")","v":""},{"$f":"lang!A218","v":"Class 2 : Gases"},{"$f":"lang!B218","v":"Class 2 : Gases"},{"$f":"lang!C218","v":"Klasse 2: Gase"},{"$f":"lang!D219","v":"Estes produtos são MPAR - mercadorias perigosas de alto risco (ADR 1.10) ?"},{"$f":"lang!E218","v":"Class 2 : Gaz"},{"$f":"lang!F218","v":"Clase 2: Gases"},null,null,{"$f":"lang!A$755","v":"Yes"},null,null,null,{"$f":"lang!A$756","v":"No"},null,null,{"$f":"IF(AND(U87,NOT($U$80)),lang!A$214,\"\")","v":""},{"$f":"IF(V87=1,\"Y\",IF(V87=2,\"N\",\"\"))","v":"N"},{"$f":"V87=1","v":false},2,{"$f":"AND(U88,NOT(U87))","v":false},{"$f":"AND(OR(NOT(U87),U$80),OR(U87,NOT(U88)))","v":true},null,{"$f":"Z86+1","v":56},"T"]
[null,null,null,{"$f":"lang!A219","v":"Are these products High Consequence Dangerous Goods?"},null,null,null,null,null,null,null,null,{"$f":"lang!A$755","v":"Yes"},null,null,null,{"$f":"lang!A$756","v":"No"},null,{"$f":"IF(AND(U88,NOT(U87)),lang!A$215,\"\")","v":""},{"$f":"IF(V88=1,\"Y\",IF(V88=2,\"N\",\"\"))","v":"N"},{"$f":"V88=1","v":false},2,null,{"$f":"OR(NOT(U88),AND(U87,U$80))","v":true},null,{"$f":"Z87+1","v":57},"T"]
[]
[null,null,null,{"$f":"lang!A220","v":"Flammable gases : tank > 3000l or Toxic gases (excl. Aersols)"},{"$f":"lang!B220","v":"Flammable gases : tank > 3000l or Toxic gases (excl. Aersols)"},{"$f":"lang!C220","v":"Entzündbare Gase: Tank > 3000l oder Giftige Gase (exkl. Aerosole)"},{"$f":"lang!D221","v":"Classe 3 : Líquidos inflamáveis"},{"$f":"lang!E220","v":"Gaz inflammables : citernes >3000l ou gaz toxiques (excl. Aérosols)"},{"$f":"lang!F220","v":":cisterna > 3000 l Gas Tossico"},null,null,null,{"$f":"lang!G220","v":"Gas infiammabili : cisterna > 3000 Lt o Gas Tossici (esclusi Aerosol)\n \n"},{"$f":"lang!H220","v":"Brandfarlige gasser : tank > 3000L eller giftige gasser (ekskl. Aersols)"},null,null,{"$f":"lang!I220","v":"Syttyvät kaasut: säiliö > 3000l tai myrkyllisiä kaasuja (poislukien aerosolit)"},{"$f":"lang!J220","v":"Gazy palne: cysterny pow 3000l lub gazy toksyczne (za wyjątkiem aeorozoli)"}]
[null,null,{"$f":"IF(W91,\"(*)\",\"\")","v":""},{"$f":"lang!A221","v":"Class 3 : Flammable liquids"},{"$f":"lang!B221","v":"Class 3 : Flammable liquids"},{"$f":"lang!C221","v":"Klasse 3: Entzündbare flüssige Stoffe"},{"$f":"lang!D222","v":"Estes produtos são MPAR - mercadorias perigosas de alto risco (ADR 1.10) ?"},{"$f":"lang!E221","v":"Classe 3 : liquides inflammables"},{"$f":"lang!F221","v":"Clase 3: Líquidos inflamables"},null,null,{"$f":"lang!A$755","v":"Yes"},null,null,null,{"$f":"lang!A$756","v":"No"},null,null,{"$f":"IF(AND(U91,NOT($U$80)),lang!A$214,\"\")","v":""},{"$f":"IF(V91=1,\"Y\",IF(V91=2,\"N\",\"\"))","v":"N"},{"$f":"V91=1","v":false},2,{"$f":"AND(U92,NOT(U91))","v":false},{"$f":"AND(OR(NOT(U91),U$80),OR(U91,NOT(U92)))","v":true},null,{"$f":"Z88+1","v":58},"T"]
[null,null,null,{"$f":"lang!A222","v":"Are these products High Consequence Dangerous Goods?"},null,null,null,null,null,null,null,null,{"$f":"lang!A$755","v":"Yes"},null,null,null,{"$f":"lang!A$756","v":"No"},null,{"$f":"IF(AND(U92,NOT(U91)),lang!A$215,\"\")","v":""},{"$f":"IF(V92=1,\"Y\",IF(V92=2,\"N\",\"\"))","v":"N"},{"$f":"V92=1","v":false},2,null,{"$f":"OR(NOT(U92),AND(U91,U$80))","v":true},null,{"$f":"Z91+1","v":59},"T"]
[]
[null,null,null,{"$f":"lang!A223","v":"Flammable liquids of packaging groups I and II : tanks > 3000l or Desenitized explosives"},{"$f":"lang!B223","v":"Flammable liquids of packaging groups I and II : tanks > 3000l or Desenitized explosives"},{"$f":"lang!C223","v":"Brennbare Flüssifgkeiten der Verpackungsgruppen I und II : Tanks > 3000l oder Densibilisierte explosive Stoffe"},{"$f":"lang!D224","v":"Classe 4.1. : Matérias sólidas inflamáveis,  matérias auto-reactivas e matérias explosivas dessensibilizadas sólidas"},{"$f":"lang!E224","v":"Class 4.1. : Matières solides inflammables, matières autoréactives et matières solides explosibles désensibilisées"},{"$f":"lang!F223","v":"Líquidos inflamables de grupo de embalaje I y II: cisternas > 3000L o explosivos desensibilizados."},null,null,null,{"$f":"lang!G223","v":"Liquidi infiammabili del gruppo di imballagio I e II: cisterne > 3000l o esplosivi desensibilizzati."},{"$f":"lang!H223","v":"Brandfarlige væsker af emballagegruppe I og II : tanke > 3000L eller  desensibiliserede sprængstoffer"},null,null,{"$f":"lang!I223","v":"Pakkausluokkien I ja II palavat nesteet säiliöissä > 3000l tai epäherkistetyt kiinteät räjähdysaineet "},{"$f":"lang!J223","v":"Ciecze palne w grupach pakowania I lub II: cysterny pow 3000 l. Materiały wybuchowe odczulone"}]
[null,null,{"$f":"IF(W95,\"(*)\",\"\")","v":""},{"$f":"lang!A224","v":"Class 4.1. : Flammable solids,  self-reactive substances and solid desensitized explosives."},{"$f":"lang!B224","v":"Class 4.1. : Flammable solids,  self-reactive substances and solid desensitized explosives."},{"$f":"lang!C224","v":"Klasse 4.1: Entzündbare feste Stoffe, selbstzersetzliche Stoffe und desensibilisierte Stoffe explosive feste Stoffe"},{"$f":"lang!D225","v":"Estes produtos são MPAR - mercadorias perigosas de alto risco (ADR 1.10) ?"},{"$f":"lang!E225","v":"Ces produits sont-ils des marchandises dangereuses à haut risque (MDHR)"},{"$f":"lang!F224","v":"Clase 4.1: Sólidos inflamables, autoreactivos y explosivos desensibilizados"},null,null,{"$f":"lang!A$755","v":"Yes"},null,null,null,{"$f":"lang!A$756","v":"No"},null,null,{"$f":"IF(AND(U95,NOT($U$80)),lang!A$214,\"\")","v":""},{"$f":"IF(V95=1,\"Y\",IF(V95=2,\"N\",\"\"))","v":"N"},{"$f":"V95=1","v":false},2,{"$f":"AND(U97,NOT(U95))","v":false},{"$f":"AND(OR(NOT(U95),U$80),OR(U95,NOT(U97)))","v":true},null,{"$f":"Z92+1","v":60},"T"]
[]
[null,null,null,{"$f":"lang!A225","v":"Are these products High Consequence Dangerous Goods?"},null,null,null,null,null,null,null,null,{"$f":"lang!A$755","v":"Yes"},null,null,null,{"$f":"lang!A$756","v":"No"},null,{"$f":"IF(AND(U97,NOT(U95)),lang!A$215,\"\")","v":""},{"$f":"IF(V97=1,\"Y\",IF(V97=2,\"N\",\"\"))","v":"N"},{"$f":"V97=1","v":false},2,null,{"$f":"OR(NOT(U97),AND(U95,U$80))","v":true},null,{"$f":"Z95+1","v":61},"T"]
[]
[null,null,null,{"$f":"lang!A226","v":"Desensitized explosives"},{"$f":"lang!B226","v":"Desensitized explosives"},{"$f":"lang!C226","v":"Desensibilisierte explosive Stoffe"},{"$f":"lang!D227","v":"Classe 4.2. : Matérias espontaneamente inflamáveis"},{"$f":"lang!E227","v":"Class 4.2. : Matières sujettes à l'inflammation spontanée"},{"$f":"lang!F226","v":"Explosivos desensibilizados"},null,null,null,{"$f":"lang!G226","v":"Esplosivi desensibilizzati"},{"$f":"lang!H226","v":"Desensibiliserede sprængstoffer"},null,null,{"$f":"lang!I226","v":"Epäherkistetyt kiinteät räjähdysaineet "},{"$f":"lang!J226","v":"Materiały wybuchowe odczulone"}]
[null,null,{"$f":"IF(W100,\"(*)\",\"\")","v":""},{"$f":"lang!A227","v":"Class 4.2. : Substances liable for spontaneous combustion"},{"$f":"lang!B227","v":"Class 4.2. : Substances liable for spontaneous combustion"},{"$f":"lang!C227","v":"Klasse 4.2: Selbstentzündliche Stoffe"},{"$f":"lang!D228","v":"Estes produtos são MPAR - mercadorias perigosas de alto risco (ADR 1.10) ?"},{"$f":"lang!E228","v":"Ces produits sont-ils des produits dangereux à haut risque"},{"$f":"lang!F227","v":"Clase 4.2: Materias que reaccionan de forma espontánea"},null,null,{"$f":"lang!A$755","v":"Yes"},null,null,null,{"$f":"lang!A$756","v":"No"},null,null,{"$f":"IF(AND(U100,NOT($U$80)),lang!A$214,\"\")","v":""},{"$f":"IF(V100=1,\"Y\",IF(V100=2,\"N\",\"\"))","v":"N"},{"$f":"V100=1","v":false},2,{"$f":"AND(U102,NOT(U100))","v":false},{"$f":"AND(OR(NOT(U100),U$80),OR(U100,NOT(U102)))","v":true},null,{"$f":"Z97+1","v":62},"T"]
[]
[null,null,null,{"$f":"lang!A228","v":"Are these products High Consequence Dangerous Goods?"},null,null,null,null,null,null,null,null,{"$f":"lang!A$755","v":"Yes"},null,null,null,{"$f":"lang!A$756","v":"No"},null,{"$f":"IF(AND(U102,NOT(U100)),lang!A$215,\"\")","v":""},{"$f":"IF(V102=1,\"Y\",IF(V102=2,\"N\",\"\"))","v":"N"},{"$f":"V102=1","v":false},2,null,{"$f":"OR(NOT(U102),AND(U100,U$80))","v":true},null,{"$f":"Z100+1","v":63},"T"]
[]
[null,null,null,{"$f":"lang!A229","v":"Packing group I : Tank > 3000l"},{"$f":"lang!B229","v":"Packing group I : Tank > 3000l"},{"$f":"lang!C229","v":"Verpackungsgruppe I : Tank > 3000 l "},{"$f":"lang!D230","v":"Classe 4.3. : Matérias que, em contacto com a àgua, libertem gases inflamáveis"},{"$f":"lang!E230","v":"Class 4.3. : Matières qui, au contact de l'eau, dégagent des gaz inflammables"},{"$f":"lang!F229","v":"Grupo de embalaje I: cisterna > 3000L"},null,null,null,{"$f":"lang!G229","v":"Gruppo di imballaggio I: Cisterna > 3000l "},{"$f":"lang!H229","v":"Emballagegruppe I: Tank > 3000L"},null,null,{"$f":"lang!I229","v":"Pakkausryhmä I: Säiliö > 3000l"},{"$f":"lang!J229","v":"Grupa pakowania I: cysterny pow 3000 l"}]
[null,null,{"$f":"IF(W105,\"(*)\",\"\")","v":""},{"$f":"lang!A230","v":"Class 4.3. : Substances which in contact with water, emit flammable gases"},{"$f":"lang!B230","v":"Class 4.3. : Substances which in contact with water, emit flammable gases"},{"$f":"lang!C230","v":"Klasse 4.3: Stoffe, die in Berührung mit Wasser entzündbare Gase entwickeln"},{"$f":"lang!D231","v":"Estes produtos são MPAR - mercadorias perigosas de alto risco (ADR 1.10) ?"},{"$f":"lang!E231","v":"Ces produits sont-ils des produits dangereux à haut risque"},{"$f":"lang!F230","v":"Clase 4.3: Materias que en contacto con el agua desprenden gases inflamables"},null,null,{"$f":"lang!A$755","v":"Yes"},null,null,null,{"$f":"lang!A$756","v":"No"},null,null,{"$f":"IF(AND(U105,NOT($U$80)),lang!A$214,\"\")","v":""},{"$f":"IF(V105=1,\"Y\",IF(V105=2,\"N\",\"\"))","v":"N"},{"$f":"V105=1","v":false},2,{"$f":"AND(U107,NOT(U105))","v":false},{"$f":"AND(OR(NOT(U105),U$80),OR(U105,NOT(U107)))","v":true},null,{"$f":"Z102+1","v":64},"T"]
[]
[null,null,null,{"$f":"lang!A231","v":"Are these products High Consequence Dangerous Goods?"},null,null,null,null,null,null,null,null,{"$f":"lang!A$755","v":"Yes"},null,null,null,{"$f":"lang!A$756","v":"No"},null,{"$f":"IF(AND(U107,NOT(U105)),lang!A$215,\"\")","v":""},{"$f":"IF(V107=1,\"Y\",IF(V107=2,\"N\",\"\"))","v":"N"},{"$f":"V107=1","v":false},2,null,{"$f":"OR(NOT(U107),AND(U105,U$80))","v":true},null,{"$f":"Z105+1","v":65},"T"]
[]
[null,null,null,{"$f":"lang!A232","v":"Packing group I : Tank > 3000l"},{"$f":"lang!B232","v":"Packing group I : Tank > 3000l"},{"$f":"lang!C232","v":"Verpackungsgruppe I : Tank > 3000 l"},{"$f":"lang!D233","v":"Classe 5.1. : Matérias comburentes"},{"$f":"lang!E233","v":"Class 5.1. : Matières comburantes"},{"$f":"lang!F232","v":"Grupo de embalaje I: cisterna > 3000L"},null,null,null,{"$f":"lang!G232","v":"Gruppo di imballaggio I: Cisterna > 3000l "},{"$f":"lang!H232","v":"Emballagegruppe I: Tank > 3000L"},null,null,{"$f":"lang!I232","v":"Pakkausryhmä I: Säiliö > 3000l "},{"$f":"lang!J232","v":"Grupa pakowania I: cysterny pow 3000 l"}]
[null,null,{"$f":"IF(W110,\"(*)\",\"\")","v":""},{"$f":"lang!A233","v":"Class 5.1. : Oxidizing substances"},{"$f":"lang!B233","v":"Class 5.1. : Oxidizing substances"},{"$f":"lang!C233","v":"Klasse 5.1: Entzündend (oxydierend) wirkende Stoffe"},{"$f":"lang!D234","v":"Estes produtos são MPAR - mercadorias perigosas de alto risco (ADR 1.10) ?"},{"$f":"lang!E234","v":"Ces produits sont-ils des produits dangereux à haut risque"},{"$f":"lang!F233","v":"Clase 5.1: Materias comburentes"},null,null,{"$f":"lang!A$755","v":"Yes"},null,null,null,{"$f":"lang!A$756","v":"No"},null,null,{"$f":"IF(AND(U110,NOT($U$80)),lang!A$214,\"\")","v":""},{"$f":"IF(V110=1,\"Y\",IF(V110=2,\"N\",\"\"))","v":"N"},{"$f":"V110=1","v":false},2,{"$f":"AND(U111,NOT(U110))","v":false},{"$f":"AND(OR(NOT(U110),U$80),OR(U110,NOT(U111)))","v":true},null,{"$f":"Z107+1","v":66},"T"]
[null,null,null,{"$f":"lang!A234","v":"Are these products High Consequence Dangerous Goods?"},null,null,null,null,null,null,null,null,{"$f":"lang!A$755","v":"Yes"},null,null,null,{"$f":"lang!A$756","v":"No"},null,{"$f":"IF(AND(U111,NOT(U110)),lang!A$215,\"\")","v":""},{"$f":"IF(V111=1,\"Y\",IF(V111=2,\"N\",\"\"))","v":"N"},{"$f":"V111=1","v":false},2,null,{"$f":"OR(NOT(U111),AND(U110,U$80))","v":true},null,{"$f":"Z110+1","v":67},"T"]
[]
[null,null,null,{"$f":"lang!A235","v":"Oxidizing liquids of packing group I : Tank > 3000l or Perchlorates, ammonium nitrate, ammonium nitrate fertilisers and ammonium nitrate emulsions or suspensions or gels : Tanks > 3000l or Bulk > 3000l"},{"$f":"lang!B235","v":"Oxidizing liquids of packing group I : Tank > 3000l or Perchlorates, ammonium nitrate, ammonium nitrate fertilisers and ammonium nitrate emulsions or suspensions or gels : Tanks > 3000l or Bulk > 3000l"},{"$f":"lang!C235","v":"Oxidierende Flüssigkeiten der Verpackungsgruppe I : Tank > 3000l oder Perchlorate, Ammoniumnitrat, ammoniumnitrathaltige Düngemittel und Ammoniumnitrat-Emulsionen oder - Suspensionen oder Gele: Tank > 3000 l oder Bulk > 3000 kg"},{"$f":"lang!D236","v":"Classe 5.2. : Peróxidos organicos"},{"$f":"lang!E236","v":"Class 5.2. : Peroxydes organiques"},{"$f":"lang!F235","v":"Líquidos oxidantes de grupo de embalaje I: cisternas > 3000L o a granel Percloratos, nitrato amónico, fertilizantes de nitrato amónico o emulsiones, suspensiones o geles de nitrato amónico: cisternas > 3000L o a granel > 3000KG"},null,null,null,{"$f":"lang!G235","v":"Oxidizing liquidi del gruppo di imballaggio I: Cisterne > 3000l o  Perclorati, nitrato ammonico, nitrato ammonico fertilizzante e nitratto ammonico emulsione o in sospensione o gel: Cisterne > 3000l o liquido > 3000 kg."},{"$f":"lang!H235","v":"Brandnærende væsker af emballagegruppe I: Tank > 3000L eller uemballeret Perchlorates, ammonium nitrat, ammonium nitrat gødning og ammonium nitrat emulsioner eller suspensioner eller gel: Tanke > 3000L eller uemballeret > 3000 KG"},null,null,{"$f":"lang!I235","v":"Pakkausryhmän I hapettavat nesteet: Säiliö > 3000l tai bulkkina Perkloratit, ammoniumnitraatti, ammoniumnitraatti lannoitteet ja ammoniumnitraatti emulsiot tai suspensiot tai geelit: Säiliöt > 3000l tai Bulkkina > 3000kg"},{"$f":"lang!J235","v":"Ciecze utleniajace grupa pakowanai I: cysterny pow 3000 l. Nadchlorany, azotan amonowy, nawozy na bazie azotanu amonowego oraz azotan amonowy w emulsji, zawiesinie lub żelu: W cysternach powyżej 3000 l lub luzem powyżej 3000 kg,"}]
[null,null,null,{"$f":"lang!A236","v":"Class 5.2. : Organic peroxides"},{"$f":"lang!B236","v":"Class 5.2. : Organic peroxides"},{"$f":"lang!C236","v":"Klasse 5.2. Organische Peroxide"},{"$f":"lang!D237","v":"Classe 6.1. : Matérias tóxicas"},{"$f":"lang!E237","v":"Class 6.1. : Matières toxiques"},{"$f":"lang!F236","v":"Clase 5.2: Peróxidos Orgánicos"},null,null,{"$f":"lang!A$755","v":"Yes"},null,null,null,{"$f":"lang!A$756","v":"No"},null,null,{"$f":"IF(AND(U114,NOT($U$80)),lang!A$214,\"\")","v":""},{"$f":"IF(V114=1,\"Y\",IF(V114=2,\"N\",\"\"))","v":"N"},{"$f":"V114=1","v":false},2,null,{"$f":"OR(NOT(U114),U$80)","v":true},null,{"$f":"Z111+1","v":68},"T"]
[null,null,{"$f":"IF(W115,\"(*)\",\"\")","v":""},{"$f":"lang!A237","v":"Class 6.1. : Toxic substances"},{"$f":"lang!B237","v":"Class 6.1. : Toxic substances"},{"$f":"lang!C237","v":"Klasse 6.1: Giftige Stoffe"},{"$f":"lang!D238","v":"Estes produtos são MPAR - mercadorias perigosas de alto risco (ADR 1.10) ?"},{"$f":"lang!E238","v":"Ces produits sont-ils des produits dangereux à haut risque"},{"$f":"lang!F237","v":"Clase 6.1: Sustancias tóxicas"},null,null,{"$f":"lang!A$755","v":"Yes"},null,null,null,{"$f":"lang!A$756","v":"No"},null,null,{"$f":"IF(AND(U115,NOT($U$80)),lang!A$214,\"\")","v":""},{"$f":"IF(V115=1,\"Y\",IF(V115=2,\"N\",\"\"))","v":"N"},{"$f":"V115=1","v":false},2,{"$f":"AND(U116,NOT(U115))","v":false},{"$f":"AND(OR(NOT(U115),U$80),OR(U115,NOT(U116)))","v":true},null,{"$f":"Z114+1","v":69},"T"]
[null,null,null,{"$f":"lang!A238","v":"Are these products High Consequence Dangerous Goods?"},null,null,null,null,null,null,null,null,{"$f":"lang!A$755","v":"Yes"},null,null,null,{"$f":"lang!A$756","v":"No"},null,{"$f":"IF(AND(U116,NOT(U115)),lang!A$215,\"\")","v":""},{"$f":"IF(V116=1,\"Y\",IF(V116=2,\"N\",\"\"))","v":"N"},{"$f":"V116=1","v":false},2,null,{"$f":"OR(NOT(U116),AND(U115,U$80))","v":true},null,{"$f":"Z115+1","v":70},"T"]
[]
[null,null,null,{"$f":"lang!A239","v":"Toxic substances of packing group I"}]
[null,null,{"$f":"IF(W119,\"(*)\",\"\")","v":""},{"$f":"lang!A240","v":"Class 6.2. : Infectious substances"},{"$f":"lang!B240","v":"Class 6.2. : Infectious substances"},{"$f":"lang!C240","v":"Klasse 6.2: Ansteckungsgefährliche Stoffe"},{"$f":"lang!D241","v":"Estes produtos são MPAR - mercadorias perigosas de alto risco (ADR 1.10) ?"},{"$f":"lang!E241","v":"Ces produits sont-ils des produits dangereux à haut risque"},{"$f":"lang!F240","v":"Clase 6.2: Sustancias infecciosas"},null,null,{"$f":"lang!A$755","v":"Yes"},null,null,null,{"$f":"lang!A$756","v":"No"},null,null,{"$f":"IF(AND(U119,NOT($U$80)),lang!A$214,\"\")","v":""},{"$f":"IF(V119=1,\"Y\",IF(V119=2,\"N\",\"\"))","v":"N"},{"$f":"V119=1","v":false},2,{"$f":"AND(U120,NOT(U119))","v":false},{"$f":"AND(OR(NOT(U119),U$80),OR(U119,NOT(U120)))","v":true},null,{"$f":"Z116+1","v":71},"T"]
[null,null,null,{"$f":"lang!A241","v":"Are these products High Consequence Dangerous Goods?"},null,null,null,null,null,null,null,null,{"$f":"lang!A$755","v":"Yes"},null,null,null,{"$f":"lang!A$756","v":"No"},null,{"$f":"IF(AND(U120,NOT(U119)),lang!A$215,\"\")","v":""},{"$f":"IF(V120=1,\"Y\",IF(V120=2,\"N\",\"\"))","v":"N"},{"$f":"V120=1","v":false},2,null,{"$f":"OR(NOT(U120),AND(U119,U$80))","v":true},null,{"$f":"Z119+1","v":72},"T"]
[]
[null,null,null,{"$f":"lang!A242","v":"Infectious substances of Cat A "},{"$f":"lang!B242","v":"Infectious substances of Cat A "},{"$f":"lang!C242","v":"Ansteckungsgefährliche Stoffe der Kategorie A "},{"$f":"lang!D243","v":"Classe 7 : Matérias radioactivas"},{"$f":"lang!E243","v":"Class 7 : Matières radioactives"},{"$f":"lang!F242","v":"Sustancias infecciosas de categoría A"},null,null,null,{"$f":"lang!G242","v":"Sostanze infettanti di Categoria A"},{"$f":"lang!H242","v":"Smittefarlige stoffer af Kat. A"},null,null,{"$f":"lang!I242","v":"Kategoria A:n tartuntavaaralliset aineet"},{"$f":"lang!J242","v":"Substancje zakaźne Kat A"}]
[null,null,{"$f":"IF(V123,\"(*)\",\"\")","v":"(*)"},{"$f":"lang!A243","v":"Class 7 : Radioactive material"},{"$f":"lang!B243","v":"Class 7 : Radioactive material"},{"$f":"lang!C243","v":"Klasse 7: Radioaktive Stoffe"},{"$f":"lang!D244","v":"Estes produtos são MPAR - mercadorias perigosas de alto risco (ADR 1.10) ?"},{"$f":"lang!E244","v":"Ces produits sont-ils des produits dangereux à haut risque"},{"$f":"lang!F243","v":"Clase 7: Materias radiactivas"},null,null,{"$f":"lang!A$755","v":"Yes"},null,null,null,{"$f":"lang!A$756","v":"No"},null,null,{"$f":"IF(AND(U123,NOT($U$80)),lang!A$214,\"\")","v":""},{"$f":"IF(V123=1,\"Y\",IF(V123=2,\"N\",\"\"))","v":"N"},{"$f":"V123=1","v":false},2,{"$f":"AND(U124,NOT(U123))","v":false},{"$f":"AND(OR(NOT(U123),U$80),OR(U123,NOT(U124)))","v":true},null,{"$f":"Z120+1","v":73},"T"]
[null,null,null,{"$f":"lang!A244","v":"Are these products High Consequence Dangerous Goods?"},null,null,null,null,null,null,null,null,{"$f":"lang!A$755","v":"Yes"},null,null,null,{"$f":"lang!A$756","v":"No"},null,{"$f":"IF(AND(U124,NOT(U123)),lang!A$215,\"\")","v":""},{"$f":"IF(V124=1,\"Y\",IF(V124=2,\"N\",\"\"))","v":"N"},{"$f":"V124=1","v":false},2,null,{"$f":"OR(NOT(U124),AND(U123,U$80))","v":true},null,{"$f":"Z123+1","v":74},"T"]
[]
[null,null,null,{"$f":"lang!A245","v":"Radioactive material see ADR table 1.10.5.for specs "},{"$f":"lang!B245","v":"Radioactive material see ADR table 1.10.5.for specs "},{"$f":"lang!C245","v":"Radioaktive Stoffe sieheAngaben in  ADR Tabelle 1.10.5"},{"$f":"lang!D246","v":"Classe 8 : Matérias corrosivas"},{"$f":"lang!E246","v":"Class 8 : Matières corrosives"},{"$f":"lang!F245","v":"Material radiactivo: ver tabla 1.10.5 para explicación"},null,null,null,{"$f":"lang!G245","v":"Materiali radioattivi vedere ADR tab. 1,10,5 per gli aspetti"},{"$f":"lang!H245","v":"Radioaktivt materiale se tabel 1.10.5 for specifikation"},null,null,{"$f":"lang!I245","v":"Radioaktiiviset aineet, katso ADR talukkosta 1.10.5 yksilöinti"},{"$f":"lang!J245","v":"Materiały radioaktywne patrz tabela ADR 1.10.5 "}]
[null,null,{"$f":"IF(V127,\"(*)\",\"\")","v":"(*)"},{"$f":"lang!A246","v":"Class 8 : Corrosive substances"},{"$f":"lang!B246","v":"Class 8 : Corrosive substances"},{"$f":"lang!C246","v":"Klasse 8: Ätzende Stoffe"},{"$f":"lang!D247","v":"Estes produtos são MPAR - mercadorias perigosas de alto risco (ADR 1.10) ?"},{"$f":"lang!E247","v":"Ces produits sont-ils des produits dangereux à haut risque"},{"$f":"lang!F246","v":"Clase 8: Sustancias corrosivas"},null,null,{"$f":"lang!A$755","v":"Yes"},null,null,null,{"$f":"lang!A$756","v":"No"},null,null,{"$f":"IF(AND(U127,NOT($U$80)),lang!A$214,\"\")","v":""},{"$f":"IF(V127=1,\"Y\",IF(V127=2,\"N\",\"\"))","v":"N"},{"$f":"V127=1","v":false},2,{"$f":"AND(U128,NOT(U127))","v":false},{"$f":"AND(OR(NOT(U127),U$80),OR(U127,NOT(U128)))","v":true},null,{"$f":"Z124+1","v":75},"T"]
[null,null,null,{"$f":"lang!A247","v":"Are these products High Consequence Dangerous Goods?"},null,null,null,null,null,null,null,null,{"$f":"lang!A$755","v":"Yes"},null,null,null,{"$f":"lang!A$756","v":"No"},null,{"$f":"IF(AND(U128,NOT(U127)),lang!A$215,\"\")","v":""},{"$f":"IF(V128=1,\"Y\",IF(V128=2,\"N\",\"\"))","v":"N"},{"$f":"V128=1","v":false},2,null,{"$f":"OR(NOT(U128),AND(U127,U$80))","v":true},null,{"$f":"Z127+1","v":76},"T"]
[]
[null,null,null,{"$f":"lang!A248","v":"Packing group I : Tank > 3000l"},{"$f":"lang!B248","v":"Packing group I : Tank > 3000l"},{"$f":"lang!C248","v":"Verpackungsgruppe I : Tank > 3000 l"},{"$f":"lang!D248","v":"Grupo de embalagem GE I : Cisterna > 3000l "},{"$f":"lang!E249","v":"Class 9 : Matières et objets dangereux divers"},{"$f":"lang!F248","v":"Grupo de embalaje I: cisterna > 3000L"},null,null,null,{"$f":"lang!G248","v":"Gruppo di imballaggio I: Cisterna > 3000l "},{"$f":"lang!H248","v":"Emballagegruppe I: Tank > 3000L"},null,null,{"$f":"lang!I248","v":"Pakkausluokka I: Säiliö > 3000l "},{"$f":"lang!J248","v":"Grupa pakowania I: cysterna pow 3000 l"}]
[null,null,null,{"$f":"lang!A249","v":"Class 9 : Miscellaneous dangerous substances and articles"},{"$f":"lang!B249","v":"Class 9 : Miscellaneous dangerous substances and articles"},{"$f":"lang!C249","v":"Klasse 9: Verschiedene gefährliche Stoffe und Gegenstände"},{"$f":"lang!D249","v":"Classe 9 : Matérias e objectos perigosos"},{"$f":"lang!#REF!","v":{"$error":"#REF!"}},{"$f":"lang!F249","v":"Clase 9: Materias y objetos con riesgos diversos"},null,null,{"$f":"lang!A$755","v":"Yes"},null,null,null,{"$f":"lang!A$756","v":"No"},null,null,{"$f":"IF(AND(U131,NOT($U$80)),lang!A$214,\"\")","v":""},{"$f":"IF(V131=1,\"Y\",IF(V131=2,\"N\",\"\"))","v":"N"},{"$f":"V131=1","v":false},2,null,{"$f":"OR(NOT(U131),U$80)","v":true},null,{"$f":"Z128+1","v":77},"T"]
[]
[null,null,null,{"$f":"lang!A250","v":"CMR : Category carcinogenic, mutagenic and reprotoxical"},{"$f":"lang!B250","v":"CMR : Category carcinogenic, mutagenic and reprotoxical"},{"$f":"lang!C250","v":"CMR: Kategorie krebserregend, erbgutverändernd und fortplanzungsgefährdend"},{"$f":"lang!D250","v":"CMR : Matérias categoria cancerígenos, mutagénicos e reprotoxical"},{"$f":"lang!E250","v":"CMR : Catégorie cancérigène, mutagène et reprotoxique"},null,null,{"$f":"lang!A$755","v":"Yes"},null,null,null,{"$f":"lang!A$756","v":"No"},null,null,null,null,{"$f":"IF(V133=1,\"Y\",IF(V133=2,\"N\",\"\"))","v":"N"},{"$f":"V133=1","v":false},2,null,true,null,{"$f":"Z131+1","v":78},"T"]
[]
[null,null,null,{"$f":"lang!A251","v":"Does the company handle/transport HCDG goods (ADR 1.10)?"},{"$f":"lang!B251","v":"Does the company handle/transport HCDG goods (ADR 1.10)?"},{"$f":"lang!C251","v":"Das Unternehmen hantiert mit / transportiert HCDG Güter (ADR 1.10)?"},{"$f":"lang!D251","v":"A empresa movimenta/transporta  MPAR - mercadorias perigosas de alto risco (ADR 1.10)?"},{"$f":"lang!E251","v":"La société manutentionne-t-elle ou transporte-t-elle des marchandises dangereuses à haut risque MDHR (ADR 1.10)?"},null,null,{"$f":"IF(U135,Combo!B83,Combo!B84)","v":"No"},null,null,null,null,null,null,null,null,{"$f":"IF(U135,\"Y\",\"N\")","v":"N"},{"$f":"OR(U128,U124,U120,U116,U111,U107,U102,U97,U92,U88,U86)","v":false},null,null,null,null,{"$f":"Z133+1","v":79},"T"]
[null,null,null,{"$f":"lang!A257","v":"Handling of chlorinated solvents"},{"$f":"lang!B257","v":"Handling of chlorinated solvents"},{"$f":"lang!C257","v":"Umgang mit chlorierten Lösemitteln"},{"$f":"lang!D257","v":"Movimentação de solventes clorados"},{"$f":"lang!E257","v":"Manutention de solvants chlorés"},null,null,{"$f":"lang!A$755","v":"Yes"},null,null,null,{"$f":"lang!A$756","v":"No"},null,null,null,null,{"$f":"IF(V136=1,\"Y\",IF(V136=2,\"N\",\"\"))","v":""},{"$f":"V136=1","v":false},null,null,true,null,{"$f":"#REF!+1","v":{"$error":"#REF!"}},"T"]
[null,null,null,{"$f":"lang!A258","v":"Handling of Pharma products"},{"$f":"lang!B258","v":"Handling of Pharma products"},{"$f":"lang!C258","v":"Umgang mit Pharmazeutischen Produkten"},{"$f":"lang!D258","v":"Movimentação de produtos farmacêuticos"},{"$f":"lang!E258","v":"Manutention de produits Pharma"},null,null,{"$f":"lang!A$755","v":"Yes"},null,null,null,{"$f":"lang!A$756","v":"No"},null,null,null,null,{"$f":"IF(V137=1,\"Y\",IF(V137=2,\"N\",\"\"))","v":""},{"$f":"V137=1","v":false},null,null,true,null,{"$f":"Z136+1","v":{"$error":"#REF!"}},"T"]
[]
[null,null,"0.3.9",{"$f":"lang!A261","v":"Type of equipment"},null,null,null,null,null,null,null,null,null,null,null,null,null,null,null,null,{"$f":"OR(U140:U143)","v":true},null,null,null,null,null,null,{"$f":"IF(U139,1,0)","v":1}]
[null,null,{"$f":"IF(R_TS,\"(*)\",\"\")","v":""},{"$f":"lang!A262","v":"Own company trucks"},null,null,null,null,null,null,{"$f":"lang!A$755","v":"Yes"},null,null,null,{"$f":"lang!A$756","v":"No"},null,null,null,null,{"$f":"IF(V140=1,\"Y\",IF(V140=2,\"N\",\"\"))","v":"Y"},{"$f":"V140=1","v":true},1,null,{"$f":"OR(NOT(R_TS),V140>0)","v":true},null,88,"T"]
[null,null,{"$f":"IF(R_TS,\"(*)\",\"\")","v":""},{"$f":"lang!A263","v":"Own company trailers"},null,null,null,null,null,null,{"$f":"lang!A$755","v":"Yes"},null,null,null,{"$f":"lang!A$756","v":"No"},null,null,null,null,{"$f":"IF(V141=1,\"Y\",IF(V141=2,\"N\",\"\"))","v":"Y"},{"$f":"V141=1","v":true},1,null,{"$f":"OR(NOT(R_TS),V141>0)","v":true},null,{"$f":"Z140+1","v":89},"T"]
[null,null,{"$f":"IF(R_TS,\"(*)\",\"\")","v":""},{"$f":"lang!A264","v":"Own company tanks"},null,null,null,null,null,null,{"$f":"lang!A$755","v":"Yes"},null,null,null,{"$f":"lang!A$756","v":"No"},null,null,null,null,{"$f":"IF(V142=1,\"Y\",IF(V142=2,\"N\",\"\"))","v":"N"},{"$f":"V142=1","v":false},2,null,{"$f":"OR(NOT(R_TS),V142>0)","v":true},null,{"$f":"Z141+1","v":90},"T"]
[null,null,{"$f":"IF(R_TS,\"(*)\",\"\")","v":""},{"$f":"lang!A265","v":"Own company containers"},null,null,null,null,null,null,{"$f":"lang!A$755","v":"Yes"},null,null,null,{"$f":"lang!A$756","v":"No"},null,null,null,null,{"$f":"IF(V143=1,\"Y\",IF(V143=2,\"N\",\"\"))","v":"N"},{"$f":"V143=1","v":false},2,null,{"$f":"OR(NOT(R_TS),V143>0)","v":true},null,{"$f":"Z142+1","v":91},"T"]
[]
[null,null,"0.3.10",{"$f":"lang!A266","v":"Subcontractor services includes :"},null,null,null,null,null,null,null,null,null,null,null,null,null,null,null,null,{"$f":"NOT(OR(U40,U43,U140))","v":false},null,null,null,null,null,null,{"$f":"IF(U145,-4,0)","v":0}]
[null,null,null,{"$f":"lang!A267","v":"Trucks "},null,null,null,null,null,null,{"$f":"lang!A$755","v":"Yes"},null,null,null,{"$f":"lang!A$756","v":"No"},null,null,null,null,{"$f":"IF(V146=1,\"Y\",IF(V146=2,\"N\",\"\"))","v":"Y"},{"$f":"V146=1","v":true},1,null,true,null,92,"T"]
[null,null,null,{"$f":"lang!A268","v":"Trailers /tanks"},null,null,null,null,null,null,{"$f":"lang!A$755","v":"Yes"},null,null,null,{"$f":"lang!A$756","v":"No"},null,null,null,null,{"$f":"IF(V147=1,\"Y\",IF(V147=2,\"N\",\"\"))","v":"N"},{"$f":"V147=1","v":false},2,null,true,null,{"$f":"Z146+1","v":93},"T"]
[null,null,null,{"$f":"lang!A269","v":"Containers "},null,null,null,null,null,null,{"$f":"lang!A$755","v":"Yes"},null,null,null,{"$f":"lang!A$756","v":"No"},null,null,null,null,{"$f":"IF(V148=1,\"Y\",IF(V148=2,\"N\",\"\"))","v":"N"},{"$f":"V148=1","v":false},2,null,true,null,{"$f":"Z147+1","v":94},"T"]
[null,null,null,null,null,null,null,null,null,null,null,null,null,null,null,null,null,null,null,"end"]
[null,{"$f":"Status!$K$10","v":"Please check the next sheet (Status)"}]
[null,{"$f":"HYPERLINK(Status!$L$10,Status!$K$10)","v":"Please check the next sheet (Status)"}]
[]
[]
[]
[]
[]
[]
[]
[]
[]
[]
[]
[]
[]
[]
[]
[]
[]
[]
[]
[]
[]
[]
[]
[]
[]
[]
[]
[]
[]
[]
[]
[]
[]
[]
[]
[]
[]
[]
[]
[]
[]
[]
[]
[]
[]
[]
[]
[]
[]
[]
[]
[]
[]
[]
[]
[]
[]
[]
[]
[]
[]
[]
[]
[]
[]
[]
[]
[]
[]
[]
[]
[]
[]
[]
[]
[]
[]
[]
[]
[]
[]
[]
[]
[]
[]
[]
[]
[]
[]
[]
[]
[]
[null,null,null,null,null,null,null,null,null,null,null,null,null,null,null,null,null,null,1]

{"sheet":"Tank Cleaning","index":2,"n_rows":122,"n_cols":28,"rows_kept":122,"cut":false,"hidden":false,"merged":[[0,5,0,13],[1,5,1,13],[2,5,2,13],[108,15,108,17],[91,10,91,12],[105,11,105,13],[105,15,105,17],[106,11,106,13],[106,15,106,17],[103,11,103,13],[93,15,93,17],[95,11,95,13],[95,15,95,17],[96,11,96,13],[96,15,96,17],[97,11,97,13],[97,15,97,17],[88,10,88,12],[88,14,88,16],[90,3,90,8],[77,3,77,7],[79,3,79,7],[73,3,73,7],[86,3,87,7],[116,11,116,13],[116,15,116,16],[114,14,114,16],[104,15,104,17],[99,11,99,13],[99,15,99,17],[101,11,101,13],[101,15,101,17],[107,11,107,13],[107,15,107,17],[111,10,111,12],[111,14,111,16],[104,11,104,13],[120,1,120,15],[107,3,107,8],[109,3,110,8],[116,3,117,8],[113,14,113,16],[114,10,114,12],[93,11,93,13],[108,11,108,13],[99,3,100,8],[101,3,102,8],[111,3,112,8],[118,3,118,8],[115,3,115,8],[109,11,109,13],[118,10,118,12],[109,15,109,17],[103,15,103,17],[105,3,105,8],[103,3,103,8],[97,3,98,8],[118,14,118,16],[115,10,115,12],[115,14,115,16],[113,10,113,12],[39,10,39,12],[45,10,45,12],[33,10,33,12],[37,10,37,12],[28,3,28,7],[43,3,43,8],[41,3,41,8],[30,3,30,7],[37,3,37,8],[39,3,40,8],[41,9,41,12],[43,9,43,12],[51,3,51,8],[66,3,68,6],[60,3,60,7],[49,9,49,12],[51,9,51,12],[58,10,58,12],[60,10,60,12],[47,3,47,8],[49,3,49,8],[47,9,47,12],[53,3,53,8],[53,10,53,12],[55,14,55,16],[71,3,71,7],[58,3,58,7],[55,3,55,8],[62,10,62,12],[62,14,62,16],[65,10,65,12],[56,10,56,12],[56,3,56,7],[55,10,55,12],[63,14,63,16],[64,10,64,12],[114,3,114,8],[104,3,104,8],[113,3,113,8],[108,3,108,8],[106,3,106,8],[96,3,96,8],[81,3,83,6],[93,3,94,8],[65,14,65,16],[91,3,91,7],[95,3,95,8],[75,3,75,7],[88,3,89,8],[71,9,71,13],[73,9,73,13],[75,9,75,13],[77,9,77,13],[79,9,79,13],[81,9,83,16],[25,14,25,16],[23,10,23,12],[16,10,16,12],[16,14,16,16],[25,10,25,12],[4,0,4,17],[22,3,22,7],[23,3,23,7],[6,0,6,15],[19,10,19,12],[19,14,19,16],[22,10,22,12],[22,14,22,16],[13,10,13,12],[14,14,14,16],[15,10,15,12],[15,14,15,16],[5,0,5,17],[25,3,25,7],[46,3,46,8],[63,10,63,12],[26,3,27,8],[33,3,34,8],[45,3,45,8],[35,3,36,8],[35,10,35,12],[121,1,121,18],[7,0,7,17],[8,0,8,17],[12,10,12,12],[12,14,12,16],[13,14,13,16],[16,3,17,8],[18,10,18,12],[18,14,18,16],[14,10,14,12],[26,10,26,12],[66,9,68,16],[28,9,28,12],[30,9,30,12],[33,14,33,16],[37,14,37,16],[64,14,64,16]]}
[null,null,null,null,null,{"$f":"IF(X1,lang!A30,lang!A31)","v":"This sheet doesn't need to be answered"},null,null,null,null,null,null,null,null,null,null,null,null,null,null,null,null,null,{"$f":"'General Information'!U113","v":false},{"$f":"IF(R_TC,AB10,0)","v":0}]
[null,null,null,null,null,{"$f":"IF(X1,IF(Y2,lang!A32,IF(X2,lang!A33,lang!A34)),\"\")","v":""},null,null,null,null,null,null,null,null,null,null,null,null,null,null,null,null,null,{"$f":"X10","v":true},{"$f":"Y10","v":false}]
[null,null,null,null,null,{"$f":"IF(Y3,lang!A35,IF(X3,lang!A36,lang!A37))","v":"The document is not yet completed"},null,null,null,null,null,null,null,null,null,null,null,null,null,null,null,null,null,{"$f":"NOT(Status!F20)","v":false},{"$f":"Status!G20","v":false}]
[]
["Gulf SQAS 2025"]
[{"$f":"lang!A40","v":"ASSESSMENT INFORMATION AND SCOPE - Part I"}]
[{"$f":"lang!A12","v":"Tank Cleaning"}]
[{"$f":"lang!A42","v":"(Items marked with a (*) and/or magenta background must always be completed)"}]
[{"$f":"lang!A43","v":"(For checkboxes \"checked\" means \"Yes\", \"unchecked\" - \"No\")"}]
[null,null,null,null,null,null,null,null,null,null,null,null,null,null,null,null,null,null,null,null,null,null,null,{"$f":"AND(X12:X130)","v":true},{"$f":"(OR(Y12:Y130))","v":false},null,null,{"$f":"SUM(AB12:AB230)","v":-1}]
[null,null,"0.4.1",{"$f":"lang!A271","v":"Sub activities"},null,null,null,null,null,null,null,null,null,null,null,null,null,null,null,"value","raw",null,"Validation","Mand OK","Error"]
[]
[null,null,null,{"$f":"lang!A272","v":"Maintenance workshop"},null,null,null,null,null,null,{"$f":"lang!A$755","v":"Yes"},null,null,null,{"$f":"lang!A$756","v":"No"},null,null,null,null,{"$f":"IF(V13=1,\"Y\",IF(V13=2,\"N\",\"\"))","v":""},{"$f":"V13=1","v":false},null,null,true,null,"2","T"]
[null,null,null,{"$f":"lang!A273","v":"Transfer (intermodal) terminal"},null,null,null,null,null,null,{"$f":"lang!A$755","v":"Yes"},null,null,null,{"$f":"lang!A$756","v":"No"},null,null,null,null,{"$f":"IF(V14=1,\"Y\",IF(V14=2,\"N\",\"\"))","v":""},{"$f":"V14=1","v":false},null,null,true,null,{"$f":"Z13+1","v":3},"T"]
[null,null,null,{"$f":"lang!A274","v":"Fixed storage tanks present "},null,null,null,null,null,null,{"$f":"lang!A$755","v":"Yes"},null,null,null,{"$f":"lang!A$756","v":"No"},null,null,null,null,{"$f":"IF(V15=1,\"Y\",IF(V15=2,\"N\",\"\"))","v":""},{"$f":"V15=1","v":false},null,null,true,null,4,"T"]
[null,null,{"$f":"IF(R_TC,\"(*)\",\"\")","v":""},{"$f":"lang!A275","v":"Tankcontainer heating"},null,null,null,null,null,null,{"$f":"lang!A$755","v":"Yes"},null,null,null,{"$f":"lang!A$756","v":"No"},null,null,null,null,{"$f":"IF(V16=1,\"Y\",IF(V16=2,\"N\",\"\"))","v":""},{"$f":"V16=1","v":false},null,null,{"$f":"OR(NOT(R_TC),V16>0)","v":true},null,5,"T",{"$f":"IF(U16,0.5,0)","v":0}]
[null,null,{"$f":"IF(R_TC,\"(*)\",\"\")","v":""},{"$f":"lang!A276","v":"Tank and/or trailer repair"},null,null,null,null,null,null,{"$f":"lang!A$755","v":"Yes"},null,null,null,{"$f":"lang!A$756","v":"No"},null,null,null,null,{"$f":"IF(V17=1,\"Y\",IF(V17=2,\"N\",\"\"))","v":""},{"$f":"V17=1","v":false},null,null,{"$f":"OR(NOT(R_TC),V17>0)","v":true},null,6,"T",{"$f":"IF(U17,0.5,0)","v":0}]
[]
[null,null,{"$f":"IF(R_TC,\"(*)\",\"\")","v":""},{"$f":"lang!A277","v":"Empty container handling "},null,null,null,null,null,null,{"$f":"lang!A$755","v":"Yes"},null,null,null,{"$f":"lang!A$756","v":"No"},null,null,null,null,{"$f":"IF(V19=1,\"Y\",IF(V19=2,\"N\",\"\"))","v":""},{"$f":"V19=1","v":false},null,{"$f":"OR(U19,U20)","v":false},{"$f":"OR(NOT(R_TC),V19>0)","v":true},null,{"$f":"Z17+1","v":7},"T",{"$f":"IF(W19,0.5,0)","v":0}]
[null,null,{"$f":"IF(R_TC,\"(*)\",\"\")","v":""},{"$f":"lang!A278","v":"Full container handling "},null,null,null,null,null,null,{"$f":"lang!A$755","v":"Yes"},null,null,null,{"$f":"lang!A$756","v":"No"},null,null,null,null,{"$f":"IF(V20=1,\"Y\",IF(V20=2,\"N\",\"\"))","v":""},{"$f":"V20=1","v":false},null,null,{"$f":"OR(NOT(R_TC),V20>0)","v":true},null,8,"T"]
[]
[null,null,"0.4.2",{"$f":"lang!A279","v":"Type of operators"}]
[null,null,{"$f":"IF(R_TC,\"(*)\",\"\")","v":""},{"$f":"lang!A280","v":"Own company operators"},null,null,null,null,null,null,{"$f":"lang!A$755","v":"Yes"},null,null,null,{"$f":"lang!A$756","v":"No"},null,null,null,null,{"$f":"IF(V23=1,\"Y\",IF(V23=2,\"N\",\"\"))","v":""},{"$f":"V23=1","v":false},null,null,{"$f":"AND(OR(NOT(R_TC),V23>0),NOT(AND(LEN(K24)>0,NOT(U23))))","v":true},null,10,"T",{"$f":"IF(U23,0,-1)","v":-1}]
[null,null,{"$f":"IF(AND(R_TC,U23),\"(*)\",\"\")","v":""},{"$f":"lang!A281","v":"Number of own operators"},null,null,null,null,null,null,null,null,null,null,null,null,null,{"$f":"IF(IF(ISERROR(K24),FALSE,AND(LEN(K24)>0,NOT(U23))),lang!A282,\"\")","v":""},null,null,null,null,{"$f":"OR(LEN(K24)=0,ISNUMBER(VALUE(K24)))","v":true},{"$f":"OR(AND(LEN(K24)>0,U23),AND(LEN(K24)=0,NOT(U23)))","v":true},{"$f":"IF(ISERROR(K24),TRUE,IF(ISERROR(W24),TRUE,NOT(W24)))","v":false},{"$f":"Z23+1","v":11},"K"]
[]
[null,null,{"$f":"IF(IF(ISERROR(X26),FALSE,AND(R_TC,NOT(X26))),\"(*)\",\"\")","v":""},{"$f":"lang!A283","v":"Temporary operators"},null,null,null,null,null,null,{"$f":"lang!A$755","v":"Yes"},null,null,null,{"$f":"lang!A$756","v":"No"},null,null,null,null,{"$f":"IF(V26=1,\"Y\",IF(V26=2,\"N\",\"\"))","v":""},{"$f":"V26=1","v":false},null,null,{"$f":"NOT(AND(LEN(K27)>0,NOT(U26)))","v":true},null,{"$f":"Z24+1","v":12},"T"]
[null,null,{"$f":"IF(AND(R_TC,U26),\"(*)\",\"\")","v":""},{"$f":"lang!A284","v":"Average of temporary operators"},null,null,null,null,null,null,null,null,null,null,null,null,null,{"$f":"IF(IF(ISERROR(K27),FALSE,AND(LEN(K27)>0,NOT(U26))),lang!A285,\"\")","v":""},null,null,null,null,{"$f":"OR(LEN(K27)=0,ISNUMBER(VALUE(K27)))","v":true},{"$f":"OR(AND(LEN(K27)>0,U26),AND(LEN(K27)=0,NOT(U26)))","v":true},{"$f":"IF(ISERROR(K27),TRUE,IF(ISERROR(W27),TRUE,NOT(W27)))","v":false},{"$f":"Z26+1","v":13},"K"]
[]
[null,null,{"$f":"IF(R_TC,\"(*)\",\"\")","v":""},{"$f":"lang!A286","v":"Number of office employees"},null,null,null,null,null,null,null,null,null,null,null,null,null,null,null,null,null,null,{"$f":"OR(LEN(J29)=0,ISNUMBER(VALUE(J29)))","v":true},{"$f":"OR(NOT(R_TC),LEN(J29)>0)","v":true},{"$f":"IF(ISERROR(J29),TRUE,IF(ISERROR(W29),TRUE,NOT(W29)))","v":false},{"$f":"Z27+1","v":14},"J"]
[]
[null,null,{"$f":"IF(R_TC,\"(*)\",\"\")","v":""},{"$f":"lang!A287","v":"Number of employees"},null,null,null,null,null,null,null,null,null,null,null,null,null,null,null,null,null,null,{"$f":"OR(LEN(J31)=0,ISNUMBER(VALUE(J31)))","v":true},{"$f":"OR(NOT(R_TC),LEN(J31)>0)","v":true},{"$f":"IF(ISERROR(J31),TRUE,IF(ISERROR(W31),TRUE,NOT(W31)))","v":false},{"$f":"Z29+1","v":15},"J"]
[]
[null,null,"0.4.3",{"$f":"lang!A288","v":"Cleaning infrastructure"}]
[null,null,{"$f":"IF(IF(ISERROR(X34),FALSE,AND(R_TC,NOT(X34))),\"(*)\",\"\")","v":""},{"$f":"lang!A289","v":"Separate cleaning bays food"},null,null,null,null,null,null,{"$f":"lang!A$755","v":"Yes"},null,null,null,{"$f":"lang!A$756","v":"No"},null,null,null,null,{"$f":"IF(V34=1,\"Y\",IF(V34=2,\"N\",\"\"))","v":""},{"$f":"V34=1","v":false},null,null,{"$f":"NOT(AND(LEN(K36)>0,NOT(U34)))","v":true},null,{"$f":"Z31+2","v":17},"T"]
[]
[null,null,{"$f":"IF(IF(ISERROR(U34),FALSE,AND(R_TC,U34)),\"(*)\",\"\")","v":""},{"$f":"lang!A290","v":"Number of separate cleaning bays food"},null,null,null,null,null,null,null,null,null,null,null,null,null,{"$f":"IF(IF(ISERROR(K36),FALSE,AND(LEN(K36)>0,NOT(U34))),lang!A291,\"\")","v":""},null,null,null,null,{"$f":"OR(LEN(K36)=0,ISNUMBER(VALUE(K36)))","v":true},{"$f":"OR(AND(LEN(K36)>0,U34),AND(LEN(K36)=0,NOT(U34)))","v":true},{"$f":"IF(ISERROR(K36),TRUE,IF(ISERROR(W36),TRUE,NOT(W36)))","v":false},{"$f":"Z34+1","v":18},"K"]
[]
[null,null,{"$f":"IF(IF(ISERROR(X38),FALSE,AND(R_TC,NOT(X38))),\"(*)\",\"\")","v":""},{"$f":"lang!A292","v":"Separate cleaning bays chemicals"},null,null,null,null,null,null,{"$f":"lang!A$755","v":"Yes"},null,null,null,{"$f":"lang!A$756","v":"No"},null,null,null,null,{"$f":"IF(V38=1,\"Y\",IF(V38=2,\"N\",\"\"))","v":""},{"$f":"V38=1","v":false},null,null,{"$f":"NOT(AND(LEN(K40)>0,NOT(U38)))","v":true},null,{"$f":"Z36+1","v":19},"T"]
[]
[null,null,{"$f":"IF(IF(ISERROR(U38),FALSE,AND(R_TC,U38)),\"(*)\",\"\")","v":""},{"$f":"lang!A293","v":"Number of separate cleaning bays chemicals"},null,null,null,null,null,null,null,null,null,null,null,null,null,{"$f":"IF(IF(ISERROR(K40),FALSE,AND(LEN(K40)>0,NOT(U38))),lang!A294,\"\")","v":""},null,null,null,null,{"$f":"OR(LEN(K40)=0,ISNUMBER(VALUE(K40)))","v":true},{"$f":"OR(AND(LEN(K40)>0,U38),AND(LEN(K40)=0,NOT(U38)))","v":true},{"$f":"IF(ISERROR(K40),TRUE,IF(ISERROR(W40),TRUE,NOT(W40)))","v":false},{"$f":"Z38+1","v":20},"K"]
[]
[null,null,null,{"$f":"lang!A295","v":"Spinners"},null,null,null,null,null,null,null,null,null,null,{"$f":"lang!A$146","v":"Number"},null,null,null,null,null,null,null,{"$f":"OR(LEN(J42)=0,ISNUMBER(VALUE(J42)))","v":true},true,{"$f":"IF(ISERROR(J42),TRUE,IF(ISERROR(W42),TRUE,NOT(W42)))","v":false},{"$f":"Z40+1","v":21},"J"]
[]
[null,null,{"$f":"IF(IF(ISERROR(X44),FALSE,AND(R_TC,NOT(X44))),\"(*)\",\"\")","v":""},{"$f":"lang!A296","v":"Steam boilers"},null,null,null,null,null,null,null,null,null,null,{"$f":"lang!A$146","v":"Number"},null,null,null,null,null,{"$f":"IF(ISERROR(W44),FALSE,IF(ISNUMBER(J44),J44>0,FALSE))","v":false},null,{"$f":"OR(LEN(J44)=0,ISNUMBER(VALUE(J44)))","v":true},{"$f":"NOT(AND(LEN(K46)>0,NOT(U44)))","v":true},{"$f":"IF(ISERROR(J44),TRUE,IF(ISERROR(W44),TRUE,NOT(W44)))","v":false},{"$f":"Z42+1","v":22},"J"]
[]
[null,null,{"$f":"IF(IF(ISERROR(U44),FALSE,AND(R_TC,U44)),\"(*)\",\"\")","v":""},{"$f":"lang!A297","v":"Steam boilers pressure"},null,null,null,null,null,null,null,null,null,null,{"$f":"lang!A299","v":"bar"},null,null,{"$f":"IF(IF(ISERROR(OR(K46,U44)),FALSE,AND(LEN(K46)>0,NOT(U44))),lang!A298,\"\")","v":""},null,null,null,null,{"$f":"OR(LEN(K46)=0,ISNUMBER(VALUE(K46)))","v":true},{"$f":"IF(IF(ISNUMBER(J44),J44>0,FALSE),LEN(K46)>0,LEN(K46)=0)","v":true},{"$f":"IF(ISERROR(K46),TRUE,IF(ISERROR(W46),TRUE,NOT(W46)))","v":false},{"$f":"Z44+1","v":23},"K"]
[]
[null,null,null,{"$f":"lang!A300","v":"Cleaning water temperature range"},null,null,null,null,null,null,null,null,null,null,{"$f":"lang!A301","v":"°C"},null,null,null,null,null,null,null,true,true,{"$f":"IF(ISERROR(J48),TRUE,IF(ISERROR(W48),TRUE,NOT(W48)))","v":false},{"$f":"Z46+1","v":24},"J"]
[]
[null,null,null,{"$f":"lang!A302","v":"Dryers"},null,null,null,null,null,null,null,null,null,null,{"$f":"lang!A$146","v":"Number"},null,null,null,null,null,null,null,{"$f":"OR(LEN(J50)=0,ISNUMBER(VALUE(J50)))","v":true},true,{"$f":"IF(ISERROR(J50),TRUE,IF(ISERROR(W50),TRUE,NOT(W50)))","v":false},{"$f":"Z48+1","v":25},"J"]
[]
[null,null,{"$f":"IF(IF(ISERROR(X52),FALSE,AND(R_TC,NOT(X52))),\"(*)\",\"\")","v":""},{"$f":"lang!A303","v":"Pressure pumps"},null,null,null,null,null,null,null,null,null,null,{"$f":"lang!A$146","v":"Number"},null,null,null,null,null,{"$f":"IF(ISERROR(W52),FALSE,IF(ISNUMBER(J52),J52>0,FALSE))","v":false},null,{"$f":"OR(LEN(J52)=0,ISNUMBER(VALUE(J52)))","v":true},{"$f":"NOT(AND(LEN(K54)>0,NOT(U52)))","v":true},{"$f":"IF(ISERROR(J52),TRUE,IF(ISERROR(W52),TRUE,NOT(W52)))","v":false},{"$f":"Z50+1","v":26},"J"]
[]
[null,null,{"$f":"IF(IF(ISERROR(U52),FALSE,AND(R_TC,U52)),\"(*)\",\"\")","v":""},{"$f":"lang!A305","v":"Pressure pumps - pressure range"},null,null,null,null,null,null,null,null,null,null,{"$f":"lang!A306","v":"bar"},null,null,{"$f":"IF(IF(ISERROR(OR(K54,U52)),FALSE,AND(LEN(K54)>0,NOT(U52))),lang!A304,\"\")","v":""},null,null,null,null,true,{"$f":"IF(IF(ISNUMBER(J52),J52>0,FALSE),LEN(K54)>0,LEN(K54)=0)","v":true},{"$f":"ISERROR(K54)","v":false},{"$f":"Z52+1","v":27},"K"]
[]
[null,null,{"$f":"IF(IF(ISERROR(X56),FALSE,AND(R_TC,NOT(X56))),\"(*)\",\"\")","v":""},{"$f":"lang!A307","v":"Tank heating of loaded tanks"},null,null,null,null,null,null,{"$f":"lang!A$755","v":"Yes"},null,null,null,{"$f":"lang!A$756","v":"No"},null,null,null,null,{"$f":"IF(V56=1,\"Y\",IF(V56=2,\"N\",\"\"))","v":""},{"$f":"V56=1","v":false},null,{"$f":"OR(W57:W61)","v":false},{"$f":"OR(U56,NOT(W56))","v":true},null,{"$f":"Z54+1","v":28},"T"]
[null,null,{"$f":"IF(IF(ISERROR($V$57),FALSE,($V$57)),\"(*)\",\"\")","v":""},{"$f":"lang!A308","v":"Steam - pressure"},null,null,null,null,null,null,null,null,null,null,{"$f":"lang!A309","v":"bar"},null,null,{"$f":"IF(IF(ISERROR(K57),FALSE,AND(W57,NOT(U56))),lang!A313,\"\")","v":""},null,null,null,{"$f":"AND(U56,NOT(W56))","v":false},{"$f":"LEN(K57)>0","v":false},{"$f":"OR(AND($U$56,$W$56),AND(NOT($U$56),NOT(W57)))","v":true},{"$f":"ISERROR(K57)","v":false},{"$f":"Z56+1","v":29},"K"]
[]
[null,null,{"$f":"IF(IF(ISERROR($V$57),FALSE,($V$57)),\"(*)\",\"\")","v":""},{"$f":"lang!A310","v":"Hot water - temperature"},null,null,null,null,null,null,null,null,null,null,{"$f":"lang!A311","v":"°C"},null,null,{"$f":"IF(IF(ISERROR(K59),FALSE,AND(W59,NOT(U56))),lang!A313,\"\")","v":""},null,null,null,null,{"$f":"LEN(K59)>0","v":false},{"$f":"OR(AND($U$56,$W$56),AND(NOT($U$56),NOT(W59)))","v":true},{"$f":"ISERROR(K59)","v":false},{"$f":"Z57+1","v":30},"K"]
[]
[null,null,{"$f":"IF(IF(ISERROR($V$57),FALSE,($V$57)),\"(*)\",\"\")","v":""},{"$f":"lang!A312","v":"Electrical"},null,null,null,null,null,null,null,null,null,null,null,null,null,{"$f":"IF(IF(ISERROR(K61),FALSE,AND(W61,NOT(U56))),lang!A313,\"\")","v":""},null,null,null,null,{"$f":"LEN(K61)>0","v":false},{"$f":"OR(AND($U$56,$W$56),AND(NOT($U$56),NOT(W61)))","v":true},{"$f":"ISERROR(K61)","v":false},{"$f":"Z59+1","v":31},"K"]
[]
[null,null,null,{"$f":"lang!A314","v":"Provision of Nitrogen"},null,null,null,null,null,null,{"$f":"lang!A$755","v":"Yes"},null,null,null,{"$f":"lang!A$756","v":"No"},null,null,null,null,{"$f":"IF(V63=1,\"Y\",IF(V63=2,\"N\",\"\"))","v":""},{"$f":"V63=1","v":false},null,null,true,null,{"$f":"Z61+1","v":32},"T"]
[null,null,null,{"$f":"lang!A315","v":"De-gassing"},null,null,null,null,null,null,{"$f":"lang!A$755","v":"Yes"},null,null,null,{"$f":"lang!A$756","v":"No"},null,null,null,null,{"$f":"IF(V64=1,\"Y\",IF(V64=2,\"N\",\"\"))","v":""},{"$f":"V64=1","v":false},null,null,true,null,{"$f":"Z63+1","v":33},"T"]
[null,null,null,{"$f":"lang!A316","v":"Periodic testing"},null,null,null,null,null,null,{"$f":"lang!A$755","v":"Yes"},null,null,null,{"$f":"lang!A$756","v":"No"},null,null,null,null,{"$f":"IF(V65=1,\"Y\",IF(V65=2,\"N\",\"\"))","v":""},{"$f":"V65=1","v":false},null,null,true,null,{"$f":"Z64+1","v":34},"T"]
[null,null,null,{"$f":"lang!A317","v":"Vapour Control Systems"},null,null,null,null,null,null,{"$f":"lang!A$755","v":"Yes"},null,null,null,{"$f":"lang!A$756","v":"No"},null,null,null,null,{"$f":"IF(V66=1,\"Y\",IF(V66=2,\"N\",\"\"))","v":""},{"$f":"V66=1","v":false},null,null,true,null,{"$f":"Z65+1","v":35},"T"]
[null,null,null,{"$f":"lang!A318","v":"Other Site Activities"},null,null,null,null,null,null,null,null,null,null,null,null,null,null,null,null,null,null,null,"TRUE",{"$f":"IF(ISERROR(J67),TRUE,LEN(J67)>=400)","v":false},{"$f":"Z66+1","v":36},"J"]
[]
[]
[]
[null,null,"0.4.4",{"$f":"lang!A319","v":"Type and number of cleanings"}]
[null,null,null,{"$f":"lang!A320","v":"Roadtankers"},null,null,null,null,null,null,null,null,null,null,null,{"$f":"lang!A$54","v":"(Select from the dropdown list)"},null,null,null,{"$f":"IF(ISERROR(U72), \"\", IF(U72>1,CHAR(63+U72),\"\"))","v":""},{"$f":"MATCH(J72,cleaningType,0)","v":{"$error":"#N/A"}},null,{"$f":"OR(LEN(J72)=0,(ISNUMBER(U72)))","v":true},true,{"$f":"IF(ISERROR(J72),TRUE,IF(ISERROR(W72),TRUE,NOT(W72)))","v":false},{"$f":"Z67+2","v":38},"T"]
[]
[null,null,null,{"$f":"lang!A321","v":"Tankcontainers"},null,null,null,null,null,null,null,null,null,null,null,{"$f":"lang!A$54","v":"(Select from the dropdown list)"},null,null,null,{"$f":"IF(ISERROR(U74), \"\", IF(U74>1,CHAR(63+U74),\"\"))","v":""},{"$f":"MATCH(J74,cleaningType,0)","v":{"$error":"#N/A"}},null,{"$f":"OR(LEN(J74)=0,(ISNUMBER(U74)))","v":true},true,{"$f":"IF(ISERROR(J74),TRUE,IF(ISERROR(W74),TRUE,NOT(W74)))","v":false},{"$f":"Z72+1","v":39},"T"]
[]
[null,null,null,{"$f":"lang!A322","v":"Railtankcars (RTC's)"},null,null,null,null,null,null,null,null,null,null,null,{"$f":"lang!A$54","v":"(Select from the dropdown list)"},null,null,null,{"$f":"IF(ISERROR(U76), \"\", IF(U76>1,CHAR(63+U76),\"\"))","v":""},{"$f":"MATCH(J76,cleaningType,0)","v":{"$error":"#N/A"}},null,{"$f":"OR(LEN(J76)=0,(ISNUMBER(U76)))","v":true},true,{"$f":"IF(ISERROR(J76),TRUE,IF(ISERROR(W76),TRUE,NOT(W76)))","v":false},{"$f":"Z74+1","v":40},"T"]
[]
[null,null,null,{"$f":"lang!A323","v":"IBC's"},null,null,null,null,null,null,null,null,null,null,null,{"$f":"lang!A$54","v":"(Select from the dropdown list)"},null,null,null,{"$f":"IF(ISERROR(U78), \"\", IF(U78>1,CHAR(63+U78),\"\"))","v":""},{"$f":"MATCH(J78,cleaningType,0)","v":{"$error":"#N/A"}},null,{"$f":"OR(LEN(J78)=0,(ISNUMBER(U78)))","v":true},true,{"$f":"IF(ISERROR(J78),TRUE,IF(ISERROR(W78),TRUE,NOT(W78)))","v":false},{"$f":"Z76+1","v":41},"T"]
[]
[null,null,{"$f":"IF(IF(ISERROR(X80),FALSE,AND(R_TC,NOT(X80))),\"(*)\",\"\")","v":""},{"$f":"lang!A324","v":"Other"},null,null,null,null,null,null,null,null,null,null,null,{"$f":"lang!A$54","v":"(Select from the dropdown list)"},null,null,null,{"$f":"IF(ISERROR(U80), \"\", IF(U80>1,CHAR(63+U80),\"\"))","v":""},{"$f":"MATCH(J80,cleaningType,0)","v":{"$error":"#N/A"}},{"$f":"IF(ISERROR($U$80),FALSE,($U$80>1))","v":false},{"$f":"OR(LEN(J80)=0,(ISNUMBER(U80)))","v":true},{"$f":"NOT(AND(LEN(J82)>0,NOT(V80)))","v":true},{"$f":"IF(ISERROR(J80),TRUE,IF(ISERROR(W80),TRUE,NOT(W80)))","v":false},{"$f":"Z78+1","v":42},"T"]
[]
[null,null,{"$f":"IF(IF(ISERROR(V80),FALSE,AND(R_TC,V80)),\"(*)\",\"\")","v":""},{"$f":"lang!A325","v":"Specify"},null,null,null,null,null,null,null,null,null,null,null,null,null,{"$f":"IF(IF(ISERROR(J82),FALSE,AND(LEN(J82)>0,NOT(V80))),lang!A326,\"\")","v":""},null,null,null,null,{"$f":"LEN(J82)>0","v":false},{"$f":"IF(V80,LEN(J82)>0,LEN(J82)=0)","v":true},{"$f":"IF(ISERROR(J82),TRUE,LEN(J82)>=400)","v":false},{"$f":"Z80+1","v":43},"J"]
[]
[]
[]
[null,null,"0.4.5",{"$f":"lang!A327","v":"Products"}]
[null,null,null,{"$f":"lang!A328","v":"Tonnage chem. cleaned per year"},null,null,null,null,null,null,null,null,null,null,null,null,null,null,null,null,null,null,{"$f":"OR(LEN(J87)=0,ISNUMBER(VALUE(J87)))","v":true},true,{"$f":"OR(ISERROR(J87),IF(ISERROR(W87),TRUE,NOT(W87)))","v":false},{"$f":"Z82+1","v":44},"J"]
[]
[null,null,{"$f":"IF(R_TC,\"(*)\",\"\")","v":""},{"$f":"lang!A329","v":"Are product recipients; tank trucks, tank containers etc., that previously contained Dangerous Goods, cleaned?"},null,null,null,null,null,null,{"$f":"lang!A$755","v":"Yes"},null,null,null,{"$f":"lang!A$756","v":"No"},null,null,null,null,{"$f":"IF(V89=1,\"Y\",IF(V89=2,\"N\",\"\"))","v":""},{"$f":"V89=1","v":false},null,{"$f":"OR(U89,NOT(OR(U94:U112, LEN(K92)>0)))","v":true},{"$f":"AND(OR(NOT(R_TC),V89>0),W89)","v":true},null,{"$f":"Z87+1","v":45},"T",{"$f":"IF(U89,2,0)","v":0}]
[]
[null,null,null,{"$f":"lang!A330","v":"If yes : "}]
[null,null,{"$f":"IF(U89,\"(*)\",\"\")","v":""},{"$f":"lang!A331","v":"% dangerous goods"},null,null,null,null,null,null,null,null,null,null,null,null,null,null,{"$f":"IF(IF(ISERROR(K92),FALSE,AND(LEN(K92)>0,NOT(U89))),lang!A332,\"\")","v":""},null,null,null,{"$f":"OR(LEN(K92)=0,ISNUMBER(VALUE(K92)))","v":true},{"$f":"OR(AND(LEN(K92)>0,U89),AND(LEN(K92)=0,NOT(U89)))","v":true},{"$f":"IF(ISERROR(K92),TRUE,IF(ISERROR(W92),TRUE,NOT(W92)))","v":false},{"$f":"Z89+1","v":46},"J"]
[]
[null,null,null,{"$f":"lang!A334","v":"Class 1 : Explosive substances and articles"},null,null,null,null,null,null,null,{"$f":"lang!A$755","v":"Yes"},null,null,null,{"$f":"lang!A$756","v":"No"},null,null,{"$f":"IF(AND(U94,NOT($U$89)),lang!A$333,\"\")","v":""},{"$f":"IF(V94=1,\"Y\",IF(V94=2,\"N\",\"\"))","v":""},{"$f":"V94=1","v":false},null,{"$f":"OR(NOT(U94),U$89)","v":true},{"$f":"W94","v":true},null,{"$f":"Z92+1","v":47},"T"]
[]
[null,null,null,{"$f":"lang!A335","v":"Class 2 : Gases"},null,null,null,null,null,null,null,{"$f":"lang!A$755","v":"Yes"},null,null,null,{"$f":"lang!A$756","v":"No"},null,null,{"$f":"IF(AND(U96,NOT($U$89)),lang!A$333,\"\")","v":""},{"$f":"IF(V96=1,\"Y\",IF(V96=2,\"N\",\"\"))","v":""},{"$f":"V96=1","v":false},null,{"$f":"OR(NOT(U96),U$89)","v":true},{"$f":"W96","v":true},null,{"$f":"Z94+1","v":48},"T"]
[null,null,null,{"$f":"lang!A336","v":"Class 3 : Flammable liquids"},null,null,null,null,null,null,null,{"$f":"lang!A$755","v":"Yes"},null,null,null,{"$f":"lang!A$756","v":"No"},null,null,{"$f":"IF(AND(U97,NOT($U$89)),lang!A$333,\"\")","v":""},{"$f":"IF(V97=1,\"Y\",IF(V97=2,\"N\",\"\"))","v":""},{"$f":"V97=1","v":false},null,{"$f":"OR(NOT(U97),U$89)","v":true},{"$f":"W97","v":true},null,{"$f":"Z96+1","v":49},"T"]
[null,null,null,{"$f":"lang!A337","v":"Class 4.1. : Flammable solids,  self-reactive substances and solid desensitized explosives."},null,null,null,null,null,null,null,{"$f":"lang!A$755","v":"Yes"},null,null,null,{"$f":"lang!A$756","v":"No"},null,null,{"$f":"IF(AND(U98,NOT($U$89)),lang!A$333,\"\")","v":""},{"$f":"IF(V98=1,\"Y\",IF(V98=2,\"N\",\"\"))","v":""},{"$f":"V98=1","v":false},null,{"$f":"OR(NOT(U98),U$89)","v":true},{"$f":"W98","v":true},null,{"$f":"Z97+1","v":50},"T"]
[]
[null,null,null,{"$f":"lang!A338","v":"Class 4.2. : Substances liable to spontaneous combustion"},null,null,null,null,null,null,null,{"$f":"lang!A$755","v":"Yes"},null,null,null,{"$f":"lang!A$756","v":"No"},null,null,{"$f":"IF(AND(U100,NOT($U$89)),lang!A$333,\"\")","v":""},{"$f":"IF(V100=1,\"Y\",IF(V100=2,\"N\",\"\"))","v":""},{"$f":"V100=1","v":false},null,{"$f":"OR(NOT(U100),U$89)","v":true},{"$f":"W100","v":true},null,{"$f":"Z98+1","v":51},"T"]
[]
[null,null,null,{"$f":"lang!A339","v":"Class 4.3. : Substances which in contact with water, emit flammable gases"},null,null,null,null,null,null,null,{"$f":"lang!A$755","v":"Yes"},null,null,null,{"$f":"lang!A$756","v":"No"},null,null,{"$f":"IF(AND(U102,NOT($U$89)),lang!A$333,\"\")","v":""},{"$f":"IF(V102=1,\"Y\",IF(V102=2,\"N\",\"\"))","v":""},{"$f":"V102=1","v":false},null,{"$f":"OR(NOT(U102),U$89)","v":true},{"$f":"W102","v":true},null,{"$f":"Z100+1","v":52},"T"]
[]
[null,null,null,{"$f":"lang!A340","v":"Class 5.1. : Oxidizing substances"},null,null,null,null,null,null,null,{"$f":"lang!A$755","v":"Yes"},null,null,null,{"$f":"lang!A$756","v":"No"},null,null,{"$f":"IF(AND(U104,NOT($U$89)),lang!A$333,\"\")","v":""},{"$f":"IF(V104=1,\"Y\",IF(V104=2,\"N\",\"\"))","v":""},{"$f":"V104=1","v":false},null,{"$f":"OR(NOT(U104),U$89)","v":true},{"$f":"W104","v":true},null,{"$f":"Z102+1","v":53},"T"]
[null,null,null,{"$f":"lang!A341","v":"Class 5.2. : Organic peroxides"},null,null,null,null,null,null,null,{"$f":"lang!A$755","v":"Yes"},null,null,null,{"$f":"lang!A$756","v":"No"},null,null,{"$f":"IF(AND(U105,NOT($U$89)),lang!A$333,\"\")","v":""},"",false,null,true,true,null,{"$f":"Z104+1","v":54},"T"]
[null,null,null,{"$f":"lang!A342","v":"Class 6.1. : Toxic substances"},null,null,null,null,null,null,null,{"$f":"lang!A$755","v":"Yes"},null,null,null,{"$f":"lang!A$756","v":"No"},null,null,{"$f":"IF(AND(U106,NOT($U$89)),lang!A$333,\"\")","v":""},"",false,null,true,true,null,55,"T"]
[null,null,null,{"$f":"lang!A343","v":"Class 6.2. : Infectious substances"},null,null,null,null,null,null,null,{"$f":"lang!A$755","v":"Yes"},null,null,null,{"$f":"lang!A$756","v":"No"},null,null,{"$f":"IF(AND(U107,NOT($U$89)),lang!A$333,\"\")","v":""},"",false,null,true,true,null,56,"T"]
[null,null,null,{"$f":"lang!A344","v":"Class 7 : Radioactive material"},null,null,null,null,null,null,null,{"$f":"lang!A$755","v":"Yes"},null,null,null,{"$f":"lang!A$756","v":"No"},null,null,{"$f":"IF(AND(U108,NOT($U$89)),lang!A$333,\"\")","v":""},"",false,null,true,true,null,57,"T"]
[null,null,null,{"$f":"lang!A345","v":"Class 8 : Corrosive substances"},null,null,null,null,null,null,null,{"$f":"lang!A$755","v":"Yes"},null,null,null,{"$f":"lang!A$756","v":"No"},null,null,{"$f":"IF(AND(U109,NOT($U$89)),lang!A$333,\"\")","v":""},"",false,null,true,true,null,58,"T"]
[null,null,null,{"$f":"lang!A346","v":"Class 9 : Miscellaneous dangerous substances and\narticles"},null,null,null,null,null,null,null,{"$f":"lang!A$755","v":"Yes"},null,null,null,{"$f":"lang!A$756","v":"No"},null,null,{"$f":"IF(AND(U110,NOT($U$89)),lang!A$333,\"\")","v":""},"",false,null,true,true,null,59,"T"]
[]
[null,null,null,{"$f":"lang!A347","v":"CMR : Category carcinogenic, mutagenic and reprotoxical"},null,null,null,null,null,null,{"$f":"lang!A$755","v":"Yes"},null,null,null,{"$f":"lang!A$756","v":"No"},null,null,null,null,{"$f":"IF(V112=1,\"Y\",IF(V112=2,\"N\",\"\"))","v":""},{"$f":"V112=1","v":false},null,true,{"$f":"W112","v":true},null,{"$f":"Z110+1","v":60},"T"]
[]
[null,null,null,{"$f":"lang!A348","v":"Handling of food contact products "},null,null,null,null,null,null,{"$f":"lang!A$755","v":"Yes"},null,null,null,{"$f":"lang!A$756","v":"No"},null,null,null,null,{"$f":"IF(V114=1,\"Y\",IF(V114=2,\"N\",\"\"))","v":""},{"$f":"V114=1","v":false},null,{"$f":"OR(U114:U116)","v":false},{"$f":"W117","v":true},null,{"$f":"Z112+1","v":61},"T"]
[null,null,null,{"$f":"lang!A349","v":"Handling of food products "},null,null,null,null,null,null,{"$f":"lang!A$755","v":"Yes"},null,null,null,{"$f":"lang!A$756","v":"No"},null,null,null,null,{"$f":"IF(V115=1,\"Y\",IF(V115=2,\"N\",\"\"))","v":""},{"$f":"V115=1","v":false},null,null,{"$f":"W117","v":true},null,{"$f":"Z114+1","v":62},"T"]
[null,null,null,{"$f":"lang!A350","v":"Handling of feed products "},null,null,null,null,null,null,{"$f":"lang!A$755","v":"Yes"},null,null,null,{"$f":"lang!A$756","v":"No"},null,null,null,null,{"$f":"IF(V116=1,\"Y\",IF(V116=2,\"N\",\"\"))","v":""},{"$f":"V116=1","v":false},null,null,{"$f":"W117","v":true},null,{"$f":"Z115+1","v":63},"T"]
[null,null,{"$f":"IF(R_TC,\"(*)\",\"\")","v":""},{"$f":"lang!A351","v":"The company chooses to be assessed against the Food(contact) & Feed chapter"},null,null,null,null,null,null,null,{"$f":"lang!A$755","v":"Yes"},null,null,null,{"$f":"lang!A$756","v":"No"},null,null,{"$f":"IF(W117,\"\",lang!A256)","v":""},{"$f":"IF(V117=1,\"Y\",IF(V117=2,\"N\",\"\"))","v":""},{"$f":"V117=1","v":false},null,{"$f":"OR(W114,NOT(U117))","v":true},{"$f":"AND(OR(NOT(R_TC),V117>0),W117)","v":true},null,{"$f":"Z116+1","v":64},"T",{"$f":"IF(U117,2,0)","v":0}]
[]
[null,null,null,{"$f":"lang!A353","v":"Allergen free business"},null,null,null,null,null,null,{"$f":"lang!A$755","v":"Yes"},null,null,null,{"$f":"lang!A$756","v":"No"},null,null,null,null,{"$f":"IF(V119=1,\"Y\",IF(V119=2,\"N\",\"\"))","v":""},{"$f":"V119=1","v":false},null,true,{"$f":"W119","v":true},null,{"$f":"Z117+1","v":65},"T"]
[]
[null,{"$f":"Status!$K$11","v":"Please check the next sheet (Status)"}]
[null,{"$f":"HYPERLINK(Status!$L$11,Status!$K$11)","v":"Please check the next sheet (Status)"}]

{"sheet":"ESAD","index":3,"n_rows":72,"n_cols":28,"rows_kept":72,"cut":false,"hidden":true,"merged":[[70,1,70,15],[56,10,56,12],[21,14,21,16],[23,10,23,12],[23,14,23,16],[29,10,29,12],[29,14,29,16],[31,10,31,12],[31,14,31,16],[25,14,25,16],[49,3,49,8],[52,3,53,8],[64,3,64,7],[68,3,68,7],[66,3,66,7],[60,3,60,7],[61,3,61,7],[50,3,51,8],[45,3,45,8],[46,3,46,8],[47,3,47,8],[48,3,48,8],[38,3,39,8],[40,3,41,8],[4,0,4,17],[0,5,0,13],[1,5,1,13],[2,5,2,13],[42,3,43,8],[44,3,44,8],[36,3,36,8],[37,3,37,8],[31,3,32,7],[29,3,30,7],[34,3,35,8],[21,3,22,7],[23,3,24,7],[27,3,28,7],[26,14,26,16],[27,10,27,12],[27,14,27,16],[25,10,25,12],[15,10,15,16],[17,11,17,13],[17,15,17,17],[19,11,19,13],[21,10,21,12],[26,10,26,12],[34,10,34,12],[34,14,34,16],[5,0,5,17],[19,3,19,7],[15,3,15,7],[17,3,18,7],[36,10,36,12],[36,14,36,16],[37,10,37,12],[37,14,37,16],[12,10,12,12],[12,14,12,16],[13,10,13,12],[13,14,13,16],[6,0,6,17],[7,0,7,17],[49,10,49,12],[49,14,49,16],[50,10,50,12],[38,10,38,12],[38,14,38,16],[40,10,40,12],[40,14,40,16],[42,10,42,12],[42,14,42,16],[44,10,44,12],[44,14,44,16],[45,10,45,12],[45,14,45,16],[68,9,68,12],[60,10,60,12],[60,14,60,16],[61,10,61,12],[63,10,63,12],[63,14,63,16],[64,10,64,12],[71,1,71,18],[8,0,8,17],[66,9,66,12],[56,14,56,16],[57,10,57,12],[57,14,57,16],[52,10,52,12],[52,14,52,16],[55,10,55,12],[55,14,55,16],[46,10,46,12],[46,14,46,16],[50,14,50,16],[47,10,47,12],[47,14,47,16],[48,10,48,12],[48,14,48,16]]}
[null,null,null,null,null,{"$f":"IF(X1,lang!A30,lang!A31)","v":"This sheet doesn't need to be answered"},null,null,null,null,null,null,null,null,null,null,null,null,null,null,null,null,null,{"$f":"'General Information'!U119","v":false},{"$f":"IF(R_ESAD,AB10,0)","v":0}]
[null,null,null,null,null,{"$f":"IF(X1,IF(Y2,lang!A32,IF(X2,lang!A33,lang!A34)),\"\")","v":""},null,null,null,null,null,null,null,null,null,null,null,null,null,null,null,null,null,{"$f":"X10","v":true},{"$f":"Y10","v":false}]
[null,null,null,null,null,{"$f":"IF(Y3,lang!A35,IF(X3,lang!A36,lang!A37))","v":"The document is not yet completed"},null,null,null,null,null,null,null,null,null,null,null,null,null,null,null,null,null,{"$f":"NOT(Status!F20)","v":false},{"$f":"Status!G20","v":false}]
[]
[{"$f":"lang!A38","v":"Gulf SQAS 2018"}]
[{"$f":"lang!A40","v":"ASSESSMENT INFORMATION AND SCOPE - Part I"}]
[{"$f":"lang!A13","v":"ESAD"}]
[{"$f":"lang!A42","v":"(Items marked with a (*) and/or magenta background must always be completed)"}]
[{"$f":"lang!A43","v":"(For checkboxes \"checked\" means \"Yes\", \"unchecked\" - \"No\")"}]
[null,null,null,null,null,null,null,null,null,null,null,null,null,null,null,null,null,null,null,null,null,null,null,{"$f":"AND(X12:X80)","v":true},{"$f":"(OR(Y12:Y80))","v":false},null,null,{"$f":"SUM(AB13:AB169)","v":0}]
[null,null,"0.5.1",{"$f":"lang!A355","v":"Sub activities"},null,null,null,null,null,null,null,null,null,null,null,null,null,null,null,"value","raw",null,"Validation","Mand OK","Error"]
[]
[null,null,{"$f":"IF(R_ESAD,\"(*)\",\"\")","v":""},{"$f":"lang!A356","v":"Distributor Standard Activities (Di)"},null,null,null,null,null,null,{"$f":"lang!A$755","v":"Yes"},null,null,null,{"$f":"lang!A$756","v":"No"},null,null,null,null,{"$f":"IF(V13=1,\"Y\",IF(V13=2,\"N\",\"\"))","v":""},{"$f":"V13=1","v":false},null,null,{"$f":"OR(NOT(R_ESAD),AND(NOT(AND(U13,U18)),V13>0))","v":true},null,2,"T",{"$f":"IF(U13,8,0)","v":0}]
[null,null,{"$f":"IF(R_ESAD,\"(*)\",\"\")","v":""},{"$f":"lang!A357","v":"Site assessment (S)"},null,null,null,null,null,null,{"$f":"lang!A$755","v":"Yes"},null,null,null,{"$f":"lang!A$756","v":"No"},null,null,null,null,{"$f":"IF(V14=1,\"Y\",IF(V14=2,\"N\",\"\"))","v":""},{"$f":"V14=1","v":false},null,{"$f":"OR(NOT(OR(W16,U18)),U14)","v":true},{"$f":"OR(NOT(R_ESAD),AND(V14>0,W14))","v":true},null,{"$f":"Z13+1","v":3},"T",{"$f":"IF(U14,3,0)","v":0}]
[]
[null,null,{"$f":"IF(AND(R_ESAD,U14),\"(*)\",\"\")","v":""},{"$f":"lang!A358","v":"Site name"},{"$f":"lang!B358","v":"Site name"},{"$f":"lang!C358","v":"Standortname"},{"$f":"lang!D358","v":"Nome da localidade"},{"$f":"lang!E358","v":"Nom du site "},null,null,null,null,null,null,null,null,null,null,{"$f":"IF(IF(ISERROR(K16),FALSE,AND(LEN(K16)>0,NOT(U14))),lang!A359,\"\")","v":""},null,null,null,{"$f":"LEN(K16)>0","v":false},{"$f":"OR(AND($U$14,$W16),AND(NOT($U14),NOT(W16)))","v":true},{"$f":"IF(ISERROR(K16),TRUE,LEN(K16)>=160)","v":false},{"$f":"Z14+1","v":4},"K"]
[]
[null,null,null,{"$f":"lang!A360","v":"Combined with Di (only applicable if Di is not included in current assessment)"},{"$f":"lang!B360","v":"Combined with Di (only applicable if Di is not included in current assessment)"},{"$f":"lang!C360","v":"verbunden mit Di (nur anwendbar wenn Di nicht im laufenden Assessment enthalten ist)"},{"$f":"lang!D360","v":"Combinada com Di (apenas aplicável se Di não estiver incluído na presente avaliação)"},{"$f":"lang!E360","v":"Combiné avec Di (seulement applicable si Di n'est pas inclus dans l'évaluation actuelle)"},null,null,null,{"$f":"lang!A$755","v":"Yes"},null,null,null,{"$f":"lang!A$756","v":"No"},null,null,{"$f":"IF(AND(U18,OR(U13,NOT(U14))),lang!A361,\"\")","v":""},{"$f":"IF(V18=1,\"Y\",IF(V18=2,\"N\",\"\"))","v":""},{"$f":"V18=1","v":false},null,{"$f":"AND(U18,U14, NOT(U13))","v":false},{"$f":"IF(U14,IF(U13,NOT(U18),TRUE),NOT(U18))","v":true},null,"5_0","T"]
[null,null,null,{"$f":"lang!A408","v":"Handling of Pharma products"},{"$f":"lang!B408","v":"Handling of Pharma products"},{"$f":"lang!C408","v":"Umgang mit pharmazeutischen Produkten"},{"$f":"lang!D408","v":"Movimentação de produtos farmacêuticos"},{"$f":"lang!E408","v":"Manutention de produits Pharma"}]
[null,null,{"$f":"IF(W18,\"(*)\",\"\")","v":""},{"$f":"lang!A362","v":"Di Report number"},{"$f":"lang!B362","v":"Di Report number"},{"$f":"lang!C362","v":"Di  Berichtsnummer"},{"$f":"lang!D362","v":"Di relatório número"},{"$f":"lang!E362","v":"numéro de rapport Di "},null,null,null,null,null,null,null,null,null,null,{"$f":"IF(IF(ISERROR(L20),FALSE,AND(LEN(L20)>0,NOT(U18))),lang!A363,\"\")","v":""},null,null,null,{"$f":"OR(AND(ISNUMBER(VALUE(CONCATENATE(MID(L20,1,5),MID(L20,8,2)))),LEN(L20)<10,SUBSTITUTE(L20,\" \",\"\")=L20),LEN(L20)=0)","v":true},{"$f":"OR(AND(LEN(L20)>0,U18),AND(LEN(L20)=0,NOT(U18)))","v":true},{"$f":"IF(ISERROR(L20),TRUE,IF(ISERROR(W20),TRUE,NOT(W20)))","v":false},{"$f":"Z16+1","v":5},"J"]
[]
[null,null,{"$f":"IF(R_ESAD,\"(*)\",\"\")","v":""},{"$f":"lang!A364","v":"Handling of packaged goods (non hazardous) "},{"$f":"lang!B364","v":"Handling of packaged goods (non hazardous) "},{"$f":"lang!C364","v":"Umgang mit verpackten Gütern (Nicht Gefahrgut)"},{"$f":"lang!D364","v":"Movimentação de mercadorias embaladas (não perigosas)"},{"$f":"lang!E364","v":"Manutention de produits non-dangereux emballés  "},null,null,{"$f":"lang!A$755","v":"Yes"},null,null,null,{"$f":"lang!A$756","v":"No"},null,null,null,null,{"$f":"IF(V22=1,\"Y\",IF(V22=2,\"N\",\"\"))","v":""},{"$f":"V22=1","v":false},null,{"$f":"OR(U22,U24,U58)","v":false},{"$f":"OR(NOT(R_ESAD),V22>0)","v":true},null,{"$f":"Z20+1","v":6},"T",{"$f":"IF(W22,1,0)","v":0}]
[]
[null,null,{"$f":"IF(R_ESAD,\"(*)\",\"\")","v":""},{"$f":"lang!A365","v":"Handling of packaged goods (hazardous) "},{"$f":"lang!B365","v":"Handling of packaged goods (hazardous) "},{"$f":"lang!C365","v":"Umgang mit verpackten Gütern (Gefahrgut)"},{"$f":"lang!D365","v":"Movimentação de mercadorias embaladas (perigosas)"},null,null,null,{"$f":"lang!A$755","v":"Yes"},null,null,null,{"$f":"lang!A$756","v":"No"},null,null,null,null,{"$f":"IF(V24=1,\"Y\",IF(V24=2,\"N\",\"\"))","v":""},{"$f":"V24=1","v":false},null,null,{"$f":"OR(NOT(R_ESAD),V24>0)","v":true},null,{"$f":"Z22+1","v":7},"T",{"$f":"IF(U24,1,0)","v":0}]
[]
[null,null,{"$f":"IF(R_ESAD,\"(*)\",\"\")","v":""},{"$f":"lang!A366","v":"Handling of bulk solids"},null,null,null,null,null,null,{"$f":"lang!A$755","v":"Yes"},null,null,null,{"$f":"lang!A$756","v":"No"},null,null,null,null,{"$f":"IF(V26=1,\"Y\",IF(V26=2,\"N\",\"\"))","v":""},{"$f":"V26=1","v":false},null,{"$f":"OR(U26,U27)","v":false},{"$f":"OR(NOT(R_ESAD),V26>0)","v":true},null,{"$f":"Z24+1","v":8},"T",{"$f":"IF(W26,2,0)","v":0}]
[null,null,{"$f":"IF(R_ESAD,\"(*)\",\"\")","v":""},{"$f":"lang!A367","v":"Handling of bulk liquids"},null,null,null,null,null,null,{"$f":"lang!A$755","v":"Yes"},null,null,null,{"$f":"lang!A$756","v":"No"},null,null,null,null,{"$f":"IF(V27=1,\"Y\",IF(V27=2,\"N\",\"\"))","v":""},{"$f":"V27=1","v":false},null,null,{"$f":"OR(NOT(R_ESAD),V27>0)","v":true},null,{"$f":"Z26+1","v":9},"T"]
[null,null,{"$f":"IF(R_ESAD,\"(*)\",\"\")","v":""},{"$f":"lang!A368","v":"Handling of food (contact), feed, cosmetic or/and pharma (F) "},{"$f":"lang!B368","v":"Handling of food (contact), feed, cosmetic or/and pharma (F) "},{"$f":"lang!C368","v":"Umgang mit Nahrungsmitteln (Kontakt), Futtermitteln, Komestika und/oder pharmazeutischen Produkten "},{"$f":"lang!D368","v":"Movimentação em contacto com produtos alimentares, de produtos para alimentação animal, para cosméticos e/ou fármacos (F)"},{"$f":"lang!E368","v":"Manutention de produits alimentaires (contact), de produits alimentaires pour animaux, de produits cosmétqiues et/ou de produits pharmaceutiques (F)  "},null,null,{"$f":"lang!A$755","v":"Yes"},null,null,null,{"$f":"lang!A$756","v":"No"},null,null,null,null,{"$f":"IF(V28=1,\"Y\",IF(V28=2,\"N\",\"\"))","v":""},{"$f":"V28=1","v":false},null,{"$f":"OR(U28)","v":false},{"$f":"OR(NOT(R_ESAD),AND(V28>0,W32))","v":true},null,{"$f":"Z27+1","v":10},"T",{"$f":"IF(W28,4,0)","v":0}]
[]
[null,null,{"$f":"IF(R_ESAD,\"(*)\",\"\")","v":""},{"$f":"lang!A369","v":"Handling of chlorinated solvents (Cs)"},null,null,null,null,null,null,{"$f":"lang!A$755","v":"Yes"},null,null,null,{"$f":"lang!A$756","v":"No"},null,null,null,null,{"$f":"IF(V30=1,\"Y\",IF(V30=2,\"N\",\"\"))","v":""},{"$f":"V30=1","v":false},null,null,{"$f":"OR(NOT(R_ESAD),V30>0)","v":true},null,{"$f":"Z28+1","v":11},"T",{"$f":"IF(U30,2,0)","v":0}]
[]
[null,null,{"$f":"IF(R_ESAD,\"(*)\",\"\")","v":""},{"$f":"lang!A370","v":"Handling of GTDP (G)"},null,null,null,null,null,null,{"$f":"lang!A$755","v":"Yes"},null,null,null,{"$f":"lang!A$756","v":"No"},null,null,null,{"$f":"IF(W32,\"\",lang!A371)","v":""},{"$f":"IF(V32=1,\"Y\",IF(V32=2,\"N\",\"\"))","v":""},{"$f":"V32=1","v":false},null,{"$f":"OR(U28,NOT(U32))","v":true},{"$f":"OR(NOT(R_ESAD),AND(V32>0,W32))","v":true},null,{"$f":"Z30+1","v":12},"T",{"$f":"IF(U32,2,0)","v":0}]
[]
[null,null,"0.5.2",{"$f":"lang!A372","v":"Products"}]
[null,null,null,{"$f":"lang!A373","v":"Class 1 : Explosive substances and articles"},{"$f":"lang!B373","v":"Class 1 : Explosive substances and articles"},{"$f":"lang!C373","v":"Klasse 1: Explosive Stoffe und Gegenstände mit Explosivstoff"},{"$f":"lang!D374","v":"Classe 2 : Gases"},{"$f":"lang!E373","v":"Classe 1 :   Matières et objets explosibles"},{"$f":"lang!F373","v":"Clase 1: Materias y objetos explosivos"},null,{"$f":"lang!A$755","v":"Yes"},null,null,null,{"$f":"lang!A$756","v":"No"},null,null,null,null,{"$f":"IF(V35=1,\"Y\",IF(V35=2,\"N\",\"\"))","v":""},{"$f":"V35=1","v":false},null,null,true,null,14,"T"]
[]
[null,null,null,{"$f":"lang!A374","v":"Class 2 : Gases"},{"$f":"lang!B374","v":"Class 2 : Gases"},{"$f":"lang!C374","v":"Klasse 2: Gase"},{"$f":"lang!D375","v":"Classe 3 : Líquidos inflamáveis"},{"$f":"lang!E374","v":"Class 2 : Gaz"},{"$f":"lang!F374","v":"Clase 2: Gases"},null,{"$f":"lang!A$755","v":"Yes"},null,null,null,{"$f":"lang!A$756","v":"No"},null,null,null,null,{"$f":"IF(V37=1,\"Y\",IF(V37=2,\"N\",\"\"))","v":""},{"$f":"V37=1","v":false},null,null,true,null,{"$f":"Z35+1","v":15},"T"]
[null,null,null,{"$f":"lang!A375","v":"Class 3 : Flammable liquids"},{"$f":"lang!B375","v":"Class 3 : Flammable liquids"},{"$f":"lang!C375","v":"Klasse 3. Entzündbare flüssige Stoffe"},{"$f":"lang!D376","v":"Classe 4.1. : Matérias sólidas inflamáveis,  matérias auto-reactivas e matérias explosivas dessensibilizadas sólidas"},{"$f":"lang!E375","v":"Classe 3 : liquides inflammables"},{"$f":"lang!F375","v":"Clase 3: Líquidos inflamables"},null,{"$f":"lang!A$755","v":"Yes"},null,null,null,{"$f":"lang!A$756","v":"No"},null,null,null,null,{"$f":"IF(V38=1,\"Y\",IF(V38=2,\"N\",\"\"))","v":""},{"$f":"V38=1","v":false},null,null,true,null,{"$f":"Z37+1","v":16},"T"]
[null,null,null,{"$f":"lang!A376","v":"Class 4.1. : Flammable solids,  self-reactive substances and solid desensitized explosives."},{"$f":"lang!B376","v":"Class 4.1. : Flammable solids,  self-reactive substances and solid desensitized explosives."},{"$f":"lang!C376","v":"Klasse 4.1: Entzündbare feste Stoffe, selbstzersetzliche Stoffe und desensibilisierte explosive feste Stoffe"},{"$f":"lang!D377","v":"Classe 4.2. : Matérias espontaneamente inflamáveis"},{"$f":"lang!E376","v":"Class 4.1. : Matières solides inflammables, matières autoréactives et matières solides explosibles désensibilisées"},{"$f":"lang!F376","v":"Clase 4.1: Sólidos inflamables, autoreactivos y explosivos desensibilizados"},null,{"$f":"lang!A$755","v":"Yes"},null,null,null,{"$f":"lang!A$756","v":"No"},null,null,null,null,{"$f":"IF(V39=1,\"Y\",IF(V39=2,\"N\",\"\"))","v":""},{"$f":"V39=1","v":false},null,null,true,null,{"$f":"Z38+1","v":17},"T"]
[null,null,null,{"$f":"lang!A402","v":"Handling of bulk solids"},{"$f":"lang!B402","v":"Handling of bulk solids"},{"$f":"lang!C402","v":"Umgang mit festen Massengütern "},{"$f":"lang!D402","v":"Movimentação de granéis sólidos"},{"$f":"lang!E402","v":"Manutention de solides en vrac "},{"$f":"lang!F402","v":"Manipulación de sólidos a granel"}]
[null,null,null,{"$f":"lang!A377","v":"Class 4.2. : Substances liable for spontaneous combustion"},{"$f":"lang!B377","v":"Class 4.2. : Substances liable for spontaneous combustion"},{"$f":"lang!C377","v":"Klasse 4.2: Selbstentzündliche Stoffe"},{"$f":"lang!D378","v":"Classe 4.3. : Matérias que, em contacto com a àgua, libertem gases inflamáveis"},{"$f":"lang!E377","v":"Class 4.2. : Matières sujettes à l'inflammation spontanée"},{"$f":"lang!F377","v":"Clase 4.2: Materias que reaccionan de forma espontánea"},null,{"$f":"lang!A$755","v":"Yes"},null,null,null,{"$f":"lang!A$756","v":"No"},null,null,null,null,{"$f":"IF(V41=1,\"Y\",IF(V41=2,\"N\",\"\"))","v":""},{"$f":"V41=1","v":false},null,null,true,null,{"$f":"Z39+1","v":18},"T"]
[null,null,null,{"$f":"lang!A403","v":"Handling of food contact products"},{"$f":"lang!B403","v":"Handling of food contact products"},{"$f":"lang!C403","v":"Umgang mit Vorprodukten? Nahrungsmittel"},{"$f":"lang!D403","v":"Movimentação em contacto com produtos alimentares"},{"$f":"lang!E403","v":"Manutention de produits destinés au contact alimentaire "},{"$f":"lang!F403","v":"Manipulación de productos en contacto con alimentos"}]
[null,null,null,{"$f":"lang!A378","v":"Class 4.3. : Substances which in contact with water, emit flammable gases"},{"$f":"lang!B378","v":"Class 4.3. : Substances which in contact with water, emit flammable gases"},{"$f":"lang!C378","v":"Klasse 4.3: Stoffe, die in Berührung mit Wasser entzündbare Gase entwickeln"},{"$f":"lang!D379","v":"Classe 5.1. : Matérias comburentes"},{"$f":"lang!E378","v":"Class 4.3. : Matières qui, au contact de l'eau, dégagent des gaz inflammables"},{"$f":"lang!F378","v":"Clase 4.3: Materias que en contacto con el agua desprenden gases inflamables"},null,{"$f":"lang!A$755","v":"Yes"},null,null,null,{"$f":"lang!A$756","v":"No"},null,null,null,null,{"$f":"IF(V43=1,\"Y\",IF(V43=2,\"N\",\"\"))","v":""},{"$f":"V43=1","v":false},null,null,true,null,{"$f":"Z41+1","v":19},"T"]
[null,null,null,{"$f":"lang!A404","v":"Handling of food products"},{"$f":"lang!B404","v":"Handling of food products"},{"$f":"lang!C404","v":"Umgang mit Nahrungsmittel"},{"$f":"lang!D404","v":"Movimentação de produtos alimentares"},{"$f":"lang!E404","v":"Manutention de produits alimentaires"},{"$f":"lang!F404","v":"Manipulación de productos alimentarios"}]
[null,null,null,{"$f":"lang!A379","v":"Class 5.1. : Oxidizing substances"},{"$f":"lang!B379","v":"Class 5.1. : Oxidizing substances"},{"$f":"lang!C379","v":"Klasse 5.1: Entzündend (oxidierend) wirkende Stoffe"},{"$f":"lang!D380","v":"Classe 5.2. : Peróxidos organicos"},{"$f":"lang!E379","v":"Class 5.1. : Matières comburantes"},{"$f":"lang!F379","v":"Clase 5.1: Materias comburentes"},null,{"$f":"lang!A$755","v":"Yes"},null,null,null,{"$f":"lang!A$756","v":"No"},null,null,null,null,{"$f":"IF(V45=1,\"Y\",IF(V45=2,\"N\",\"\"))","v":""},{"$f":"V45=1","v":false},null,null,true,null,{"$f":"Z43+1","v":20},"T"]
[null,null,null,{"$f":"lang!A380","v":"Class 5.2. : Organic peroxides"},{"$f":"lang!B380","v":"Class 5.2. : Organic peroxides"},{"$f":"lang!C380","v":"Klasse 5.2: Organische Peroxide"},{"$f":"lang!D381","v":"Classe 6.1. : Matérias toxicas"},{"$f":"lang!E380","v":"Class 5.2. : Peroxydes organiques"},{"$f":"lang!F380","v":"Clase 5.2: Peróxidos Orgánicos"},null,{"$f":"lang!A$755","v":"Yes"},null,null,null,{"$f":"lang!A$756","v":"No"},null,null,null,null,"",false,null,null,true,null,{"$f":"Z45+1","v":21},"T"]
[null,null,null,{"$f":"lang!A381","v":"Class 6.1. : Toxic substances"},{"$f":"lang!B381","v":"Class 6.1. : Toxic substances"},{"$f":"lang!C381","v":"Klasse 6.1: Giftige Stoffe"},{"$f":"lang!D382","v":"Classe 6.2. : Matérias infecciosas"},{"$f":"lang!E381","v":"Class 6.1. : Matières toxiques"},{"$f":"lang!F381","v":"Clase 6.1: Sustancias tóxicas"},null,{"$f":"lang!A$755","v":"Yes"},null,null,null,{"$f":"lang!A$756","v":"No"},null,null,null,null,"",false,null,null,true,null,22,"T"]
[null,null,null,{"$f":"lang!A382","v":"Class 6.2. : Infectious substances"},{"$f":"lang!B382","v":"Class 6.2. : Infectious substances"},{"$f":"lang!C382","v":"Klasse 6.2: Ansteckungsgefährliche Stoffe"},{"$f":"lang!D383","v":"Classe 7 : Matérias radioactivas"},{"$f":"lang!E382","v":"Class 6.2. : Matières infectieuses"},{"$f":"lang!F382","v":"Clase 6.2: Sustancias infecciosas"},null,{"$f":"lang!A$755","v":"Yes"},null,null,null,{"$f":"lang!A$756","v":"No"},null,null,null,null,"",false,null,null,true,null,23,"T"]
[null,null,null,{"$f":"lang!A383","v":"Class 7 : Radioactive material"},{"$f":"lang!B383","v":"Class 7 : Radioactive material"},{"$f":"lang!C383","v":"Klasse 7: Radioaktive Stoffe"},{"$f":"lang!D384","v":"Classe 8 : Matérias corrosivas"},{"$f":"lang!E383","v":"Class 7 : Matières radioactives"},{"$f":"lang!F383","v":"Clase 7: Materias radiactivas"},null,{"$f":"lang!A$755","v":"Yes"},null,null,null,{"$f":"lang!A$756","v":"No"},null,null,null,null,"",false,null,null,true,null,24,"T"]
[null,null,null,{"$f":"lang!A384","v":"Class 8 : Corrosive substances"},{"$f":"lang!B384","v":"Class 8 : Corrosive substances"},{"$f":"lang!C384","v":"Klasse 8: Ätzende Stoffe"},{"$f":"lang!D385","v":"Classe 9 : Matérias e objectos perigosos"},{"$f":"lang!E384","v":"Class 8 : Matières corrosives"},{"$f":"lang!F384","v":"Clase 8: Sustancias corrosivas"},null,{"$f":"lang!A$755","v":"Yes"},null,null,null,{"$f":"lang!A$756","v":"No"},null,null,null,null,"",false,null,null,true,null,25,"T"]
[null,null,null,{"$f":"lang!A385","v":"Class 9 : Miscellaneous dangerous substances and\narticles"},{"$f":"lang!B385","v":"Class 9 : Miscellaneous dangerous substances and\narticles"},{"$f":"lang!C385","v":"Klasse 9: Verschiedene gefährliche Stoffe und Gegenstände"},{"$f":"lang!D386","v":"A empresa movimenta/transporta MPAR - mercadorias perigosas de alto risco (ADR 1.10)?"},{"$f":"lang!E385","v":"Class 9 : Matières et objets dangereux divers"},{"$f":"lang!F385","v":"Clase 9: Materias y objetos con riesgos diversos"},null,{"$f":"lang!A$755","v":"Yes"},null,null,null,{"$f":"lang!A$756","v":"No"},null,null,null,null,"",false,null,null,true,null,26,"T"]
[]
[null,null,null,{"$f":"lang!A386","v":"Does the company handle/transport HCDG goods (ADR 1.10)?"},{"$f":"lang!B386","v":"Does the company handle/transport HCDG goods (ADR 1.10)?"},{"$f":"lang!C386","v":"Das Unternehmen hantiert mit / transportiert HCDG Güter (ADR 1.10)?"},{"$f":"lang!#REF!","v":{"$error":"#REF!"}},{"$f":"lang!E386","v":"La société manutentionne-t-elle ou transporte-t-elle des marchandises dangereuses à haut risque MDHR (ADR 1.10)?"},{"$f":"lang!F386","v":"¿La empresa manipula/transporta mercancía peligrosa de alto riesgo (1.10 ADR)?"},null,{"$f":"lang!A$755","v":"Yes"},null,null,null,{"$f":"lang!A$756","v":"No"},null,null,null,null,{"$f":"IF(V53=1,\"Y\",IF(V53=2,\"N\",\"\"))","v":""},{"$f":"V53=1","v":false},null,null,true,null,{"$f":"Z51+1","v":27},"T"]
[null,null,null,{"$f":"lang!A406","v":"The company chooses to be assessed against the Food(contact) & Feed chapter"},{"$f":"lang!B406","v":"The company chooses to be assessed against the Food(contact) & Feed chapter"},{"$f":"lang!C406","v":"Das Unternehmen hat beschlossen sich nach den Kapitel Nahrungsmittel (Kontakt) & Futtermittel bewerten zu lassen"},{"$f":"lang!D406","v":"A empresa decidiu ser avaliada pelo Capítulo - Alimentares e Contacto com Alimentos"},{"$f":"lang!E406","v":"La société choisit d'être évaluée selon les chapitres relatifs au contact avec des produits alimentaires et à l'alimentation animale"},{"$f":"lang!F406","v":"La compañía elige ser evaluada contra el capítulo Productos en contacto con Alimentos y Alimentos para animales"}]
[null,null,"0.5.3",{"$f":"lang!A387","v":"Activities"}]
[null,null,{"$f":"IF(R_ESAD,\"(*)\",\"\")","v":""},{"$f":"lang!A388","v":"Drum/IBC filling line "},null,null,null,null,null,null,{"$f":"lang!A$755","v":"Yes"},null,null,null,{"$f":"lang!A$756","v":"No"},null,null,null,null,{"$f":"IF(V56=1,\"Y\",IF(V56=2,\"N\",\"\"))","v":""},{"$f":"V56=1","v":false},null,{"$f":"OR(U56,U57)","v":false},{"$f":"OR(NOT(R_ESAD),V56>0)","v":true},null,{"$f":"Z53+2","v":29},"T",{"$f":"IF(W56,2,0)","v":0}]
[null,null,{"$f":"IF(R_ESAD,\"(*)\",\"\")","v":""},{"$f":"lang!A389","v":"Blending/mixing"},null,null,null,null,null,null,{"$f":"lang!A$755","v":"Yes"},null,null,null,{"$f":"lang!A$756","v":"No"},null,null,null,null,{"$f":"IF(V57=1,\"Y\",IF(V57=2,\"N\",\"\"))","v":""},{"$f":"V57=1","v":false},null,null,{"$f":"OR(NOT(R_ESAD),V57>0)","v":true},null,{"$f":"Z56+1","v":30},"T"]
[null,null,null,{"$f":"lang!A390","v":"Packaging"},null,null,null,null,null,null,{"$f":"lang!A$755","v":"Yes"},null,null,null,{"$f":"lang!A$756","v":"No"},null,null,null,null,{"$f":"IF(V58=1,\"Y\",IF(V58=2,\"N\",\"\"))","v":""},{"$f":"V58=1","v":false},null,null,true,null,{"$f":"Z57+1","v":31},"T"]
[null,null,null,null,null,null,null,null,null,null,null,null,null,null,null,null,null,null,null,null,null,null,null,null,null,null,"T"]
[null,null,"0.5.4",{"$f":"lang!A391","v":"Type of operators"}]
[null,null,{"$f":"IF(IF(ISERROR(X61),FALSE,AND(R_ESAD,NOT(X61))),\"(*)\",\"\")","v":""},{"$f":"lang!A392","v":"Own company operators"},{"$f":"lang!B392","v":"Own company operators"},{"$f":"lang!C392","v":"Eigene Beschäftigte"},{"$f":"lang!D392","v":"Trabalhadores/operadores da empresa"},{"$f":"lang!E392","v":"Opérateurs appartenant à la société "},null,null,{"$f":"lang!A$755","v":"Yes"},null,null,null,{"$f":"lang!A$756","v":"No"},null,null,null,null,{"$f":"IF(V61=1,\"Y\",IF(V61=2,\"N\",\"\"))","v":""},{"$f":"V61=1","v":false},null,null,{"$f":"NOT(AND(LEN(K62)>0,NOT(U61)))","v":true},null,33,"T"]
[null,null,{"$f":"IF(AND(R_ESAD,U61),\"(*)\",\"\")","v":""},{"$f":"lang!A393","v":"Number of own operators"},{"$f":"lang!B393","v":"Number of own operators"},{"$f":"lang!C393","v":"Anzahl eigene Beschäftigte"},{"$f":"lang!D393","v":"Número de operadores/trabalhadores próprios"},{"$f":"lang!E393","v":"Nombre d'opérateurs appartenant à la société"},null,null,null,null,null,null,null,null,null,{"$f":"IF(IF(ISERROR(K62),FALSE,AND(LEN(K62)>0,NOT(U61))),lang!A282,\"\")","v":""},null,null,null,null,{"$f":"OR(LEN(K62)=0,ISNUMBER(VALUE(K62)))","v":true},{"$f":"OR(AND(LEN(K62)>0,U61),AND(LEN(K62)=0,NOT(U61)))","v":true},{"$f":"IF(ISERROR(K62),TRUE,IF(ISERROR(W62),TRUE,NOT(W62)))","v":false},{"$f":"Z61+1","v":34},"K"]
[]
[null,null,{"$f":"IF(IF(ISERROR(X64),FALSE,AND(R_ESAD,NOT(X64))),\"(*)\",\"\")","v":""},{"$f":"lang!A394","v":"Temporary operators"},null,null,null,null,null,null,{"$f":"lang!A$755","v":"Yes"},null,null,null,{"$f":"lang!A$756","v":"No"},null,null,null,null,{"$f":"IF(V64=1,\"Y\",IF(V64=2,\"N\",\"\"))","v":""},{"$f":"V64=1","v":false},null,null,{"$f":"NOT(AND(LEN(K65)>0,NOT(U64)))","v":true},null,{"$f":"Z62+1","v":35},"T"]
[null,null,{"$f":"IF(AND(R_ESAD,U64),\"(*)\",\"\")","v":""},{"$f":"lang!A395","v":"Average of temporary operators"},{"$f":"lang!B395","v":"Average of temporary operators"},{"$f":"lang!C395","v":"Durchschnitt Leiharbeiter"},{"$f":"lang!D395","v":"Número médio de operadores em trabalho temporário"},{"$f":"lang!E395","v":"Nombre d'opérateurs temporaires"},null,null,null,null,null,null,null,null,null,{"$f":"IF(IF(ISERROR(K65),FALSE,AND(LEN(K65)>0,NOT(U64))),lang!A285,\"\")","v":""},null,null,null,null,{"$f":"OR(LEN(K65)=0,ISNUMBER(VALUE(K65)))","v":true},{"$f":"OR(AND(LEN(K65)>0,U64),AND(LEN(K65)=0,NOT(U64)))","v":true},{"$f":"IF(ISERROR(K65),TRUE,IF(ISERROR(W65),TRUE,NOT(W65)))","v":false},{"$f":"Z64+1","v":36},"K"]
[]
[null,null,{"$f":"IF(R_ESAD,\"(*)\",\"\")","v":""},{"$f":"lang!A396","v":"Number of office employees"},{"$f":"lang!B396","v":"Number of office employees"},{"$f":"lang!C396","v":"Anzahl Büroangestellte"},{"$f":"lang!D396","v":"Número de trabalhadores da área administrativa"},{"$f":"lang!E396","v":"Nombre d'employés de bureau"},null,null,null,null,null,null,null,null,null,null,null,null,null,null,{"$f":"OR(LEN(J67)=0,ISNUMBER(VALUE(J67)))","v":true},{"$f":"OR(NOT(R_ESAD),LEN(J67)>0)","v":true},{"$f":"IF(ISERROR(J67),TRUE,IF(ISERROR(W67),TRUE,NOT(W67)))","v":false},{"$f":"Z65+1","v":37},"J"]
[]
[null,null,{"$f":"IF(R_ESAD,\"(*)\",\"\")","v":""},{"$f":"lang!A397","v":"Total number of employees"},{"$f":"lang!B397","v":"Total number of employees"},{"$f":"lang!C397","v":"Anzahl Angestellte"},{"$f":"lang!D397","v":"Número de trabalhadores da empresa"},{"$f":"lang!E397","v":"Nombre d'employés"},null,null,null,null,null,null,null,null,null,null,null,null,null,null,{"$f":"OR(LEN(J69)=0,ISNUMBER(VALUE(J69)))","v":true},{"$f":"OR(NOT(R_ESAD),LEN(J69)>0)","v":true},{"$f":"IF(ISERROR(J69),TRUE,IF(ISERROR(W69),TRUE,NOT(W69)))","v":false},{"$f":"Z67+1","v":38},"J"]
[null,null,null,null,null,null,null,null,null,null,null,null,null,null,null,null,null,null,null,"end"]
[null,{"$f":"Status!$K$12","v":"Please check the next sheet (Status)"}]
[null,{"$f":"HYPERLINK(Status!$L$12,Status!$K$12)","v":"Please check the next sheet (Status)"}]

{"sheet":"Warehouse","index":4,"n_rows":47,"n_cols":28,"rows_kept":47,"cut":false,"hidden":false,"merged":[[46,1,46,18],[0,5,0,13],[1,5,1,13],[2,5,2,13],[4,0,4,17],[43,3,43,7],[41,3,41,7],[39,3,39,7],[45,1,45,15],[39,10,39,12],[18,10,18,12],[18,14,18,16],[12,10,12,12],[12,14,12,16],[14,10,14,12],[14,14,14,16],[36,3,37,8],[35,3,35,7],[27,3,28,8],[23,3,24,8],[21,3,22,8],[18,3,18,8],[20,3,20,8],[26,3,26,8],[25,3,25,8],[12,3,13,8],[14,3,15,8],[16,3,17,8],[19,3,19,8],[20,14,20,16],[19,10,19,12],[19,14,19,16],[20,10,20,12],[16,10,16,12],[16,14,16,16],[27,10,27,12],[27,14,27,16],[21,11,21,13],[21,15,21,16],[23,10,23,12],[23,14,23,16],[25,10,25,12],[25,14,25,16],[8,0,8,17],[5,0,5,17],[6,0,6,17],[7,0,7,17],[41,9,41,10],[38,14,38,16],[30,10,30,12],[30,14,30,16],[31,10,31,12],[31,14,31,16],[32,10,32,12],[32,14,32,16],[29,10,29,12],[29,14,29,16],[26,10,26,12],[26,14,26,16],[43,9,43,10],[35,10,35,12],[35,14,35,16],[36,10,36,12],[38,10,38,12]]}
[null,null,null,null,null,{"$f":"IF(X1,lang!A30,lang!A31)","v":"This sheet doesn't need to be answered"},null,null,null,null,null,null,null,null,null,null,null,null,null,null,null,null,null,{"$f":"'General Information'!U117","v":false},{"$f":"IF(R_WH,AB10,0)","v":0}]
[null,null,null,null,null,{"$f":"IF(X1,IF(Y2,lang!A32,IF(X2,lang!A33,lang!A34)),\"\")","v":""},null,null,null,null,null,null,null,null,null,null,null,null,null,null,null,null,null,{"$f":"X10","v":false},{"$f":"Y10","v":false}]
[null,null,null,null,null,{"$f":"IF(Y3,lang!A35,IF(X3,lang!A36,lang!A37))","v":"The document is not yet completed"},null,null,null,null,null,null,null,null,null,null,null,null,null,null,null,null,null,{"$f":"NOT(Status!F20)","v":false},{"$f":"Status!G20","v":false}]
[]
["Gulf SQAS 2025"]
[{"$f":"lang!A40","v":"ASSESSMENT INFORMATION AND SCOPE - Part I"}]
[{"$f":"lang!A14","v":"Warehouse - GI"}]
[{"$f":"lang!A42","v":"(Items marked with a (*) and/or magenta background must always be completed)"}]
[{"$f":"lang!A43","v":"(For checkboxes \"checked\" means \"Yes\", \"unchecked\" - \"No\")"}]
[null,null,null,null,null,null,null,null,null,null,null,null,null,null,null,null,null,null,null,null,null,null,null,{"$f":"AND(X12:X55)","v":false},{"$f":"(OR(Y12:Y55))","v":false},null,null,{"$f":"SUM(AB12:AB55)","v":8}]
[null,null,"0.6.1",{"$f":"lang!A399","v":"Activities"},null,null,null,null,null,null,null,null,null,null,null,null,null,null,null,"value","raw",null,"Validation","Mand OK","Error"]
[]
[null,null,{"$f":"IF(R_WH,\"(*)\",\"\")","v":""},{"$f":"lang!A400","v":"Handling of packaged goods (non hazardous) "},{"$f":"lang!B400","v":"Handling of packaged goods (non hazardous) "},{"$f":"lang!C400","v":"Umgang mit verpackten Güter (Nicht Gefahrgut)"},{"$f":"lang!D400","v":"Movimentação de mercadorias embaladas (não perigosas)"},null,null,null,{"$f":"lang!A$755","v":"Yes"},null,null,null,{"$f":"lang!A$756","v":"No"},null,null,null,null,{"$f":"IF(V13=1,\"Y\",IF(V13=2,\"N\",\"\"))","v":"Y"},{"$f":"V13=1","v":true},1,{"$f":"OR(U13,U15)","v":true},{"$f":"OR(NOT(R_WH),V13>0)","v":true},null,"2","T",{"$f":"IF(W13,2,0)","v":2}]
[]
[null,null,{"$f":"IF(R_WH,\"(*)\",\"\")","v":""},{"$f":"lang!A401","v":"Handling of packaged goods (hazardous) "},{"$f":"lang!B401","v":"Handling of packaged goods (hazardous) "},{"$f":"lang!C401","v":"Umgang mit verpackten Güter (Gefahrgut)"},{"$f":"lang!D401","v":"Movimentação de mercadorias embaladas (perigosas)"},null,null,null,{"$f":"lang!A$755","v":"Yes"},null,null,null,{"$f":"lang!A$756","v":"No"},null,null,null,null,{"$f":"IF(V15=1,\"Y\",IF(V15=2,\"N\",\"\"))","v":"Y"},{"$f":"V15=1","v":true},1,null,{"$f":"OR(NOT(R_WH),V15>0)","v":true},null,{"$f":"Z13+1","v":3},"T",{"$f":"IF(U15,2,0)","v":2}]
[]
[null,null,{"$f":"IF(R_WH,\"(*)\",\"\")","v":""},{"$f":"lang!A402","v":"Handling of bulk solids"},null,null,null,null,null,null,{"$f":"lang!A$755","v":"Yes"},null,null,null,{"$f":"lang!A$756","v":"No"},null,null,null,null,{"$f":"IF(V17=1,\"Y\",IF(V17=2,\"N\",\"\"))","v":"Y"},{"$f":"V17=1","v":true},1,null,{"$f":"OR(NOT(R_WH),V17>0)","v":true},null,{"$f":"Z15+1","v":4},"T",{"$f":"IF(U17,2,0)","v":2}]
[]
[null,null,null,{"$f":"lang!A403","v":"Handling of food contact products"},null,null,null,null,null,null,{"$f":"lang!A$755","v":"Yes"},null,null,null,{"$f":"lang!A$756","v":"No"},null,null,null,null,{"$f":"IF(V19=1,\"Y\",IF(V19=2,\"N\",\"\"))","v":"N"},{"$f":"V19=1","v":false},2,{"$f":"OR(U19:U21)","v":false},{"$f":"W22","v":true},null,{"$f":"Z17+1","v":5},"T"]
[null,null,null,{"$f":"lang!A404","v":"Handling of food products"},{"$f":"lang!B404","v":"Handling of food products"},{"$f":"lang!C404","v":"Umgang mit Nahrungsmittel"},{"$f":"lang!D404","v":"Movimentação de produtos alimentares"},{"$f":"lang!E404","v":"Manutention de produits alimentaires"},null,null,{"$f":"lang!A$755","v":"Yes"},null,null,null,{"$f":"lang!A$756","v":"No"},null,null,null,null,"N",false,2,null,{"$f":"W22","v":true},null,{"$f":"Z19+1","v":6},"T"]
[null,null,null,{"$f":"lang!A405","v":"Handling of feed products"},{"$f":"lang!B405","v":"Handling of feed products"},{"$f":"lang!C405","v":"Umgang mit Futtermitteln"},{"$f":"lang!D405","v":"Movimentação de produtos para alimentação animal"},{"$f":"lang!E405","v":"Manutention de produits alimentaires pour animaux"},null,null,{"$f":"lang!A$755","v":"Yes"},null,null,null,{"$f":"lang!A$756","v":"No"},null,null,null,null,"N",false,2,null,{"$f":"W22","v":true},null,{"$f":"Z20+1","v":7},"T"]
[null,null,{"$f":"IF(R_WH,\"(*)\",\"\")","v":""},{"$f":"lang!A406","v":"The company chooses to be assessed against the Food(contact) & Feed chapter"},{"$f":"lang!B406","v":"The company chooses to be assessed against the Food(contact) & Feed chapter"},{"$f":"lang!C406","v":"Das Unternehmen hat beschlossen sich nach den Kapitel Nahrungsmittel (Kontakt) & Futtermittel bewerten zu lassen"},{"$f":"lang!D406","v":"A empresa decidiu ser avaliada pelo Capítulo - Alimentares e Contacto com Alimentos"},null,null,null,null,{"$f":"lang!A$755","v":"Yes"},null,null,null,{"$f":"lang!A$756","v":"No"},null,null,{"$f":"IF(W22,\"\",lang!A256)","v":""},"N",false,2,{"$f":"OR(W19,NOT(U22))","v":true},{"$f":"AND(OR(NOT(R_WH),V22>0),W22)","v":true},null,8,"T",{"$f":"IF(U22,2,0)","v":0}]
[]
[null,null,null,{"$f":"lang!A407","v":"Handling of chlorinated solvents"},null,null,null,null,null,null,{"$f":"lang!A$755","v":"Yes"},null,null,null,{"$f":"lang!A$756","v":"No"},null,null,null,null,"N",false,2,null,true,null,{"$f":"Z22+1","v":9},"T"]
[]
[null,null,null,{"$f":"lang!A408","v":"Handling of Pharma products"},{"$f":"lang!B408","v":"Handling of Pharma products"},{"$f":"lang!C408","v":"Umgang mit pharmazeutischen Produkten"},{"$f":"lang!D408","v":"Movimentação de produtos farmacêuticos"},{"$f":"lang!E408","v":"Manutention de produits Pharma"},{"$f":"lang!F408","v":"Carga de productos farmaceúticos"},null,{"$f":"lang!A$755","v":"Yes"},null,null,null,{"$f":"lang!A$756","v":"No"},null,null,null,null,"N",false,2,null,true,null,{"$f":"Z24+1","v":10},"T"]
[null,null,null,{"$f":"lang!A409","v":"Handling of Cosmetic products"},{"$f":"lang!B409","v":"Handling of Cosmetic products"},{"$f":"lang!C409","v":"Umgang mit kosmetischen Produkten"},{"$f":"lang!D409","v":"Movimentação de produtos cosméticos"},{"$f":"lang!E409","v":"Manutention de produits cosmétiques"},{"$f":"lang!F409","v":"Carga de productos cosméticos"},null,{"$f":"lang!A$755","v":"Yes"},null,null,null,{"$f":"lang!A$756","v":"No"},null,null,null,null,"N",false,2,null,true,null,11,"T"]
[null,null,null,{"$f":"lang!A410","v":"Alergen free business"},null,null,null,null,null,null,{"$f":"lang!A$755","v":"Yes"},null,null,null,{"$f":"lang!A$756","v":"No"},null,null,null,null,"N",false,2,null,true,null,12,"T"]
[]
[null,null,{"$f":"IF(R_WH,\"(*)\",\"\")","v":""},{"$f":"lang!A411","v":"Shuttle service"},null,null,null,null,null,null,{"$f":"lang!A$755","v":"Yes"},null,null,null,{"$f":"lang!A$756","v":"No"},null,null,null,null,"N",false,2,null,{"$f":"OR(NOT(R_WH),V30>0)","v":true},null,{"$f":"Z28+1","v":13},"T",{"$f":"IF(U30,0.5,0)","v":0}]
[null,null,{"$f":"IF(R_WH,\"(*)\",\"\")","v":""},{"$f":"lang!A412","v":"Drum/IBC filling line "},null,null,null,null,null,null,{"$f":"lang!A$755","v":"Yes"},null,null,null,{"$f":"lang!A$756","v":"No"},null,null,null,null,"Y",true,1,{"$f":"OR(U31,U32)","v":true},{"$f":"OR(NOT(R_WH),V31>0)","v":true},null,14,"T",{"$f":"IF(W31,2,0)","v":2}]
[null,null,{"$f":"IF(R_WH,\"(*)\",\"\")","v":""},{"$f":"lang!A413","v":"Blending/mixing"},null,null,null,null,null,null,{"$f":"lang!A$755","v":"Yes"},null,null,null,{"$f":"lang!A$756","v":"No"},null,null,null,null,"N",false,2,null,{"$f":"OR(NOT(R_WH),V32>0)","v":true},null,15,"T"]
[null,null,null,{"$f":"lang!A414","v":"Packaging"},null,null,null,null,null,null,{"$f":"lang!A$755","v":"Yes"},null,null,null,{"$f":"lang!A$756","v":"No"},null,null,null,null,"Y",true,1,null,true,null,16,"T"]
[]
[null,null,"0.6.2",{"$f":"lang!A415","v":"Type of operators"}]
[null,null,{"$f":"IF(R_WH,\"(*)\",\"\")","v":""},{"$f":"lang!A416","v":"Own company operators"},{"$f":"lang!B416","v":"Own company operators"},{"$f":"lang!C416","v":"Eigene Beschäftigte"},{"$f":"lang!D416","v":"Trabalhadores/operadores da empresa"},{"$f":"lang!E416","v":"Opérateurs appartenant à la société "},null,null,{"$f":"lang!A$755","v":"Yes"},null,null,null,{"$f":"lang!A$756","v":"No"},null,null,null,null,{"$f":"IF(V36=1,\"Y\",IF(V36=2,\"N\",\"\"))","v":"Y"},{"$f":"V36=1","v":true},1,null,{"$f":"AND(OR(NOT(R_WH),V36>0),NOT(AND(LEN(K37)>0,NOT(U36))))","v":true},null,{"$f":"Z33+1","v":17},"T",{"$f":"IF(U36,0,-1)","v":0}]
[null,null,{"$f":"IF(U36,\"(*)\",\"\")","v":"(*)"},{"$f":"lang!A417","v":"Number of own operators"},{"$f":"lang!B417","v":"Number of own operators"},{"$f":"lang!C417","v":"Anzahl eigene Beschäftigte"},{"$f":"lang!D417","v":"Número de operadores/trabalhadores próprios"},{"$f":"lang!E417","v":"Nombre d'opérateurs appartenant à la société"},null,null,null,null,null,null,null,null,null,{"$f":"IF(IF(ISERROR(K37),FALSE,AND(LEN(K37)>0,NOT(U36))),lang!A282,\"\")","v":""},null,null,null,null,{"$f":"OR(LEN(K37)=0,ISNUMBER(VALUE(K37)))","v":true},{"$f":"OR(AND(LEN(K37)>0,U36),AND(LEN(K37)=0,NOT(U36)))","v":false},{"$f":"IF(ISERROR(K37),TRUE,IF(ISERROR(W37),TRUE,NOT(W37)))","v":false},{"$f":"Z36+1","v":18},"K"]
[]
[null,null,null,{"$f":"lang!A418","v":"Temporary operators"},null,null,null,null,null,null,{"$f":"lang!A$755","v":"Yes"},null,null,null,{"$f":"lang!A$756","v":"No"},null,null,null,null,{"$f":"IF(V39=1,\"Y\",IF(V39=2,\"N\",\"\"))","v":"Y"},{"$f":"V39=1","v":true},1,null,{"$f":"NOT(AND(LEN(K40)>0,NOT(U39)))","v":true},null,{"$f":"Z37+1","v":19},"T"]
[null,null,{"$f":"IF(U39,\"(*)\",\"\")","v":"(*)"},{"$f":"lang!A419","v":"Average of temporary operators"},{"$f":"lang!B419","v":"Average of temporary operators"},{"$f":"lang!C419","v":"Durchschnitt Leiharbeiter"},{"$f":"lang!D419","v":"Número médio de operadores em trabalho temporário"},{"$f":"lang!E419","v":"Nombre d'opérateurs temporaires"},null,null,null,null,null,null,null,null,null,{"$f":"IF(IF(ISERROR(K40),FALSE,AND(LEN(K40)>0,NOT(U39))),lang!A285,\"\")","v":""},null,null,null,null,{"$f":"OR(LEN(K40)=0,ISNUMBER(VALUE(K40)))","v":true},{"$f":"OR(AND(LEN(K40)>0,U39),AND(LEN(K40)=0,NOT(U39)))","v":false},{"$f":"IF(ISERROR(K40),TRUE,IF(ISERROR(W40),TRUE,NOT(W40)))","v":false},{"$f":"Z39+1","v":20},"K"]
[]
[null,null,{"$f":"IF(R_WH,\"(*)\",\"\")","v":""},{"$f":"lang!A421","v":"Number of office employees"},{"$f":"lang!B421","v":"Number of office employees"},{"$f":"lang!C421","v":"Anzahl Büroangestellte"},{"$f":"lang!D421","v":"Número de trabalhadores da área administrativa"},{"$f":"lang!E421","v":"Nombre d'employés de bureau"},null,null,null,null,null,null,null,null,null,null,null,null,null,null,{"$f":"OR(LEN(J42)=0,ISNUMBER(VALUE(J42)))","v":true},{"$f":"OR(NOT(R_WH),LEN(J42)>0)","v":true},{"$f":"IF(ISERROR(J42),TRUE,IF(ISERROR(W42),TRUE,NOT(W42)))","v":false},{"$f":"Z40+1","v":21},"J"]
[]
[null,null,{"$f":"IF(R_WH,\"(*)\",\"\")","v":""},{"$f":"lang!A422","v":"Number of employees"},{"$f":"lang!B422","v":"Number of employees"},{"$f":"lang!C422","v":"Anzahl Angestellte"},{"$f":"lang!D422","v":"Número de trabalhadores da empresa"},{"$f":"lang!E422","v":"Nombre d'employés"},null,null,null,null,null,null,null,null,null,null,null,null,null,null,{"$f":"OR(LEN(J44)=0,ISNUMBER(VALUE(J44)))","v":true},{"$f":"OR(NOT(R_WH),LEN(J44)>0)","v":true},{"$f":"IF(ISERROR(J44),TRUE,IF(ISERROR(W44),TRUE,NOT(W44)))","v":false},{"$f":"Z42+1","v":22},"J"]
[null,null,null,null,null,null,null,null,null,null,null,null,null,null,null,null,null,null,null,"end"]
[null,{"$f":"Status!$K$13","v":"Please check the next sheet (Status)"}]
[null,{"$f":"HYPERLINK(Status!$L$13,Status!$K$13)","v":"Please check the next sheet (Status)"}]

{"sheet":"WH - II(1)","index":5,"n_rows":584,"n_cols":28,"rows_kept":584,"cut":false,"hidden":false,"merged":[[579,3,579,11],[577,1,579,1],[540,3,540,11],[545,3,545,11],[549,3,549,11],[518,3,518,11],[534,3,534,11],[522,3,522,11],[526,3,526,11],[530,3,530,11],[532,1,534,1],[538,1,540,1],[543,1,545,1],[547,1,549,1],[551,1,553,1],[555,1,557,1],[559,1,561,1],[565,1,567,1],[569,1,571,1],[582,1,582,15],[583,1,583,15],[26,1,27,11],[571,3,571,11],[575,3,575,11],[573,1,575,1],[553,3,553,11],[557,3,557,11],[561,3,561,11],[567,3,567,11],[499,3,499,11],[503,3,503,11],[507,3,507,11],[513,3,513,11],[491,3,491,11],[483,3,483,11],[487,3,487,11],[393,3,393,11],[398,3,398,11],[402,3,402,11],[406,3,406,11],[376,3,376,11],[381,3,381,11],[385,3,385,11],[4,0,4,11],[477,1,479,1],[473,1,475,1],[479,3,479,11],[444,3,444,11],[448,3,448,11],[5,0,5,11],[6,0,6,11],[7,0,7,11],[8,0,8,11],[461,3,461,11],[465,3,465,11],[469,3,469,11],[475,3,475,11],[453,3,453,11],[457,3,457,11],[427,3,427,11],[431,3,431,11],[436,3,436,11],[440,3,440,11],[410,3,410,11],[415,3,415,11],[419,3,419,11],[423,3,423,11],[389,3,389,11],[364,3,364,11],[368,3,368,11],[372,3,372,11],[347,3,347,11],[351,3,351,11],[355,3,355,11],[359,3,359,11],[328,3,328,11],[332,3,332,11],[336,3,336,11],[343,3,343,11],[313,3,313,11],[317,3,317,11],[321,3,321,11],[303,3,303,11],[261,1,264,1],[265,1,267,1],[269,1,271,1],[273,1,276,1],[281,1,284,1],[289,1,292,1],[287,3,287,11],[291,3,291,11],[295,3,295,11],[309,3,309,11],[299,3,299,11],[285,1,288,1],[271,3,271,11],[275,3,275,11],[279,3,279,11],[283,3,283,11],[315,1,317,1],[319,1,321,1],[301,1,303,1],[307,1,310,1],[255,1,259,1],[263,3,263,11],[257,3,257,11],[267,3,267,11],[277,1,280,1],[235,3,235,11],[241,3,241,11],[233,1,236,1],[253,3,253,11],[251,1,254,1],[243,1,245,1],[247,1,249,1],[239,1,242,1],[245,3,245,11],[249,3,249,11],[211,3,211,11],[209,1,212,1],[222,3,222,11],[227,3,227,11],[231,3,231,11],[220,1,223,1],[199,3,199,11],[201,3,201,11],[203,3,203,11],[207,3,207,11],[198,1,199,1],[200,1,201,1],[202,1,203,1],[205,1,207,1],[225,1,228,1],[229,1,232,1],[185,3,185,11],[183,1,185,1],[192,3,192,11],[196,3,196,11],[190,1,192,1],[194,1,196,1],[177,3,177,11],[181,3,181,11],[175,1,177,1],[179,1,181,1],[165,3,165,11],[169,3,169,11],[173,3,173,11],[167,1,169,1],[171,1,173,1],[145,3,145,11],[149,3,149,11],[153,3,153,11],[157,3,157,11],[140,3,140,11],[116,3,116,11],[120,3,120,11],[124,3,124,11],[96,3,96,11],[100,3,100,11],[104,3,104,11],[108,3,108,11],[161,3,161,11],[311,1,313,1],[32,3,32,11],[36,3,36,11],[40,3,40,11],[44,3,44,11],[48,3,48,11],[112,3,112,11],[56,3,56,11],[60,3,60,11],[64,3,64,11],[293,1,296,1],[297,1,299,1],[81,1,83,1],[85,1,87,1],[90,1,92,1],[88,1,88,11],[68,3,68,11],[30,1,32,1],[34,1,36,1],[38,1,40,1],[42,1,44,1],[128,3,128,11],[132,3,132,11],[136,3,136,11],[9,1,9,11],[19,3,19,11],[21,3,21,11],[23,3,23,11],[10,1,10,11],[14,3,14,11],[15,3,15,11],[17,3,17,11],[11,1,11,11],[13,1,13,11],[25,1,25,11],[46,1,48,1],[50,1,52,1],[62,1,64,1],[72,1,74,1],[54,1,57,1],[77,1,79,1],[92,3,92,11],[79,3,79,11],[83,3,83,11],[87,3,87,11],[52,3,52,11],[58,1,60,1],[66,1,68,1],[74,3,74,11],[94,1,96,1],[98,1,100,1],[102,1,104,1],[106,1,108,1],[110,1,112,1],[114,1,116,1],[118,1,120,1],[122,1,124,1],[126,1,128,1],[130,1,132,1],[134,1,136,1],[138,1,140,1],[143,1,145,1],[147,1,149,1],[151,1,153,1],[155,1,157,1],[159,1,161,1],[163,1,165,1],[326,1,328,1],[330,1,332,1],[334,1,336,1],[341,1,343,1],[345,1,347,1],[349,1,351,1],[353,1,355,1],[357,1,359,1],[362,1,364,1],[366,1,368,1],[370,1,372,1],[374,1,376,1],[379,1,381,1],[383,1,385,1],[387,1,389,1],[391,1,393,1],[396,1,398,1],[400,1,402,1],[404,1,406,1],[408,1,410,1],[413,1,415,1],[417,1,419,1],[421,1,423,1],[425,1,427,1],[429,1,431,1],[434,1,436,1],[438,1,440,1],[442,1,444,1],[446,1,448,1],[451,1,453,1],[455,1,457,1],[459,1,461,1],[463,1,465,1],[467,1,469,1],[481,1,483,1],[489,1,491,1],[497,1,499,1],[485,1,488,1],[501,1,503,1],[505,1,507,1],[511,1,513,1],[516,1,518,1],[520,1,522,1],[524,1,526,1],[528,1,530,1]]}
[null,{"$f":"IF(X1,lang!A30,lang!A31)","v":"This sheet doesn't need to be answered"},null,null,null,null,null,null,null,null,null,null,null,null,null,null,null,null,null,null,null,null,null,{"$f":"'General Information'!U117","v":false},{"$f":"IF(R_WH1,AB14,0)","v":0}]
[null,{"$f":"IF(X1,IF(Y2,lang!A32,IF(X2,lang!A33,lang!A34)),\"\")","v":""},null,null,null,null,null,null,null,null,null,null,null,null,null,null,null,null,null,null,null,null,null,{"$f":"X14","v":true},{"$f":"Y14","v":false}]
[null,{"$f":"IF(Y3,lang!A35,IF(X3,lang!A36,lang!A37))","v":"The document is not yet completed"},null,null,null,null,null,null,null,null,null,null,null,null,null,null,null,null,null,null,null,null,null,{"$f":"NOT(Status!F20)","v":false},{"$f":"Status!G20","v":false}]
[]
["Gulf SQAS 2025"]
[{"$f":"lang!A41","v":"ASSESSMENT INFORMATION AND SCOPE - Part II"}]
[{"$f":"lang!A15","v":"Warehouse - 1"}]
[{"$f":"lang!A42","v":"(Items marked with a (*) and/or magenta background must always be completed)"}]
[{"$f":"lang!A43","v":"(For checkboxes \"checked\" means \"Yes\", \"unchecked\" - \"No\")"}]
[null,{"$f":"lang!A424","v":"This complete document, together with the Fire Compartment data, is to be prepared by the Warehousing Company, well ahead of the Assessment, and to be provided to the assessor, for preparation of the assessment and entry in the system."}]
[null,{"$f":"lang!A425","v":"It is envisaged that storage companies may have more than one warehouse building on the assessed site to store Foodstuff and/or Chemical products. For this reason the spreadsheet used to record warehouse details per building, contains five columns. "}]
[null,{"$f":"lang!A426","v":"(if more buildings on premises, use additional sheet)"}]
[]
[null,{"$f":"lang!A427","v":"Reference list of WH number versus site's identification of buildings"},null,null,null,null,null,null,null,null,null,null,null,null,null,null,null,null,null,1000,null,null,{"$f":"T14>0","v":true},{"$f":"AND(X16:X580)","v":true},{"$f":"OR(Y16:Y580)","v":false},null,null,{"$f":"SUM(AB16:AB580)","v":0}]
[null,{"$f":"lang!A428","v":"WH-number"},null,{"$f":"lang!A429","v":"Site's identification of buildings"}]
[null,{"$f":"lang!A430","v":"WH1"},null,null,null,null,null,null,null,null,null,null,null,null,null,null,null,null,null,{"$f":"IF(LEN(TRIM(D16))>0,1000,0)","v":0},null,null,{"$f":"T16>T14","v":false},{"$f":"NOT(W16)","v":true},{"$f":"ISERROR(CONCATENATE(D16,F16,H16,J16,L16))","v":false},"w",1]
[]
[null,{"$f":"lang!A431","v":"WH2"},null,null,null,null,null,null,null,null,null,null,null,null,null,null,null,null,null,{"$f":"IF(LEN(TRIM(D18))>0,1000,0)","v":0},null,null,{"$f":"T18>T16","v":false},{"$f":"NOT(W18)","v":true},{"$f":"ISERROR(CONCATENATE(D18,F18,H18,J18,L18))","v":false},"w",2]
[]
[null,{"$f":"lang!A432","v":"WH3"},null,null,null,null,null,null,null,null,null,null,null,null,null,null,null,null,null,{"$f":"IF(LEN(TRIM(D20))>0,1000,0)","v":0},null,null,{"$f":"T20>T18","v":false},{"$f":"NOT(W20)","v":true},{"$f":"ISERROR(CONCATENATE(D20,F20,H20,J20,L20))","v":false},"w",3,{"$f":"IF(T20>0,1,0)","v":0}]
[]
[null,{"$f":"lang!A433","v":"WH4"},null,null,null,null,null,null,null,null,null,null,null,null,null,null,null,null,null,{"$f":"IF(LEN(TRIM(D22))>0,1000,0)","v":0},null,null,{"$f":"T22>T20","v":false},{"$f":"NOT(W22)","v":true},{"$f":"ISERROR(CONCATENATE(D22,F22,H22,J22,L22))","v":false},"w",4]
[]
[null,{"$f":"lang!A434","v":"WH5"},null,null,null,null,null,null,null,null,null,null,null,null,null,null,null,null,null,{"$f":"IF(LEN(TRIM(D24))>0,1000,0)","v":0},null,null,{"$f":"T24>T22","v":false},{"$f":"NOT(W24)","v":true},{"$f":"ISERROR(CONCATENATE(D24,F24,H24,J24,L24))","v":false},"w",5,{"$f":"IF(T24>0,1,0)","v":0}]
[]
[null,{"$f":"lang!A445","v":"Please complete the appropriate boxes below for site or per warehouse-building :"},{"$f":"lang!B445","v":"Please complete the appropriate boxes below for site or per warehouse-building :"},{"$f":"lang!C445","v":"Bitte vervollständigen Sie die geeigneten Kästchen unterhalb für Standort oder für Lagergebäude"},{"$f":"lang!D445","v":"Por favor complete as células Excel apropriadas abaixo, para cada local a ser avaliado ou por cada edifício de armazenagem"},{"$f":"lang!E445","v":"Veuillez compléter les cadres appropriés pour le site ou par bâtiment d'entreposage"},{"$f":"lang!F445","v":"Por favor completar las casillas de debajo apropiadas para la instalación o los edificios de almacenamiento:"},{"$f":"lang!G445","v":"Si prega di completare gli appositi spazi sottostanti per sito o per singolo deposito:"},{"$f":"lang!H445","v":"Udfyld venligst de passende felter nedenfor pr. lokation eller lagerbygning"},{"$f":"lang!I445","v":"Ole hyvä ja täytä kyseeseen tulevat toimipaikkaa tai varastorakennuksia koskevat kohdat alla"},{"$f":"lang!J445","v":"Proszę uzupełnić odpowiednie  pola poniżej, w odniesieniu do lokalizacji lub budynku magazynu."},{"$f":"lang!K445","v":"A.u.b. de onderstaande vakken invullen voor de locatie of per magazijn/gebouw"}]
[null,{"$f":"lang!A446","v":"(tick with \"Y\", \"N\", \"N/A\" or provide appropriate answer, eg number, add your comments in the yellow zone please)"},{"$f":"lang!B446","v":"(tick with \"Y\", \"N\", \"N/A\" or provide appropriate answer, eg number, add your comments in the yellow zone please)"},{"$f":"lang!C446","v":"Haken Sie ab mit \"Y\", N\"; \"N/A\" oder schreiben Sie eine geeignete Antwort und fügen Sie bitte ihre Kommentare in die gelbe Zone ein)"},{"$f":"lang!D446","v":"(preencha com \"S\", \"N\", \"N/A\" ou efectue uma adequada resposta, por exemplo, referindo o número da pergunta na zona amarela e adicione os seu comentários"},{"$f":"lang!E446","v":"marquer avec \"O\", \"N\", \"N/A\" ou fournir une réponse appropriée, ex un nombre, veuiller ajouter vos commentaires dans la zone jaune."},{"$f":"lang!F446","v":"(indicar \"Y\", \"N\", \"N/A\" o una respuesta adecuada, ej: número, añadir comentarios en el área amarilla por favor)"},{"$f":"lang!G446","v":"Inserire \"Y\", \"N\", \"NA\" o inserire una risposta appropriata, per esempio numero, o aggiungere commenti nello spazio giallo."},{"$f":"lang!H446","v":"(afkrys med \"J\", \"N\", \"N/A\" eller angiv venligst passende svar, f.eks. nummer, tilføj dine kommentarer i det gule felt)"},{"$f":"lang!I446","v":"(merkitse \"Y\" -kyllä, \"N\" - ei, \"N/A\" - ei sovellettavissa, tai kirjoita siihen kuuluva vastaus, ts. varaston numero ja kirjaa kommentit keltaiseen alueeseen)"},{"$f":"lang!J446","v":"(zaznacz \"Y'' - tak,  ''N'' - nie, ''N/A'' - nie dotyczy albo wpisz komentarz w zółtym plu - np. numer)"},{"$f":"lang!K446","v":"(duid aan \"J\", \"N\", \"NVT\" of geef een gepast antwoord, bvb. een getal. Zet uw opmerkingen in de gele zone a.u.b.)"}]
[null,{"$f":"lang!A447","v":"Site"},{"$f":"lang!B447","v":"Site"},{"$f":"lang!C447","v":"Standort"},{"$f":"lang!D447","v":"Local"},{"$f":"lang!E447","v":"Site"},{"$f":"lang!F447","v":"Instalación"},{"$f":"lang!G447","v":"Sito"},{"$f":"lang!H447","v":"Lokation"},{"$f":"lang!I447","v":"Toimipaikka"},{"$f":"lang!J447","v":"Lokalizacja"},{"$f":"lang!K447","v":"Locatie"}]
[null,null,null,null,null,null,null,null,null,null,null,{"$f":"lang!A447","v":"Site"}]
["1.",{"$f":"lang!A448","v":"General site data"}]
["1.1.",{"$f":"lang!A449","v":"Is the warehouse owned ? "},null,null,null,null,null,null,null,null,null,null,null,null,null,null,null,null,null,null,null,"d",{"$f":"AND(ISNA(MATCH(L31,ynna,0)),LEN(L31)>0)","v":false},null,{"$f":"IF(ISERROR(W31), TRUE,W31)","v":false},1]
[null,{"$f":"lang!A466","v":"Chemicals - classified as dangerous goods per Transport Classification (specify):"}]
[null,{"$f":"lang!A511","v":"Constructional fire protection"},null,null,null,null,null,null,null,null,null,null,null,null,null,null,null,null,null,null,null,null,null,null,{"$f":"ISERROR(CONCATENATE(D33,F33,H33,J33,L33))","v":false},"c"]
[]
["1.2.",{"$f":"lang!A450","v":"Is the warehouse leased ? "},null,null,null,null,null,null,null,null,null,null,null,null,null,null,null,null,null,null,null,"d",{"$f":"AND(ISNA(MATCH(L35,ynna,0)),LEN(L35)>0)","v":false},null,{"$f":"IF(ISERROR(W35), TRUE,W35)","v":false},1]
[null,{"$f":"lang!A465","v":"For classified goods, use the Transport Classification (3.4) and the Classification for hazardous substances (3.5), according to the applicable warehouse permits  :"}]
[null,{"$f":"lang!A468","v":"Class 2     - Gases"},null,null,null,null,null,null,null,null,null,null,null,null,null,null,null,null,null,null,null,null,null,null,{"$f":"ISERROR(CONCATENATE(D37,F37,H37,J37,L37))","v":false},"c"]
[]
["1.3.",{"$f":"lang!A451","v":"Total warehouse space (sq. meters) ?"},null,null,null,null,null,null,null,null,null,null,null,null,null,null,null,null,null,null,null,"n",{"$f":"AND(NOT(ISNUMBER(L39)),LEN(L39)>0)","v":false},null,{"$f":"IF(ISERROR(W39), TRUE,W39)","v":false},1]
[null,{"$f":"lang!A694","v":"Class 6.2. : Infectious substances"}]
[null,{"$f":"lang!A470","v":"Class 4.1  - Flammable solids "},null,null,null,null,null,null,null,null,null,null,null,null,null,null,null,null,null,null,null,null,null,null,{"$f":"ISERROR(CONCATENATE(D41,F41,H41,J41,L41))","v":false},"c"]
[]
["1.4.",{"$f":"lang!A452","v":"Total silo space (cubic meters) ?"},null,null,null,null,null,null,null,null,null,null,null,null,null,null,null,null,null,null,null,"n",{"$f":"AND(NOT(ISNUMBER(L43)),LEN(L43)>0)","v":false},null,{"$f":"IF(ISERROR(W43), TRUE,W43)","v":false},1]
[null,{"$f":"lang!A587","v":"electric"}]
[null,{"$f":"lang!A532","v":"Is the warehouse secured with a burglar alarm system or by security personnel on-site ?"},null,null,null,null,null,null,null,null,null,null,null,null,null,null,null,null,null,null,null,null,null,null,{"$f":"ISERROR(CONCATENATE(D45,F45,H45,J45,L45))","v":false},"c"]
[]
["1.5.",{"$f":"lang!A453","v":"Open air packed storage space (sq. meters) ?"},null,null,null,null,null,null,null,null,null,null,null,null,null,null,null,null,null,null,null,"n",{"$f":"AND(NOT(ISNUMBER(L47)),LEN(L47)>0)","v":false},null,{"$f":"IF(ISERROR(W47), TRUE,W47)","v":false},1]
[null,{"$f":"lang!A469","v":"Class 3     - Flammable liquids"}]
[null,{"$f":"lang!A497","v":"  - Municipal ?"},null,null,null,null,null,null,null,null,null,null,null,null,null,null,null,null,null,null,null,null,null,null,{"$f":"ISERROR(CONCATENATE(D49,F49,H49,J49,L49))","v":false},"c"]
[]
["1.6.",{"$f":"lang!A454","v":"Are video cameras installed on site ?"},null,null,null,null,null,null,null,null,null,null,null,null,null,null,null,null,null,null,null,"d",{"$f":"AND(ISNA(MATCH(L51,ynna,0)),LEN(L51)>0)","v":false},null,{"$f":"IF(ISERROR(W51), TRUE,W51)","v":false},1]
[null,{"$f":"lang!A546","v":"concrete/bricks"}]
[null,{"$f":"lang!A513","v":"Are structural components like pillars, girders, floors and roof structure made of fire resistant materials (e.g. reinforced concrete) ?"},null,null,null,null,null,null,null,null,null,null,null,null,null,null,null,null,null,null,null,null,null,null,{"$f":"ISERROR(CONCATENATE(D53,F53,H53,J53,L53))","v":false},"c"]
[]
["1.7.",{"$f":"lang!A455","v":"Is the registration office for visitors/contractors visiting the company clearly marked to indicate where they have to register ?"},null,null,null,null,null,null,null,null,null,null,null,null,null,null,null,null,null,null,null,"d",{"$f":"AND(ISNA(MATCH(L55,ynna,0)),LEN(L55)>0)","v":false},null,{"$f":"IF(ISERROR(W55), TRUE,W55)","v":false},1]
[null,{"$f":"lang!A530","v":"Are doors and gates equipped with a locking system and is it assured that they are locked, when no persons are working in the warehouse ?"}]
[null,{"$f":"lang!A543","v":"wood"},null,null,null,null,null,null,null,null,null,null,null,null,null,null,null,null,null,null,null,null,null,null,{"$f":"ISERROR(CONCATENATE(D57,F57,H57,J57,L57))","v":false},"c"]
[]
["1.8.",{"$f":"lang!A456","v":"Is there a waiting room for contractors (drivers and accompanying persons) nearby the registration office ?"},null,null,null,null,null,null,null,null,null,null,null,null,null,null,null,null,null,null,null,"d",{"$f":"AND(ISNA(MATCH(L59,ynna,0)),LEN(L59)>0)","v":false},null,{"$f":"IF(ISERROR(W59), TRUE,W59)","v":false},1]
[null,{"$f":"lang!A588","v":"Fixed storage tanks for liquids"}]
[null,{"$f":"lang!A473","v":"Class 5.1  - Oxidising substances"},null,null,null,null,null,null,null,null,null,null,null,null,null,null,null,null,null,null,null,null,null,null,{"$f":"ISERROR(CONCATENATE(D61,F61,H61,J61,L61))","v":false},"c"]
[]
["1.9.",{"$f":"lang!A457","v":"Is smoking prohibited in the storage areas ?"},null,null,null,null,null,null,null,null,null,null,null,null,null,null,null,null,null,null,null,"d",{"$f":"AND(ISNA(MATCH(L63,ynna,0)),LEN(L63)>0)","v":false},null,{"$f":"IF(ISERROR(W63), TRUE,W63)","v":false},1]
[null,{"$f":"lang!A472","v":"Class 4.3  - Substance, which in contact with water emit flammable gases"}]
[null,{"$f":"lang!A544","v":"other (please indicate)"},null,null,null,null,null,null,null,null,null,null,null,null,null,null,null,null,null,null,null,null,null,null,{"$f":"ISERROR(CONCATENATE(D65,F65,H65,J65,L65))","v":false},"c"]
[]
["1.10.",{"$f":"lang!A458","v":"Are warning signs posted for emergency and prohibitions (\"no smoking\", \"emergency exit\") ?"},null,null,null,null,null,null,null,null,null,null,null,null,null,null,null,null,null,null,null,"d",{"$f":"AND(ISNA(MATCH(L67,ynna,0)),LEN(L67)>0)","v":false},null,{"$f":"IF(ISERROR(W67), TRUE,W67)","v":false},1]
[null,{"$f":"lang!A646","v":"Network"}]
[null,{"$f":"lang!A475","v":"Class 6.1  - Toxic substances"},null,null,null,null,null,null,null,null,null,null,null,null,null,null,null,null,null,null,null,null,null,null,{"$f":"ISERROR(CONCATENATE(D69,F69,H69,J69,L69))","v":false},"c"]
[]
[null,null,null,{"$f":"B16","v":"WH1"},null,{"$f":"B18","v":"WH2"},null,{"$f":"B20","v":"WH3"},null,{"$f":"B22","v":"WH4"},null,{"$f":"B24","v":"WH5"}]
["2.",{"$f":"lang!A459","v":"Warehouse capacity"}]
["2.1.",{"$f":"lang!A460","v":"Warehouse space (sq. meters)"},null,null,null,null,null,null,null,null,null,null,null,null,null,null,null,null,null,null,null,"n5",{"$f":"OR(AND(NOT(ISNUMBER(L73)),LEN(L73)>0),AND(NOT(ISNUMBER(J73)),LEN(J73)>0),AND(NOT(ISNUMBER(H73)),LEN(H73)>0),AND(NOT(ISNUMBER(F73)),LEN(F73)>0),AND(NOT(ISNUMBER(D73)),LEN(D73)>0))","v":false},null,{"$f":"IF(ISERROR(W73), TRUE,W73)","v":false},5]
[null,{"$f":"lang!A515","v":"Are internal and external fire walls rated in accordance with local regulations (eg. wall made of noncombustible material like brick, concrete or reinforced concrete, wall thickness not less than 24 cm, wall minimum 50 cm above the roof or up to the roof and adjacent roof areas 5 m of noncombustible material,  doors and gates in the wall fire resistant and self-closing, no other openings in the walls) ?"}]
[null,{"$f":"lang!A697","v":"Class 9 : Miscellaneous dangerous substances and\narticles"},null,null,null,null,null,null,null,null,null,null,null,null,null,null,null,null,null,null,null,null,null,null,{"$f":"ISERROR(CONCATENATE(D75,F75,H75,J75,L75))","v":false},"c"]
[]
["3.",{"$f":"lang!A461","v":"Category of products permitted to be stored"}]
["3.1.",{"$f":"lang!A462","v":"Foodstuffs"},null,null,null,null,null,null,null,null,null,null,null,null,null,null,null,null,null,null,null,"d5",{"$f":"OR(AND(ISNA(MATCH(L78,ynna,0)),LEN(L78)>0),AND(ISNA(MATCH(J78,ynna,0)),LEN(J78)>0),AND(ISNA(MATCH(H78,ynna,0)),LEN(H78)>0),AND(ISNA(MATCH(F78,ynna,0)),LEN(F78)>0),AND(ISNA(MATCH(D78,ynna,0)),LEN(D78)>0))","v":false},null,{"$f":"IF(ISERROR(W78), TRUE,W78)","v":false},5]
[null,{"$f":"lang!A533","v":"Are burglar alarms transmitted automatically to security personnel or to a nearby police station ?"}]
[null,{"$f":"lang!A516","v":"Are adjacent rooms (incl. office, staff - and technical rooms) separated from the storage area with at least fire resistant walls (eg. made of noncombustible material like brick, concrete or reinforced concrete, wall thickness not less than 11.5 cm, doors and gates at least fire retardant and self closing, no other openings in the walls) ?"},null,null,null,null,null,null,null,null,null,null,null,null,null,null,null,null,null,null,null,null,null,null,{"$f":"ISERROR(CONCATENATE(D80,F80,H80,J80,L80))","v":false},"c"]
[]
["3.2.",{"$f":"lang!A463","v":"Solid chemicals (non - classified goods)"},null,null,null,null,null,null,null,null,null,null,null,null,null,null,null,null,null,null,null,"d5",{"$f":"OR(AND(ISNA(MATCH(L82,ynna,0)),LEN(L82)>0),AND(ISNA(MATCH(J82,ynna,0)),LEN(J82)>0),AND(ISNA(MATCH(H82,ynna,0)),LEN(H82)>0),AND(ISNA(MATCH(F82,ynna,0)),LEN(F82)>0),AND(ISNA(MATCH(D82,ynna,0)),LEN(D82)>0))","v":false},null,{"$f":"IF(ISERROR(W82), TRUE,W82)","v":false},5]
[null,{"$f":"lang!A633","v":"Smoke and heat vents"}]
[null,{"$f":"lang!A581","v":"Are safety lights installed in storage areas with safety lamps at least 1.5 m away from the product ?"},null,null,null,null,null,null,null,null,null,null,null,null,null,null,null,null,null,null,null,null,null,null,{"$f":"ISERROR(CONCATENATE(D84,F84,H84,J84,L84))","v":false},"c"]
[]
["3.3.",{"$f":"lang!A464","v":"Liquid chemicals (non - classified goods)"},null,null,null,null,null,null,null,null,null,null,null,null,null,null,null,null,null,null,null,"d5",{"$f":"OR(AND(ISNA(MATCH(L86,ynna,0)),LEN(L86)>0),AND(ISNA(MATCH(J86,ynna,0)),LEN(J86)>0),AND(ISNA(MATCH(H86,ynna,0)),LEN(H86)>0),AND(ISNA(MATCH(F86,ynna,0)),LEN(F86)>0),AND(ISNA(MATCH(D86,ynna,0)),LEN(D86)>0))","v":false},null,{"$f":"IF(ISERROR(W86), TRUE,W86)","v":false},5]
[null,{"$f":"lang!A467","v":"Class 1     - Explosive substances & articles"}]
[null,{"$f":"lang!A498","v":"  - Volunteer ?"},null,null,null,null,null,null,null,null,null,null,null,null,null,null,null,null,null,null,null,null,null,null,{"$f":"ISERROR(CONCATENATE(D88,F88,H88,J88,L88))","v":false},"c"]
[null,{"$f":"lang!A465","v":"For classified goods, use the Transport Classification (3.4) and the Classification for hazardous substances (3.5), according to the applicable warehouse permits  :"}]
["3.4.",{"$f":"lang!A466","v":"Chemicals - classified as dangerous goods per Transport Classification (specify):"}]
["3.4.1.",{"$f":"lang!A467","v":"Class 1     - Explosive substances & articles"},null,null,null,null,null,null,null,null,null,null,null,null,null,null,null,null,null,null,null,"d5",{"$f":"OR(AND(ISNA(MATCH(L91,ynna,0)),LEN(L91)>0),AND(ISNA(MATCH(J91,ynna,0)),LEN(J91)>0),AND(ISNA(MATCH(H91,ynna,0)),LEN(H91)>0),AND(ISNA(MATCH(F91,ynna,0)),LEN(F91)>0),AND(ISNA(MATCH(D91,ynna,0)),LEN(D91)>0))","v":false},null,{"$f":"IF(ISERROR(W91), TRUE,W91)","v":false},5]
[null,{"$f":"lang!A498","v":"  - Volunteer ?"}]
[null,{"$f":"lang!A511","v":"Constructional fire protection"},null,null,null,null,null,null,null,null,null,null,null,null,null,null,null,null,null,null,null,null,null,null,{"$f":"ISERROR(CONCATENATE(D93,F93,H93,J93,L93))","v":false},"c"]
[]
["3.4.2.",{"$f":"lang!A468","v":"Class 2     - Gases"},null,null,null,null,null,null,null,null,null,null,null,null,null,null,null,null,null,null,null,"d5",{"$f":"OR(AND(ISNA(MATCH(L95,ynna,0)),LEN(L95)>0),AND(ISNA(MATCH(J95,ynna,0)),LEN(J95)>0),AND(ISNA(MATCH(H95,ynna,0)),LEN(H95)>0),AND(ISNA(MATCH(F95,ynna,0)),LEN(F95)>0),AND(ISNA(MATCH(D95,ynna,0)),LEN(D95)>0))","v":false},null,{"$f":"IF(ISERROR(W95), TRUE,W95)","v":false},5]
[null,{"$f":"lang!A694","v":"Class 6.2. : Infectious substances"}]
[null,{"$f":"lang!A587","v":"electric"},null,null,null,null,null,null,null,null,null,null,null,null,null,null,null,null,null,null,null,null,null,null,{"$f":"ISERROR(CONCATENATE(D97,F97,H97,J97,L97))","v":false},"c"]
[]
["3.4.3.",{"$f":"lang!A469","v":"Class 3     - Flammable liquids"},null,null,null,null,null,null,null,null,null,null,null,null,null,null,null,null,null,null,null,"d5",{"$f":"OR(AND(ISNA(MATCH(L99,ynna,0)),LEN(L99)>0),AND(ISNA(MATCH(J99,ynna,0)),LEN(J99)>0),AND(ISNA(MATCH(H99,ynna,0)),LEN(H99)>0),AND(ISNA(MATCH(F99,ynna,0)),LEN(F99)>0),AND(ISNA(MATCH(D99,ynna,0)),LEN(D99)>0))","v":false},null,{"$f":"IF(ISERROR(W99), TRUE,W99)","v":false},5]
[null,{"$f":"lang!A497","v":"  - Municipal ?"}]
[null,{"$f":"lang!A589","v":"Total capacity of storage tanks available (cubic meters) ?"},null,null,null,null,null,null,null,null,null,null,null,null,null,null,null,null,null,null,null,null,null,null,{"$f":"ISERROR(CONCATENATE(D101,F101,H101,J101,L101))","v":false},"c"]
[]
["3.4.4.",{"$f":"lang!A470","v":"Class 4.1  - Flammable solids "},null,null,null,null,null,null,null,null,null,null,null,null,null,null,null,null,null,null,null,"d5",{"$f":"OR(AND(ISNA(MATCH(L103,ynna,0)),LEN(L103)>0),AND(ISNA(MATCH(J103,ynna,0)),LEN(J103)>0),AND(ISNA(MATCH(H103,ynna,0)),LEN(H103)>0),AND(ISNA(MATCH(F103,ynna,0)),LEN(F103)>0),AND(ISNA(MATCH(D103,ynna,0)),LEN(D103)>0))","v":false},null,{"$f":"IF(ISERROR(W103), TRUE,W103)","v":false},5]
[null,{"$f":"lang!A529","v":"Warehouse security"}]
[null,{"$f":"lang!A546","v":"concrete/bricks"},null,null,null,null,null,null,null,null,null,null,null,null,null,null,null,null,null,null,null,null,null,null,{"$f":"ISERROR(CONCATENATE(D105,F105,H105,J105,L105))","v":false},"c"]
[]
["3.4.5.",{"$f":"lang!A471","v":"Class 4.2  - Substances liable to spontaneous combustion"},null,null,null,null,null,null,null,null,null,null,null,null,null,null,null,null,null,null,null,"d5",{"$f":"OR(AND(ISNA(MATCH(L107,ynna,0)),LEN(L107)>0),AND(ISNA(MATCH(J107,ynna,0)),LEN(J107)>0),AND(ISNA(MATCH(H107,ynna,0)),LEN(H107)>0),AND(ISNA(MATCH(F107,ynna,0)),LEN(F107)>0),AND(ISNA(MATCH(D107,ynna,0)),LEN(D107)>0))","v":false},null,{"$f":"IF(ISERROR(W107), TRUE,W107)","v":false},5]
[null,{"$f":"lang!A530","v":"Are doors and gates equipped with a locking system and is it assured that they are locked, when no persons are working in the warehouse ?"}]
[null,{"$f":"lang!A543","v":"wood"},null,null,null,null,null,null,null,null,null,null,null,null,null,null,null,null,null,null,null,null,null,null,{"$f":"ISERROR(CONCATENATE(D109,F109,H109,J109,L109))","v":false},"c"]
[]
["3.4.6.",{"$f":"lang!A472","v":"Class 4.3  - Substance, which in contact with water emit flammable gases"},null,null,null,null,null,null,null,null,null,null,null,null,null,null,null,null,null,null,null,"d5",{"$f":"OR(AND(ISNA(MATCH(L111,ynna,0)),LEN(L111)>0),AND(ISNA(MATCH(J111,ynna,0)),LEN(J111)>0),AND(ISNA(MATCH(H111,ynna,0)),LEN(H111)>0),AND(ISNA(MATCH(F111,ynna,0)),LEN(F111)>0),AND(ISNA(MATCH(D111,ynna,0)),LEN(D111)>0))","v":false},null,{"$f":"IF(ISERROR(W111), TRUE,W111)","v":false},5]
[null,{"$f":"lang!A544","v":"other (please indicate)"}]
[null,{"$f":"lang!A514","v":"Are insulation and nonstructural components made of noncombustible materials ?"},null,null,null,null,null,null,null,null,null,null,null,null,null,null,null,null,null,null,null,null,null,null,{"$f":"ISERROR(CONCATENATE(D113,F113,H113,J113,L113))","v":false},"c"]
[]
["3.4.7.",{"$f":"lang!A473","v":"Class 5.1  - Oxidising substances"},null,null,null,null,null,null,null,null,null,null,null,null,null,null,null,null,null,null,null,"d5",{"$f":"OR(AND(ISNA(MATCH(L115,ynna,0)),LEN(L115)>0),AND(ISNA(MATCH(J115,ynna,0)),LEN(J115)>0),AND(ISNA(MATCH(H115,ynna,0)),LEN(H115)>0),AND(ISNA(MATCH(F115,ynna,0)),LEN(F115)>0),AND(ISNA(MATCH(D115,ynna,0)),LEN(D115)>0))","v":false},null,{"$f":"IF(ISERROR(W115), TRUE,W115)","v":false},5]
[null,{"$f":"lang!A646","v":"Network"}]
[null,{"$f":"lang!A533","v":"Are burglar alarms transmitted automatically to security personnel or to a nearby police station ?"},null,null,null,null,null,null,null,null,null,null,null,null,null,null,null,null,null,null,null,null,null,null,{"$f":"ISERROR(CONCATENATE(D117,F117,H117,J117,L117))","v":false},"c"]
[]
["3.4.8.",{"$f":"lang!A474","v":"Class 5.2. - Organic peroxides"},null,null,null,null,null,null,null,null,null,null,null,null,null,null,null,null,null,null,null,"d5",{"$f":"OR(AND(ISNA(MATCH(L119,ynna,0)),LEN(L119)>0),AND(ISNA(MATCH(J119,ynna,0)),LEN(J119)>0),AND(ISNA(MATCH(H119,ynna,0)),LEN(H119)>0),AND(ISNA(MATCH(F119,ynna,0)),LEN(F119)>0),AND(ISNA(MATCH(D119,ynna,0)),LEN(D119)>0))","v":false},null,{"$f":"IF(ISERROR(W119), TRUE,W119)","v":false},5]
[null,{"$f":"lang!A515","v":"Are internal and external fire walls rated in accordance with local regulations (eg. wall made of noncombustible material like brick, concrete or reinforced concrete, wall thickness not less than 24 cm, wall minimum 50 cm above the roof or up to the roof and adjacent roof areas 5 m of noncombustible material,  doors and gates in the wall fire resistant and self-closing, no other openings in the walls) ?"}]
[null,{"$f":"lang!A697","v":"Class 9 : Miscellaneous dangerous substances and\narticles"},null,null,null,null,null,null,null,null,null,null,null,null,null,null,null,null,null,null,null,null,null,null,{"$f":"ISERROR(CONCATENATE(D121,F121,H121,J121,L121))","v":false},"c"]
[]
["3.4.9.",{"$f":"lang!A475","v":"Class 6.1  - Toxic substances"},null,null,null,null,null,null,null,null,null,null,null,null,null,null,null,null,null,null,null,"d5",{"$f":"OR(AND(ISNA(MATCH(L123,ynna,0)),LEN(L123)>0),AND(ISNA(MATCH(J123,ynna,0)),LEN(J123)>0),AND(ISNA(MATCH(H123,ynna,0)),LEN(H123)>0),AND(ISNA(MATCH(F123,ynna,0)),LEN(F123)>0),AND(ISNA(MATCH(D123,ynna,0)),LEN(D123)>0))","v":false},null,{"$f":"IF(ISERROR(W123), TRUE,W123)","v":false},5]
[null,{"$f":"lang!A518","v":"Is the warehouse equipped with an overall fire and smoke detection system with direct connection to a permanently manned office that will notify the local fire department without delay or if not, with a direct connection to the local fire department ?"}]
[null,{"$f":"lang!A633","v":"Smoke and heat vents"},null,null,null,null,null,null,null,null,null,null,null,null,null,null,null,null,null,null,null,null,null,null,{"$f":"ISERROR(CONCATENATE(D125,F125,H125,J125,L125))","v":false},"c"]
[]
["3.4.10.",{"$f":"lang!A476","v":"Class 6.2  - Infectious substances"},null,null,null,null,null,null,null,null,null,null,null,null,null,null,null,null,null,null,null,"d5",{"$f":"OR(AND(ISNA(MATCH(L127,ynna,0)),LEN(L127)>0),AND(ISNA(MATCH(J127,ynna,0)),LEN(J127)>0),AND(ISNA(MATCH(H127,ynna,0)),LEN(H127)>0),AND(ISNA(MATCH(F127,ynna,0)),LEN(F127)>0),AND(ISNA(MATCH(D127,ynna,0)),LEN(D127)>0))","v":false},null,{"$f":"IF(ISERROR(W127), TRUE,W127)","v":false},5]
[null,{"$f":"lang!A705","v":"BY - Belarus"}]
[null,{"$f":"lang!A545","v":"External walls:"},null,null,null,null,null,null,null,null,null,null,null,null,null,null,null,null,null,null,null,null,null,null,{"$f":"ISERROR(CONCATENATE(D129,F129,H129,J129,L129))","v":false},"c"]
[]
["3.4.11.",{"$f":"lang!A477","v":"Class 7    - Radioactive material"},null,null,null,null,null,null,null,null,null,null,null,null,null,null,null,null,null,null,null,"d5",{"$f":"OR(AND(ISNA(MATCH(L131,ynna,0)),LEN(L131)>0),AND(ISNA(MATCH(J131,ynna,0)),LEN(J131)>0),AND(ISNA(MATCH(H131,ynna,0)),LEN(H131)>0),AND(ISNA(MATCH(F131,ynna,0)),LEN(F131)>0),AND(ISNA(MATCH(D131,ynna,0)),LEN(D131)>0))","v":false},null,{"$f":"IF(ISERROR(W131), TRUE,W131)","v":false},5]
[null,{"$f":"lang!A651","v":"Cerificate Number"}]
[null,{"$f":"lang!A634","v":"Comment"},null,null,null,null,null,null,null,null,null,null,null,null,null,null,null,null,null,null,null,null,null,null,{"$f":"ISERROR(CONCATENATE(D133,F133,H133,J133,L133))","v":false},"c"]
[]
["3.4.12.",{"$f":"lang!A478","v":"Class 8    - Corrosive substances"},null,null,null,null,null,null,null,null,null,null,null,null,null,null,null,null,null,null,null,"d5",{"$f":"OR(AND(ISNA(MATCH(L135,ynna,0)),LEN(L135)>0),AND(ISNA(MATCH(J135,ynna,0)),LEN(J135)>0),AND(ISNA(MATCH(H135,ynna,0)),LEN(H135)>0),AND(ISNA(MATCH(F135,ynna,0)),LEN(F135)>0),AND(ISNA(MATCH(D135,ynna,0)),LEN(D135)>0))","v":false},null,{"$f":"IF(ISERROR(W135), TRUE,W135)","v":false},5]
[null,{"$f":"lang!A519","v":"Is there a manual fire alarm system with a direct connection to the local fire brigade installed and is it readily accessible at any time ?"}]
[null,{"$f":"lang!A667","v":"Owned/operated tracks present"},null,null,null,null,null,null,null,null,null,null,null,null,null,null,null,null,null,null,null,null,null,null,{"$f":"ISERROR(CONCATENATE(D137,F137,H137,J137,L137))","v":false},"c"]
[]
["3.4.13.",{"$f":"lang!A479","v":"Class 9    - Miscellaneous dangerous substances & articles"},null,null,null,null,null,null,null,null,null,null,null,null,null,null,null,null,null,null,null,"d5",{"$f":"OR(AND(ISNA(MATCH(L139,ynna,0)),LEN(L139)>0),AND(ISNA(MATCH(J139,ynna,0)),LEN(J139)>0),AND(ISNA(MATCH(H139,ynna,0)),LEN(H139)>0),AND(ISNA(MATCH(F139,ynna,0)),LEN(F139)>0),AND(ISNA(MATCH(D139,ynna,0)),LEN(D139)>0))","v":false},null,{"$f":"IF(ISERROR(W139), TRUE,W139)","v":false},5]
[null,{"$f":"lang!A535","v":"Warehouse level:"}]
[null,{"$f":"lang!A520","v":"Is the warehouse equipped with an audible alarm system easily audible throughout the work area ?"},null,null,null,null,null,null,null,null,null,null,null,null,null,null,null,null,null,null,null,null,null,null,{"$f":"ISERROR(CONCATENATE(D141,F141,H141,J141,L141))","v":false},"c"]
[]
["3.5.",{"$f":"lang!A480","v":"Chemicals - classified as hazardous substances/ preparations (specify):"}]
["3.5.1.",{"$f":"lang!A481","v":"Oxidising (O, R7, R8, R9)"},null,null,null,null,null,null,null,null,null,null,null,null,null,null,null,null,null,null,null,"d5",{"$f":"OR(AND(ISNA(MATCH(L144,ynna,0)),LEN(L144)>0),AND(ISNA(MATCH(J144,ynna,0)),LEN(J144)>0),AND(ISNA(MATCH(H144,ynna,0)),LEN(H144)>0),AND(ISNA(MATCH(F144,ynna,0)),LEN(F144)>0),AND(ISNA(MATCH(D144,ynna,0)),LEN(D144)>0))","v":false},null,{"$f":"IF(ISERROR(W144), TRUE,W144)","v":false},5]
[null,{"$f":"lang!A499","v":"  - On-site fire brigade ?"}]
[null,{"$f":"lang!A582","v":"Is lightning protection installed ?"},null,null,null,null,null,null,null,null,null,null,null,null,null,null,null,null,null,null,null,null,null,null,{"$f":"ISERROR(CONCATENATE(D146,F146,H146,J146,L146))","v":false},"c"]
[]
["3.5.2.",{"$f":"lang!A482","v":"Extremely flammable  (F+, R12)"},null,null,null,null,null,null,null,null,null,null,null,null,null,null,null,null,null,null,null,"d5",{"$f":"OR(AND(ISNA(MATCH(L148,ynna,0)),LEN(L148)>0),AND(ISNA(MATCH(J148,ynna,0)),LEN(J148)>0),AND(ISNA(MATCH(H148,ynna,0)),LEN(H148)>0),AND(ISNA(MATCH(F148,ynna,0)),LEN(F148)>0),AND(ISNA(MATCH(D148,ynna,0)),LEN(D148)>0))","v":false},null,{"$f":"IF(ISERROR(W148), TRUE,W148)","v":false},5]
[null,{"$f":"lang!A539","v":"Supporting construction:"}]
[null,{"$f":"lang!A506","v":"Are warehouses, open storage areas, tanks and silos on site accessible by fire trucks from at least two sides (1 long side, 1 front side)"},null,null,null,null,null,null,null,null,null,null,null,null,null,null,null,null,null,null,null,null,null,null,{"$f":"ISERROR(CONCATENATE(D150,F150,H150,J150,L150))","v":false},"c"]
[]
["3.5.3.",{"$f":"lang!A483","v":"Highly flammable (F, R11, R15, R17)"},null,null,null,null,null,null,null,null,null,null,null,null,null,null,null,null,null,null,null,"d5",{"$f":"OR(AND(ISNA(MATCH(L152,ynna,0)),LEN(L152)>0),AND(ISNA(MATCH(J152,ynna,0)),LEN(J152)>0),AND(ISNA(MATCH(H152,ynna,0)),LEN(H152)>0),AND(ISNA(MATCH(F152,ynna,0)),LEN(F152)>0),AND(ISNA(MATCH(D152,ynna,0)),LEN(D152)>0))","v":false},null,{"$f":"IF(ISERROR(W152), TRUE,W152)","v":false},5]
[null,{"$f":"lang!A501","v":"Is the required fire water supply defined and guaranteed to at least 2.400 l/min ?"}]
[null,{"$f":"lang!A637","v":"Desciption/location(s)"},null,null,null,null,null,null,null,null,null,null,null,null,null,null,null,null,null,null,null,null,null,null,{"$f":"ISERROR(CONCATENATE(D154,F154,H154,J154,L154))","v":false},"c"]
[]
["3.5.4.",{"$f":"lang!A484","v":"Flammable (R10)"},null,null,null,null,null,null,null,null,null,null,null,null,null,null,null,null,null,null,null,"d5",{"$f":"OR(AND(ISNA(MATCH(L156,ynna,0)),LEN(L156)>0),AND(ISNA(MATCH(J156,ynna,0)),LEN(J156)>0),AND(ISNA(MATCH(H156,ynna,0)),LEN(H156)>0),AND(ISNA(MATCH(F156,ynna,0)),LEN(F156)>0),AND(ISNA(MATCH(D156,ynna,0)),LEN(D156)>0))","v":false},null,{"$f":"IF(ISERROR(W156), TRUE,W156)","v":false},5]
[null,{"$f":"lang!A649","v":"Is the company certified by the National Safety Agency?"}]
[null,{"$f":"lang!A502","v":"Is the required fire water supply (fire-hydrants, river, artificial static water supply, tanks, cisterns) on-site and off-site at a close range to the buildings on site (<150 m) and immediately available at any time and on-hand for at least two hours ?"},null,null,null,null,null,null,null,null,null,null,null,null,null,null,null,null,null,null,null,null,null,null,{"$f":"ISERROR(CONCATENATE(D158,F158,H158,J158,L158))","v":false},"c"]
[]
["3.5.5.",{"$f":"lang!A485","v":"Very toxic (T+, R26, R27, R28)"},null,null,null,null,null,null,null,null,null,null,null,null,null,null,null,null,null,null,null,"d5",{"$f":"OR(AND(ISNA(MATCH(L160,ynna,0)),LEN(L160)>0),AND(ISNA(MATCH(J160,ynna,0)),LEN(J160)>0),AND(ISNA(MATCH(H160,ynna,0)),LEN(H160)>0),AND(ISNA(MATCH(F160,ynna,0)),LEN(F160)>0),AND(ISNA(MATCH(D160,ynna,0)),LEN(D160)>0))","v":false},null,{"$f":"IF(ISERROR(W160), TRUE,W160)","v":false},5]
[null,{"$f":"lang!A584","v":"Forklift type :"}]
[null,{"$f":"lang!A524","v":"Are fire compartments storing products classified as toxic, oxidising, flammable or dangerous to the environment, equipped with fixed extinguishing systems (eg. water, foam) ?"},null,null,null,null,null,null,null,null,null,null,null,null,null,null,null,null,null,null,null,null,null,null,{"$f":"ISERROR(CONCATENATE(D162,F162,H162,J162,L162))","v":false},"c"]
[]
["3.5.6.",{"$f":"lang!A486","v":"Toxic (T, R23, R24, R25)"},null,null,null,null,null,null,null,null,null,null,null,null,null,null,null,null,null,null,null,"d5",{"$f":"OR(AND(ISNA(MATCH(L164,ynna,0)),LEN(L164)>0),AND(ISNA(MATCH(J164,ynna,0)),LEN(J164)>0),AND(ISNA(MATCH(H164,ynna,0)),LEN(H164)>0),AND(ISNA(MATCH(F164,ynna,0)),LEN(F164)>0),AND(ISNA(MATCH(D164,ynna,0)),LEN(D164)>0))","v":false},null,{"$f":"IF(ISERROR(W164), TRUE,W164)","v":false},5]
[null,{"$f":"lang!A538","v":"underground"}]
[null,{"$f":"lang!A503","v":"Detail Fire Protection Management for the warehouse buildings"},null,null,null,null,null,null,null,null,null,null,null,null,null,null,null,null,null,null,null,null,null,null,{"$f":"ISERROR(CONCATENATE(D166,F166,H166,J166,L166))","v":false},"c"]
[]
["3.5.7.",{"$f":"lang!A487","v":"Harmful  (Xn, R20, R21, R22, R42, R65)"},null,null,null,null,null,null,null,null,null,null,null,null,null,null,null,null,null,null,null,"d5",{"$f":"OR(AND(ISNA(MATCH(L168,ynna,0)),LEN(L168)>0),AND(ISNA(MATCH(J168,ynna,0)),LEN(J168)>0),AND(ISNA(MATCH(H168,ynna,0)),LEN(H168)>0),AND(ISNA(MATCH(F168,ynna,0)),LEN(F168)>0),AND(ISNA(MATCH(D168,ynna,0)),LEN(D168)>0))","v":false},null,{"$f":"IF(ISERROR(W168), TRUE,W168)","v":false},5]
[null,{"$f":"lang!A504","v":"Please complete the Fire Compartment Details on the worksheet \"Products Permitted to store\""}]
[null,{"$f":"lang!A525","v":"Are fire compartments storing products classified as toxic, oxidising, flammable or dangerous to the environment, equipped with an operating ventilation system, with an air exchange rate of at least twice/hour ?"},null,null,null,null,null,null,null,null,null,null,null,null,null,null,null,null,null,null,null,null,null,null,{"$f":"ISERROR(CONCATENATE(D170,F170,H170,J170,L170))","v":false},"c"]
[]
["3.5.8",{"$f":"lang!A488","v":"Corrosive  (C, R34, R35)"},null,null,null,null,null,null,null,null,null,null,null,null,null,null,null,null,null,null,null,"d5",{"$f":"OR(AND(ISNA(MATCH(L172,ynna,0)),LEN(L172)>0),AND(ISNA(MATCH(J172,ynna,0)),LEN(J172)>0),AND(ISNA(MATCH(H172,ynna,0)),LEN(H172)>0),AND(ISNA(MATCH(F172,ynna,0)),LEN(F172)>0),AND(ISNA(MATCH(D172,ynna,0)),LEN(D172)>0))","v":false},null,{"$f":"IF(ISERROR(W172), TRUE,W172)","v":false},5]
[null,{"$f":"lang!A700","v":"AL - Albania"}]
[null,{"$f":"lang!A508","v":"Are measures taken inside and outside the warehouse to adequately contain contaminated fire water in compliance with local regulations  (eg. waterproof surface, volume of retention of 300 L per M2 of warehouse- and overflow in municipal water treatment plant) ?"},null,null,null,null,null,null,null,null,null,null,null,null,null,null,null,null,null,null,null,null,null,null,{"$f":"ISERROR(CONCATENATE(D174,F174,H174,J174,L174))","v":false},"c"]
[]
["3.5.9",{"$f":"lang!A489","v":"Irritant  (Xi, R36, R37, R38, R41, R43)"},null,null,null,null,null,null,null,null,null,null,null,null,null,null,null,null,null,null,null,"d5",{"$f":"OR(AND(ISNA(MATCH(L176,ynna,0)),LEN(L176)>0),AND(ISNA(MATCH(J176,ynna,0)),LEN(J176)>0),AND(ISNA(MATCH(H176,ynna,0)),LEN(H176)>0),AND(ISNA(MATCH(F176,ynna,0)),LEN(F176)>0),AND(ISNA(MATCH(D176,ynna,0)),LEN(D176)>0))","v":false},null,{"$f":"IF(ISERROR(W176), TRUE,W176)","v":false},5]
[null,{"$f":"lang!A526","v":"Are charging stations for fork lift trucks placed in separate and vented rooms or inside the storage area with a protection distance of at least 5 m to any stored product or combustible material ?"}]
[null,{"$f":"lang!A686","v":"Class 2 : Gases"},null,null,null,null,null,null,null,null,null,null,null,null,null,null,null,null,null,null,null,null,null,null,{"$f":"ISERROR(CONCATENATE(D178,F178,H178,J178,L178))","v":false},"c"]
[]
["3.5.10",{"$f":"lang!A490","v":"Dangerous for the environment (N, R50 to R59)"},null,null,null,null,null,null,null,null,null,null,null,null,null,null,null,null,null,null,null,"d5",{"$f":"OR(AND(ISNA(MATCH(L180,ynna,0)),LEN(L180)>0),AND(ISNA(MATCH(J180,ynna,0)),LEN(J180)>0),AND(ISNA(MATCH(H180,ynna,0)),LEN(H180)>0),AND(ISNA(MATCH(F180,ynna,0)),LEN(F180)>0),AND(ISNA(MATCH(D180,ynna,0)),LEN(D180)>0))","v":false},null,{"$f":"IF(ISERROR(W180), TRUE,W180)","v":false},5]
[null,{"$f":"lang!A585","v":"gasoil"}]
[null,{"$f":"lang!A642","v":"Engineering/technical"},null,null,null,null,null,null,null,null,null,null,null,null,null,null,null,null,null,null,null,null,null,null,{"$f":"ISERROR(CONCATENATE(D182,F182,H182,J182,L182))","v":false},"c"]
[]
["3.5.11",{"$f":"lang!A491","v":"Category carcinogenic, mutagenic and reprotoxical  (T with R45, R46, R49, R60, R61 or Xn with R40, R62, R63, R68)"},null,null,null,null,null,null,null,null,null,null,null,null,null,null,null,null,null,null,null,"d5",{"$f":"OR(AND(ISNA(MATCH(L184,ynna,0)),LEN(L184)>0),AND(ISNA(MATCH(J184,ynna,0)),LEN(J184)>0),AND(ISNA(MATCH(H184,ynna,0)),LEN(H184)>0),AND(ISNA(MATCH(F184,ynna,0)),LEN(F184)>0),AND(ISNA(MATCH(D184,ynna,0)),LEN(D184)>0))","v":false},null,{"$f":"IF(ISERROR(W184), TRUE,W184)","v":false},5]
[null,{"$f":"lang!A509","v":"Are measures taken in the storage areas to adequately contain spilled product in compliance with local regulations (eg. liquid proof surface, volume of retention at least 3% of the column of the packaged products stored) ?"}]
[null,{"$f":"lang!A527","v":"Is the heating system in warehouses where flammable products are stored a hot-water heating system ? "},null,null,null,null,null,null,null,null,null,null,null,null,null,null,null,null,null,null,null,null,null,null,{"$f":"ISERROR(CONCATENATE(D186,F186,H186,J186,L186))","v":false},"c"]
[]
["4.",{"$f":"lang!A492","v":"Fire Protection Management  (Fire Plan)"}]
["4.1.",{"$f":"lang!A493","v":"The site in general"},null,null,null,null,null,null,null,null,null,{"$f":"lang!A447","v":"Site"}]
[]
["4.1.1.",{"$f":"lang!A494","v":"Is the warehouse site accessible with fire trucks from at least two sides ?"},null,null,null,null,null,null,null,null,null,null,null,null,null,null,null,null,null,null,null,"d",{"$f":"AND(ISNA(MATCH(L191,ynna,0)),LEN(L191)>0)","v":false},null,{"$f":"IF(ISERROR(W191), TRUE,W191)","v":false},1]
[null,{"$f":"lang!A685","v":"Class 1 : Explosive substances and articles"}]
[null,{"$f":"lang!A510","v":"Are measures taken on aisles and loading/unloading areas to adequately contain spilled product (eg. liquid proof surface, volume of retention at least equal to the biggest package to be transported or loaded/unloaded) ?"},null,null,null,null,null,null,null,null,null,null,null,null,null,null,null,null,null,null,null,null,null,null,{"$f":"ISERROR(CONCATENATE(D193,F193,H193,J193,L193))","v":false},"c"]
[]
["4.1.2.",{"$f":"lang!A495","v":"Has a lightning strike survey been performed for the site ?"},null,null,null,null,null,null,null,null,null,null,null,null,null,null,null,null,null,null,null,"d",{"$f":"AND(ISNA(MATCH(L195,ynna,0)),LEN(L195)>0)","v":false},null,{"$f":"IF(ISERROR(W195), TRUE,W195)","v":false},1]
[null,{"$f":"lang!A580","v":"Is the coverage of lighting 100 % ? (yes and/or indicate %)"}]
[null,{"$f":"lang!A541","v":"fire protected steel"},null,null,null,null,null,null,null,null,null,null,null,null,null,null,null,null,null,null,null,null,null,null,{"$f":"ISERROR(CONCATENATE(D197,F197,H197,J197,L197))","v":false},"c"]
["4.1.3.",{"$f":"lang!A496","v":"Tick which type(s) of fire department are responsible for the site :"}]
["4.1.3.1.",{"$f":"lang!A497","v":"  - Municipal ?"},null,null,null,null,null,null,null,null,null,null,null,null,null,null,null,null,null,{"$f":"IF(U199,\"Y\",\"\")","v":""},false,null,null,null,null,"m"]
[null,{"$f":"lang!A694","v":"Class 6.2. : Infectious substances"},null,null,null,null,null,null,null,null,null,null,null,null,null,null,null,null,null,null,null,null,null,null,{"$f":"ISERROR(CONCATENATE(D200,F200,H200,J200,L200))","v":false},"c"]
["4.1.3.2",{"$f":"lang!A498","v":"  - Volunteer ?"},null,null,null,null,null,null,null,null,null,null,null,null,null,null,null,null,null,{"$f":"IF(U201,\"Y\",\"\")","v":""},false,null,null,null,null,"m"]
[null,{"$f":"lang!A539","v":"Supporting construction:"},null,null,null,null,null,null,null,null,null,null,null,null,null,null,null,null,null,null,null,null,null,null,{"$f":"ISERROR(CONCATENATE(D202,F202,H202,J202,L202))","v":false},"c"]
["4.1.3.3",{"$f":"lang!A499","v":"  - On-site fire brigade ?"},null,null,null,null,null,null,null,null,null,null,null,null,null,null,null,null,null,{"$f":"IF(U203,\"Y\",\"\")","v":""},false,null,null,null,null,"m"]
[null,{"$f":"lang!A582","v":"Is lightning protection installed ?"},null,null,null,null,null,null,null,null,null,null,null,null,null,null,null,null,null,null,null,null,null,null,{"$f":"ISERROR(CONCATENATE(D204,F204,H204,J204,L204))","v":false},"c"]
["4.1.4.",{"$f":"lang!A500","v":"Fire water supply :"}]
["4.1.4.1.",{"$f":"lang!A501","v":"Is the required fire water supply defined and guaranteed to at least 2.400 l/min ?"},null,null,null,null,null,null,null,null,null,null,null,null,null,null,null,null,null,null,null,"d",{"$f":"AND(ISNA(MATCH(L206,ynna,0)),LEN(L206)>0)","v":false},null,{"$f":"IF(ISERROR(W206), TRUE,W206)","v":false},1]
[null,{"$f":"lang!A637","v":"Desciption/location(s)"}]
[null,{"$f":"lang!A687","v":"Class 3 : Flammable liquids"},null,null,null,null,null,null,null,null,null,null,null,null,null,null,null,null,null,null,null,null,null,null,{"$f":"ISERROR(CONCATENATE(D208,F208,H208,J208,L208))","v":false},"c"]
[]
["4.1.4.2.",{"$f":"lang!A502","v":"Is the required fire water supply (fire-hydrants, river, artificial static water supply, tanks, cisterns) on-site and off-site at a close range to the buildings on site (<150 m) and immediately available at any time and on-hand for at least two hours ?"},null,null,null,null,null,null,null,null,null,null,null,null,null,null,null,null,null,null,null,"d",{"$f":"AND(ISNA(MATCH(L210,ynna,0)),LEN(L210)>0)","v":false},null,{"$f":"IF(ISERROR(W210), TRUE,W210)","v":false},1]
[null,{"$f":"lang!A639","v":"Corporate"}]
[null,{"$f":"lang!A584","v":"Forklift type :"},null,null,null,null,null,null,null,null,null,null,null,null,null,null,null,null,null,null,null,null,null,null,{"$f":"ISERROR(CONCATENATE(D212,F212,H212,J212,L212))","v":false},"c"]
[null,{"$f":"lang!A524","v":"Are fire compartments storing products classified as toxic, oxidising, flammable or dangerous to the environment, equipped with fixed extinguishing systems (eg. water, foam) ?"}]
[]
["4.2.",{"$f":"lang!A503","v":"Detail Fire Protection Management for the warehouse buildings"}]
[]
["4.2.1.",{"$f":"lang!A504","v":"Please complete the Fire Compartment Details on the worksheet \"Products Permitted to store\""}]
[]
[null,null,null,{"$f":"B16","v":"WH1"},null,{"$f":"B18","v":"WH2"},null,{"$f":"B20","v":"WH3"},null,{"$f":"B22","v":"WH4"},null,{"$f":"B24","v":"WH5"}]
["4.2.2.",{"$f":"lang!A505","v":"Warehouse access"}]
["4.2.2.1.",{"$f":"lang!A506","v":"Are warehouses, open storage areas, tanks and silos on site accessible by fire trucks from at least two sides (1 long side, 1 front side)"},null,null,null,null,null,null,null,null,null,null,null,null,null,null,null,null,null,null,null,"d5",{"$f":"OR(AND(ISNA(MATCH(L221,ynna,0)),LEN(L221)>0),AND(ISNA(MATCH(J221,ynna,0)),LEN(J221)>0),AND(ISNA(MATCH(H221,ynna,0)),LEN(H221)>0),AND(ISNA(MATCH(F221,ynna,0)),LEN(F221)>0),AND(ISNA(MATCH(D221,ynna,0)),LEN(D221)>0))","v":false},null,{"$f":"IF(ISERROR(W221), TRUE,W221)","v":false},5]
[null,{"$f":"lang!A700","v":"AL - Albania"}]
[null,{"$f":"lang!A526","v":"Are charging stations for fork lift trucks placed in separate and vented rooms or inside the storage area with a protection distance of at least 5 m to any stored product or combustible material ?"},null,null,null,null,null,null,null,null,null,null,null,null,null,null,null,null,null,null,null,null,null,null,{"$f":"ISERROR(CONCATENATE(D223,F223,H223,J223,L223))","v":false},"c"]
[]
["4.2.3.",{"$f":"lang!A507","v":"Retention measurements"}]
["4.2.3.1.",{"$f":"lang!A508","v":"Are measures taken inside and outside the warehouse to adequately contain contaminated fire water in compliance with local regulations  (eg. waterproof surface, volume of retention of 300 L per M2 of warehouse- and overflow in municipal water treatment plant) ?"},null,null,null,null,null,null,null,null,null,null,null,null,null,null,null,null,null,null,null,"d5",{"$f":"OR(AND(ISNA(MATCH(L226,ynna,0)),LEN(L226)>0),AND(ISNA(MATCH(J226,ynna,0)),LEN(J226)>0),AND(ISNA(MATCH(H226,ynna,0)),LEN(H226)>0),AND(ISNA(MATCH(F226,ynna,0)),LEN(F226)>0),AND(ISNA(MATCH(D226,ynna,0)),LEN(D226)>0))","v":false},null,{"$f":"IF(ISERROR(W226), TRUE,W226)","v":false},5]
[null,{"$f":"lang!A540","v":"concrete/bricks"}]
[null,{"$f":"lang!A585","v":"gasoil"},null,null,null,null,null,null,null,null,null,null,null,null,null,null,null,null,null,null,null,null,null,null,{"$f":"ISERROR(CONCATENATE(D228,F228,H228,J228,L228))","v":false},"c"]
[null,{"$f":"lang!A642","v":"Engineering/technical"}]
["4.2.3.2.",{"$f":"lang!A509","v":"Are measures taken in the storage areas to adequately contain spilled product in compliance with local regulations (eg. liquid proof surface, volume of retention at least 3% of the column of the packaged products stored) ?"},null,null,null,null,null,null,null,null,null,null,null,null,null,null,null,null,null,null,null,"d5",{"$f":"OR(AND(ISNA(MATCH(L230,ynna,0)),LEN(L230)>0),AND(ISNA(MATCH(J230,ynna,0)),LEN(J230)>0),AND(ISNA(MATCH(H230,ynna,0)),LEN(H230)>0),AND(ISNA(MATCH(F230,ynna,0)),LEN(F230)>0),AND(ISNA(MATCH(D230,ynna,0)),LEN(D230)>0))","v":false},null,{"$f":"IF(ISERROR(W230), TRUE,W230)","v":false},5]
[null,{"$f":"lang!A527","v":"Is the heating system in warehouses where flammable products are stored a hot-water heating system ? "}]
[null,{"$f":"lang!A586","v":"LPG"},null,null,null,null,null,null,null,null,null,null,null,null,null,null,null,null,null,null,null,null,null,null,{"$f":"ISERROR(CONCATENATE(D232,F232,H232,J232,L232))","v":false},"c"]
[null,{"$f":"lang!A685","v":"Class 1 : Explosive substances and articles"}]
["4.2.3.3.",{"$f":"lang!A510","v":"Are measures taken on aisles and loading/unloading areas to adequately contain spilled product (eg. liquid proof surface, volume of retention at least equal to the biggest package to be transported or loaded/unloaded) ?"},null,null,null,null,null,null,null,null,null,null,null,null,null,null,null,null,null,null,null,"d5",{"$f":"OR(AND(ISNA(MATCH(L234,ynna,0)),LEN(L234)>0),AND(ISNA(MATCH(J234,ynna,0)),LEN(J234)>0),AND(ISNA(MATCH(H234,ynna,0)),LEN(H234)>0),AND(ISNA(MATCH(F234,ynna,0)),LEN(F234)>0),AND(ISNA(MATCH(D234,ynna,0)),LEN(D234)>0))","v":false},null,{"$f":"IF(ISERROR(W234), TRUE,W234)","v":false},5]
[null,{"$f":"lang!A688","v":"Class 4.1. : Flammable solids,  self-reactive substances and solid desensitized explosives."}]
[null,{"$f":"lang!A528","v":"Is the surface temperature of the heating system lower than the ignition temperature of the product stored ?"},null,null,null,null,null,null,null,null,null,null,null,null,null,null,null,null,null,null,null,null,null,null,{"$f":"ISERROR(CONCATENATE(D236,F236,H236,J236,L236))","v":false},"c"]
[null,{"$f":"lang!A643","v":"Facility management"}]
[" "," "]
["4.2.4.",{"$f":"lang!A511","v":"Constructional fire protection"}]
["4.2.4.1.",{"$f":"lang!A512","v":"Is the warehouse separated by a safe distance from adjacent buildings in compliance with local regulations (eg. not less then 10 m or not less then 5 m in combination with an external fire wall) ?"},null,null,null,null,null,null,null,null,null,null,null,null,null,null,null,null,null,null,null,"d5",{"$f":"OR(AND(ISNA(MATCH(L240,ynna,0)),LEN(L240)>0),AND(ISNA(MATCH(J240,ynna,0)),LEN(J240)>0),AND(ISNA(MATCH(H240,ynna,0)),LEN(H240)>0),AND(ISNA(MATCH(F240,ynna,0)),LEN(F240)>0),AND(ISNA(MATCH(D240,ynna,0)),LEN(D240)>0))","v":false},null,{"$f":"IF(ISERROR(W240), TRUE,W240)","v":false},5]
[null,{"$f":"lang!A587","v":"electric"}]
[null,{"$f":"lang!A529","v":"Warehouse security"},null,null,null,null,null,null,null,null,null,null,null,null,null,null,null,null,null,null,null,null,null,null,{"$f":"ISERROR(CONCATENATE(D242,F242,H242,J242,L242))","v":false},"c"]
[null,{"$f":"lang!A546","v":"concrete/bricks"}]
["4.2.4.2.",{"$f":"lang!A513","v":"Are structural components like pillars, girders, floors and roof structure made of fire resistant materials (e.g. reinforced concrete) ?"},null,null,null,null,null,null,null,null,null,null,null,null,null,null,null,null,null,null,null,"d5",{"$f":"OR(AND(ISNA(MATCH(L244,ynna,0)),LEN(L244)>0),AND(ISNA(MATCH(J244,ynna,0)),LEN(J244)>0),AND(ISNA(MATCH(H244,ynna,0)),LEN(H244)>0),AND(ISNA(MATCH(F244,ynna,0)),LEN(F244)>0),AND(ISNA(MATCH(D244,ynna,0)),LEN(D244)>0))","v":false},null,{"$f":"IF(ISERROR(W244), TRUE,W244)","v":false},5]
[null,{"$f":"lang!A530","v":"Are doors and gates equipped with a locking system and is it assured that they are locked, when no persons are working in the warehouse ?"}]
[null,{"$f":"lang!A543","v":"wood"},null,null,null,null,null,null,null,null,null,null,null,null,null,null,null,null,null,null,null,null,null,null,{"$f":"ISERROR(CONCATENATE(D246,F246,H246,J246,L246))","v":false},"c"]
[]
["4.2.4.3.",{"$f":"lang!A514","v":"Are insulation and nonstructural components made of noncombustible materials ?"},null,null,null,null,null,null,null,null,null,null,null,null,null,null,null,null,null,null,null,"d5",{"$f":"OR(AND(ISNA(MATCH(L248,ynna,0)),LEN(L248)>0),AND(ISNA(MATCH(J248,ynna,0)),LEN(J248)>0),AND(ISNA(MATCH(H248,ynna,0)),LEN(H248)>0),AND(ISNA(MATCH(F248,ynna,0)),LEN(F248)>0),AND(ISNA(MATCH(D248,ynna,0)),LEN(D248)>0))","v":false},null,{"$f":"IF(ISERROR(W248), TRUE,W248)","v":false},5]
[null,{"$f":"lang!A588","v":"Fixed storage tanks for liquids"}]
[null,{"$f":"lang!A531","v":"Are windows or other glass areas appropriately secured (e.g. by fixed grills) ?"},null,null,null,null,null,null,null,null,null,null,null,null,null,null,null,null,null,null,null,null,null,null,{"$f":"ISERROR(CONCATENATE(D250,F250,H250,J250,L250))","v":false},"c"]
[]
["4.2.4.4.",{"$f":"lang!A515","v":"Are internal and external fire walls rated in accordance with local regulations (eg. wall made of noncombustible material like brick, concrete or reinforced concrete, wall thickness not less than 24 cm, wall minimum 50 cm above the roof or up to the roof and adjacent roof areas 5 m of noncombustible material,  doors and gates in the wall fire resistant and self-closing, no other openings in the walls) ?"},null,null,null,null,null,null,null,null,null,null,null,null,null,null,null,null,null,null,null,"d5",{"$f":"OR(AND(ISNA(MATCH(L252,ynna,0)),LEN(L252)>0),AND(ISNA(MATCH(J252,ynna,0)),LEN(J252)>0),AND(ISNA(MATCH(H252,ynna,0)),LEN(H252)>0),AND(ISNA(MATCH(F252,ynna,0)),LEN(F252)>0),AND(ISNA(MATCH(D252,ynna,0)),LEN(D252)>0))","v":false},null,{"$f":"IF(ISERROR(W252), TRUE,W252)","v":false},5]
[null,{"$f":"lang!A697","v":"Class 9 : Miscellaneous dangerous substances and\narticles"}]
[null,{"$f":"lang!A696","v":"Class 8 : Corrosive substances"},null,null,null,null,null,null,null,null,null,null,null,null,null,null,null,null,null,null,null,null,null,null,{"$f":"ISERROR(CONCATENATE(D254,F254,H254,J254,L254))","v":false},"c"]
[null,{"$f":"lang!A533","v":"Are burglar alarms transmitted automatically to security personnel or to a nearby police station ?"}]
["4.2.4.5.",{"$f":"lang!A516","v":"Are adjacent rooms (incl. office, staff - and technical rooms) separated from the storage area with at least fire resistant walls (eg. made of noncombustible material like brick, concrete or reinforced concrete, wall thickness not less than 11.5 cm, doors and gates at least fire retardant and self closing, no other openings in the walls) ?"},null,null,null,null,null,null,null,null,null,null,null,null,null,null,null,null,null,null,null,"d5",{"$f":"OR(AND(ISNA(MATCH(L256,ynna,0)),LEN(L256)>0),AND(ISNA(MATCH(J256,ynna,0)),LEN(J256)>0),AND(ISNA(MATCH(H256,ynna,0)),LEN(H256)>0),AND(ISNA(MATCH(F256,ynna,0)),LEN(F256)>0),AND(ISNA(MATCH(D256,ynna,0)),LEN(D256)>0))","v":false},null,{"$f":"IF(ISERROR(W256), TRUE,W256)","v":false},5]
[null,{"$f":"lang!A532","v":"Is the warehouse secured with a burglar alarm system or by security personnel on-site ?"}]
[null,{"$f":"lang!A589","v":"Total capacity of storage tanks available (cubic meters) ?"},null,null,null,null,null,null,null,null,null,null,null,null,null,null,null,null,null,null,null,null,null,null,{"$f":"ISERROR(CONCATENATE(D258,F258,H258,J258,L258))","v":false},"c"]
[null,{"$f":"lang!A705","v":"BY - Belarus"}]
[]
["4.2.5.",{"$f":"lang!A517","v":"Technical fire protection"}]
["4.2.5.1.",{"$f":"lang!A518","v":"Is the warehouse equipped with an overall fire and smoke detection system with direct connection to a permanently manned office that will notify the local fire department without delay or if not, with a direct connection to the local fire department ?"},null,null,null,null,null,null,null,null,null,null,null,null,null,null,null,null,null,null,null,"d5",{"$f":"OR(AND(ISNA(MATCH(L262,ynna,0)),LEN(L262)>0),AND(ISNA(MATCH(J262,ynna,0)),LEN(J262)>0),AND(ISNA(MATCH(H262,ynna,0)),LEN(H262)>0),AND(ISNA(MATCH(F262,ynna,0)),LEN(F262)>0),AND(ISNA(MATCH(D262,ynna,0)),LEN(D262)>0))","v":false},null,{"$f":"IF(ISERROR(W262), TRUE,W262)","v":false},5]
[null,{"$f":"lang!A651","v":"Cerificate Number"}]
[null,{"$f":"lang!A634","v":"Comment"},null,null,null,null,null,null,null,null,null,null,null,null,null,null,null,null,null,null,null,null,null,null,{"$f":"ISERROR(CONCATENATE(D264,F264,H264,J264,L264))","v":false},"c"]
[null,{"$f":"lang!A537","v":"multi story  (above ground floor)"}]
["4.2.5.2.",{"$f":"lang!A519","v":"Is there a manual fire alarm system with a direct connection to the local fire brigade installed and is it readily accessible at any time ?"},null,null,null,null,null,null,null,null,null,null,null,null,null,null,null,null,null,null,null,"d5",{"$f":"OR(AND(ISNA(MATCH(L266,ynna,0)),LEN(L266)>0),AND(ISNA(MATCH(J266,ynna,0)),LEN(J266)>0),AND(ISNA(MATCH(H266,ynna,0)),LEN(H266)>0),AND(ISNA(MATCH(F266,ynna,0)),LEN(F266)>0),AND(ISNA(MATCH(D266,ynna,0)),LEN(D266)>0))","v":false},null,{"$f":"IF(ISERROR(W266), TRUE,W266)","v":false},5]
[null,{"$f":"lang!A667","v":"Owned/operated tracks present"}]
[null,{"$f":"lang!A534","v":"Warehouse construction"},null,null,null,null,null,null,null,null,null,null,null,null,null,null,null,null,null,null,null,null,null,null,{"$f":"ISERROR(CONCATENATE(D268,F268,H268,J268,L268))","v":false},"c"]
[]
["4.2.5.3.",{"$f":"lang!A520","v":"Is the warehouse equipped with an audible alarm system easily audible throughout the work area ?"},null,null,null,null,null,null,null,null,null,null,null,null,null,null,null,null,null,null,null,"d5",{"$f":"OR(AND(ISNA(MATCH(L270,ynna,0)),LEN(L270)>0),AND(ISNA(MATCH(J270,ynna,0)),LEN(J270)>0),AND(ISNA(MATCH(H270,ynna,0)),LEN(H270)>0),AND(ISNA(MATCH(F270,ynna,0)),LEN(F270)>0),AND(ISNA(MATCH(D270,ynna,0)),LEN(D270)>0))","v":false},null,{"$f":"IF(ISERROR(W270), TRUE,W270)","v":false},5]
[null,{"$f":"lang!A536","v":"single story"}]
[null,{"$f":"lang!A633","v":"Smoke and heat vents"},null,null,null,null,null,null,null,null,null,null,null,null,null,null,null,null,null,null,null,null,null,null,{"$f":"ISERROR(CONCATENATE(D272,F272,H272,J272,L272))","v":false},"c"]
[]
["4.2.5.4.",{"$f":"lang!A521","v":"Are smoke and heat vents installed in each fire compartment with an area not less than 2% of the storage area of the fire compartment ?"},null,null,null,null,null,null,null,null,null,null,null,null,null,null,null,null,null,null,null,"d5",{"$f":"OR(AND(ISNA(MATCH(L274,ynna,0)),LEN(L274)>0),AND(ISNA(MATCH(J274,ynna,0)),LEN(J274)>0),AND(ISNA(MATCH(H274,ynna,0)),LEN(H274)>0),AND(ISNA(MATCH(F274,ynna,0)),LEN(F274)>0),AND(ISNA(MATCH(D274,ynna,0)),LEN(D274)>0))","v":false},null,{"$f":"IF(ISERROR(W274), TRUE,W274)","v":false},5]
[null,{"$f":"lang!A773","v":"more than 50"}]
[null,{"$f":"lang!A776","v":"Please enter (or Copy/Paste) these fields EXACTLY as mentioned in the confirmation e-mail of this authorized assessment, otherwise your assessment report will be rejected by the SQAS system"},null,null,null,null,null,null,null,null,null,null,null,null,null,null,null,null,null,null,null,null,null,null,{"$f":"ISERROR(CONCATENATE(D276,F276,H276,J276,L276))","v":false},"c"]
[]
["4.2.5.5.",{"$f":"lang!A522","v":"Are smoke vents automatically operated and is there in addition a button near the exit doors to operate these smoke vents manually ? "},null,null,null,null,null,null,null,null,null,null,null,null,null,null,null,null,null,null,null,"d5",{"$f":"OR(AND(ISNA(MATCH(L278,ynna,0)),LEN(L278)>0),AND(ISNA(MATCH(J278,ynna,0)),LEN(J278)>0),AND(ISNA(MATCH(H278,ynna,0)),LEN(H278)>0),AND(ISNA(MATCH(F278,ynna,0)),LEN(F278)>0),AND(ISNA(MATCH(D278,ynna,0)),LEN(D278)>0))","v":false},null,{"$f":"IF(ISERROR(W278), TRUE,W278)","v":false},5]
[null,{"$f":"lang!A779","v":"Company Location ( Town/City)"}]
[null,{"$f":"lang!A780","v":"Company Country"},null,null,null,null,null,null,null,null,null,null,null,null,null,null,null,null,null,null,null,null,null,null,{"$f":"ISERROR(CONCATENATE(D280,F280,H280,J280,L280))","v":false},"c"]
[]
["4.2.5.6.",{"$f":"lang!A523","v":"Are fire extinguishers and hose reels provided in accordance with local regulations as stated in the Fire Plan and are they highly visible, with unrestricted access at all times (eg. one hose reel or 1x50 kg or 4x12 kg fire extinguisher(s) with dry powder per 800 m2 of warehouse surface). "},null,null,null,null,null,null,null,null,null,null,null,null,null,null,null,null,null,null,null,"d5",{"$f":"OR(AND(ISNA(MATCH(L282,ynna,0)),LEN(L282)>0),AND(ISNA(MATCH(J282,ynna,0)),LEN(J282)>0),AND(ISNA(MATCH(H282,ynna,0)),LEN(H282)>0),AND(ISNA(MATCH(F282,ynna,0)),LEN(F282)>0),AND(ISNA(MATCH(D282,ynna,0)),LEN(D282)>0))","v":false},null,{"$f":"IF(ISERROR(W282), TRUE,W282)","v":false},5]
[null,{"$f":"lang!A582","v":"Is lightning protection installed ?"}]
[null,{"$f":"lang!A639","v":"Corporate"},null,null,null,null,null,null,null,null,null,null,null,null,null,null,null,null,null,null,null,null,null,null,{"$f":"ISERROR(CONCATENATE(D284,F284,H284,J284,L284))","v":false},"c"]
[null,{"$f":"lang!A584","v":"Forklift type :"}]
["4.2.5.7.",{"$f":"lang!A524","v":"Are fire compartments storing products classified as toxic, oxidising, flammable or dangerous to the environment, equipped with fixed extinguishing systems (eg. water, foam) ?"},null,null,null,null,null,null,null,null,null,null,null,null,null,null,null,null,null,null,null,"d5",{"$f":"OR(AND(ISNA(MATCH(L286,ynna,0)),LEN(L286)>0),AND(ISNA(MATCH(J286,ynna,0)),LEN(J286)>0),AND(ISNA(MATCH(H286,ynna,0)),LEN(H286)>0),AND(ISNA(MATCH(F286,ynna,0)),LEN(F286)>0),AND(ISNA(MATCH(D286,ynna,0)),LEN(D286)>0))","v":false},null,{"$f":"IF(ISERROR(W286), TRUE,W286)","v":false},5]
[null,{"$f":"lang!A538","v":"underground"}]
[null,{"$f":"lang!A701","v":"AD - Andorra"},null,null,null,null,null,null,null,null,null,null,null,null,null,null,null,null,null,null,null,null,null,null,{"$f":"ISERROR(CONCATENATE(D288,F288,H288,J288,L288))","v":false},"c"]
[null,{"$f":"lang!A539","v":"Supporting construction:"}]
["4.2.5.8.",{"$f":"lang!A525","v":"Are fire compartments storing products classified as toxic, oxidising, flammable or dangerous to the environment, equipped with an operating ventilation system, with an air exchange rate of at least twice/hour ?"},null,null,null,null,null,null,null,null,null,null,null,null,null,null,null,null,null,null,null,"d5",{"$f":"OR(AND(ISNA(MATCH(L290,ynna,0)),LEN(L290)>0),AND(ISNA(MATCH(J290,ynna,0)),LEN(J290)>0),AND(ISNA(MATCH(H290,ynna,0)),LEN(H290)>0),AND(ISNA(MATCH(F290,ynna,0)),LEN(F290)>0),AND(ISNA(MATCH(D290,ynna,0)),LEN(D290)>0))","v":false},null,{"$f":"IF(ISERROR(W290), TRUE,W290)","v":false},5]
[null,{"$f":"lang!A626","v":"(ADR-Class or Hazardous Symbol)"}]
[null,{"$f":"lang!A687","v":"Class 3 : Flammable liquids"},null,null,null,null,null,null,null,null,null,null,null,null,null,null,null,null,null,null,null,null,null,null,{"$f":"ISERROR(CONCATENATE(D292,F292,H292,J292,L292))","v":false},"c"]
[null,{"$f":"lang!A700","v":"AL - Albania"}]
["4.2.5.9.",{"$f":"lang!A526","v":"Are charging stations for fork lift trucks placed in separate and vented rooms or inside the storage area with a protection distance of at least 5 m to any stored product or combustible material ?"},null,null,null,null,null,null,null,null,null,null,null,null,null,null,null,null,null,null,null,"d5",{"$f":"OR(AND(ISNA(MATCH(L294,ynna,0)),LEN(L294)>0),AND(ISNA(MATCH(J294,ynna,0)),LEN(J294)>0),AND(ISNA(MATCH(H294,ynna,0)),LEN(H294)>0),AND(ISNA(MATCH(F294,ynna,0)),LEN(F294)>0),AND(ISNA(MATCH(D294,ynna,0)),LEN(D294)>0))","v":false},null,{"$f":"IF(ISERROR(W294), TRUE,W294)","v":false},5]
[null,{"$f":"lang!A540","v":"concrete/bricks"}]
[null,{"$f":"lang!A585","v":"gasoil"},null,null,null,null,null,null,null,null,null,null,null,null,null,null,null,null,null,null,null,null,null,null,{"$f":"ISERROR(CONCATENATE(D296,F296,H296,J296,L296))","v":false},"c"]
[null,{"$f":"lang!A642","v":"Engineering/technical"}]
["4.2.5.10.",{"$f":"lang!A527","v":"Is the heating system in warehouses where flammable products are stored a hot-water heating system ? "},null,null,null,null,null,null,null,null,null,null,null,null,null,null,null,null,null,null,null,"d5",{"$f":"OR(AND(ISNA(MATCH(L298,ynna,0)),LEN(L298)>0),AND(ISNA(MATCH(J298,ynna,0)),LEN(J298)>0),AND(ISNA(MATCH(H298,ynna,0)),LEN(H298)>0),AND(ISNA(MATCH(F298,ynna,0)),LEN(F298)>0),AND(ISNA(MATCH(D298,ynna,0)),LEN(D298)>0))","v":false},null,{"$f":"IF(ISERROR(W298), TRUE,W298)","v":false},5]
[null,{"$f":"lang!A586","v":"LPG"}]
[null,{"$f":"lang!A685","v":"Class 1 : Explosive substances and articles"},null,null,null,null,null,null,null,null,null,null,null,null,null,null,null,null,null,null,null,null,null,null,{"$f":"ISERROR(CONCATENATE(D300,F300,H300,J300,L300))","v":false},"c"]
[]
["4.2.5.11.",{"$f":"lang!A528","v":"Is the surface temperature of the heating system lower than the ignition temperature of the product stored ?"},null,null,null,null,null,null,null,null,null,null,null,null,null,null,null,null,null,null,null,"d5",{"$f":"OR(AND(ISNA(MATCH(L302,ynna,0)),LEN(L302)>0),AND(ISNA(MATCH(J302,ynna,0)),LEN(J302)>0),AND(ISNA(MATCH(H302,ynna,0)),LEN(H302)>0),AND(ISNA(MATCH(F302,ynna,0)),LEN(F302)>0),AND(ISNA(MATCH(D302,ynna,0)),LEN(D302)>0))","v":false},null,{"$f":"IF(ISERROR(W302), TRUE,W302)","v":false},5]
[null,{"$f":"lang!A643","v":"Facility management"}]
[null,{"$f":"lang!A542","v":"metal"},null,null,null,null,null,null,null,null,null,null,null,null,null,null,null,null,null,null,null,null,null,null,{"$f":"ISERROR(CONCATENATE(D304,F304,H304,J304,L304))","v":false},"c"]
[]
[]
["5.",{"$f":"lang!A529","v":"Warehouse security"}]
["5.1.",{"$f":"lang!A530","v":"Are doors and gates equipped with a locking system and is it assured that they are locked, when no persons are working in the warehouse ?"},null,null,null,null,null,null,null,null,null,null,null,null,null,null,null,null,null,null,null,"d5",{"$f":"OR(AND(ISNA(MATCH(L308,ynna,0)),LEN(L308)>0),AND(ISNA(MATCH(J308,ynna,0)),LEN(J308)>0),AND(ISNA(MATCH(H308,ynna,0)),LEN(H308)>0),AND(ISNA(MATCH(F308,ynna,0)),LEN(F308)>0),AND(ISNA(MATCH(D308,ynna,0)),LEN(D308)>0))","v":false},null,{"$f":"IF(ISERROR(W308), TRUE,W308)","v":false},5]
[null,{"$f":"lang!A543","v":"wood"}]
[null,{"$f":"lang!A544","v":"other (please indicate)"},null,null,null,null,null,null,null,null,null,null,null,null,null,null,null,null,null,null,null,null,null,null,{"$f":"ISERROR(CONCATENATE(D310,F310,H310,J310,L310))","v":false},"c"]
[]
["5.2.",{"$f":"lang!A531","v":"Are windows or other glass areas appropriately secured (e.g. by fixed grills) ?"},null,null,null,null,null,null,null,null,null,null,null,null,null,null,null,null,null,null,null,"d5",{"$f":"OR(AND(ISNA(MATCH(L312,ynna,0)),LEN(L312)>0),AND(ISNA(MATCH(J312,ynna,0)),LEN(J312)>0),AND(ISNA(MATCH(H312,ynna,0)),LEN(H312)>0),AND(ISNA(MATCH(F312,ynna,0)),LEN(F312)>0),AND(ISNA(MATCH(D312,ynna,0)),LEN(D312)>0))","v":false},null,{"$f":"IF(ISERROR(W312), TRUE,W312)","v":false},5]
[null,{"$f":"lang!A646","v":"Network"}]
[null,{"$f":"lang!A697","v":"Class 9 : Miscellaneous dangerous substances and\narticles"},null,null,null,null,null,null,null,null,null,null,null,null,null,null,null,null,null,null,null,null,null,null,{"$f":"ISERROR(CONCATENATE(D314,F314,H314,J314,L314))","v":false},"c"]
[]
["5.3.",{"$f":"lang!A532","v":"Is the warehouse secured with a burglar alarm system or by security personnel on-site ?"},null,null,null,null,null,null,null,null,null,null,null,null,null,null,null,null,null,null,null,"d5",{"$f":"OR(AND(ISNA(MATCH(L316,ynna,0)),LEN(L316)>0),AND(ISNA(MATCH(J316,ynna,0)),LEN(J316)>0),AND(ISNA(MATCH(H316,ynna,0)),LEN(H316)>0),AND(ISNA(MATCH(F316,ynna,0)),LEN(F316)>0),AND(ISNA(MATCH(D316,ynna,0)),LEN(D316)>0))","v":false},null,{"$f":"IF(ISERROR(W316), TRUE,W316)","v":false},5]
[null,{"$f":"lang!A589","v":"Total capacity of storage tanks available (cubic meters) ?"}]
[null,{"$f":"lang!A705","v":"BY - Belarus"},null,null,null,null,null,null,null,null,null,null,null,null,null,null,null,null,null,null,null,null,null,null,{"$f":"ISERROR(CONCATENATE(D318,F318,H318,J318,L318))","v":false},"c"]
[]
["5.4.",{"$f":"lang!A533","v":"Are burglar alarms transmitted automatically to security personnel or to a nearby police station ?"},null,null,null,null,null,null,null,null,null,null,null,null,null,null,null,null,null,null,null,"d5",{"$f":"OR(AND(ISNA(MATCH(L320,ynna,0)),LEN(L320)>0),AND(ISNA(MATCH(J320,ynna,0)),LEN(J320)>0),AND(ISNA(MATCH(H320,ynna,0)),LEN(H320)>0),AND(ISNA(MATCH(F320,ynna,0)),LEN(F320)>0),AND(ISNA(MATCH(D320,ynna,0)),LEN(D320)>0))","v":false},null,{"$f":"IF(ISERROR(W320), TRUE,W320)","v":false},5]
[null,{"$f":"lang!A546","v":"concrete/bricks"}]
[null,{"$f":"lang!A649","v":"Is the company certified by the National Safety Agency?"},null,null,null,null,null,null,null,null,null,null,null,null,null,null,null,null,null,null,null,null,null,null,{"$f":"ISERROR(CONCATENATE(D322,F322,H322,J322,L322))","v":false},"c"]
[]
[]
["6.",{"$f":"lang!A534","v":"Warehouse construction"}]
["6.1.",{"$f":"lang!A535","v":"Warehouse level:"}]
["6.1.1.",{"$f":"lang!A536","v":"single story"},null,null,null,null,null,null,null,null,null,null,null,null,null,null,null,null,null,null,null,"d5",{"$f":"OR(AND(ISNA(MATCH(L327,ynna,0)),LEN(L327)>0),AND(ISNA(MATCH(J327,ynna,0)),LEN(J327)>0),AND(ISNA(MATCH(H327,ynna,0)),LEN(H327)>0),AND(ISNA(MATCH(F327,ynna,0)),LEN(F327)>0),AND(ISNA(MATCH(D327,ynna,0)),LEN(D327)>0))","v":false},null,{"$f":"IF(ISERROR(W327), TRUE,W327)","v":false},5]
[null,{"$f":"lang!A633","v":"Smoke and heat vents"}]
[null,{"$f":"lang!A581","v":"Are safety lights installed in storage areas with safety lamps at least 1.5 m away from the product ?"},null,null,null,null,null,null,null,null,null,null,null,null,null,null,null,null,null,null,null,null,null,null,{"$f":"ISERROR(CONCATENATE(D329,F329,H329,J329,L329))","v":false},"c"]
[]
["6.1.2.",{"$f":"lang!A537","v":"multi story  (above ground floor)"},null,null,null,null,null,null,null,null,null,null,null,null,null,null,null,null,null,null,null,"d5",{"$f":"OR(AND(ISNA(MATCH(L331,ynna,0)),LEN(L331)>0),AND(ISNA(MATCH(J331,ynna,0)),LEN(J331)>0),AND(ISNA(MATCH(H331,ynna,0)),LEN(H331)>0),AND(ISNA(MATCH(F331,ynna,0)),LEN(F331)>0),AND(ISNA(MATCH(D331,ynna,0)),LEN(D331)>0))","v":false},null,{"$f":"IF(ISERROR(W331), TRUE,W331)","v":false},5]
[null,{"$f":"lang!A580","v":"Is the coverage of lighting 100 % ? (yes and/or indicate %)"}]
[null,{"$f":"lang!A637","v":"Desciption/location(s)"},null,null,null,null,null,null,null,null,null,null,null,null,null,null,null,null,null,null,null,null,null,null,{"$f":"ISERROR(CONCATENATE(D333,F333,H333,J333,L333))","v":false},"c"]
[]
["6.1.3.",{"$f":"lang!A538","v":"underground"},null,null,null,null,null,null,null,null,null,null,null,null,null,null,null,null,null,null,null,"d5",{"$f":"OR(AND(ISNA(MATCH(L335,ynna,0)),LEN(L335)>0),AND(ISNA(MATCH(J335,ynna,0)),LEN(J335)>0),AND(ISNA(MATCH(H335,ynna,0)),LEN(H335)>0),AND(ISNA(MATCH(F335,ynna,0)),LEN(F335)>0),AND(ISNA(MATCH(D335,ynna,0)),LEN(D335)>0))","v":false},null,{"$f":"IF(ISERROR(W335), TRUE,W335)","v":false},5]
[null,{"$f":"lang!A538","v":"underground"}]
[null,{"$f":"lang!A626","v":"(ADR-Class or Hazardous Symbol)"},null,null,null,null,null,null,null,null,null,null,null,null,null,null,null,null,null,null,null,null,null,null,{"$f":"ISERROR(CONCATENATE(D337,F337,H337,J337,L337))","v":false},"c"]
[]
[]
["6.2.",{"$f":"lang!A539","v":"Supporting construction:"}]
[]
["6.2.1.",{"$f":"lang!A540","v":"concrete/bricks"},null,null,null,null,null,null,null,null,null,null,null,null,null,null,null,null,null,null,null,"d5",{"$f":"OR(AND(ISNA(MATCH(L342,ynna,0)),LEN(L342)>0),AND(ISNA(MATCH(J342,ynna,0)),LEN(J342)>0),AND(ISNA(MATCH(H342,ynna,0)),LEN(H342)>0),AND(ISNA(MATCH(F342,ynna,0)),LEN(F342)>0),AND(ISNA(MATCH(D342,ynna,0)),LEN(D342)>0))","v":false},null,{"$f":"IF(ISERROR(W342), TRUE,W342)","v":false},5]
[null,{"$f":"lang!A585","v":"gasoil"}]
[null,{"$f":"lang!A642","v":"Engineering/technical"},null,null,null,null,null,null,null,null,null,null,null,null,null,null,null,null,null,null,null,null,null,null,{"$f":"ISERROR(CONCATENATE(D344,F344,H344,J344,L344))","v":false},"c"]
[]
["6.2.2.",{"$f":"lang!A541","v":"fire protected steel"},null,null,null,null,null,null,null,null,null,null,null,null,null,null,null,null,null,null,null,"d5",{"$f":"OR(AND(ISNA(MATCH(L346,ynna,0)),LEN(L346)>0),AND(ISNA(MATCH(J346,ynna,0)),LEN(J346)>0),AND(ISNA(MATCH(H346,ynna,0)),LEN(H346)>0),AND(ISNA(MATCH(F346,ynna,0)),LEN(F346)>0),AND(ISNA(MATCH(D346,ynna,0)),LEN(D346)>0))","v":false},null,{"$f":"IF(ISERROR(W346), TRUE,W346)","v":false},5]
[null,{"$f":"lang!A586","v":"LPG"}]
[null,{"$f":"lang!A685","v":"Class 1 : Explosive substances and articles"},null,null,null,null,null,null,null,null,null,null,null,null,null,null,null,null,null,null,null,null,null,null,{"$f":"ISERROR(CONCATENATE(D348,F348,H348,J348,L348))","v":false},"c"]
[]
["6.2.3.",{"$f":"lang!A542","v":"metal"},null,null,null,null,null,null,null,null,null,null,null,null,null,null,null,null,null,null,null,"d5",{"$f":"OR(AND(ISNA(MATCH(L350,ynna,0)),LEN(L350)>0),AND(ISNA(MATCH(J350,ynna,0)),LEN(J350)>0),AND(ISNA(MATCH(H350,ynna,0)),LEN(H350)>0),AND(ISNA(MATCH(F350,ynna,0)),LEN(F350)>0),AND(ISNA(MATCH(D350,ynna,0)),LEN(D350)>0))","v":false},null,{"$f":"IF(ISERROR(W350), TRUE,W350)","v":false},5]
[null,{"$f":"lang!A686","v":"Class 2 : Gases"}]
[null,{"$f":"lang!A587","v":"electric"},null,null,null,null,null,null,null,null,null,null,null,null,null,null,null,null,null,null,null,null,null,null,{"$f":"ISERROR(CONCATENATE(D352,F352,H352,J352,L352))","v":false},"c"]
[]
["6.2.4.",{"$f":"lang!A543","v":"wood"},null,null,null,null,null,null,null,null,null,null,null,null,null,null,null,null,null,null,null,"d5",{"$f":"OR(AND(ISNA(MATCH(L354,ynna,0)),LEN(L354)>0),AND(ISNA(MATCH(J354,ynna,0)),LEN(J354)>0),AND(ISNA(MATCH(H354,ynna,0)),LEN(H354)>0),AND(ISNA(MATCH(F354,ynna,0)),LEN(F354)>0),AND(ISNA(MATCH(D354,ynna,0)),LEN(D354)>0))","v":false},null,{"$f":"IF(ISERROR(W354), TRUE,W354)","v":false},5]
[null,{"$f":"lang!A646","v":"Network"}]
[null,{"$f":"lang!A697","v":"Class 9 : Miscellaneous dangerous substances and\narticles"},null,null,null,null,null,null,null,null,null,null,null,null,null,null,null,null,null,null,null,null,null,null,{"$f":"ISERROR(CONCATENATE(D356,F356,H356,J356,L356))","v":false},"c"]
[]
["6.2.5.",{"$f":"lang!A544","v":"other (please indicate)"},null,null,null,null,null,null,null,null,null,null,null,null,null,null,null,null,null,null,null,null,null,null,{"$f":"ISERROR(CONCATENATE(D358,F358,H358,J358,L358))","v":false},5]
[null,{"$f":"lang!A588","v":"Fixed storage tanks for liquids"}]
[null,{"$f":"lang!A589","v":"Total capacity of storage tanks available (cubic meters) ?"},null,null,null,null,null,null,null,null,null,null,null,null,null,null,null,null,null,null,null,null,null,null,{"$f":"ISERROR(CONCATENATE(D360,F360,H360,J360,L360))","v":false},"c"]
[]
["6.3.",{"$f":"lang!A545","v":"External walls:"}]
["6.3.1.",{"$f":"lang!A546","v":"concrete/bricks"},null,null,null,null,null,null,null,null,null,null,null,null,null,null,null,null,null,null,null,"d5",{"$f":"OR(AND(ISNA(MATCH(L363,ynna,0)),LEN(L363)>0),AND(ISNA(MATCH(J363,ynna,0)),LEN(J363)>0),AND(ISNA(MATCH(H363,ynna,0)),LEN(H363)>0),AND(ISNA(MATCH(F363,ynna,0)),LEN(F363)>0),AND(ISNA(MATCH(D363,ynna,0)),LEN(D363)>0))","v":false},null,{"$f":"IF(ISERROR(W363), TRUE,W363)","v":false},5]
[null,{"$f":"lang!A649","v":"Is the company certified by the National Safety Agency?"}]
[null,{"$f":"lang!A651","v":"Cerificate Number"},null,null,null,null,null,null,null,null,null,null,null,null,null,null,null,null,null,null,null,null,null,null,{"$f":"ISERROR(CONCATENATE(D365,F365,H365,J365,L365))","v":false},"c"]
[]
["6.3.2.",{"$f":"lang!A547","v":"metal"},null,null,null,null,null,null,null,null,null,null,null,null,null,null,null,null,null,null,null,"d5",{"$f":"OR(AND(ISNA(MATCH(L367,ynna,0)),LEN(L367)>0),AND(ISNA(MATCH(J367,ynna,0)),LEN(J367)>0),AND(ISNA(MATCH(H367,ynna,0)),LEN(H367)>0),AND(ISNA(MATCH(F367,ynna,0)),LEN(F367)>0),AND(ISNA(MATCH(D367,ynna,0)),LEN(D367)>0))","v":false},null,{"$f":"IF(ISERROR(W367), TRUE,W367)","v":false},5]
[null,{"$f":"lang!A648","v":"Is the company mentioned in the list of committed RU's to UIC 471-3?"}]
[null,{"$f":"lang!A652","v":"Subcontracting"},null,null,null,null,null,null,null,null,null,null,null,null,null,null,null,null,null,null,null,null,null,null,{"$f":"ISERROR(CONCATENATE(D369,F369,H369,J369,L369))","v":false},"c"]
[]
["6.3.3.",{"$f":"lang!A548","v":"wood"},null,null,null,null,null,null,null,null,null,null,null,null,null,null,null,null,null,null,null,"d5",{"$f":"OR(AND(ISNA(MATCH(L371,ynna,0)),LEN(L371)>0),AND(ISNA(MATCH(J371,ynna,0)),LEN(J371)>0),AND(ISNA(MATCH(H371,ynna,0)),LEN(H371)>0),AND(ISNA(MATCH(F371,ynna,0)),LEN(F371)>0),AND(ISNA(MATCH(D371,ynna,0)),LEN(D371)>0))","v":false},null,{"$f":"IF(ISERROR(W371), TRUE,W371)","v":false},5]
[null,{"$f":"lang!A592","v":"stainless steel"}]
[null,{"$f":"lang!A689","v":"Class 4.2. : Substances liable for spontaneous combustion"},null,null,null,null,null,null,null,null,null,null,null,null,null,null,null,null,null,null,null,null,null,null,{"$f":"ISERROR(CONCATENATE(D373,F373,H373,J373,L373))","v":false},"c"]
[]
["6.3.4.",{"$f":"lang!A549","v":"other (please indicate)"},null,null,null,null,null,null,null,null,null,null,null,null,null,null,null,null,null,null,null,null,null,null,{"$f":"ISERROR(CONCATENATE(D375,F375,H375,J375,L375))","v":false},5]
[null,{"$f":"lang!A591","v":"Construction material of:"}]
[null,{"$f":"lang!A613","v":"It is envisaged that one warehouse building may have more than one fire compartment. For this reason the below spreadsheet is used by the warehouse to record fire compartment details per building. The combination is identified through the first two columns."},null,null,null,null,null,null,null,null,null,null,null,null,null,null,null,null,null,null,null,null,null,null,{"$f":"ISERROR(CONCATENATE(D377,F377,H377,J377,L377))","v":false},"c"]
[]
["6.4.",{"$f":"lang!A550","v":"Internal walls:"}]
["6.4.1.",{"$f":"lang!A551","v":"concrete/bricks"},null,null,null,null,null,null,null,null,null,null,null,null,null,null,null,null,null,null,null,"d5",{"$f":"OR(AND(ISNA(MATCH(L380,ynna,0)),LEN(L380)>0),AND(ISNA(MATCH(J380,ynna,0)),LEN(J380)>0),AND(ISNA(MATCH(H380,ynna,0)),LEN(H380)>0),AND(ISNA(MATCH(F380,ynna,0)),LEN(F380)>0),AND(ISNA(MATCH(D380,ynna,0)),LEN(D380)>0))","v":false},null,{"$f":"IF(ISERROR(W380), TRUE,W380)","v":false},5]
[null,{"$f":"lang!A590","v":"If available:"}]
[null,{"$f":"lang!A636","v":"Activities included in assessment"},null,null,null,null,null,null,null,null,null,null,null,null,null,null,null,null,null,null,null,null,null,null,{"$f":"ISERROR(CONCATENATE(D382,F382,H382,J382,L382))","v":false},"c"]
[]
["6.4.2.",{"$f":"lang!A552","v":"metal"},null,null,null,null,null,null,null,null,null,null,null,null,null,null,null,null,null,null,null,"d5",{"$f":"OR(AND(ISNA(MATCH(L384,ynna,0)),LEN(L384)>0),AND(ISNA(MATCH(J384,ynna,0)),LEN(J384)>0),AND(ISNA(MATCH(H384,ynna,0)),LEN(H384)>0),AND(ISNA(MATCH(F384,ynna,0)),LEN(F384)>0),AND(ISNA(MATCH(D384,ynna,0)),LEN(D384)>0))","v":false},null,{"$f":"IF(ISERROR(W384), TRUE,W384)","v":false},5]
[null,{"$f":"lang!A647","v":"Shunting yard(s)"}]
[null,{"$f":"lang!A692","v":"Class 5.2. : Organic peroxides"},null,null,null,null,null,null,null,null,null,null,null,null,null,null,null,null,null,null,null,null,null,null,{"$f":"ISERROR(CONCATENATE(D386,F386,H386,J386,L386))","v":false},"c"]
[]
["6.4.3.",{"$f":"lang!A553","v":"wood"},null,null,null,null,null,null,null,null,null,null,null,null,null,null,null,null,null,null,null,"d5",{"$f":"OR(AND(ISNA(MATCH(L388,ynna,0)),LEN(L388)>0),AND(ISNA(MATCH(J388,ynna,0)),LEN(J388)>0),AND(ISNA(MATCH(H388,ynna,0)),LEN(H388)>0),AND(ISNA(MATCH(F388,ynna,0)),LEN(F388)>0),AND(ISNA(MATCH(D388,ynna,0)),LEN(D388)>0))","v":false},null,{"$f":"IF(ISERROR(W388), TRUE,W388)","v":false},5]
[null,{"$f":"lang!A665","v":"Number of let railcars to other companies"}]
[null,{"$f":"lang!A604","v":"polyester/plastic"},null,null,null,null,null,null,null,null,null,null,null,null,null,null,null,null,null,null,null,null,null,null,{"$f":"ISERROR(CONCATENATE(D390,F390,H390,J390,L390))","v":false},"c"]
[]
["6.4.4.",{"$f":"lang!A554","v":"other (please indicate)"},null,null,null,null,null,null,null,null,null,null,null,null,null,null,null,null,null,null,null,null,null,null,{"$f":"ISERROR(CONCATENATE(D392,F392,H392,J392,L392))","v":false},5]
[null,{"$f":"lang!A719","v":"HU - Hungary"}]
[null,{"$f":"lang!A662","v":"Number of own Rail Tank Cars (RTC's)"},null,null,null,null,null,null,null,null,null,null,null,null,null,null,null,null,null,null,null,null,null,null,{"$f":"ISERROR(CONCATENATE(D394,F394,H394,J394,L394))","v":false},"c"]
[]
["6.5.",{"$f":"lang!A555","v":"Roof and supporting construction material:"}]
["6.5.1.",{"$f":"lang!A556","v":"tiles"},null,null,null,null,null,null,null,null,null,null,null,null,null,null,null,null,null,null,null,"d5",{"$f":"OR(AND(ISNA(MATCH(L397,ynna,0)),LEN(L397)>0),AND(ISNA(MATCH(J397,ynna,0)),LEN(J397)>0),AND(ISNA(MATCH(H397,ynna,0)),LEN(H397)>0),AND(ISNA(MATCH(F397,ynna,0)),LEN(F397)>0),AND(ISNA(MATCH(D397,ynna,0)),LEN(D397)>0))","v":false},null,{"$f":"IF(ISERROR(W397), TRUE,W397)","v":false},5]
[null,{"$f":"lang!A605","v":"Internal coating?"}]
[null,{"$f":"lang!A693","v":"Class 6.1. : Toxic substances"},null,null,null,null,null,null,null,null,null,null,null,null,null,null,null,null,null,null,null,null,null,null,{"$f":"ISERROR(CONCATENATE(D399,F399,H399,J399,L399))","v":false},"c"]
[]
["6.5.2.",{"$f":"lang!A557","v":"metal"},null,null,null,null,null,null,null,null,null,null,null,null,null,null,null,null,null,null,null,"d5",{"$f":"OR(AND(ISNA(MATCH(L401,ynna,0)),LEN(L401)>0),AND(ISNA(MATCH(J401,ynna,0)),LEN(J401)>0),AND(ISNA(MATCH(H401,ynna,0)),LEN(H401)>0),AND(ISNA(MATCH(F401,ynna,0)),LEN(F401)>0),AND(ISNA(MATCH(D401,ynna,0)),LEN(D401)>0))","v":false},null,{"$f":"IF(ISERROR(W401), TRUE,W401)","v":false},5]
[null,{"$f":"lang!A666","v":"Fixed storage tanks present "}]
[null,{"$f":"lang!A667","v":"Owned/operated tracks present"},null,null,null,null,null,null,null,null,null,null,null,null,null,null,null,null,null,null,null,null,null,null,{"$f":"ISERROR(CONCATENATE(D403,F403,H403,J403,L403))","v":false},"c"]
[]
["6.5.3.",{"$f":"lang!A558","v":"wood"},null,null,null,null,null,null,null,null,null,null,null,null,null,null,null,null,null,null,null,"d5",{"$f":"OR(AND(ISNA(MATCH(L405,ynna,0)),LEN(L405)>0),AND(ISNA(MATCH(J405,ynna,0)),LEN(J405)>0),AND(ISNA(MATCH(H405,ynna,0)),LEN(H405)>0),AND(ISNA(MATCH(F405,ynna,0)),LEN(F405)>0),AND(ISNA(MATCH(D405,ynna,0)),LEN(D405)>0))","v":false},null,{"$f":"IF(ISERROR(W405), TRUE,W405)","v":false},5]
[null,{"$f":"lang!A607","v":"Are hazardous substances handled (filling/blending) in open systems in the warehouses ?"}]
[null,{"$f":"lang!A668","v":"Maintenance shop"},null,null,null,null,null,null,null,null,null,null,null,null,null,null,null,null,null,null,null,null,null,null,{"$f":"ISERROR(CONCATENATE(D407,F407,H407,J407,L407))","v":false},"c"]
[]
["6.5.4.",{"$f":"lang!A559","v":"other (please indicate)"},null,null,null,null,null,null,null,null,null,null,null,null,null,null,null,null,null,null,null,null,null,null,{"$f":"ISERROR(CONCATENATE(D409,F409,H409,J409,L409))","v":false},5]
[null,{"$f":"lang!A673","v":"Are changes of tare weights and to the label clip weight limits documented and painted on the wagon ?\n"}]
[null,{"$f":"lang!A608","v":"Which classes of hazardous substances are handled in these open systems ?"},null,null,null,null,null,null,null,null,null,null,null,null,null,null,null,null,null,null,null,null,null,null,{"$f":"ISERROR(CONCATENATE(D411,F411,H411,J411,L411))","v":false},"c"]
[]
["6.6.",{"$f":"lang!A560","v":"Floor:"}]
["6.6.1.",{"$f":"lang!A561","v":"concrete"},null,null,null,null,null,null,null,null,null,null,null,null,null,null,null,null,null,null,null,"d5",{"$f":"OR(AND(ISNA(MATCH(L414,ynna,0)),LEN(L414)>0),AND(ISNA(MATCH(J414,ynna,0)),LEN(J414)>0),AND(ISNA(MATCH(H414,ynna,0)),LEN(H414)>0),AND(ISNA(MATCH(F414,ynna,0)),LEN(F414)>0),AND(ISNA(MATCH(D414,ynna,0)),LEN(D414)>0))","v":false},null,{"$f":"IF(ISERROR(W414), TRUE,W414)","v":false},5]
[null,{"$f":"lang!A609","v":"Are drumming lines available ? "}]
[null,{"$f":"lang!A610","v":"Are bagging lines available ?"},null,null,null,null,null,null,null,null,null,null,null,null,null,null,null,null,null,null,null,null,null,null,{"$f":"ISERROR(CONCATENATE(D416,F416,H416,J416,L416))","v":false},"c"]
[]
["6.6.2.",{"$f":"lang!A562","v":"asphalt"},null,null,null,null,null,null,null,null,null,null,null,null,null,null,null,null,null,null,null,"d5",{"$f":"OR(AND(ISNA(MATCH(L418,ynna,0)),LEN(L418)>0),AND(ISNA(MATCH(J418,ynna,0)),LEN(J418)>0),AND(ISNA(MATCH(H418,ynna,0)),LEN(H418)>0),AND(ISNA(MATCH(F418,ynna,0)),LEN(F418)>0),AND(ISNA(MATCH(D418,ynna,0)),LEN(D418)>0))","v":false},null,{"$f":"IF(ISERROR(W418), TRUE,W418)","v":false},5]
[null,{"$f":"lang!A674","v":"Is the next maintenance date documented and painted on the wagon ?"}]
[null,{"$f":"lang!A675","v":"Is the next tank revision date documented and painted on the RTC ?"},null,null,null,null,null,null,null,null,null,null,null,null,null,null,null,null,null,null,null,null,null,null,{"$f":"ISERROR(CONCATENATE(D420,F420,H420,J420,L420))","v":false},"c"]
[]
["6.6.3.",{"$f":"lang!A563","v":"paved"},null,null,null,null,null,null,null,null,null,null,null,null,null,null,null,null,null,null,null,"d5",{"$f":"OR(AND(ISNA(MATCH(L422,ynna,0)),LEN(L422)>0),AND(ISNA(MATCH(J422,ynna,0)),LEN(J422)>0),AND(ISNA(MATCH(H422,ynna,0)),LEN(H422)>0),AND(ISNA(MATCH(F422,ynna,0)),LEN(F422)>0),AND(ISNA(MATCH(D422,ynna,0)),LEN(D422)>0))","v":false},null,{"$f":"IF(ISERROR(W422), TRUE,W422)","v":false},5]
[null,{"$f":"lang!A681","v":"Number of chartered / hired drivers "}]
[null,{"$f":"lang!A702","v":"AM - Armenia"},null,null,null,null,null,null,null,null,null,null,null,null,null,null,null,null,null,null,null,null,null,null,{"$f":"ISERROR(CONCATENATE(D424,F424,H424,J424,L424))","v":false},"c"]
[]
["6.6.4.",{"$f":"lang!A564","v":"impervious"},null,null,null,null,null,null,null,null,null,null,null,null,null,null,null,null,null,null,null,"d5",{"$f":"OR(AND(ISNA(MATCH(L426,ynna,0)),LEN(L426)>0),AND(ISNA(MATCH(J426,ynna,0)),LEN(J426)>0),AND(ISNA(MATCH(H426,ynna,0)),LEN(H426)>0),AND(ISNA(MATCH(F426,ynna,0)),LEN(F426)>0),AND(ISNA(MATCH(D426,ynna,0)),LEN(D426)>0))","v":false},null,{"$f":"IF(ISERROR(W426), TRUE,W426)","v":false},5]
[null,{"$f":"lang!A615","v":"Warehouse"}]
[null,{"$f":"lang!A704","v":"AZ- Azerbaijan"},null,null,null,null,null,null,null,null,null,null,null,null,null,null,null,null,null,null,null,null,null,null,{"$f":"ISERROR(CONCATENATE(D428,F428,H428,J428,L428))","v":false},"c"]
[]
["6.6.5.",{"$f":"lang!A565","v":"other (please indicate)"},null,null,null,null,null,null,null,null,null,null,null,null,null,null,null,null,null,null,null,null,null,null,{"$f":"ISERROR(CONCATENATE(D430,F430,H430,J430,L430))","v":false},5]
[null,{"$f":"lang!A677","v":"Total number of employees"}]
[null,{"$f":"lang!A678","v":"Company own drivers?"},null,null,null,null,null,null,null,null,null,null,null,null,null,null,null,null,null,null,null,null,null,null,{"$f":"ISERROR(CONCATENATE(D432,F432,H432,J432,L432))","v":false},"c"]
[]
["6.7.",{"$f":"lang!A566","v":"Insulation - walls:"}]
["6.7.1.",{"$f":"lang!A567","v":"polyurethane"},null,null,null,null,null,null,null,null,null,null,null,null,null,null,null,null,null,null,null,"d5",{"$f":"OR(AND(ISNA(MATCH(L435,ynna,0)),LEN(L435)>0),AND(ISNA(MATCH(J435,ynna,0)),LEN(J435)>0),AND(ISNA(MATCH(H435,ynna,0)),LEN(H435)>0),AND(ISNA(MATCH(F435,ynna,0)),LEN(F435)>0),AND(ISNA(MATCH(D435,ynna,0)),LEN(D435)>0))","v":false},null,{"$f":"IF(ISERROR(W435), TRUE,W435)","v":false},5]
[null,{"$f":"lang!A618","v":"Area"}]
[null,{"$f":"lang!A655","v":"Do you own locomotives?"},null,null,null,null,null,null,null,null,null,null,null,null,null,null,null,null,null,null,null,null,null,null,{"$f":"ISERROR(CONCATENATE(D437,F437,H437,J437,L437))","v":false},"c"]
[]
["6.7.2.",{"$f":"lang!A568","v":"asbestos"},null,null,null,null,null,null,null,null,null,null,null,null,null,null,null,null,null,null,null,"d5",{"$f":"OR(AND(ISNA(MATCH(L439,ynna,0)),LEN(L439)>0),AND(ISNA(MATCH(J439,ynna,0)),LEN(J439)>0),AND(ISNA(MATCH(H439,ynna,0)),LEN(H439)>0),AND(ISNA(MATCH(F439,ynna,0)),LEN(F439)>0),AND(ISNA(MATCH(D439,ynna,0)),LEN(D439)>0))","v":false},null,{"$f":"IF(ISERROR(W439), TRUE,W439)","v":false},5]
[null,{"$f":"lang!A617","v":"Fire compartment"}]
[null,{"$f":"lang!A603","v":"aluminum"},null,null,null,null,null,null,null,null,null,null,null,null,null,null,null,null,null,null,null,null,null,null,{"$f":"ISERROR(CONCATENATE(D441,F441,H441,J441,L441))","v":false},"c"]
[]
["6.7.3.",{"$f":"lang!A569","v":"glass fiber"},null,null,null,null,null,null,null,null,null,null,null,null,null,null,null,null,null,null,null,"d5",{"$f":"OR(AND(ISNA(MATCH(L443,ynna,0)),LEN(L443)>0),AND(ISNA(MATCH(J443,ynna,0)),LEN(J443)>0),AND(ISNA(MATCH(H443,ynna,0)),LEN(H443)>0),AND(ISNA(MATCH(F443,ynna,0)),LEN(F443)>0),AND(ISNA(MATCH(D443,ynna,0)),LEN(D443)>0))","v":false},null,{"$f":"IF(ISERROR(W443), TRUE,W443)","v":false},5]
[null,{"$f":"lang!A619","v":"[sqm]"}]
[null,{"$f":"lang!A596","v":"Internal coating ?"},null,null,null,null,null,null,null,null,null,null,null,null,null,null,null,null,null,null,null,null,null,null,{"$f":"ISERROR(CONCATENATE(D445,F445,H445,J445,L445))","v":false},"c"]
[]
["6.7.4.",{"$f":"lang!A570","v":"other (please indicate)"},null,null,null,null,null,null,null,null,null,null,null,null,null,null,null,null,null,null,null,null,null,null,{"$f":"ISERROR(CONCATENATE(D447,F447,H447,J447,L447))","v":false},5]
[null,{"$f":"lang!A656","v":"Number of electrical locomotives"}]
[null,{"$f":"lang!A658","v":"Number of shunting locomotives"},null,null,null,null,null,null,null,null,null,null,null,null,null,null,null,null,null,null,null,null,null,null,{"$f":"ISERROR(CONCATENATE(D449,F449,H449,J449,L449))","v":false},"c"]
[]
["6.8.",{"$f":"lang!A571","v":"Insulation - roof:"}]
["6.8.1.",{"$f":"lang!A572","v":"polyurethane"},null,null,null,null,null,null,null,null,null,null,null,null,null,null,null,null,null,null,null,"d5",{"$f":"OR(AND(ISNA(MATCH(L452,ynna,0)),LEN(L452)>0),AND(ISNA(MATCH(J452,ynna,0)),LEN(J452)>0),AND(ISNA(MATCH(H452,ynna,0)),LEN(H452)>0),AND(ISNA(MATCH(F452,ynna,0)),LEN(F452)>0),AND(ISNA(MATCH(D452,ynna,0)),LEN(D452)>0))","v":false},null,{"$f":"IF(ISERROR(W452), TRUE,W452)","v":false},5]
[null,{"$f":"lang!A597","v":"Fixed storage silos for solids"}]
[null,{"$f":"lang!A598","v":"Total capacity of storage silos available (cubic meters) ?"},null,null,null,null,null,null,null,null,null,null,null,null,null,null,null,null,null,null,null,null,null,null,{"$f":"ISERROR(CONCATENATE(D454,F454,H454,J454,L454))","v":false},"c"]
[]
["6.8.2.",{"$f":"lang!A573","v":"asbestos"},null,null,null,null,null,null,null,null,null,null,null,null,null,null,null,null,null,null,null,"d5",{"$f":"OR(AND(ISNA(MATCH(L456,ynna,0)),LEN(L456)>0),AND(ISNA(MATCH(J456,ynna,0)),LEN(J456)>0),AND(ISNA(MATCH(H456,ynna,0)),LEN(H456)>0),AND(ISNA(MATCH(F456,ynna,0)),LEN(F456)>0),AND(ISNA(MATCH(D456,ynna,0)),LEN(D456)>0))","v":false},null,{"$f":"IF(ISERROR(W456), TRUE,W456)","v":false},5]
[null,{"$f":"lang!A599","v":"If available:"}]
[null,{"$f":"lang!A600","v":"Construction material of:"},null,null,null,null,null,null,null,null,null,null,null,null,null,null,null,null,null,null,null,null,null,null,{"$f":"ISERROR(CONCATENATE(D458,F458,H458,J458,L458))","v":false},"c"]
[]
["6.8.3.",{"$f":"lang!A574","v":"glass fiber"},null,null,null,null,null,null,null,null,null,null,null,null,null,null,null,null,null,null,null,"d5",{"$f":"OR(AND(ISNA(MATCH(L460,ynna,0)),LEN(L460)>0),AND(ISNA(MATCH(J460,ynna,0)),LEN(J460)>0),AND(ISNA(MATCH(H460,ynna,0)),LEN(H460)>0),AND(ISNA(MATCH(F460,ynna,0)),LEN(F460)>0),AND(ISNA(MATCH(D460,ynna,0)),LEN(D460)>0))","v":false},null,{"$f":"IF(ISERROR(W460), TRUE,W460)","v":false},5]
[null,{"$f":"lang!A695","v":"Class 7 : Radioactive material"}]
[null,{"$f":"lang!A657","v":"Number of diesel locomotives"},null,null,null,null,null,null,null,null,null,null,null,null,null,null,null,null,null,null,null,null,null,null,{"$f":"ISERROR(CONCATENATE(D462,F462,H462,J462,L462))","v":false},"c"]
[]
["6.8.4.",{"$f":"lang!A575","v":"other (please indicate)"},null,null,null,null,null,null,null,null,null,null,null,null,null,null,null,null,null,null,null,null,null,null,{"$f":"ISERROR(CONCATENATE(D464,F464,H464,J464,L464))","v":false},5]
[null,{"$f":"lang!A690","v":"Class 4.3. : Substances which in contact with water, emit flammable gases"}]
[null,{"$f":"lang!A660","v":"Do you own railcars?"},null,null,null,null,null,null,null,null,null,null,null,null,null,null,null,null,null,null,null,null,null,null,{"$f":"ISERROR(CONCATENATE(D466,F466,H466,J466,L466))","v":false},"c"]
[]
["6.9.",{"$f":"lang!A576","v":"Is the warehouse construction code in line with \"natural disaster guidelines\", if any ?"},null,null,null,null,null,null,null,null,null,null,null,null,null,null,null,null,null,null,null,"d5",{"$f":"OR(AND(ISNA(MATCH(L468,ynna,0)),LEN(L468)>0),AND(ISNA(MATCH(J468,ynna,0)),LEN(J468)>0),AND(ISNA(MATCH(H468,ynna,0)),LEN(H468)>0),AND(ISNA(MATCH(F468,ynna,0)),LEN(F468)>0),AND(ISNA(MATCH(D468,ynna,0)),LEN(D468)>0))","v":false},null,{"$f":"IF(ISERROR(W468), TRUE,W468)","v":false},5]
[null,{"$f":"lang!A622","v":"Storage Type"}]
[null,{"$f":"lang!A623","v":"(Block / Rack / High Rack / Tank / Silo)"},null,null,null,null,null,null,null,null,null,null,null,null,null,null,null,null,null,null,null,null,null,null,{"$f":"ISERROR(CONCATENATE(D470,F470,H470,J470,L470))","v":false},"c"]
[]
[]
["7.",{"$f":"lang!A577","v":"Electrical equipment"}]
["7.1.",{"$f":"lang!A578","v":"Is the electrical installation in accordance with the local regulations and standards ?"},null,null,null,null,null,null,null,null,null,null,null,null,null,null,null,null,null,null,null,"d5",{"$f":"OR(AND(ISNA(MATCH(L474,ynna,0)),LEN(L474)>0),AND(ISNA(MATCH(J474,ynna,0)),LEN(J474)>0),AND(ISNA(MATCH(H474,ynna,0)),LEN(H474)>0),AND(ISNA(MATCH(F474,ynna,0)),LEN(F474)>0),AND(ISNA(MATCH(D474,ynna,0)),LEN(D474)>0))","v":false},null,{"$f":"IF(ISERROR(W474), TRUE,W474)","v":false},5]
[null,{"$f":"lang!A621","v":"(Pallets / Tank / Silo)"}]
[null,{"$f":"lang!A645","v":"Workshop locomotives"},null,null,null,null,null,null,null,null,null,null,null,null,null,null,null,null,null,null,null,null,null,null,{"$f":"ISERROR(CONCATENATE(D476,F476,H476,J476,L476))","v":false},"c"]
[]
["7.2.",{"$f":"lang!A579","v":"Is the electrical installation (inclusive lighting) in accordance to the explosion protection regulations ?"},null,null,null,null,null,null,null,null,null,null,null,null,null,null,null,null,null,null,null,"d5",{"$f":"OR(AND(ISNA(MATCH(L478,ynna,0)),LEN(L478)>0),AND(ISNA(MATCH(J478,ynna,0)),LEN(J478)>0),AND(ISNA(MATCH(H478,ynna,0)),LEN(H478)>0),AND(ISNA(MATCH(F478,ynna,0)),LEN(F478)>0),AND(ISNA(MATCH(D478,ynna,0)),LEN(D478)>0))","v":false},null,{"$f":"IF(ISERROR(W478), TRUE,W478)","v":false},5]
[null,{"$f":"lang!A626","v":"(ADR-Class or Hazardous Symbol)"}]
[null,{"$f":"lang!A627","v":"Risk Phrases"},null,null,null,null,null,null,null,null,null,null,null,null,null,null,null,null,null,null,null,null,null,null,{"$f":"ISERROR(CONCATENATE(D480,F480,H480,J480,L480))","v":false},"c"]
[]
["7.3.",{"$f":"lang!A580","v":"Is the coverage of lighting 100 % ? (yes and/or indicate %)"},null,null,null,null,null,null,null,null,null,null,null,null,null,null,null,null,null,null,null,"d5",{"$f":"OR(AND(ISNA(MATCH(L482,ynna,0)),LEN(L482)>0),AND(ISNA(MATCH(J482,ynna,0)),LEN(J482)>0),AND(ISNA(MATCH(H482,ynna,0)),LEN(H482)>0),AND(ISNA(MATCH(F482,ynna,0)),LEN(F482)>0),AND(ISNA(MATCH(D482,ynna,0)),LEN(D482)>0))","v":false},null,{"$f":"IF(ISERROR(W482), TRUE,W482)","v":false},5]
[null,{"$f":"lang!A631","v":"(existing Y or N)"}]
[null,{"$f":"lang!A632","v":"Fixed extinguishing system"},null,null,null,null,null,null,null,null,null,null,null,null,null,null,null,null,null,null,null,null,null,null,{"$f":"ISERROR(CONCATENATE(D484,F484,H484,J484,L484))","v":false},"c"]
[]
["7.4.",{"$f":"lang!A581","v":"Are safety lights installed in storage areas with safety lamps at least 1.5 m away from the product ?"},null,null,null,null,null,null,null,null,null,null,null,null,null,null,null,null,null,null,null,"d5",{"$f":"OR(AND(ISNA(MATCH(L486,ynna,0)),LEN(L486)>0),AND(ISNA(MATCH(J486,ynna,0)),LEN(J486)>0),AND(ISNA(MATCH(H486,ynna,0)),LEN(H486)>0),AND(ISNA(MATCH(F486,ynna,0)),LEN(F486)>0),AND(ISNA(MATCH(D486,ynna,0)),LEN(D486)>0))","v":false},null,{"$f":"IF(ISERROR(W486), TRUE,W486)","v":false},5]
[null,{"$f":"lang!A634","v":"Comment"}]
[null,{"$f":"lang!A612","v":"Fire Compartments Information :"},null,null,null,null,null,null,null,null,null,null,null,null,null,null,null,null,null,null,null,null,null,null,{"$f":"ISERROR(CONCATENATE(D488,F488,H488,J488,L488))","v":false},"c"]
[]
["7.5.",{"$f":"lang!A582","v":"Is lightning protection installed ?"},null,null,null,null,null,null,null,null,null,null,null,null,null,null,null,null,null,null,null,"d5",{"$f":"OR(AND(ISNA(MATCH(L490,ynna,0)),LEN(L490)>0),AND(ISNA(MATCH(J490,ynna,0)),LEN(J490)>0),AND(ISNA(MATCH(H490,ynna,0)),LEN(H490)>0),AND(ISNA(MATCH(F490,ynna,0)),LEN(F490)>0),AND(ISNA(MATCH(D490,ynna,0)),LEN(D490)>0))","v":false},null,{"$f":"IF(ISERROR(W490), TRUE,W490)","v":false},5]
[null,{"$f":"lang!A639","v":"Corporate"}]
[null,{"$f":"lang!A718","v":"GG - Guernsey"},null,null,null,null,null,null,null,null,null,null,null,null,null,null,null,null,null,null,null,null,null,null,{"$f":"ISERROR(CONCATENATE(D492,F492,H492,J492,L492))","v":false},"c"]
[]
[]
["8.",{"$f":"lang!A583","v":"Handling equipment"}]
["8.1.",{"$f":"lang!A584","v":"Forklift type :"}]
[]
["8.1.1.",{"$f":"lang!A585","v":"gasoil"},null,null,null,null,null,null,null,null,null,null,null,null,null,null,null,null,null,null,null,"d5",{"$f":"OR(AND(ISNA(MATCH(L498,ynna,0)),LEN(L498)>0),AND(ISNA(MATCH(J498,ynna,0)),LEN(J498)>0),AND(ISNA(MATCH(H498,ynna,0)),LEN(H498)>0),AND(ISNA(MATCH(F498,ynna,0)),LEN(F498)>0),AND(ISNA(MATCH(D498,ynna,0)),LEN(D498)>0))","v":false},null,{"$f":"IF(ISERROR(W498), TRUE,W498)","v":false},5]
[null,{"$f":"lang!A642","v":"Engineering/technical"}]
[null,{"$f":"lang!A644","v":"Workshop general maintenance"},null,null,null,null,null,null,null,null,null,null,null,null,null,null,null,null,null,null,null,null,null,null,{"$f":"ISERROR(CONCATENATE(D500,F500,H500,J500,L500))","v":false},"c"]
[]
["8.1.2.",{"$f":"lang!A586","v":"LPG"},null,null,null,null,null,null,null,null,null,null,null,null,null,null,null,null,null,null,null,"d5",{"$f":"OR(AND(ISNA(MATCH(L502,ynna,0)),LEN(L502)>0),AND(ISNA(MATCH(J502,ynna,0)),LEN(J502)>0),AND(ISNA(MATCH(H502,ynna,0)),LEN(H502)>0),AND(ISNA(MATCH(F502,ynna,0)),LEN(F502)>0),AND(ISNA(MATCH(D502,ynna,0)),LEN(D502)>0))","v":false},null,{"$f":"IF(ISERROR(W502), TRUE,W502)","v":false},5]
[null,{"$f":"lang!A685","v":"Class 1 : Explosive substances and articles"}]
[null,{"$f":"lang!A643","v":"Facility management"},null,null,null,null,null,null,null,null,null,null,null,null,null,null,null,null,null,null,null,null,null,null,{"$f":"ISERROR(CONCATENATE(D504,F504,H504,J504,L504))","v":false},"c"]
[]
["8.1.3.",{"$f":"lang!A587","v":"electric"},null,null,null,null,null,null,null,null,null,null,null,null,null,null,null,null,null,null,null,"d5",{"$f":"OR(AND(ISNA(MATCH(L506,ynna,0)),LEN(L506)>0),AND(ISNA(MATCH(J506,ynna,0)),LEN(J506)>0),AND(ISNA(MATCH(H506,ynna,0)),LEN(H506)>0),AND(ISNA(MATCH(F506,ynna,0)),LEN(F506)>0),AND(ISNA(MATCH(D506,ynna,0)),LEN(D506)>0))","v":false},null,{"$f":"IF(ISERROR(W506), TRUE,W506)","v":false},5]
[null,{"$f":"lang!A688","v":"Class 4.1. : Flammable solids,  self-reactive substances and solid desensitized explosives."}]
[null,{"$f":"lang!A646","v":"Network"},null,null,null,null,null,null,null,null,null,null,null,null,null,null,null,null,null,null,null,null,null,null,{"$f":"ISERROR(CONCATENATE(D508,F508,H508,J508,L508))","v":false},"c"]
[]
[]
["9.",{"$f":"lang!A588","v":"Fixed storage tanks for liquids"}]
["9.1.",{"$f":"lang!A589","v":"Total capacity of storage tanks available (cubic meters) ?"},null,null,null,null,null,null,null,null,null,null,null,null,null,null,null,null,null,null,null,"n5",{"$f":"OR(AND(NOT(ISNUMBER(L512)),LEN(L512)>0),AND(NOT(ISNUMBER(J512)),LEN(J512)>0),AND(NOT(ISNUMBER(H512)),LEN(H512)>0),AND(NOT(ISNUMBER(F512)),LEN(F512)>0),AND(NOT(ISNUMBER(D512)),LEN(D512)>0))","v":false},null,{"$f":"IF(ISERROR(W512), TRUE,W512)","v":false},5]
[null,{"$f":"lang!A705","v":"BY - Belarus"}]
[null,{"$f":"lang!A647","v":"Shunting yard(s)"},null,null,null,null,null,null,null,null,null,null,null,null,null,null,null,null,null,null,null,null,null,null,{"$f":"ISERROR(CONCATENATE(D514,F514,H514,J514,L514))","v":false},"c"]
[null,{"$f":"lang!A590","v":"If available:"}]
["9.2.",{"$f":"lang!A591","v":"Construction material of:"}]
["9.2.1.",{"$f":"lang!A592","v":"stainless steel"},null,null,null,null,null,null,null,null,null,null,null,null,null,null,null,null,null,null,null,"d5",{"$f":"OR(AND(ISNA(MATCH(L517,ynna,0)),LEN(L517)>0),AND(ISNA(MATCH(J517,ynna,0)),LEN(J517)>0),AND(ISNA(MATCH(H517,ynna,0)),LEN(H517)>0),AND(ISNA(MATCH(F517,ynna,0)),LEN(F517)>0),AND(ISNA(MATCH(D517,ynna,0)),LEN(D517)>0))","v":false},null,{"$f":"IF(ISERROR(W517), TRUE,W517)","v":false},5]
[null,{"$f":"lang!A648","v":"Is the company mentioned in the list of committed RU's to UIC 471-3?"}]
[null,{"$f":"lang!A649","v":"Is the company certified by the National Safety Agency?"},null,null,null,null,null,null,null,null,null,null,null,null,null,null,null,null,null,null,null,null,null,null,{"$f":"ISERROR(CONCATENATE(D519,F519,H519,J519,L519))","v":false},"c"]
[]
["9.2.2.",{"$f":"lang!A593","v":"carbon steel"},null,null,null,null,null,null,null,null,null,null,null,null,null,null,null,null,null,null,null,"d5",{"$f":"OR(AND(ISNA(MATCH(L521,ynna,0)),LEN(L521)>0),AND(ISNA(MATCH(J521,ynna,0)),LEN(J521)>0),AND(ISNA(MATCH(H521,ynna,0)),LEN(H521)>0),AND(ISNA(MATCH(F521,ynna,0)),LEN(F521)>0),AND(ISNA(MATCH(D521,ynna,0)),LEN(D521)>0))","v":false},null,{"$f":"IF(ISERROR(W521), TRUE,W521)","v":false},5]
[null,{"$f":"lang!A652","v":"Subcontracting"}]
[null,{"$f":"lang!A653","v":"Do you subcontract the traction to (other) RU?"},null,null,null,null,null,null,null,null,null,null,null,null,null,null,null,null,null,null,null,null,null,null,{"$f":"ISERROR(CONCATENATE(D523,F523,H523,J523,L523))","v":false},"c"]
[]
["9.2.3.",{"$f":"lang!A594","v":"aluminum"},null,null,null,null,null,null,null,null,null,null,null,null,null,null,null,null,null,null,null,"d5",{"$f":"OR(AND(ISNA(MATCH(L525,ynna,0)),LEN(L525)>0),AND(ISNA(MATCH(J525,ynna,0)),LEN(J525)>0),AND(ISNA(MATCH(H525,ynna,0)),LEN(H525)>0),AND(ISNA(MATCH(F525,ynna,0)),LEN(F525)>0),AND(ISNA(MATCH(D525,ynna,0)),LEN(D525)>0))","v":false},null,{"$f":"IF(ISERROR(W525), TRUE,W525)","v":false},5]
[null,{"$f":"lang!A613","v":"It is envisaged that one warehouse building may have more than one fire compartment. For this reason the below spreadsheet is used by the warehouse to record fire compartment details per building. The combination is identified through the first two columns."}]
[null,{"$f":"lang!A614","v":"(example WH1 / Compartment X)"},null,null,null,null,null,null,null,null,null,null,null,null,null,null,null,null,null,null,null,null,null,null,{"$f":"ISERROR(CONCATENATE(D527,F527,H527,J527,L527))","v":false},"c"]
[]
["9.2.4.",{"$f":"lang!A595","v":"polyester/plastic"},null,null,null,null,null,null,null,null,null,null,null,null,null,null,null,null,null,null,null,"d5",{"$f":"OR(AND(ISNA(MATCH(L529,ynna,0)),LEN(L529)>0),AND(ISNA(MATCH(J529,ynna,0)),LEN(J529)>0),AND(ISNA(MATCH(H529,ynna,0)),LEN(H529)>0),AND(ISNA(MATCH(F529,ynna,0)),LEN(F529)>0),AND(ISNA(MATCH(D529,ynna,0)),LEN(D529)>0))","v":false},null,{"$f":"IF(ISERROR(W529), TRUE,W529)","v":false},5]
[null,{"$f":"lang!A617","v":"Fire compartment"}]
[null,{"$f":"lang!A618","v":"Area"},null,null,null,null,null,null,null,null,null,null,null,null,null,null,null,null,null,null,null,null,null,null,{"$f":"ISERROR(CONCATENATE(D531,F531,H531,J531,L531))","v":false},"c"]
[]
["9.3.",{"$f":"lang!A596","v":"Internal coating ?"},null,null,null,null,null,null,null,null,null,null,null,null,null,null,null,null,null,null,null,"d5",{"$f":"OR(AND(ISNA(MATCH(L533,ynna,0)),LEN(L533)>0),AND(ISNA(MATCH(J533,ynna,0)),LEN(J533)>0),AND(ISNA(MATCH(H533,ynna,0)),LEN(H533)>0),AND(ISNA(MATCH(F533,ynna,0)),LEN(F533)>0),AND(ISNA(MATCH(D533,ynna,0)),LEN(D533)>0))","v":false},null,{"$f":"IF(ISERROR(W533), TRUE,W533)","v":false},5]
[null,{"$f":"lang!A616","v":"(identification)"}]
[null,{"$f":"lang!A656","v":"Number of electrical locomotives"},null,null,null,null,null,null,null,null,null,null,null,null,null,null,null,null,null,null,null,null,null,null,{"$f":"ISERROR(CONCATENATE(D535,F535,H535,J535,L535))","v":false},"c"]
[]
[]
["10.",{"$f":"lang!A597","v":"Fixed storage silos for solids"}]
["10.1.",{"$f":"lang!A598","v":"Total capacity of storage silos available (cubic meters) ?"},null,null,null,null,null,null,null,null,null,null,null,null,null,null,null,null,null,null,null,"n5",{"$f":"OR(AND(NOT(ISNUMBER(L539)),LEN(L539)>0),AND(NOT(ISNUMBER(J539)),LEN(J539)>0),AND(NOT(ISNUMBER(H539)),LEN(H539)>0),AND(NOT(ISNUMBER(F539)),LEN(F539)>0),AND(NOT(ISNUMBER(D539)),LEN(D539)>0))","v":false},null,{"$f":"IF(ISERROR(W539), TRUE,W539)","v":false},5]
[null,{"$f":"lang!A620","v":"Max. storage amount"}]
[null,{"$f":"lang!A655","v":"Do you own locomotives?"},null,null,null,null,null,null,null,null,null,null,null,null,null,null,null,null,null,null,null,null,null,null,{"$f":"ISERROR(CONCATENATE(D541,F541,H541,J541,L541))","v":false},"c"]
[null,{"$f":"lang!A599","v":"If available:"}]
["10.2.",{"$f":"lang!A600","v":"Construction material of:"}]
["10.2.1.",{"$f":"lang!A601","v":"stainless steel"},null,null,null,null,null,null,null,null,null,null,null,null,null,null,null,null,null,null,null,"d5",{"$f":"OR(AND(ISNA(MATCH(L544,ynna,0)),LEN(L544)>0),AND(ISNA(MATCH(J544,ynna,0)),LEN(J544)>0),AND(ISNA(MATCH(H544,ynna,0)),LEN(H544)>0),AND(ISNA(MATCH(F544,ynna,0)),LEN(F544)>0),AND(ISNA(MATCH(D544,ynna,0)),LEN(D544)>0))","v":false},null,{"$f":"ISERROR(CONCATENATE(D544,F544,H544,J544,L544))","v":false},5]
[null,{"$f":"lang!A695","v":"Class 7 : Radioactive material"}]
[null,{"$f":"lang!A657","v":"Number of diesel locomotives"},null,null,null,null,null,null,null,null,null,null,null,null,null,null,null,null,null,null,null,null,null,null,{"$f":"ISERROR(CONCATENATE(D546,F546,H546,J546,L546))","v":false},"c"]
[]
["10.2.2.",{"$f":"lang!A602","v":"carbon steel"},null,null,null,null,null,null,null,null,null,null,null,null,null,null,null,null,null,null,null,"d5",{"$f":"OR(AND(ISNA(MATCH(L548,ynna,0)),LEN(L548)>0),AND(ISNA(MATCH(J548,ynna,0)),LEN(J548)>0),AND(ISNA(MATCH(H548,ynna,0)),LEN(H548)>0),AND(ISNA(MATCH(F548,ynna,0)),LEN(F548)>0),AND(ISNA(MATCH(D548,ynna,0)),LEN(D548)>0))","v":false},null,{"$f":"ISERROR(CONCATENATE(D548,F548,H548,J548,L548))","v":false},5]
[null,{"$f":"lang!A690","v":"Class 4.3. : Substances which in contact with water, emit flammable gases"}]
[null,{"$f":"lang!A660","v":"Do you own railcars?"},null,null,null,null,null,null,null,null,null,null,null,null,null,null,null,null,null,null,null,null,null,null,{"$f":"ISERROR(CONCATENATE(D550,F550,H550,J550,L550))","v":false},"c"]
[]
["10.2.3.",{"$f":"lang!A603","v":"aluminum"},null,null,null,null,null,null,null,null,null,null,null,null,null,null,null,null,null,null,null,"d5",{"$f":"OR(AND(ISNA(MATCH(L552,ynna,0)),LEN(L552)>0),AND(ISNA(MATCH(J552,ynna,0)),LEN(J552)>0),AND(ISNA(MATCH(H552,ynna,0)),LEN(H552)>0),AND(ISNA(MATCH(F552,ynna,0)),LEN(F552)>0),AND(ISNA(MATCH(D552,ynna,0)),LEN(D552)>0))","v":false},null,{"$f":"ISERROR(CONCATENATE(D552,F552,H552,J552,L552))","v":false},5]
[null,{"$f":"lang!A664","v":"Number of rented railcars"}]
[null,{"$f":"lang!A692","v":"Class 5.2. : Organic peroxides"},null,null,null,null,null,null,null,null,null,null,null,null,null,null,null,null,null,null,null,null,null,null,{"$f":"ISERROR(CONCATENATE(D554,F554,H554,J554,L554))","v":false},"c"]
[]
["10.2.4.",{"$f":"lang!A604","v":"polyester/plastic"},null,null,null,null,null,null,null,null,null,null,null,null,null,null,null,null,null,null,null,"d5",{"$f":"OR(AND(ISNA(MATCH(L556,ynna,0)),LEN(L556)>0),AND(ISNA(MATCH(J556,ynna,0)),LEN(J556)>0),AND(ISNA(MATCH(H556,ynna,0)),LEN(H556)>0),AND(ISNA(MATCH(F556,ynna,0)),LEN(F556)>0),AND(ISNA(MATCH(D556,ynna,0)),LEN(D556)>0))","v":false},null,{"$f":"ISERROR(CONCATENATE(D556,F556,H556,J556,L556))","v":false},5]
[null,{"$f":"lang!A719","v":"HU - Hungary"}]
[null,{"$f":"lang!A662","v":"Number of own Rail Tank Cars (RTC's)"},null,null,null,null,null,null,null,null,null,null,null,null,null,null,null,null,null,null,null,null,null,null,{"$f":"ISERROR(CONCATENATE(D558,F558,H558,J558,L558))","v":false},"c"]
[]
["10.3.",{"$f":"lang!A605","v":"Internal coating?"},null,null,null,null,null,null,null,null,null,null,null,null,null,null,null,null,null,null,null,"d5",{"$f":"OR(AND(ISNA(MATCH(L560,ynna,0)),LEN(L560)>0),AND(ISNA(MATCH(J560,ynna,0)),LEN(J560)>0),AND(ISNA(MATCH(H560,ynna,0)),LEN(H560)>0),AND(ISNA(MATCH(F560,ynna,0)),LEN(F560)>0),AND(ISNA(MATCH(D560,ynna,0)),LEN(D560)>0))","v":false},null,{"$f":"ISERROR(CONCATENATE(D560,F560,H560,J560,L560))","v":false},5]
[null,{"$f":"lang!A693","v":"Class 6.1. : Toxic substances"}]
[null,{"$f":"lang!A666","v":"Fixed storage tanks present "},null,null,null,null,null,null,null,null,null,null,null,null,null,null,null,null,null,null,null,null,null,null,{"$f":"ISERROR(CONCATENATE(D562,F562,H562,J562,L562))","v":false},"c"]
[]
[]
["11.",{"$f":"lang!A606","v":"Operations"}]
["11.1.",{"$f":"lang!A607","v":"Are hazardous substances handled (filling/blending) in open systems in the warehouses ?"},null,null,null,null,null,null,null,null,null,null,null,null,null,null,null,null,null,null,null,"d5",{"$f":"OR(AND(ISNA(MATCH(L566,ynna,0)),LEN(L566)>0),AND(ISNA(MATCH(J566,ynna,0)),LEN(J566)>0),AND(ISNA(MATCH(H566,ynna,0)),LEN(H566)>0),AND(ISNA(MATCH(F566,ynna,0)),LEN(F566)>0),AND(ISNA(MATCH(D566,ynna,0)),LEN(D566)>0))","v":false},null,{"$f":"ISERROR(CONCATENATE(D566,F566,H566,J566,L566))","v":false},5]
[null,{"$f":"lang!A668","v":"Maintenance shop"}]
[null,{"$f":"lang!A669","v":"Does the maintenance plan include the checking of site equipment ?"},null,null,null,null,null,null,null,null,null,null,null,null,null,null,null,null,null,null,null,null,null,null,{"$f":"ISERROR(CONCATENATE(D568,F568,H568,J568,L568))","v":false},"c"]
[]
["11.2.",{"$f":"lang!A608","v":"Which classes of hazardous substances are handled in these open systems ?"},null,null,null,null,null,null,null,null,null,null,null,null,null,null,null,null,null,null,null,"d5",{"$f":"OR(AND(ISNA(MATCH(L570,ynna,0)),LEN(L570)>0),AND(ISNA(MATCH(J570,ynna,0)),LEN(J570)>0),AND(ISNA(MATCH(H570,ynna,0)),LEN(H570)>0),AND(ISNA(MATCH(F570,ynna,0)),LEN(F570)>0),AND(ISNA(MATCH(D570,ynna,0)),LEN(D570)>0))","v":false},null,{"$f":"ISERROR(CONCATENATE(D570,F570,H570,J570,L570))","v":false},5]
[null,{"$f":"lang!A670","v":"Does the maintenance plan include a procedure for the checking of"}]
[null,{"$f":"lang!A671","v":"- tare weights ?"},null,null,null,null,null,null,null,null,null,null,null,null,null,null,null,null,null,null,null,null,null,null,{"$f":"ISERROR(CONCATENATE(D572,F572,H572,J572,L572))","v":false},"c"]
[]
["11.3.",{"$f":"lang!A609","v":"Are drumming lines available ? "},null,null,null,null,null,null,null,null,null,null,null,null,null,null,null,null,null,null,null,"d5",{"$f":"OR(AND(ISNA(MATCH(L574,ynna,0)),LEN(L574)>0),AND(ISNA(MATCH(J574,ynna,0)),LEN(J574)>0),AND(ISNA(MATCH(H574,ynna,0)),LEN(H574)>0),AND(ISNA(MATCH(F574,ynna,0)),LEN(F574)>0),AND(ISNA(MATCH(D574,ynna,0)),LEN(D574)>0))","v":false},null,{"$f":"ISERROR(CONCATENATE(D574,F574,H574,J574,L574))","v":false},5]
[null,{"$f":"lang!A674","v":"Is the next maintenance date documented and painted on the wagon ?"}]
[null,{"$f":"lang!A675","v":"Is the next tank revision date documented and painted on the RTC ?"},null,null,null,null,null,null,null,null,null,null,null,null,null,null,null,null,null,null,null,null,null,null,{"$f":"ISERROR(CONCATENATE(D576,F576,H576,J576,L576))","v":false},"c"]
[]
["11.4.",{"$f":"lang!A610","v":"Are bagging lines available ?"},null,null,null,null,null,null,null,null,null,null,null,null,null,null,null,null,null,null,null,"d5",{"$f":"OR(AND(ISNA(MATCH(L578,ynna,0)),LEN(L578)>0),AND(ISNA(MATCH(J578,ynna,0)),LEN(J578)>0),AND(ISNA(MATCH(H578,ynna,0)),LEN(H578)>0),AND(ISNA(MATCH(F578,ynna,0)),LEN(F578)>0),AND(ISNA(MATCH(D578,ynna,0)),LEN(D578)>0))","v":false},null,{"$f":"ISERROR(CONCATENATE(D578,F578,H578,J578,L578))","v":false},5]
[null,{"$f":"lang!A615","v":"Warehouse"}]
[null,{"$f":"lang!A704","v":"AZ- Azerbaijan"},null,null,null,null,null,null,null,null,null,null,null,null,null,null,null,null,null,null,null,null,null,null,{"$f":"ISERROR(CONCATENATE(D580,F580,H580,J580,L580))","v":false},"c"]
[]
[]
[null,{"$f":"Status!$K$14","v":"Please check the next sheet (Status)"}]
[null,{"$f":"HYPERLINK(Status!$L$14,Status!$K$14)","v":"Please check the next sheet (Status)"}]

{"sheet":"WH - FCI","index":6,"n_rows":245,"n_cols":26,"rows_kept":245,"cut":false,"hidden":false,"merged":[[0,1,0,4],[1,1,1,4],[2,1,2,4],[4,0,4,10],[5,0,5,10],[9,0,9,10],[13,0,14,0],[15,5,16,5],[6,0,6,10],[12,1,12,7],[13,4,14,4],[11,0,11,10],[13,7,15,7],[13,1,14,1],[13,3,14,3],[244,1,244,10],[15,3,16,3],[13,10,16,10],[243,1,243,10],[13,2,14,2],[13,5,13,6],[13,8,15,8],[13,9,15,9],[15,4,16,4]]}
[null,{"$f":"IF(X1,lang!A30,lang!A31)","v":"This sheet doesn't need to be answered"},null,null,null,null,null,null,null,null,null,null,null,null,null,null,null,null,null,null,null,null,null,{"$f":"'General Information'!U117","v":false},0]
[null,{"$f":"IF(X1,IF(Y2,lang!A32,IF(X2,lang!A33,lang!A34)),\"\")","v":""},null,null,null,null,null,null,null,null,null,null,null,null,null,null,null,null,null,null,null,null,null,{"$f":"X15","v":true},{"$f":"Y15","v":false}]
[null,{"$f":"IF(Y3,lang!A35,IF(X3,lang!A36,lang!A37))","v":"The document is not yet completed"},null,null,null,null,null,null,null,null,null,null,null,null,null,null,null,null,null,null,null,null,null,{"$f":"NOT(Status!F20)","v":false},{"$f":"Status!G20","v":false}]
[]
["Gulf SQAS 2025"]
[{"$f":"lang!A41","v":"ASSESSMENT INFORMATION AND SCOPE - Part II"}]
[{"$f":"lang!A19","v":"Warehouse"}]
["4.2.1.",{"$f":"lang!A612","v":"Fire Compartments Information :"}]
[]
[{"$f":"lang!A613","v":"It is envisaged that one warehouse building may have more than one fire compartment. For this reason the below spreadsheet is used by the warehouse to record fire compartment details per building. The combination is identified through the first two columns."}]
[]
[{"$f":"lang!A614","v":"(example WH1 / Compartment X)"}]
[]
[{"$f":"lang!A615","v":"Warehouse"},{"$f":"lang!A617","v":"Fire compartment"},{"$f":"lang!A618","v":"Area"},{"$f":"lang!A620","v":"Max. storage amount"},{"$f":"lang!A622","v":"Storage Type"},{"$f":"lang!A624","v":"Permitted products to store"},null,{"$f":"lang!A630","v":"Smoke detection system"},{"$f":"lang!A632","v":"Fixed extinguishing system"},{"$f":"lang!A633","v":"Smoke and heat vents"},{"$f":"lang!A634","v":"Comment"}]
[null,null,null,null,null,{"$f":"lang!A625","v":"Classification"},null,null,null,null,null,null,null,null,null,null,null,null,null,null,null,null,null,true,{"$f":"(OR(Y17:Y242))","v":false}]
[{"$f":"lang!A616","v":"(identification)"},{"$f":"lang!A616","v":"(identification)"},{"$f":"lang!A619","v":"[sqm]"},{"$f":"lang!A621","v":"(Pallets / Tank / Silo)"},{"$f":"lang!A623","v":"(Block / Rack / High Rack / Tank / Silo)"},{"$f":"lang!A626","v":"(ADR-Class or Hazardous Symbol)"},null,null,null,null,null,null,null,null,null,null,null,null,null,null,null,null,"Validation","Mand OK","Error"]
[null,null,null,null,null,null,null,{"$f":"lang!A631","v":"(existing Y or N)"},{"$f":"lang!A631","v":"(existing Y or N)"},{"$f":"lang!A631","v":"(existing Y or N)"}]
[null,null,null,null,null,null,null,null,null,null,null,null,null,null,null,null,null,null,null,null,null,null,{"$f":"OR(AND(NOT(ISNUMBER(C18)),LEN(C18)>0),AND(ISNA(MATCH(H18,ynna,0)),LEN(H18)>0),AND(ISNA(MATCH(I18,ynna,0)),LEN(I18)>0),AND(ISNA(MATCH(J18,ynna,0)),LEN(J18)>0))","v":false},null,{"$f":"IF(ISERROR(CONCATENATE(A18,B18,C18,D18,E18,F18,G18,H18,I18,J18,K18,W18)),TRUE,W18)","v":false},"1"]
[null,null,null,null,null,null,null,null,null,null,null,null,null,null,null,null,null,null,null,null,null,null,false,null,{"$f":"IF(ISERROR(CONCATENATE(A19,B19,C19,D19,E19,F19,G19,H19,I19,J19,K19,W19)),TRUE,W19)","v":false},{"$f":"Z18+1","v":2}]
[null,null,null,null,null,null,null,null,null,null,null,null,null,null,null,null,null,null,null,null,null,null,false,null,false,{"$f":"Z19+1","v":3}]
[null,null,null,null,null,null,null,null,null,null,null,null,null,null,null,null,null,null,null,null,null,null,false,null,false,4]
[null,null,null,null,null,null,null,null,null,null,null,null,null,null,null,null,null,null,null,null,null,null,false,null,false,5]
[null,null,null,null,null,null,null,null,null,null,null,null,null,null,null,null,null,null,null,null,null,null,false,null,false,6]
[null,null,null,null,null,null,null,null,null,null,null,null,null,null,null,null,null,null,null,null,null,null,false,null,false,7]
[null,null,null,null,null,null,null,null,null,null,null,null,null,null,null,null,null,null,null,null,null,null,false,null,false,8]
[null,null,null,null,null,null,null,null,null,null,null,null,null,null,null,null,null,null,null,null,null,null,false,null,false,9]
[null,null,null,null,null,null,null,null,null,null,null,null,null,null,null,null,null,null,null,null,null,null,false,null,false,10]
[null,null,null,null,null,null,null,null,null,null,null,null,null,null,null,null,null,null,null,null,null,null,false,null,false,11]
[null,null,null,null,null,null,null,null,null,null,null,null,null,null,null,null,null,null,null,null,null,null,false,null,false,12]
[null,null,null,null,null,null,null,null,null,null,null,null,null,null,null,null,null,null,null,null,null,null,false,null,false,13]
[null,null,null,null,null,null,null,null,null,null,null,null,null,null,null,null,null,null,null,null,null,null,false,null,false,14]
[null,null,null,null,null,null,null,null,null,null,null,null,null,null,null,null,null,null,null,null,null,null,false,null,false,15]
[null,null,null,null,null,null,null,null,null,null,null,null,null,null,null,null,null,null,null,null,null,null,false,null,false,16]
[null,null,null,null,null,null,null,null,null,null,null,null,null,null,null,null,null,null,null,null,null,null,false,null,false,17]
[null,null,null,null,null,null,null,null,null,null,null,null,null,null,null,null,null,null,null,null,null,null,false,null,false,18]
[null,null,null,null,null,null,null,null,null,null,null,null,null,null,null,null,null,null,null,null,null,null,false,null,false,19]
[null,null,null,null,null,null,null,null,null,null,null,null,null,null,null,null,null,null,null,null,null,null,false,null,false,20]
[null,null,null,null,null,null,null,null,null,null,null,null,null,null,null,null,null,null,null,null,null,null,false,null,false,21]
[null,null,null,null,null,null,null,null,null,null,null,null,null,null,null,null,null,null,null,null,null,null,false,null,false,22]
[null,null,null,null,null,null,null,null,null,null,null,null,null,null,null,null,null,null,null,null,null,null,false,null,false,23]
[null,null,null,null,null,null,null,null,null,null,null,null,null,null,null,null,null,null,null,null,null,null,false,null,false,24]
[null,null,null,null,null,null,null,null,null,null,null,null,null,null,null,null,null,null,null,null,null,null,false,null,false,25]
[null,null,null,null,null,null,null,null,null,null,null,null,null,null,null,null,null,null,null,null,null,null,false,null,false,26]
[null,null,null,null,null,null,null,null,null,null,null,null,null,null,null,null,null,null,null,null,null,null,false,null,false,27]
[null,null,null,null,null,null,null,null,null,null,null,null,null,null,null,null,null,null,null,null,null,null,false,null,false,28]
[null,null,null,null,null,null,null,null,null,null,null,null,null,null,null,null,null,null,null,null,null,null,false,null,false,29]
[null,null,null,null,null,null,null,null,null,null,null,null,null,null,null,null,null,null,null,null,null,null,false,null,false,30]
[null,null,null,null,null,null,null,null,null,null,null,null,null,null,null,null,null,null,null,null,null,null,false,null,false,31]
[null,null,null,null,null,null,null,null,null,null,null,null,null,null,null,null,null,null,null,null,null,null,false,null,false,32]
[null,null,null,null,null,null,null,null,null,null,null,null,null,null,null,null,null,null,null,null,null,null,false,null,false,33]
[null,null,null,null,null,null,null,null,null,null,null,null,null,null,null,null,null,null,null,null,null,null,false,null,false,34]
[null,null,null,null,null,null,null,null,null,null,null,null,null,null,null,null,null,null,null,null,null,null,false,null,false,35]
[null,null,null,null,null,null,null,null,null,null,null,null,null,null,null,null,null,null,null,null,null,null,false,null,false,36]
[null,null,null,null,null,null,null,null,null,null,null,null,null,null,null,null,null,null,null,null,null,null,false,null,false,37]
[null,null,null,null,null,null,null,null,null,null,null,null,null,null,null,null,null,null,null,null,null,null,false,null,false,38]
[null,null,null,null,null,null,null,null,null,null,null,null,null,null,null,null,null,null,null,null,null,null,false,null,false,39]
[null,null,null,null,null,null,null,null,null,null,null,null,null,null,null,null,null,null,null,null,null,null,false,null,false,40]
[null,null,null,null,null,null,null,null,null,null,null,null,null,null,null,null,null,null,null,null,null,null,false,null,false,41]
[null,null,null,null,null,null,null,null,null,null,null,null,null,null,null,null,null,null,null,null,null,null,false,null,false,42]
[null,null,null,null,null,null,null,null,null,null,null,null,null,null,null,null,null,null,null,null,null,null,false,null,false,43]
[null,null,null,null,null,null,null,null,null,null,null,null,null,null,null,null,null,null,null,null,null,null,false,null,false,44]
[null,null,null,null,null,null,null,null,null,null,null,null,null,null,null,null,null,null,null,null,null,null,false,null,false,45]
[null,null,null,null,null,null,null,null,null,null,null,null,null,null,null,null,null,null,null,null,null,null,false,null,false,46]
[null,null,null,null,null,null,null,null,null,null,null,null,null,null,null,null,null,null,null,null,null,null,false,null,false,47]
[null,null,null,null,null,null,null,null,null,null,null,null,null,null,null,null,null,null,null,null,null,null,false,null,false,48]
[null,null,null,null,null,null,null,null,null,null,null,null,null,null,null,null,null,null,null,null,null,null,false,null,false,49]
[null,null,null,null,null,null,null,null,null,null,null,null,null,null,null,null,null,null,null,null,null,null,false,null,false,50]
[null,null,null,null,null,null,null,null,null,null,null,null,null,null,null,null,null,null,null,null,null,null,false,null,false,51]
[null,null,null,null,null,null,null,null,null,null,null,null,null,null,null,null,null,null,null,null,null,null,false,null,false,52]
[null,null,null,null,null,null,null,null,null,null,null,null,null,null,null,null,null,null,null,null,null,null,false,null,false,53]
[null,null,null,null,null,null,null,null,null,null,null,null,null,null,null,null,null,null,null,null,null,null,false,null,false,54]
[null,null,null,null,null,null,null,null,null,null,null,null,null,null,null,null,null,null,null,null,null,null,false,null,false,55]
[null,null,null,null,null,null,null,null,null,null,null,null,null,null,null,null,null,null,null,null,null,null,false,null,false,56]
[null,null,null,null,null,null,null,null,null,null,null,null,null,null,null,null,null,null,null,null,null,null,false,null,false,57]
[null,null,null,null,null,null,null,null,null,null,null,null,null,null,null,null,null,null,null,null,null,null,false,null,false,58]
[null,null,null,null,null,null,null,null,null,null,null,null,null,null,null,null,null,null,null,null,null,null,false,null,false,59]
[null,null,null,null,null,null,null,null,null,null,null,null,null,null,null,null,null,null,null,null,null,null,false,null,false,60]
[null,null,null,null,null,null,null,null,null,null,null,null,null,null,null,null,null,null,null,null,null,null,false,null,false,61]
[null,null,null,null,null,null,null,null,null,null,null,null,null,null,null,null,null,null,null,null,null,null,false,null,false,62]
[null,null,null,null,null,null,null,null,null,null,null,null,null,null,null,null,null,null,null,null,null,null,false,null,false,63]
[null,null,null,null,null,null,null,null,null,null,null,null,null,null,null,null,null,null,null,null,null,null,false,null,false,64]
[null,null,null,null,null,null,null,null,null,null,null,null,null,null,null,null,null,null,null,null,null,null,{"$f":"OR(AND(NOT(ISNUMBER(C82)),LEN(C82)>0),AND(ISNA(MATCH(H82,ynna,0)),LEN(H82)>0),AND(ISNA(MATCH(I82,ynna,0)),LEN(I82)>0),AND(ISNA(MATCH(J82,ynna,0)),LEN(J82)>0))","v":false},null,false,65]
[null,null,null,null,null,null,null,null,null,null,null,null,null,null,null,null,null,null,null,null,null,null,false,null,{"$f":"IF(ISERROR(CONCATENATE(A83,B83,C83,D83,E83,F83,G83,H83,I83,J83,K83,W83)),TRUE,W83)","v":false},66]
[null,null,null,null,null,null,null,null,null,null,null,null,null,null,null,null,null,null,null,null,null,null,false,null,false,{"$f":"Z83+1","v":67}]
[null,null,null,null,null,null,null,null,null,null,null,null,null,null,null,null,null,null,null,null,null,null,false,null,false,68]
[null,null,null,null,null,null,null,null,null,null,null,null,null,null,null,null,null,null,null,null,null,null,false,null,false,69]
[null,null,null,null,null,null,null,null,null,null,null,null,null,null,null,null,null,null,null,null,null,null,false,null,false,70]
[null,null,null,null,null,null,null,null,null,null,null,null,null,null,null,null,null,null,null,null,null,null,false,null,false,71]
[null,null,null,null,null,null,null,null,null,null,null,null,null,null,null,null,null,null,null,null,null,null,false,null,false,72]
[null,null,null,null,null,null,null,null,null,null,null,null,null,null,null,null,null,null,null,null,null,null,false,null,false,73]
[null,null,null,null,null,null,null,null,null,null,null,null,null,null,null,null,null,null,null,null,null,null,false,null,false,74]
[null,null,null,null,null,null,null,null,null,null,null,null,null,null,null,null,null,null,null,null,null,null,false,null,false,75]
[null,null,null,null,null,null,null,null,null,null,null,null,null,null,null,null,null,null,null,null,null,null,false,null,false,76]
[null,null,null,null,null,null,null,null,null,null,null,null,null,null,null,null,null,null,null,null,null,null,false,null,false,77]
[null,null,null,null,null,null,null,null,null,null,null,null,null,null,null,null,null,null,null,null,null,null,false,null,false,78]
[null,null,null,null,null,null,null,null,null,null,null,null,null,null,null,null,null,null,null,null,null,null,false,null,false,79]
[null,null,null,null,null,null,null,null,null,null,null,null,null,null,null,null,null,null,null,null,null,null,false,null,false,80]
[null,null,null,null,null,null,null,null,null,null,null,null,null,null,null,null,null,null,null,null,null,null,false,null,false,81]
[null,null,null,null,null,null,null,null,null,null,null,null,null,null,null,null,null,null,null,null,null,null,false,null,false,82]
[null,null,null,null,null,null,null,null,null,null,null,null,null,null,null,null,null,null,null,null,null,null,false,null,false,83]
[null,null,null,null,null,null,null,null,null,null,null,null,null,null,null,null,null,null,null,null,null,null,false,null,false,84]
[null,null,null,null,null,null,null,null,null,null,null,null,null,null,null,null,null,null,null,null,null,null,false,null,false,85]
[null,null,null,null,null,null,null,null,null,null,null,null,null,null,null,null,null,null,null,null,null,null,false,null,false,86]
[null,null,null,null,null,null,null,null,null,null,null,null,null,null,null,null,null,null,null,null,null,null,false,null,false,87]
[null,null,null,null,null,null,null,null,null,null,null,null,null,null,null,null,null,null,null,null,null,null,false,null,false,88]
[null,null,null,null,null,null,null,null,null,null,null,null,null,null,null,null,null,null,null,null,null,null,false,null,false,89]
[null,null,null,null,null,null,null,null,null,null,null,null,null,null,null,null,null,null,null,null,null,null,false,null,false,90]
[null,null,null,null,null,null,null,null,null,null,null,null,null,null,null,null,null,null,null,null,null,null,false,null,false,91]
[null,null,null,null,null,null,null,null,null,null,null,null,null,null,null,null,null,null,null,null,null,null,false,null,false,92]
[null,null,null,null,null,null,null,null,null,null,null,null,null,null,null,null,null,null,null,null,null,null,false,null,false,93]
[null,null,null,null,null,null,null,null,null,null,null,null,null,null,null,null,null,null,null,null,null,null,false,null,false,94]
[null,null,null,null,null,null,null,null,null,null,null,null,null,null,null,null,null,null,null,null,null,null,false,null,false,95]
[null,null,null,null,null,null,null,null,null,null,null,null,null,null,null,null,null,null,null,null,null,null,false,null,false,96]
[null,null,null,null,null,null,null,null,null,null,null,null,null,null,null,null,null,null,null,null,null,null,false,null,false,97]
[null,null,null,null,null,null,null,null,null,null,null,null,null,null,null,null,null,null,null,null,null,null,false,null,false,98]
[null,null,null,null,null,null,null,null,null,null,null,null,null,null,null,null,null,null,null,null,null,null,false,null,false,99]
[null,null,null,null,null,null,null,null,null,null,null,null,null,null,null,null,null,null,null,null,null,null,false,null,false,100]
[null,null,null,null,null,null,null,null,null,null,null,null,null,null,null,null,null,null,null,null,null,null,false,null,false,101]
[null,null,null,null,null,null,null,null,null,null,null,null,null,null,null,null,null,null,null,null,null,null,false,null,false,102]
[null,null,null,null,null,null,null,null,null,null,null,null,null,null,null,null,null,null,null,null,null,null,false,null,false,103]
[null,null,null,null,null,null,null,null,null,null,null,null,null,null,null,null,null,null,null,null,null,null,false,null,false,104]
[null,null,null,null,null,null,null,null,null,null,null,null,null,null,null,null,null,null,null,null,null,null,false,null,false,105]
[null,null,null,null,null,null,null,null,null,null,null,null,null,null,null,null,null,null,null,null,null,null,false,null,false,106]
[null,null,null,null,null,null,null,null,null,null,null,null,null,null,null,null,null,null,null,null,null,null,false,null,false,107]
[null,null,null,null,null,null,null,null,null,null,null,null,null,null,null,null,null,null,null,null,null,null,false,null,false,108]
[null,null,null,null,null,null,null,null,null,null,null,null,null,null,null,null,null,null,null,null,null,null,false,null,false,109]
[null,null,null,null,null,null,null,null,null,null,null,null,null,null,null,null,null,null,null,null,null,null,false,null,false,110]
[null,null,null,null,null,null,null,null,null,null,null,null,null,null,null,null,null,null,null,null,null,null,false,null,false,111]
[null,null,null,null,null,null,null,null,null,null,null,null,null,null,null,null,null,null,null,null,null,null,false,null,false,112]
[null,null,null,null,null,null,null,null,null,null,null,null,null,null,null,null,null,null,null,null,null,null,false,null,false,113]
[null,null,null,null,null,null,null,null,null,null,null,null,null,null,null,null,null,null,null,null,null,null,false,null,false,114]
[null,null,null,null,null,null,null,null,null,null,null,null,null,null,null,null,null,null,null,null,null,null,false,null,false,115]
[null,null,null,null,null,null,null,null,null,null,null,null,null,null,null,null,null,null,null,null,null,null,false,null,false,116]
[null,null,null,null,null,null,null,null,null,null,null,null,null,null,null,null,null,null,null,null,null,null,false,null,false,117]
[null,null,null,null,null,null,null,null,null,null,null,null,null,null,null,null,null,null,null,null,null,null,false,null,false,118]
[null,null,null,null,null,null,null,null,null,null,null,null,null,null,null,null,null,null,null,null,null,null,false,null,false,119]
[null,null,null,null,null,null,null,null,null,null,null,null,null,null,null,null,null,null,null,null,null,null,false,null,false,120]
[null,null,null,null,null,null,null,null,null,null,null,null,null,null,null,null,null,null,null,null,null,null,false,null,false,121]
[null,null,null,null,null,null,null,null,null,null,null,null,null,null,null,null,null,null,null,null,null,null,false,null,false,122]
[null,null,null,null,null,null,null,null,null,null,null,null,null,null,null,null,null,null,null,null,null,null,false,null,false,123]
[null,null,null,null,null,null,null,null,null,null,null,null,null,null,null,null,null,null,null,null,null,null,false,null,false,124]
[null,null,null,null,null,null,null,null,null,null,null,null,null,null,null,null,null,null,null,null,null,null,false,null,false,125]
[null,null,null,null,null,null,null,null,null,null,null,null,null,null,null,null,null,null,null,null,null,null,false,null,false,126]
[null,null,null,null,null,null,null,null,null,null,null,null,null,null,null,null,null,null,null,null,null,null,false,null,false,127]
[null,null,null,null,null,null,null,null,null,null,null,null,null,null,null,null,null,null,null,null,null,null,false,null,false,128]
[null,null,null,null,null,null,null,null,null,null,null,null,null,null,null,null,null,null,null,null,null,null,{"$f":"OR(AND(NOT(ISNUMBER(C146)),LEN(C146)>0),AND(ISNA(MATCH(H146,ynna,0)),LEN(H146)>0),AND(ISNA(MATCH(I146,ynna,0)),LEN(I146)>0),AND(ISNA(MATCH(J146,ynna,0)),LEN(J146)>0))","v":false},null,false,129]
[null,null,null,null,null,null,null,null,null,null,null,null,null,null,null,null,null,null,null,null,null,null,false,null,{"$f":"IF(ISERROR(CONCATENATE(A147,B147,C147,D147,E147,F147,G147,H147,I147,J147,K147,W147)),TRUE,W147)","v":false},130]
[null,null,null,null,null,null,null,null,null,null,null,null,null,null,null,null,null,null,null,null,null,null,false,null,false,{"$f":"Z147+1","v":131}]
[null,null,null,null,null,null,null,null,null,null,null,null,null,null,null,null,null,null,null,null,null,null,false,null,false,132]
[null,null,null,null,null,null,null,null,null,null,null,null,null,null,null,null,null,null,null,null,null,null,false,null,false,133]
[null,null,null,null,null,null,null,null,null,null,null,null,null,null,null,null,null,null,null,null,null,null,false,null,false,134]
[null,null,null,null,null,null,null,null,null,null,null,null,null,null,null,null,null,null,null,null,null,null,false,null,false,135]
[null,null,null,null,null,null,null,null,null,null,null,null,null,null,null,null,null,null,null,null,null,null,false,null,false,136]
[null,null,null,null,null,null,null,null,null,null,null,null,null,null,null,null,null,null,null,null,null,null,false,null,false,137]
[null,null,null,null,null,null,null,null,null,null,null,null,null,null,null,null,null,null,null,null,null,null,false,null,false,138]
[null,null,null,null,null,null,null,null,null,null,null,null,null,null,null,null,null,null,null,null,null,null,false,null,false,139]
[null,null,null,null,null,null,null,null,null,null,null,null,null,null,null,null,null,null,null,null,null,null,false,null,false,140]
[null,null,null,null,null,null,null,null,null,null,null,null,null,null,null,null,null,null,null,null,null,null,false,null,false,141]
[null,null,null,null,null,null,null,null,null,null,null,null,null,null,null,null,null,null,null,null,null,null,false,null,false,142]
[null,null,null,null,null,null,null,null,null,null,null,null,null,null,null,null,null,null,null,null,null,null,false,null,false,143]
[null,null,null,null,null,null,null,null,null,null,null,null,null,null,null,null,null,null,null,null,null,null,false,null,false,144]
[null,null,null,null,null,null,null,null,null,null,null,null,null,null,null,null,null,null,null,null,null,null,false,null,false,145]
[null,null,null,null,null,null,null,null,null,null,null,null,null,null,null,null,null,null,null,null,null,null,false,null,false,146]
[null,null,null,null,null,null,null,null,null,null,null,null,null,null,null,null,null,null,null,null,null,null,false,null,false,147]
[null,null,null,null,null,null,null,null,null,null,null,null,null,null,null,null,null,null,null,null,null,null,false,null,false,148]
[null,null,null,null,null,null,null,null,null,null,null,null,null,null,null,null,null,null,null,null,null,null,false,null,false,149]
[null,null,null,null,null,null,null,null,null,null,null,null,null,null,null,null,null,null,null,null,null,null,false,null,false,150]
[null,null,null,null,null,null,null,null,null,null,null,null,null,null,null,null,null,null,null,null,null,null,false,null,false,151]
[null,null,null,null,null,null,null,null,null,null,null,null,null,null,null,null,null,null,null,null,null,null,false,null,false,152]
[null,null,null,null,null,null,null,null,null,null,null,null,null,null,null,null,null,null,null,null,null,null,false,null,false,153]
[null,null,null,null,null,null,null,null,null,null,null,null,null,null,null,null,null,null,null,null,null,null,false,null,false,154]
[null,null,null,null,null,null,null,null,null,null,null,null,null,null,null,null,null,null,null,null,null,null,false,null,false,155]
[null,null,null,null,null,null,null,null,null,null,null,null,null,null,null,null,null,null,null,null,null,null,false,null,false,156]
[null,null,null,null,null,null,null,null,null,null,null,null,null,null,null,null,null,null,null,null,null,null,false,null,false,157]
[null,null,null,null,null,null,null,null,null,null,null,null,null,null,null,null,null,null,null,null,null,null,false,null,false,158]
[null,null,null,null,null,null,null,null,null,null,null,null,null,null,null,null,null,null,null,null,null,null,false,null,false,159]
[null,null,null,null,null,null,null,null,null,null,null,null,null,null,null,null,null,null,null,null,null,null,false,null,false,160]
[null,null,null,null,null,null,null,null,null,null,null,null,null,null,null,null,null,null,null,null,null,null,false,null,false,161]
[null,null,null,null,null,null,null,null,null,null,null,null,null,null,null,null,null,null,null,null,null,null,false,null,false,162]
[null,null,null,null,null,null,null,null,null,null,null,null,null,null,null,null,null,null,null,null,null,null,false,null,false,163]
[null,null,null,null,null,null,null,null,null,null,null,null,null,null,null,null,null,null,null,null,null,null,false,null,false,164]
[null,null,null,null,null,null,null,null,null,null,null,null,null,null,null,null,null,null,null,null,null,null,false,null,false,165]
[null,null,null,null,null,null,null,null,null,null,null,null,null,null,null,null,null,null,null,null,null,null,false,null,false,166]
[null,null,null,null,null,null,null,null,null,null,null,null,null,null,null,null,null,null,null,null,null,null,false,null,false,167]
[null,null,null,null,null,null,null,null,null,null,null,null,null,null,null,null,null,null,null,null,null,null,false,null,false,168]
[null,null,null,null,null,null,null,null,null,null,null,null,null,null,null,null,null,null,null,null,null,null,false,null,false,169]
[null,null,null,null,null,null,null,null,null,null,null,null,null,null,null,null,null,null,null,null,null,null,false,null,false,170]
[null,null,null,null,null,null,null,null,null,null,null,null,null,null,null,null,null,null,null,null,null,null,false,null,false,171]
[null,null,null,null,null,null,null,null,null,null,null,null,null,null,null,null,null,null,null,null,null,null,false,null,false,172]
[null,null,null,null,null,null,null,null,null,null,null,null,null,null,null,null,null,null,null,null,null,null,false,null,false,173]
[null,null,null,null,null,null,null,null,null,null,null,null,null,null,null,null,null,null,null,null,null,null,false,null,false,174]
[null,null,null,null,null,null,null,null,null,null,null,null,null,null,null,null,null,null,null,null,null,null,false,null,false,175]
[null,null,null,null,null,null,null,null,null,null,null,null,null,null,null,null,null,null,null,null,null,null,false,null,false,176]
[null,null,null,null,null,null,null,null,null,null,null,null,null,null,null,null,null,null,null,null,null,null,false,null,false,177]
[null,null,null,null,null,null,null,null,null,null,null,null,null,null,null,null,null,null,null,null,null,null,false,null,false,178]
[null,null,null,null,null,null,null,null,null,null,null,null,null,null,null,null,null,null,null,null,null,null,false,null,false,179]
[null,null,null,null,null,null,null,null,null,null,null,null,null,null,null,null,null,null,null,null,null,null,false,null,false,180]
[null,null,null,null,null,null,null,null,null,null,null,null,null,null,null,null,null,null,null,null,null,null,false,null,false,181]
[null,null,null,null,null,null,null,null,null,null,null,null,null,null,null,null,null,null,null,null,null,null,false,null,false,182]
[null,null,null,null,null,null,null,null,null,null,null,null,null,null,null,null,null,null,null,null,null,null,false,null,false,183]
[null,null,null,null,null,null,null,null,null,null,null,null,null,null,null,null,null,null,null,null,null,null,false,null,false,184]
[null,null,null,null,null,null,null,null,null,null,null,null,null,null,null,null,null,null,null,null,null,null,false,null,false,185]
[null,null,null,null,null,null,null,null,null,null,null,null,null,null,null,null,null,null,null,null,null,null,false,null,false,186]
[null,null,null,null,null,null,null,null,null,null,null,null,null,null,null,null,null,null,null,null,null,null,false,null,false,187]
[null,null,null,null,null,null,null,null,null,null,null,null,null,null,null,null,null,null,null,null,null,null,false,null,false,188]
[null,null,null,null,null,null,null,null,null,null,null,null,null,null,null,null,null,null,null,null,null,null,false,null,false,189]
[null,null,null,null,null,null,null,null,null,null,null,null,null,null,null,null,null,null,null,null,null,null,false,null,false,190]
[null,null,null,null,null,null,null,null,null,null,null,null,null,null,null,null,null,null,null,null,null,null,false,null,false,191]
[null,null,null,null,null,null,null,null,null,null,null,null,null,null,null,null,null,null,null,null,null,null,false,null,false,192]
[null,null,null,null,null,null,null,null,null,null,null,null,null,null,null,null,null,null,null,null,null,null,{"$f":"OR(AND(NOT(ISNUMBER(C210)),LEN(C210)>0),AND(ISNA(MATCH(H210,ynna,0)),LEN(H210)>0),AND(ISNA(MATCH(I210,ynna,0)),LEN(I210)>0),AND(ISNA(MATCH(J210,ynna,0)),LEN(J210)>0))","v":false},null,false,193]
[null,null,null,null,null,null,null,null,null,null,null,null,null,null,null,null,null,null,null,null,null,null,false,null,{"$f":"IF(ISERROR(CONCATENATE(A211,B211,C211,D211,E211,F211,G211,H211,I211,J211,K211,W211)),TRUE,W211)","v":false},194]
[null,null,null,null,null,null,null,null,null,null,null,null,null,null,null,null,null,null,null,null,null,null,false,null,false,{"$f":"Z211+1","v":195}]
[null,null,null,null,null,null,null,null,null,null,null,null,null,null,null,null,null,null,null,null,null,null,false,null,false,196]
[null,null,null,null,null,null,null,null,null,null,null,null,null,null,null,null,null,null,null,null,null,null,false,null,false,197]
[null,null,null,null,null,null,null,null,null,null,null,null,null,null,null,null,null,null,null,null,null,null,false,null,false,198]
[null,null,null,null,null,null,null,null,null,null,null,null,null,null,null,null,null,null,null,null,null,null,false,null,false,199]
[null,null,null,null,null,null,null,null,null,null,null,null,null,null,null,null,null,null,null,null,null,null,false,null,false,200]
[null,null,null,null,null,null,null,null,null,null,null,null,null,null,null,null,null,null,null,null,null,null,false,null,false,201]
[null,null,null,null,null,null,null,null,null,null,null,null,null,null,null,null,null,null,null,null,null,null,false,null,false,202]
[null,null,null,null,null,null,null,null,null,null,null,null,null,null,null,null,null,null,null,null,null,null,false,null,false,203]
[null,null,null,null,null,null,null,null,null,null,null,null,null,null,null,null,null,null,null,null,null,null,false,null,false,204]
[null,null,null,null,null,null,null,null,null,null,null,null,null,null,null,null,null,null,null,null,null,null,false,null,false,205]
[null,null,null,null,null,null,null,null,null,null,null,null,null,null,null,null,null,null,null,null,null,null,false,null,false,206]
[null,null,null,null,null,null,null,null,null,null,null,null,null,null,null,null,null,null,null,null,null,null,false,null,false,207]
[null,null,null,null,null,null,null,null,null,null,null,null,null,null,null,null,null,null,null,null,null,null,false,null,false,208]
[null,null,null,null,null,null,null,null,null,null,null,null,null,null,null,null,null,null,null,null,null,null,false,null,false,209]
[null,null,null,null,null,null,null,null,null,null,null,null,null,null,null,null,null,null,null,null,null,null,false,null,false,210]
[null,null,null,null,null,null,null,null,null,null,null,null,null,null,null,null,null,null,null,null,null,null,false,null,false,211]
[null,null,null,null,null,null,null,null,null,null,null,null,null,null,null,null,null,null,null,null,null,null,false,null,false,212]
[null,null,null,null,null,null,null,null,null,null,null,null,null,null,null,null,null,null,null,null,null,null,false,null,false,213]
[null,null,null,null,null,null,null,null,null,null,null,null,null,null,null,null,null,null,null,null,null,null,false,null,false,214]
[null,null,null,null,null,null,null,null,null,null,null,null,null,null,null,null,null,null,null,null,null,null,false,null,false,215]
[null,null,null,null,null,null,null,null,null,null,null,null,null,null,null,null,null,null,null,null,null,null,false,null,false,216]
[null,null,null,null,null,null,null,null,null,null,null,null,null,null,null,null,null,null,null,null,null,null,false,null,false,217]
[null,null,null,null,null,null,null,null,null,null,null,null,null,null,null,null,null,null,null,null,null,null,false,null,false,218]
[null,null,null,null,null,null,null,null,null,null,null,null,null,null,null,null,null,null,null,null,null,null,false,null,false,219]
[null,null,null,null,null,null,null,null,null,null,null,null,null,null,null,null,null,null,null,null,null,null,false,null,false,220]
[null,null,null,null,null,null,null,null,null,null,null,null,null,null,null,null,null,null,null,null,null,null,false,null,false,221]
[null,null,null,null,null,null,null,null,null,null,null,null,null,null,null,null,null,null,null,null,null,null,false,null,false,222]
[null,null,null,null,null,null,null,null,null,null,null,null,null,null,null,null,null,null,null,null,null,null,false,null,false,223]
[null,null,null,null,null,null,null,null,null,null,null,null,null,null,null,null,null,null,null,null,null,null,false,null,false,224]
[null,null,null,null,null,null,null,null,null,null,null,null,null,null,null,null,null,null,null,null,null,null,false,null,false,225]
[]
[null,{"$f":"Status!$K$15","v":"Please check the next sheet (Status)"}]
[null,{"$f":"HYPERLINK(Status!$L$15,Status!$K$15)","v":"Please check the next sheet (Status)"}]

{"sheet":"WH - II(2)","index":7,"n_rows":584,"n_cols":28,"rows_kept":584,"cut":false,"hidden":false,"merged":[[582,1,582,15],[583,1,583,15],[489,1,491,1],[497,1,499,1],[501,1,503,1],[538,1,540,1],[532,1,534,1],[555,1,557,1],[559,1,561,1],[547,1,549,1],[551,1,553,1],[543,1,545,1],[579,3,579,11],[565,1,567,1],[569,1,571,1],[573,1,575,1],[577,1,579,1],[534,3,534,11],[540,3,540,11],[545,3,545,11],[549,3,549,11],[553,3,553,11],[503,3,503,11],[561,3,561,11],[528,1,530,1],[175,1,177,1],[179,1,181,1],[190,1,192,1],[194,1,196,1],[524,1,526,1],[459,1,461,1],[467,1,469,1],[485,1,488,1],[520,1,522,1],[505,1,507,1],[442,1,444,1],[477,1,479,1],[473,1,475,1],[481,1,483,1],[463,1,465,1],[511,1,513,1],[455,1,457,1],[425,1,427,1],[413,1,415,1],[417,1,419,1],[446,1,448,1],[451,1,453,1],[516,1,518,1],[438,1,440,1],[429,1,431,1],[434,1,436,1],[421,1,423,1],[404,1,406,1],[408,1,410,1],[396,1,398,1],[400,1,402,1],[387,1,389,1],[391,1,393,1],[379,1,381,1],[383,1,385,1],[370,1,372,1],[374,1,376,1],[362,1,364,1],[366,1,368,1],[353,1,355,1],[357,1,359,1],[345,1,347,1],[349,1,351,1],[334,1,336,1],[341,1,343,1],[330,1,332,1],[311,1,313,1],[315,1,317,1],[319,1,321,1],[281,1,284,1],[285,1,288,1],[289,1,292,1],[293,1,296,1],[297,1,299,1],[301,1,303,1],[307,1,310,1],[326,1,328,1],[273,1,276,1],[277,1,280,1],[261,1,264,1],[265,1,267,1],[269,1,271,1],[202,1,203,1],[205,1,207,1],[209,1,212,1],[222,3,222,11],[203,3,203,11],[207,3,207,11],[211,3,211,11],[220,1,223,1],[263,3,263,11],[257,3,257,11],[267,3,267,11],[271,3,271,11],[275,3,275,11],[225,1,228,1],[229,1,232,1],[227,3,227,11],[231,3,231,11],[235,3,235,11],[255,1,259,1],[163,1,165,1],[167,1,169,1],[171,1,173,1],[196,3,196,11],[199,3,199,11],[201,3,201,11],[198,1,199,1],[200,1,201,1],[155,1,157,1],[159,1,161,1],[157,3,157,11],[161,3,161,11],[165,3,165,11],[173,3,173,11],[177,3,177,11],[181,3,181,11],[169,3,169,11],[185,3,185,11],[183,1,185,1],[192,3,192,11],[147,1,149,1],[151,1,153,1],[138,1,140,1],[143,1,145,1],[130,1,132,1],[134,1,136,1],[122,1,124,1],[126,1,128,1],[100,3,100,11],[124,3,124,11],[128,3,128,11],[132,3,132,11],[136,3,136,11],[140,3,140,11],[145,3,145,11],[149,3,149,11],[153,3,153,11],[87,3,87,11],[114,1,116,1],[118,1,120,1],[106,1,108,1],[110,1,112,1],[94,1,96,1],[98,1,100,1],[104,3,104,11],[102,1,104,1],[108,3,108,11],[112,3,112,11],[116,3,116,11],[120,3,120,11],[85,1,87,1],[88,1,88,11],[90,1,92,1],[92,3,92,11],[96,3,96,11],[62,1,64,1],[77,1,79,1],[30,1,32,1],[34,1,36,1],[48,3,48,11],[52,3,52,11],[56,3,56,11],[60,3,60,11],[64,3,64,11],[68,3,68,11],[54,1,56,1],[58,1,60,1],[66,1,68,1],[74,3,74,11],[79,3,79,11],[42,1,44,1],[46,1,48,1],[50,1,52,1],[83,3,83,11],[81,1,83,1],[72,1,74,1],[38,1,40,1],[4,0,4,11],[5,0,5,11],[6,0,6,11],[7,0,7,11],[10,1,10,11],[14,3,14,11],[8,0,8,11],[11,1,11,11],[9,1,9,11],[15,3,15,11],[17,3,17,11],[32,3,32,11],[36,3,36,11],[40,3,40,11],[44,3,44,11],[25,1,25,11],[26,1,27,11],[19,3,19,11],[21,3,21,11],[23,3,23,11],[233,1,236,1],[253,3,253,11],[251,1,254,1],[239,1,242,1],[245,3,245,11],[249,3,249,11],[241,3,241,11],[243,1,245,1],[247,1,249,1],[279,3,279,11],[283,3,283,11],[287,3,287,11],[313,3,313,11],[317,3,317,11],[291,3,291,11],[295,3,295,11],[299,3,299,11],[303,3,303,11],[309,3,309,11],[321,3,321,11],[328,3,328,11],[332,3,332,11],[336,3,336,11],[343,3,343,11],[364,3,364,11],[368,3,368,11],[372,3,372,11],[347,3,347,11],[351,3,351,11],[355,3,355,11],[359,3,359,11],[376,3,376,11],[381,3,381,11],[385,3,385,11],[389,3,389,11],[393,3,393,11],[398,3,398,11],[402,3,402,11],[406,3,406,11],[410,3,410,11],[415,3,415,11],[419,3,419,11],[423,3,423,11],[427,3,427,11],[431,3,431,11],[436,3,436,11],[440,3,440,11],[444,3,444,11],[448,3,448,11],[567,3,567,11],[571,3,571,11],[575,3,575,11],[557,3,557,11],[507,3,507,11],[513,3,513,11],[518,3,518,11],[453,3,453,11],[457,3,457,11],[461,3,461,11],[465,3,465,11],[469,3,469,11],[475,3,475,11],[522,3,522,11],[526,3,526,11],[530,3,530,11],[479,3,479,11],[483,3,483,11],[487,3,487,11],[491,3,491,11],[499,3,499,11]]}
[null,{"$f":"IF(X1,lang!A30,lang!A31)","v":"This sheet doesn't need to be answered"},null,null,null,null,null,null,null,null,null,null,null,null,null,null,null,null,null,null,null,null,null,{"$f":"AND('General Information'!U117,T14>0)","v":false},{"$f":"IF(R_WH2,AB14,0)","v":0}]
[null,{"$f":"IF(X1,IF(Y2,lang!A32,IF(X2,lang!A33,lang!A34)),\"\")","v":""},null,null,null,null,null,null,null,null,null,null,null,null,null,null,null,null,null,null,null,null,null,{"$f":"X14","v":true},{"$f":"Y14","v":false}]
[null,{"$f":"IF(Y3,lang!A35,IF(X3,lang!A36,lang!A37))","v":"The document is not yet completed"},null,null,null,null,null,null,null,null,null,null,null,null,null,null,null,null,null,null,null,null,null,{"$f":"NOT(Status!F20)","v":false},{"$f":"Status!G20","v":false}]
[]
["Gulf SQAS 2025"]
[{"$f":"lang!A41","v":"ASSESSMENT INFORMATION AND SCOPE - Part II"}]
[{"$f":"lang!A17","v":"Warehouse - 2"}]
[{"$f":"lang!A42","v":"(Items marked with a (*) and/or magenta background must always be completed)"}]
[{"$f":"lang!A43","v":"(For checkboxes \"checked\" means \"Yes\", \"unchecked\" - \"No\")"}]
[null,{"$f":"lang!A424","v":"This complete document, together with the Fire Compartment data, is to be prepared by the Warehousing Company, well ahead of the Assessment, and to be provided to the assessor, for preparation of the assessment and entry in the system."}]
[null,{"$f":"lang!A425","v":"It is envisaged that storage companies may have more than one warehouse building on the assessed site to store Foodstuff and/or Chemical products. For this reason the spreadsheet used to record warehouse details per building, contains five columns. "}]
[null,{"$f":"lang!A426","v":"(if more buildings on premises, use additional sheet)"}]
[]
[null,{"$f":"lang!A427","v":"Reference list of WH number versus site's identification of buildings"},null,null,null,null,null,null,null,null,null,null,null,null,null,null,null,null,null,{"$f":"'WH - II(1)'!T24","v":0},null,null,{"$f":"T14>0","v":false},{"$f":"AND(X16:X580)","v":true},{"$f":"OR(Y16:Y580)","v":false},null,null,{"$f":"SUM(AB16:AB580)","v":0}]
[null,{"$f":"lang!A428","v":"WH-number"},null,{"$f":"lang!A429","v":"Site's identification of buildings"}]
[null,{"$f":"lang!A435","v":"WH6"},null,null,null,null,null,null,null,null,null,null,null,null,null,null,null,null,null,{"$f":"IF(LEN(TRIM(D16))>0,1000,0)","v":0},null,null,{"$f":"T16>T14","v":false},{"$f":"NOT(W16)","v":true},{"$f":"ISERROR(CONCATENATE(D16,F16,H16,J16,L16))","v":false}]
[]
[null,{"$f":"lang!A436","v":"WH7"},null,null,null,null,null,null,null,null,null,null,null,null,null,null,null,null,null,{"$f":"IF(LEN(TRIM(D18))>0,1000,0)","v":0},null,null,{"$f":"T18>T16","v":false},{"$f":"NOT(W18)","v":true},{"$f":"ISERROR(CONCATENATE(D18,F18,H18,J18,L18))","v":false}]
[]
[null,{"$f":"lang!A437","v":"WH8"},null,null,null,null,null,null,null,null,null,null,null,null,null,null,null,null,null,{"$f":"IF(LEN(TRIM(D20))>0,1000,0)","v":0},null,null,{"$f":"T20>T18","v":false},{"$f":"NOT(W20)","v":true},{"$f":"ISERROR(CONCATENATE(D20,F20,H20,J20,L20))","v":false}]
[]
[null,{"$f":"lang!A438","v":"WH9"},null,null,null,null,null,null,null,null,null,null,null,null,null,null,null,null,null,{"$f":"IF(LEN(TRIM(D22))>0,1000,0)","v":0},null,null,{"$f":"T22>T20","v":false},{"$f":"NOT(W22)","v":true},{"$f":"ISERROR(CONCATENATE(D22,F22,H22,J22,L22))","v":false}]
[]
[null,{"$f":"lang!A439","v":"WH10"},null,null,null,null,null,null,null,null,null,null,null,null,null,null,null,null,null,{"$f":"IF(LEN(TRIM(D24))>0,1000,0)","v":0},null,null,{"$f":"T24>T22","v":false},{"$f":"NOT(W24)","v":true},{"$f":"ISERROR(CONCATENATE(D24,F24,H24,J24,L24))","v":false}]
[]
[null,{"$f":"lang!A445","v":"Please complete the appropriate boxes below for site or per warehouse-building :"},{"$f":"lang!B445","v":"Please complete the appropriate boxes below for site or per warehouse-building :"},{"$f":"lang!C445","v":"Bitte vervollständigen Sie die geeigneten Kästchen unterhalb für Standort oder für Lagergebäude"},{"$f":"lang!D445","v":"Por favor complete as células Excel apropriadas abaixo, para cada local a ser avaliado ou por cada edifício de armazenagem"},{"$f":"lang!E445","v":"Veuillez compléter les cadres appropriés pour le site ou par bâtiment d'entreposage"},{"$f":"lang!F445","v":"Por favor completar las casillas de debajo apropiadas para la instalación o los edificios de almacenamiento:"},{"$f":"lang!G445","v":"Si prega di completare gli appositi spazi sottostanti per sito o per singolo deposito:"},{"$f":"lang!H445","v":"Udfyld venligst de passende felter nedenfor pr. lokation eller lagerbygning"},{"$f":"lang!I445","v":"Ole hyvä ja täytä kyseeseen tulevat toimipaikkaa tai varastorakennuksia koskevat kohdat alla"},{"$f":"lang!J445","v":"Proszę uzupełnić odpowiednie  pola poniżej, w odniesieniu do lokalizacji lub budynku magazynu."},{"$f":"lang!K445","v":"A.u.b. de onderstaande vakken invullen voor de locatie of per magazijn/gebouw"}]
[null,{"$f":"lang!A446","v":"(tick with \"Y\", \"N\", \"N/A\" or provide appropriate answer, eg number, add your comments in the yellow zone please)"},{"$f":"lang!B446","v":"(tick with \"Y\", \"N\", \"N/A\" or provide appropriate answer, eg number, add your comments in the yellow zone please)"},{"$f":"lang!C446","v":"Haken Sie ab mit \"Y\", N\"; \"N/A\" oder schreiben Sie eine geeignete Antwort und fügen Sie bitte ihre Kommentare in die gelbe Zone ein)"},{"$f":"lang!D446","v":"(preencha com \"S\", \"N\", \"N/A\" ou efectue uma adequada resposta, por exemplo, referindo o número da pergunta na zona amarela e adicione os seu comentários"},{"$f":"lang!E446","v":"marquer avec \"O\", \"N\", \"N/A\" ou fournir une réponse appropriée, ex un nombre, veuiller ajouter vos commentaires dans la zone jaune."},{"$f":"lang!F446","v":"(indicar \"Y\", \"N\", \"N/A\" o una respuesta adecuada, ej: número, añadir comentarios en el área amarilla por favor)"},{"$f":"lang!G446","v":"Inserire \"Y\", \"N\", \"NA\" o inserire una risposta appropriata, per esempio numero, o aggiungere commenti nello spazio giallo."},{"$f":"lang!H446","v":"(afkrys med \"J\", \"N\", \"N/A\" eller angiv venligst passende svar, f.eks. nummer, tilføj dine kommentarer i det gule felt)"},{"$f":"lang!I446","v":"(merkitse \"Y\" -kyllä, \"N\" - ei, \"N/A\" - ei sovellettavissa, tai kirjoita siihen kuuluva vastaus, ts. varaston numero ja kirjaa kommentit keltaiseen alueeseen)"},{"$f":"lang!J446","v":"(zaznacz \"Y'' - tak,  ''N'' - nie, ''N/A'' - nie dotyczy albo wpisz komentarz w zółtym plu - np. numer)"},{"$f":"lang!K446","v":"(duid aan \"J\", \"N\", \"NVT\" of geef een gepast antwoord, bvb. een getal. Zet uw opmerkingen in de gele zone a.u.b.)"}]
[null,{"$f":"lang!A447","v":"Site"},{"$f":"lang!B447","v":"Site"},{"$f":"lang!C447","v":"Standort"},{"$f":"lang!D447","v":"Local"},{"$f":"lang!E447","v":"Site"},{"$f":"lang!F447","v":"Instalación"},{"$f":"lang!G447","v":"Sito"},{"$f":"lang!H447","v":"Lokation"},{"$f":"lang!I447","v":"Toimipaikka"},{"$f":"lang!J447","v":"Lokalizacja"},{"$f":"lang!K447","v":"Locatie"}]
[null,null,null,null,null,null,null,null,null,null,null,"Site"]
["1.",{"$f":"lang!A448","v":"General site data"}]
["1.1.",{"$f":"lang!A449","v":"Is the warehouse owned ? "},null,null,null,null,null,null,null,null,null,null,null,null,null,null,null,null,null,null,null,null,null,null,{"$f":"ISERROR(CONCATENATE(D31,F31,H31,J31,L31))","v":false}]
[null,{"$f":"lang!A466","v":"Chemicals - classified as dangerous goods per Transport Classification (specify):"}]
[null,{"$f":"lang!A511","v":"Constructional fire protection"},null,null,null,null,null,null,null,null,null,null,null,null,null,null,null,null,null,"c",null,null,null,null,{"$f":"ISERROR(CONCATENATE(D33,F33,H33,J33,L33))","v":false}]
[]
["1.2.",{"$f":"lang!A450","v":"Is the warehouse leased ? "},null,null,null,null,null,null,null,null,null,null,null,null,null,null,null,null,null,null,null,null,null,null,{"$f":"ISERROR(CONCATENATE(D35,F35,H35,J35,L35))","v":false}]
[null,{"$f":"lang!A465","v":"For classified goods, use the Transport Classification (3.4) and the Classification for hazardous substances (3.5), according to the applicable warehouse permits  :"}]
[null,{"$f":"lang!A468","v":"Class 2     - Gases"},null,null,null,null,null,null,null,null,null,null,null,null,null,null,null,null,null,"c",null,null,null,null,{"$f":"ISERROR(CONCATENATE(D37,F37,H37,J37,L37))","v":false}]
[]
["1.3.",{"$f":"lang!A451","v":"Total warehouse space (sq. meters) ?"},null,null,null,null,null,null,null,null,null,null,null,null,null,null,null,null,null,null,null,null,null,null,{"$f":"ISERROR(CONCATENATE(D39,F39,H39,J39,L39))","v":false}]
[null,{"$f":"lang!A694","v":"Class 6.2. : Infectious substances"}]
[null,{"$f":"lang!A470","v":"Class 4.1  - Flammable solids "},null,null,null,null,null,null,null,null,null,null,null,null,null,null,null,null,null,"c",null,null,null,null,{"$f":"ISERROR(CONCATENATE(D41,F41,H41,J41,L41))","v":false}]
[]
["1.4.",{"$f":"lang!A452","v":"Total silo space (cubic meters) ?"},null,null,null,null,null,null,null,null,null,null,null,null,null,null,null,null,null,null,null,null,null,null,{"$f":"ISERROR(CONCATENATE(D43,F43,H43,J43,L43))","v":false}]
[null,{"$f":"lang!A587","v":"electric"}]
[null,{"$f":"lang!A532","v":"Is the warehouse secured with a burglar alarm system or by security personnel on-site ?"},null,null,null,null,null,null,null,null,null,null,null,null,null,null,null,null,null,"c",null,null,null,null,{"$f":"ISERROR(CONCATENATE(D45,F45,H45,J45,L45))","v":false}]
[]
["1.5.",{"$f":"lang!A453","v":"Open air packed storage space (sq. meters) ?"},null,null,null,null,null,null,null,null,null,null,null,null,null,null,null,null,null,null,null,null,null,null,{"$f":"ISERROR(CONCATENATE(D47,F47,H47,J47,L47))","v":false}]
[null,{"$f":"lang!A469","v":"Class 3     - Flammable liquids"}]
[null,{"$f":"lang!A497","v":"  - Municipal ?"},null,null,null,null,null,null,null,null,null,null,null,null,null,null,null,null,null,"c",null,null,null,null,{"$f":"ISERROR(CONCATENATE(D49,F49,H49,J49,L49))","v":false}]
[]
["1.6.",{"$f":"lang!A454","v":"Are video cameras installed on site ?"},null,null,null,null,null,null,null,null,null,null,null,null,null,null,null,null,null,null,null,null,null,null,{"$f":"ISERROR(CONCATENATE(D51,F51,H51,J51,L51))","v":false}]
[null,{"$f":"lang!A546","v":"concrete/bricks"}]
[null,{"$f":"lang!A513","v":"Are structural components like pillars, girders, floors and roof structure made of fire resistant materials (e.g. reinforced concrete) ?"},null,null,null,null,null,null,null,null,null,null,null,null,null,null,null,null,null,"c",null,null,null,null,{"$f":"ISERROR(CONCATENATE(D53,F53,H53,J53,L53))","v":false}]
[]
["1.7.",{"$f":"lang!A455","v":"Is the registration office for visitors/contractors visiting the company clearly marked to indicate where they have to register ?"},null,null,null,null,null,null,null,null,null,null,null,null,null,null,null,null,null,null,null,null,null,null,{"$f":"ISERROR(CONCATENATE(D55,F55,H55,J55,L55))","v":false}]
[null,{"$f":"lang!A530","v":"Are doors and gates equipped with a locking system and is it assured that they are locked, when no persons are working in the warehouse ?"}]
[null,{"$f":"lang!A543","v":"wood"},null,null,null,null,null,null,null,null,null,null,null,null,null,null,null,null,null,"c",null,null,null,null,{"$f":"ISERROR(CONCATENATE(D57,F57,H57,J57,L57))","v":false}]
[]
["1.8.",{"$f":"lang!A456","v":"Is there a waiting room for contractors (drivers and accompanying persons) nearby the registration office ?"},null,null,null,null,null,null,null,null,null,null,null,null,null,null,null,null,null,null,null,null,null,null,{"$f":"ISERROR(CONCATENATE(D59,F59,H59,J59,L59))","v":false}]
[null,{"$f":"lang!A588","v":"Fixed storage tanks for liquids"}]
[null,{"$f":"lang!A473","v":"Class 5.1  - Oxidising substances"},null,null,null,null,null,null,null,null,null,null,null,null,null,null,null,null,null,"c",null,null,null,null,{"$f":"ISERROR(CONCATENATE(D61,F61,H61,J61,L61))","v":false}]
[]
["1.9.",{"$f":"lang!A457","v":"Is smoking prohibited in the storage areas ?"},null,null,null,null,null,null,null,null,null,null,null,null,null,null,null,null,null,null,null,null,null,null,{"$f":"ISERROR(CONCATENATE(D63,F63,H63,J63,L63))","v":false}]
[null,{"$f":"lang!A472","v":"Class 4.3  - Substance, which in contact with water emit flammable gases"}]
[null,{"$f":"lang!A544","v":"other (please indicate)"},null,null,null,null,null,null,null,null,null,null,null,null,null,null,null,null,null,"c",null,null,null,null,{"$f":"ISERROR(CONCATENATE(D65,F65,H65,J65,L65))","v":false}]
[]
["1.10.",{"$f":"lang!A458","v":"Are warning signs posted for emergency and prohibitions (\"no smoking\", \"emergency exit\") ?"},null,null,null,null,null,null,null,null,null,null,null,null,null,null,null,null,null,null,null,null,null,null,{"$f":"ISERROR(CONCATENATE(D67,F67,H67,J67,L67))","v":false}]
[null,{"$f":"lang!A646","v":"Network"}]
[null,{"$f":"lang!A475","v":"Class 6.1  - Toxic substances"},null,null,null,null,null,null,null,null,null,null,null,null,null,null,null,null,null,"c",null,null,null,null,{"$f":"ISERROR(CONCATENATE(D69,F69,H69,J69,L69))","v":false}]
[]
[null,null,null,{"$f":"B16","v":"WH6"},null,{"$f":"B18","v":"WH7"},null,{"$f":"B20","v":"WH8"},null,{"$f":"B22","v":"WH9"},null,{"$f":"B24","v":"WH10"}]
["2.",{"$f":"lang!A459","v":"Warehouse capacity"}]
["2.1.",{"$f":"lang!A460","v":"Warehouse space (sq. meters)"},null,null,null,null,null,null,null,null,null,null,null,null,null,null,null,null,null,null,null,"n5",{"$f":"OR(AND(NOT(ISNUMBER(L73)),LEN(L73)>0),AND(NOT(ISNUMBER(J73)),LEN(J73)>0),AND(NOT(ISNUMBER(H73)),LEN(H73)>0),AND(NOT(ISNUMBER(F73)),LEN(F73)>0),AND(NOT(ISNUMBER(D73)),LEN(D73)>0))","v":false},null,{"$f":"IF(ISERROR(W73), TRUE,W73)","v":false}]
[null,{"$f":"lang!A515","v":"Are internal and external fire walls rated in accordance with local regulations (eg. wall made of noncombustible material like brick, concrete or reinforced concrete, wall thickness not less than 24 cm, wall minimum 50 cm above the roof or up to the roof and adjacent roof areas 5 m of noncombustible material,  doors and gates in the wall fire resistant and self-closing, no other openings in the walls) ?"}]
[null,{"$f":"lang!A697","v":"Class 9 : Miscellaneous dangerous substances and\narticles"},null,null,null,null,null,null,null,null,null,null,null,null,null,null,null,null,null,null,null,null,null,null,{"$f":"ISERROR(CONCATENATE(D75,F75,H75,J75,L75))","v":false}]
[]
["3.",{"$f":"lang!A461","v":"Category of products permitted to be stored"}]
["3.1.",{"$f":"lang!A462","v":"Foodstuffs"},null,null,null,null,null,null,null,null,null,null,null,null,null,null,null,null,null,null,null,"d5",{"$f":"OR(AND(ISNA(MATCH(L78,ynna,0)),LEN(L78)>0),AND(ISNA(MATCH(J78,ynna,0)),LEN(J78)>0),AND(ISNA(MATCH(H78,ynna,0)),LEN(H78)>0),AND(ISNA(MATCH(F78,ynna,0)),LEN(F78)>0),AND(ISNA(MATCH(D78,ynna,0)),LEN(D78)>0))","v":false},null,{"$f":"IF(ISERROR(W78), TRUE,W78)","v":false}]
[null,{"$f":"lang!A533","v":"Are burglar alarms transmitted automatically to security personnel or to a nearby police station ?"}]
[null,{"$f":"lang!A516","v":"Are adjacent rooms (incl. office, staff - and technical rooms) separated from the storage area with at least fire resistant walls (eg. made of noncombustible material like brick, concrete or reinforced concrete, wall thickness not less than 11.5 cm, doors and gates at least fire retardant and self closing, no other openings in the walls) ?"},null,null,null,null,null,null,null,null,null,null,null,null,null,null,null,null,null,null,null,null,null,null,{"$f":"ISERROR(CONCATENATE(D80,F80,H80,J80,L80))","v":false}]
[]
["3.2.",{"$f":"lang!A463","v":"Solid chemicals (non - classified goods)"},null,null,null,null,null,null,null,null,null,null,null,null,null,null,null,null,null,null,null,"d5",{"$f":"OR(AND(ISNA(MATCH(L82,ynna,0)),LEN(L82)>0),AND(ISNA(MATCH(J82,ynna,0)),LEN(J82)>0),AND(ISNA(MATCH(H82,ynna,0)),LEN(H82)>0),AND(ISNA(MATCH(F82,ynna,0)),LEN(F82)>0),AND(ISNA(MATCH(D82,ynna,0)),LEN(D82)>0))","v":false},null,{"$f":"IF(ISERROR(W82), TRUE,W82)","v":false}]
[null,{"$f":"lang!A633","v":"Smoke and heat vents"}]
[null,{"$f":"lang!A581","v":"Are safety lights installed in storage areas with safety lamps at least 1.5 m away from the product ?"},null,null,null,null,null,null,null,null,null,null,null,null,null,null,null,null,null,null,null,null,null,null,{"$f":"ISERROR(CONCATENATE(D84,F84,H84,J84,L84))","v":false}]
[]
["3.3.",{"$f":"lang!A464","v":"Liquid chemicals (non - classified goods)"},null,null,null,null,null,null,null,null,null,null,null,null,null,null,null,null,null,null,null,"d5",{"$f":"OR(AND(ISNA(MATCH(L86,ynna,0)),LEN(L86)>0),AND(ISNA(MATCH(J86,ynna,0)),LEN(J86)>0),AND(ISNA(MATCH(H86,ynna,0)),LEN(H86)>0),AND(ISNA(MATCH(F86,ynna,0)),LEN(F86)>0),AND(ISNA(MATCH(D86,ynna,0)),LEN(D86)>0))","v":false},null,{"$f":"IF(ISERROR(W86), TRUE,W86)","v":false}]
[null,{"$f":"lang!A467","v":"Class 1     - Explosive substances & articles"}]
[null,{"$f":"lang!A498","v":"  - Volunteer ?"},null,null,null,null,null,null,null,null,null,null,null,null,null,null,null,null,null,"c",null,null,null,null,{"$f":"ISERROR(CONCATENATE(D88,F88,H88,J88,L88))","v":false}]
[null,{"$f":"lang!A465","v":"For classified goods, use the Transport Classification (3.4) and the Classification for hazardous substances (3.5), according to the applicable warehouse permits  :"}]
["3.4.",{"$f":"lang!A466","v":"Chemicals - classified as dangerous goods per Transport Classification (specify):"}]
["3.4.1.",{"$f":"lang!A467","v":"Class 1     - Explosive substances & articles"},null,null,null,null,null,null,null,null,null,null,null,null,null,null,null,null,null,null,null,"d5",{"$f":"OR(AND(ISNA(MATCH(L91,ynna,0)),LEN(L91)>0),AND(ISNA(MATCH(J91,ynna,0)),LEN(J91)>0),AND(ISNA(MATCH(H91,ynna,0)),LEN(H91)>0),AND(ISNA(MATCH(F91,ynna,0)),LEN(F91)>0),AND(ISNA(MATCH(D91,ynna,0)),LEN(D91)>0))","v":false},null,{"$f":"IF(ISERROR(W91), TRUE,W91)","v":false},5]
[null,{"$f":"lang!A498","v":"  - Volunteer ?"}]
[null,{"$f":"lang!A511","v":"Constructional fire protection"},null,null,null,null,null,null,null,null,null,null,null,null,null,null,null,null,null,null,null,null,null,null,{"$f":"ISERROR(CONCATENATE(D93,F93,H93,J93,L93))","v":false},"c"]
[]
["3.4.2.",{"$f":"lang!A468","v":"Class 2     - Gases"},null,null,null,null,null,null,null,null,null,null,null,null,null,null,null,null,null,null,null,"d5",{"$f":"OR(AND(ISNA(MATCH(L95,ynna,0)),LEN(L95)>0),AND(ISNA(MATCH(J95,ynna,0)),LEN(J95)>0),AND(ISNA(MATCH(H95,ynna,0)),LEN(H95)>0),AND(ISNA(MATCH(F95,ynna,0)),LEN(F95)>0),AND(ISNA(MATCH(D95,ynna,0)),LEN(D95)>0))","v":false},null,{"$f":"IF(ISERROR(W95), TRUE,W95)","v":false},5]
[null,{"$f":"lang!A694","v":"Class 6.2. : Infectious substances"}]
[null,{"$f":"lang!A587","v":"electric"},null,null,null,null,null,null,null,null,null,null,null,null,null,null,null,null,null,null,null,null,null,null,{"$f":"ISERROR(CONCATENATE(D97,F97,H97,J97,L97))","v":false},"c"]
[]
["3.4.3.",{"$f":"lang!A469","v":"Class 3     - Flammable liquids"},null,null,null,null,null,null,null,null,null,null,null,null,null,null,null,null,null,null,null,"d5",{"$f":"OR(AND(ISNA(MATCH(L99,ynna,0)),LEN(L99)>0),AND(ISNA(MATCH(J99,ynna,0)),LEN(J99)>0),AND(ISNA(MATCH(H99,ynna,0)),LEN(H99)>0),AND(ISNA(MATCH(F99,ynna,0)),LEN(F99)>0),AND(ISNA(MATCH(D99,ynna,0)),LEN(D99)>0))","v":false},null,{"$f":"IF(ISERROR(W99), TRUE,W99)","v":false},5]
[null,{"$f":"lang!A497","v":"  - Municipal ?"}]
[null,{"$f":"lang!A589","v":"Total capacity of storage tanks available (cubic meters) ?"},null,null,null,null,null,null,null,null,null,null,null,null,null,null,null,null,null,null,null,null,null,null,{"$f":"ISERROR(CONCATENATE(D101,F101,H101,J101,L101))","v":false},"c"]
[]
["3.4.4.",{"$f":"lang!A470","v":"Class 4.1  - Flammable solids "},null,null,null,null,null,null,null,null,null,null,null,null,null,null,null,null,null,null,null,"d5",{"$f":"OR(AND(ISNA(MATCH(L103,ynna,0)),LEN(L103)>0),AND(ISNA(MATCH(J103,ynna,0)),LEN(J103)>0),AND(ISNA(MATCH(H103,ynna,0)),LEN(H103)>0),AND(ISNA(MATCH(F103,ynna,0)),LEN(F103)>0),AND(ISNA(MATCH(D103,ynna,0)),LEN(D103)>0))","v":false},null,{"$f":"IF(ISERROR(W103), TRUE,W103)","v":false},5]
[null,{"$f":"lang!A529","v":"Warehouse security"}]
[null,{"$f":"lang!A546","v":"concrete/bricks"},null,null,null,null,null,null,null,null,null,null,null,null,null,null,null,null,null,null,null,null,null,null,{"$f":"ISERROR(CONCATENATE(D105,F105,H105,J105,L105))","v":false},"c"]
[]
["3.4.5.",{"$f":"lang!A471","v":"Class 4.2  - Substances liable to spontaneous combustion"},null,null,null,null,null,null,null,null,null,null,null,null,null,null,null,null,null,null,null,"d5",{"$f":"OR(AND(ISNA(MATCH(L107,ynna,0)),LEN(L107)>0),AND(ISNA(MATCH(J107,ynna,0)),LEN(J107)>0),AND(ISNA(MATCH(H107,ynna,0)),LEN(H107)>0),AND(ISNA(MATCH(F107,ynna,0)),LEN(F107)>0),AND(ISNA(MATCH(D107,ynna,0)),LEN(D107)>0))","v":false},null,{"$f":"IF(ISERROR(W107), TRUE,W107)","v":false},5]
[null,{"$f":"lang!A530","v":"Are doors and gates equipped with a locking system and is it assured that they are locked, when no persons are working in the warehouse ?"}]
[null,{"$f":"lang!A543","v":"wood"},null,null,null,null,null,null,null,null,null,null,null,null,null,null,null,null,null,null,null,null,null,null,{"$f":"ISERROR(CONCATENATE(D109,F109,H109,J109,L109))","v":false},"c"]
[]
["3.4.6.",{"$f":"lang!A472","v":"Class 4.3  - Substance, which in contact with water emit flammable gases"},null,null,null,null,null,null,null,null,null,null,null,null,null,null,null,null,null,null,null,"d5",{"$f":"OR(AND(ISNA(MATCH(L111,ynna,0)),LEN(L111)>0),AND(ISNA(MATCH(J111,ynna,0)),LEN(J111)>0),AND(ISNA(MATCH(H111,ynna,0)),LEN(H111)>0),AND(ISNA(MATCH(F111,ynna,0)),LEN(F111)>0),AND(ISNA(MATCH(D111,ynna,0)),LEN(D111)>0))","v":false},null,{"$f":"IF(ISERROR(W111), TRUE,W111)","v":false},5]
[null,{"$f":"lang!A544","v":"other (please indicate)"}]
[null,{"$f":"lang!A514","v":"Are insulation and nonstructural components made of noncombustible materials ?"},null,null,null,null,null,null,null,null,null,null,null,null,null,null,null,null,null,null,null,null,null,null,{"$f":"ISERROR(CONCATENATE(D113,F113,H113,J113,L113))","v":false},"c"]
[]
["3.4.7.",{"$f":"lang!A473","v":"Class 5.1  - Oxidising substances"},null,null,null,null,null,null,null,null,null,null,null,null,null,null,null,null,null,null,null,"d5",{"$f":"OR(AND(ISNA(MATCH(L115,ynna,0)),LEN(L115)>0),AND(ISNA(MATCH(J115,ynna,0)),LEN(J115)>0),AND(ISNA(MATCH(H115,ynna,0)),LEN(H115)>0),AND(ISNA(MATCH(F115,ynna,0)),LEN(F115)>0),AND(ISNA(MATCH(D115,ynna,0)),LEN(D115)>0))","v":false},null,{"$f":"IF(ISERROR(W115), TRUE,W115)","v":false},5]
[null,{"$f":"lang!A646","v":"Network"}]
[null,{"$f":"lang!A533","v":"Are burglar alarms transmitted automatically to security personnel or to a nearby police station ?"},null,null,null,null,null,null,null,null,null,null,null,null,null,null,null,null,null,null,null,null,null,null,{"$f":"ISERROR(CONCATENATE(D117,F117,H117,J117,L117))","v":false},"c"]
[]
["3.4.8.",{"$f":"lang!A474","v":"Class 5.2. - Organic peroxides"},null,null,null,null,null,null,null,null,null,null,null,null,null,null,null,null,null,null,null,"d5",{"$f":"OR(AND(ISNA(MATCH(L119,ynna,0)),LEN(L119)>0),AND(ISNA(MATCH(J119,ynna,0)),LEN(J119)>0),AND(ISNA(MATCH(H119,ynna,0)),LEN(H119)>0),AND(ISNA(MATCH(F119,ynna,0)),LEN(F119)>0),AND(ISNA(MATCH(D119,ynna,0)),LEN(D119)>0))","v":false},null,{"$f":"IF(ISERROR(W119), TRUE,W119)","v":false},5]
[null,{"$f":"lang!A515","v":"Are internal and external fire walls rated in accordance with local regulations (eg. wall made of noncombustible material like brick, concrete or reinforced concrete, wall thickness not less than 24 cm, wall minimum 50 cm above the roof or up to the roof and adjacent roof areas 5 m of noncombustible material,  doors and gates in the wall fire resistant and self-closing, no other openings in the walls) ?"}]
[null,{"$f":"lang!A697","v":"Class 9 : Miscellaneous dangerous substances and\narticles"},null,null,null,null,null,null,null,null,null,null,null,null,null,null,null,null,null,null,null,null,null,null,{"$f":"ISERROR(CONCATENATE(D121,F121,H121,J121,L121))","v":false},"c"]
[]
["3.4.9.",{"$f":"lang!A475","v":"Class 6.1  - Toxic substances"},null,null,null,null,null,null,null,null,null,null,null,null,null,null,null,null,null,null,null,"d5",{"$f":"OR(AND(ISNA(MATCH(L123,ynna,0)),LEN(L123)>0),AND(ISNA(MATCH(J123,ynna,0)),LEN(J123)>0),AND(ISNA(MATCH(H123,ynna,0)),LEN(H123)>0),AND(ISNA(MATCH(F123,ynna,0)),LEN(F123)>0),AND(ISNA(MATCH(D123,ynna,0)),LEN(D123)>0))","v":false},null,{"$f":"IF(ISERROR(W123), TRUE,W123)","v":false},5]
[null,{"$f":"lang!A518","v":"Is the warehouse equipped with an overall fire and smoke detection system with direct connection to a permanently manned office that will notify the local fire department without delay or if not, with a direct connection to the local fire department ?"}]
[null,{"$f":"lang!A633","v":"Smoke and heat vents"},null,null,null,null,null,null,null,null,null,null,null,null,null,null,null,null,null,null,null,null,null,null,{"$f":"ISERROR(CONCATENATE(D125,F125,H125,J125,L125))","v":false},"c"]
[]
["3.4.10.",{"$f":"lang!A476","v":"Class 6.2  - Infectious substances"},null,null,null,null,null,null,null,null,null,null,null,null,null,null,null,null,null,null,null,"d5",{"$f":"OR(AND(ISNA(MATCH(L127,ynna,0)),LEN(L127)>0),AND(ISNA(MATCH(J127,ynna,0)),LEN(J127)>0),AND(ISNA(MATCH(H127,ynna,0)),LEN(H127)>0),AND(ISNA(MATCH(F127,ynna,0)),LEN(F127)>0),AND(ISNA(MATCH(D127,ynna,0)),LEN(D127)>0))","v":false},null,{"$f":"IF(ISERROR(W127), TRUE,W127)","v":false},5]
[null,{"$f":"lang!A705","v":"BY - Belarus"}]
[null,{"$f":"lang!A545","v":"External walls:"},null,null,null,null,null,null,null,null,null,null,null,null,null,null,null,null,null,null,null,null,null,null,{"$f":"ISERROR(CONCATENATE(D129,F129,H129,J129,L129))","v":false},"c"]
[]
["3.4.11.",{"$f":"lang!A477","v":"Class 7    - Radioactive material"},null,null,null,null,null,null,null,null,null,null,null,null,null,null,null,null,null,null,null,"d5",{"$f":"OR(AND(ISNA(MATCH(L131,ynna,0)),LEN(L131)>0),AND(ISNA(MATCH(J131,ynna,0)),LEN(J131)>0),AND(ISNA(MATCH(H131,ynna,0)),LEN(H131)>0),AND(ISNA(MATCH(F131,ynna,0)),LEN(F131)>0),AND(ISNA(MATCH(D131,ynna,0)),LEN(D131)>0))","v":false},null,{"$f":"IF(ISERROR(W131), TRUE,W131)","v":false},5]
[null,{"$f":"lang!A651","v":"Cerificate Number"}]
[null,{"$f":"lang!A634","v":"Comment"},null,null,null,null,null,null,null,null,null,null,null,null,null,null,null,null,null,null,null,null,null,null,{"$f":"ISERROR(CONCATENATE(D133,F133,H133,J133,L133))","v":false},"c"]
[]
["3.4.12.",{"$f":"lang!A478","v":"Class 8    - Corrosive substances"},null,null,null,null,null,null,null,null,null,null,null,null,null,null,null,null,null,null,null,"d5",{"$f":"OR(AND(ISNA(MATCH(L135,ynna,0)),LEN(L135)>0),AND(ISNA(MATCH(J135,ynna,0)),LEN(J135)>0),AND(ISNA(MATCH(H135,ynna,0)),LEN(H135)>0),AND(ISNA(MATCH(F135,ynna,0)),LEN(F135)>0),AND(ISNA(MATCH(D135,ynna,0)),LEN(D135)>0))","v":false},null,{"$f":"IF(ISERROR(W135), TRUE,W135)","v":false},5]
[null,{"$f":"lang!A519","v":"Is there a manual fire alarm system with a direct connection to the local fire brigade installed and is it readily accessible at any time ?"}]
[null,{"$f":"lang!A667","v":"Owned/operated tracks present"},null,null,null,null,null,null,null,null,null,null,null,null,null,null,null,null,null,null,null,null,null,null,{"$f":"ISERROR(CONCATENATE(D137,F137,H137,J137,L137))","v":false},"c"]
[]
["3.4.13.",{"$f":"lang!A479","v":"Class 9    - Miscellaneous dangerous substances & articles"},null,null,null,null,null,null,null,null,null,null,null,null,null,null,null,null,null,null,null,"d5",{"$f":"OR(AND(ISNA(MATCH(L139,ynna,0)),LEN(L139)>0),AND(ISNA(MATCH(J139,ynna,0)),LEN(J139)>0),AND(ISNA(MATCH(H139,ynna,0)),LEN(H139)>0),AND(ISNA(MATCH(F139,ynna,0)),LEN(F139)>0),AND(ISNA(MATCH(D139,ynna,0)),LEN(D139)>0))","v":false},null,{"$f":"IF(ISERROR(W139), TRUE,W139)","v":false},5]
[null,{"$f":"lang!A535","v":"Warehouse level:"}]
[null,{"$f":"lang!A520","v":"Is the warehouse equipped with an audible alarm system easily audible throughout the work area ?"},null,null,null,null,null,null,null,null,null,null,null,null,null,null,null,null,null,null,null,null,null,null,{"$f":"ISERROR(CONCATENATE(D141,F141,H141,J141,L141))","v":false},"c"]
[]
["3.5.",{"$f":"lang!A480","v":"Chemicals - classified as hazardous substances/ preparations (specify):"}]
["3.5.1.",{"$f":"lang!A481","v":"Oxidising (O, R7, R8, R9)"},null,null,null,null,null,null,null,null,null,null,null,null,null,null,null,null,null,null,null,"d5",{"$f":"OR(AND(ISNA(MATCH(L144,ynna,0)),LEN(L144)>0),AND(ISNA(MATCH(J144,ynna,0)),LEN(J144)>0),AND(ISNA(MATCH(H144,ynna,0)),LEN(H144)>0),AND(ISNA(MATCH(F144,ynna,0)),LEN(F144)>0),AND(ISNA(MATCH(D144,ynna,0)),LEN(D144)>0))","v":false},null,{"$f":"IF(ISERROR(W144), TRUE,W144)","v":false},5]
[null,{"$f":"lang!A499","v":"  - On-site fire brigade ?"}]
[null,{"$f":"lang!A582","v":"Is lightning protection installed ?"},null,null,null,null,null,null,null,null,null,null,null,null,null,null,null,null,null,null,null,null,null,null,{"$f":"ISERROR(CONCATENATE(D146,F146,H146,J146,L146))","v":false},"c"]
[]
["3.5.2.",{"$f":"lang!A482","v":"Extremely flammable  (F+, R12)"},null,null,null,null,null,null,null,null,null,null,null,null,null,null,null,null,null,null,null,"d5",{"$f":"OR(AND(ISNA(MATCH(L148,ynna,0)),LEN(L148)>0),AND(ISNA(MATCH(J148,ynna,0)),LEN(J148)>0),AND(ISNA(MATCH(H148,ynna,0)),LEN(H148)>0),AND(ISNA(MATCH(F148,ynna,0)),LEN(F148)>0),AND(ISNA(MATCH(D148,ynna,0)),LEN(D148)>0))","v":false},null,{"$f":"IF(ISERROR(W148), TRUE,W148)","v":false},5]
[null,{"$f":"lang!A539","v":"Supporting construction:"}]
[null,{"$f":"lang!A506","v":"Are warehouses, open storage areas, tanks and silos on site accessible by fire trucks from at least two sides (1 long side, 1 front side)"},null,null,null,null,null,null,null,null,null,null,null,null,null,null,null,null,null,null,null,null,null,null,{"$f":"ISERROR(CONCATENATE(D150,F150,H150,J150,L150))","v":false},"c"]
[]
["3.5.3.",{"$f":"lang!A483","v":"Highly flammable (F, R11, R15, R17)"},null,null,null,null,null,null,null,null,null,null,null,null,null,null,null,null,null,null,null,"d5",{"$f":"OR(AND(ISNA(MATCH(L152,ynna,0)),LEN(L152)>0),AND(ISNA(MATCH(J152,ynna,0)),LEN(J152)>0),AND(ISNA(MATCH(H152,ynna,0)),LEN(H152)>0),AND(ISNA(MATCH(F152,ynna,0)),LEN(F152)>0),AND(ISNA(MATCH(D152,ynna,0)),LEN(D152)>0))","v":false},null,{"$f":"IF(ISERROR(W152), TRUE,W152)","v":false},5]
[null,{"$f":"lang!A501","v":"Is the required fire water supply defined and guaranteed to at least 2.400 l/min ?"}]
[null,{"$f":"lang!A637","v":"Desciption/location(s)"},null,null,null,null,null,null,null,null,null,null,null,null,null,null,null,null,null,null,null,null,null,null,{"$f":"ISERROR(CONCATENATE(D154,F154,H154,J154,L154))","v":false},"c"]
[]
["3.5.4.",{"$f":"lang!A484","v":"Flammable (R10)"},null,null,null,null,null,null,null,null,null,null,null,null,null,null,null,null,null,null,null,"d5",{"$f":"OR(AND(ISNA(MATCH(L156,ynna,0)),LEN(L156)>0),AND(ISNA(MATCH(J156,ynna,0)),LEN(J156)>0),AND(ISNA(MATCH(H156,ynna,0)),LEN(H156)>0),AND(ISNA(MATCH(F156,ynna,0)),LEN(F156)>0),AND(ISNA(MATCH(D156,ynna,0)),LEN(D156)>0))","v":false},null,{"$f":"IF(ISERROR(W156), TRUE,W156)","v":false},5]
[null,{"$f":"lang!A649","v":"Is the company certified by the National Safety Agency?"}]
[null,{"$f":"lang!A502","v":"Is the required fire water supply (fire-hydrants, river, artificial static water supply, tanks, cisterns) on-site and off-site at a close range to the buildings on site (<150 m) and immediately available at any time and on-hand for at least two hours ?"},null,null,null,null,null,null,null,null,null,null,null,null,null,null,null,null,null,null,null,null,null,null,{"$f":"ISERROR(CONCATENATE(D158,F158,H158,J158,L158))","v":false},"c"]
[]
["3.5.5.",{"$f":"lang!A485","v":"Very toxic (T+, R26, R27, R28)"},null,null,null,null,null,null,null,null,null,null,null,null,null,null,null,null,null,null,null,"d5",{"$f":"OR(AND(ISNA(MATCH(L160,ynna,0)),LEN(L160)>0),AND(ISNA(MATCH(J160,ynna,0)),LEN(J160)>0),AND(ISNA(MATCH(H160,ynna,0)),LEN(H160)>0),AND(ISNA(MATCH(F160,ynna,0)),LEN(F160)>0),AND(ISNA(MATCH(D160,ynna,0)),LEN(D160)>0))","v":false},null,{"$f":"IF(ISERROR(W160), TRUE,W160)","v":false},5]
[null,{"$f":"lang!A584","v":"Forklift type :"}]
[null,{"$f":"lang!A524","v":"Are fire compartments storing products classified as toxic, oxidising, flammable or dangerous to the environment, equipped with fixed extinguishing systems (eg. water, foam) ?"},null,null,null,null,null,null,null,null,null,null,null,null,null,null,null,null,null,null,null,null,null,null,{"$f":"ISERROR(CONCATENATE(D162,F162,H162,J162,L162))","v":false},"c"]
[]
["3.5.6.",{"$f":"lang!A486","v":"Toxic (T, R23, R24, R25)"},null,null,null,null,null,null,null,null,null,null,null,null,null,null,null,null,null,null,null,"d5",{"$f":"OR(AND(ISNA(MATCH(L164,ynna,0)),LEN(L164)>0),AND(ISNA(MATCH(J164,ynna,0)),LEN(J164)>0),AND(ISNA(MATCH(H164,ynna,0)),LEN(H164)>0),AND(ISNA(MATCH(F164,ynna,0)),LEN(F164)>0),AND(ISNA(MATCH(D164,ynna,0)),LEN(D164)>0))","v":false},null,{"$f":"IF(ISERROR(W164), TRUE,W164)","v":false},5]
[null,{"$f":"lang!A538","v":"underground"}]
[null,{"$f":"lang!A503","v":"Detail Fire Protection Management for the warehouse buildings"},null,null,null,null,null,null,null,null,null,null,null,null,null,null,null,null,null,null,null,null,null,null,{"$f":"ISERROR(CONCATENATE(D166,F166,H166,J166,L166))","v":false},"c"]
[]
["3.5.7.",{"$f":"lang!A487","v":"Harmful  (Xn, R20, R21, R22, R42, R65)"},null,null,null,null,null,null,null,null,null,null,null,null,null,null,null,null,null,null,null,"d5",{"$f":"OR(AND(ISNA(MATCH(L168,ynna,0)),LEN(L168)>0),AND(ISNA(MATCH(J168,ynna,0)),LEN(J168)>0),AND(ISNA(MATCH(H168,ynna,0)),LEN(H168)>0),AND(ISNA(MATCH(F168,ynna,0)),LEN(F168)>0),AND(ISNA(MATCH(D168,ynna,0)),LEN(D168)>0))","v":false},null,{"$f":"IF(ISERROR(W168), TRUE,W168)","v":false},5]
[null,{"$f":"lang!A504","v":"Please complete the Fire Compartment Details on the worksheet \"Products Permitted to store\""}]
[null,{"$f":"lang!A525","v":"Are fire compartments storing products classified as toxic, oxidising, flammable or dangerous to the environment, equipped with an operating ventilation system, with an air exchange rate of at least twice/hour ?"},null,null,null,null,null,null,null,null,null,null,null,null,null,null,null,null,null,null,null,null,null,null,{"$f":"ISERROR(CONCATENATE(D170,F170,H170,J170,L170))","v":false},"c"]
[]
["3.5.8",{"$f":"lang!A488","v":"Corrosive  (C, R34, R35)"},null,null,null,null,null,null,null,null,null,null,null,null,null,null,null,null,null,null,null,"d5",{"$f":"OR(AND(ISNA(MATCH(L172,ynna,0)),LEN(L172)>0),AND(ISNA(MATCH(J172,ynna,0)),LEN(J172)>0),AND(ISNA(MATCH(H172,ynna,0)),LEN(H172)>0),AND(ISNA(MATCH(F172,ynna,0)),LEN(F172)>0),AND(ISNA(MATCH(D172,ynna,0)),LEN(D172)>0))","v":false},null,{"$f":"IF(ISERROR(W172), TRUE,W172)","v":false},5]
[null,{"$f":"lang!A700","v":"AL - Albania"}]
[null,{"$f":"lang!A508","v":"Are measures taken inside and outside the warehouse to adequately contain contaminated fire water in compliance with local regulations  (eg. waterproof surface, volume of retention of 300 L per M2 of warehouse- and overflow in municipal water treatment plant) ?"},null,null,null,null,null,null,null,null,null,null,null,null,null,null,null,null,null,null,null,null,null,null,{"$f":"ISERROR(CONCATENATE(D174,F174,H174,J174,L174))","v":false},"c"]
[]
["3.5.9",{"$f":"lang!A489","v":"Irritant  (Xi, R36, R37, R38, R41, R43)"},null,null,null,null,null,null,null,null,null,null,null,null,null,null,null,null,null,null,null,"d5",{"$f":"OR(AND(ISNA(MATCH(L176,ynna,0)),LEN(L176)>0),AND(ISNA(MATCH(J176,ynna,0)),LEN(J176)>0),AND(ISNA(MATCH(H176,ynna,0)),LEN(H176)>0),AND(ISNA(MATCH(F176,ynna,0)),LEN(F176)>0),AND(ISNA(MATCH(D176,ynna,0)),LEN(D176)>0))","v":false},null,{"$f":"IF(ISERROR(W176), TRUE,W176)","v":false},5]
[null,{"$f":"lang!A526","v":"Are charging stations for fork lift trucks placed in separate and vented rooms or inside the storage area with a protection distance of at least 5 m to any stored product or combustible material ?"}]
[null,{"$f":"lang!A686","v":"Class 2 : Gases"},null,null,null,null,null,null,null,null,null,null,null,null,null,null,null,null,null,null,null,null,null,null,{"$f":"ISERROR(CONCATENATE(D178,F178,H178,J178,L178))","v":false},"c"]
[]
["3.5.10",{"$f":"lang!A490","v":"Dangerous for the environment (N, R50 to R59)"},null,null,null,null,null,null,null,null,null,null,null,null,null,null,null,null,null,null,null,"d5",{"$f":"OR(AND(ISNA(MATCH(L180,ynna,0)),LEN(L180)>0),AND(ISNA(MATCH(J180,ynna,0)),LEN(J180)>0),AND(ISNA(MATCH(H180,ynna,0)),LEN(H180)>0),AND(ISNA(MATCH(F180,ynna,0)),LEN(F180)>0),AND(ISNA(MATCH(D180,ynna,0)),LEN(D180)>0))","v":false},null,{"$f":"IF(ISERROR(W180), TRUE,W180)","v":false},5]
[null,{"$f":"lang!A585","v":"gasoil"}]
[null,{"$f":"lang!A642","v":"Engineering/technical"},null,null,null,null,null,null,null,null,null,null,null,null,null,null,null,null,null,null,null,null,null,null,{"$f":"ISERROR(CONCATENATE(D182,F182,H182,J182,L182))","v":false},"c"]
[]
["3.5.11",{"$f":"lang!A491","v":"Category carcinogenic, mutagenic and reprotoxical  (T with R45, R46, R49, R60, R61 or Xn with R40, R62, R63, R68)"},null,null,null,null,null,null,null,null,null,null,null,null,null,null,null,null,null,null,null,"d5",{"$f":"OR(AND(ISNA(MATCH(L184,ynna,0)),LEN(L184)>0),AND(ISNA(MATCH(J184,ynna,0)),LEN(J184)>0),AND(ISNA(MATCH(H184,ynna,0)),LEN(H184)>0),AND(ISNA(MATCH(F184,ynna,0)),LEN(F184)>0),AND(ISNA(MATCH(D184,ynna,0)),LEN(D184)>0))","v":false},null,{"$f":"IF(ISERROR(W184), TRUE,W184)","v":false},5]
[null,{"$f":"lang!A509","v":"Are measures taken in the storage areas to adequately contain spilled product in compliance with local regulations (eg. liquid proof surface, volume of retention at least 3% of the column of the packaged products stored) ?"}]
[null,{"$f":"lang!A527","v":"Is the heating system in warehouses where flammable products are stored a hot-water heating system ? "},null,null,null,null,null,null,null,null,null,null,null,null,null,null,null,null,null,null,null,null,null,null,{"$f":"ISERROR(CONCATENATE(D186,F186,H186,J186,L186))","v":false},"c"]
[]
["4.",{"$f":"lang!A492","v":"Fire Protection Management  (Fire Plan)"}]
["4.1.",{"$f":"lang!A493","v":"The site in general"},null,null,null,null,null,null,null,null,null,"Site"]
[]
["4.1.1.",{"$f":"lang!A494","v":"Is the warehouse site accessible with fire trucks from at least two sides ?"},null,null,null,null,null,null,null,null,null,null,null,null,null,null,null,null,null,null,null,"d",{"$f":"AND(ISNA(MATCH(L191,ynna,0)),LEN(L191)>0)","v":false},null,{"$f":"IF(ISERROR(W191), TRUE,W191)","v":false},1]
[null,{"$f":"lang!A685","v":"Class 1 : Explosive substances and articles"}]
[null,{"$f":"lang!A510","v":"Are measures taken on aisles and loading/unloading areas to adequately contain spilled product (eg. liquid proof surface, volume of retention at least equal to the biggest package to be transported or loaded/unloaded) ?"},null,null,null,null,null,null,null,null,null,null,null,null,null,null,null,null,null,null,null,null,null,null,{"$f":"ISERROR(CONCATENATE(D193,F193,H193,J193,L193))","v":false},"c"]
[]
["4.1.2.",{"$f":"lang!A495","v":"Has a lightning strike survey been performed for the site ?"},null,null,null,null,null,null,null,null,null,null,null,null,null,null,null,null,null,null,null,"d",{"$f":"AND(ISNA(MATCH(L195,ynna,0)),LEN(L195)>0)","v":false},null,{"$f":"IF(ISERROR(W195), TRUE,W195)","v":false},1]
[null,{"$f":"lang!A580","v":"Is the coverage of lighting 100 % ? (yes and/or indicate %)"}]
[null,{"$f":"lang!A541","v":"fire protected steel"},null,null,null,null,null,null,null,null,null,null,null,null,null,null,null,null,null,"c",null,null,null,null,{"$f":"ISERROR(CONCATENATE(D197,F197,H197,J197,L197))","v":false}]
["4.1.3.",{"$f":"lang!A496","v":"Tick which type(s) of fire department are responsible for the site :"}]
["4.1.3.1.",{"$f":"lang!A497","v":"  - Municipal ?"},null,null,null,null,null,null,null,null,null,null,null,null,null,null,null,{"$f":"IF(S199,\"Y\",\"N\")","v":"N"},false]
[null,{"$f":"lang!A694","v":"Class 6.2. : Infectious substances"},null,null,null,null,null,null,null,null,null,null,null,null,null,null,null,null,null,"c",null,null,null,null,{"$f":"ISERROR(CONCATENATE(D200,F200,H200,J200,L200))","v":false}]
["4.1.3.2",{"$f":"lang!A498","v":"  - Volunteer ?"},null,null,null,null,null,null,null,null,null,null,null,null,null,null,null,{"$f":"IF(S201,\"Y\",\"N\")","v":"N"},false]
[null,{"$f":"lang!A539","v":"Supporting construction:"},null,null,null,null,null,null,null,null,null,null,null,null,null,null,null,null,null,"c",null,null,null,null,{"$f":"ISERROR(CONCATENATE(D202,F202,H202,J202,L202))","v":false}]
["4.1.3.3",{"$f":"lang!A499","v":"  - On-site fire brigade ?"},null,null,null,null,null,null,null,null,null,null,null,null,null,null,null,{"$f":"IF(S203,\"Y\",\"N\")","v":"N"},false]
[null,{"$f":"lang!A582","v":"Is lightning protection installed ?"},null,null,null,null,null,null,null,null,null,null,null,null,null,null,null,null,null,"c",null,null,null,null,{"$f":"ISERROR(CONCATENATE(D204,F204,H204,J204,L204))","v":false}]
["4.1.4.",{"$f":"lang!A500","v":"Fire water supply :"}]
["4.1.4.1.",{"$f":"lang!A501","v":"Is the required fire water supply defined and guaranteed to at least 2.400 l/min ?"},null,null,null,null,null,null,null,null,null,null,null,null,null,null,null,null,null,null,null,null,null,null,{"$f":"ISERROR(CONCATENATE(D206,F206,H206,J206,L206))","v":false}]
[null,{"$f":"lang!A637","v":"Desciption/location(s)"}]
[null,{"$f":"lang!A687","v":"Class 3 : Flammable liquids"},null,null,null,null,null,null,null,null,null,null,null,null,null,null,null,null,null,"c",null,null,null,null,{"$f":"ISERROR(CONCATENATE(D208,F208,H208,J208,L208))","v":false}]
[]
["4.1.4.2.",{"$f":"lang!A502","v":"Is the required fire water supply (fire-hydrants, river, artificial static water supply, tanks, cisterns) on-site and off-site at a close range to the buildings on site (<150 m) and immediately available at any time and on-hand for at least two hours ?"},null,null,null,null,null,null,null,null,null,null,null,null,null,null,null,null,null,null,null,null,null,null,{"$f":"ISERROR(CONCATENATE(D210,F210,H210,J210,L210))","v":false}]
[null,{"$f":"lang!A639","v":"Corporate"}]
[null,{"$f":"lang!A584","v":"Forklift type :"},null,null,null,null,null,null,null,null,null,null,null,null,null,null,null,null,null,"c",null,null,null,null,{"$f":"ISERROR(CONCATENATE(D212,F212,H212,J212,L212))","v":false}]
[null,{"$f":"lang!A524","v":"Are fire compartments storing products classified as toxic, oxidising, flammable or dangerous to the environment, equipped with fixed extinguishing systems (eg. water, foam) ?"}]
[]
["4.2.",{"$f":"lang!A503","v":"Detail Fire Protection Management for the warehouse buildings"}]
[]
["4.2.1.",{"$f":"lang!A504","v":"Please complete the Fire Compartment Details on the worksheet \"Products Permitted to store\""}]
[]
[null,null,null,{"$f":"B16","v":"WH6"},null,{"$f":"B18","v":"WH7"},null,{"$f":"B20","v":"WH8"},null,{"$f":"B22","v":"WH9"},null,{"$f":"B24","v":"WH10"}]
["4.2.2.",{"$f":"lang!A505","v":"Warehouse access"}]
["4.2.2.1.",{"$f":"lang!A506","v":"Are warehouses, open storage areas, tanks and silos on site accessible by fire trucks from at least two sides (1 long side, 1 front side)"},null,null,null,null,null,null,null,null,null,null,null,null,null,null,null,null,null,null,null,"d5",{"$f":"OR(AND(ISNA(MATCH(L221,ynna,0)),LEN(L221)>0),AND(ISNA(MATCH(J221,ynna,0)),LEN(J221)>0),AND(ISNA(MATCH(H221,ynna,0)),LEN(H221)>0),AND(ISNA(MATCH(F221,ynna,0)),LEN(F221)>0),AND(ISNA(MATCH(D221,ynna,0)),LEN(D221)>0))","v":false},null,{"$f":"IF(ISERROR(W221), TRUE,W221)","v":false}]
[null,{"$f":"lang!A700","v":"AL - Albania"}]
[null,{"$f":"lang!A526","v":"Are charging stations for fork lift trucks placed in separate and vented rooms or inside the storage area with a protection distance of at least 5 m to any stored product or combustible material ?"},null,null,null,null,null,null,null,null,null,null,null,null,null,null,null,null,null,null,null,null,null,null,{"$f":"ISERROR(CONCATENATE(D223,F223,H223,J223,L223))","v":false}]
[]
["4.2.3.",{"$f":"lang!A507","v":"Retention measurements"}]
["4.2.3.1.",{"$f":"lang!A508","v":"Are measures taken inside and outside the warehouse to adequately contain contaminated fire water in compliance with local regulations  (eg. waterproof surface, volume of retention of 300 L per M2 of warehouse- and overflow in municipal water treatment plant) ?"},null,null,null,null,null,null,null,null,null,null,null,null,null,null,null,null,null,null,null,"d5",{"$f":"OR(AND(ISNA(MATCH(L226,ynna,0)),LEN(L226)>0),AND(ISNA(MATCH(J226,ynna,0)),LEN(J226)>0),AND(ISNA(MATCH(H226,ynna,0)),LEN(H226)>0),AND(ISNA(MATCH(F226,ynna,0)),LEN(F226)>0),AND(ISNA(MATCH(D226,ynna,0)),LEN(D226)>0))","v":false},null,{"$f":"IF(ISERROR(W226), TRUE,W226)","v":false}]
[null,{"$f":"lang!A540","v":"concrete/bricks"}]
[null,{"$f":"lang!A585","v":"gasoil"},null,null,null,null,null,null,null,null,null,null,null,null,null,null,null,null,null,null,null,null,null,null,{"$f":"ISERROR(CONCATENATE(D228,F228,H228,J228,L228))","v":false}]
[null,{"$f":"lang!A642","v":"Engineering/technical"}]
["4.2.3.2.",{"$f":"lang!A509","v":"Are measures taken in the storage areas to adequately contain spilled product in compliance with local regulations (eg. liquid proof surface, volume of retention at least 3% of the column of the packaged products stored) ?"},null,null,null,null,null,null,null,null,null,null,null,null,null,null,null,null,null,null,null,"d5",{"$f":"OR(AND(ISNA(MATCH(L230,ynna,0)),LEN(L230)>0),AND(ISNA(MATCH(J230,ynna,0)),LEN(J230)>0),AND(ISNA(MATCH(H230,ynna,0)),LEN(H230)>0),AND(ISNA(MATCH(F230,ynna,0)),LEN(F230)>0),AND(ISNA(MATCH(D230,ynna,0)),LEN(D230)>0))","v":false},null,{"$f":"IF(ISERROR(W230), TRUE,W230)","v":false}]
[null,{"$f":"lang!A527","v":"Is the heating system in warehouses where flammable products are stored a hot-water heating system ? "}]
[null,{"$f":"lang!A586","v":"LPG"},null,null,null,null,null,null,null,null,null,null,null,null,null,null,null,null,null,null,null,null,null,null,{"$f":"ISERROR(CONCATENATE(D232,F232,H232,J232,L232))","v":false}]
[null,{"$f":"lang!A685","v":"Class 1 : Explosive substances and articles"}]
["4.2.3.3.",{"$f":"lang!A510","v":"Are measures taken on aisles and loading/unloading areas to adequately contain spilled product (eg. liquid proof surface, volume of retention at least equal to the biggest package to be transported or loaded/unloaded) ?"},null,null,null,null,null,null,null,null,null,null,null,null,null,null,null,null,null,null,null,"d5",{"$f":"OR(AND(ISNA(MATCH(L234,ynna,0)),LEN(L234)>0),AND(ISNA(MATCH(J234,ynna,0)),LEN(J234)>0),AND(ISNA(MATCH(H234,ynna,0)),LEN(H234)>0),AND(ISNA(MATCH(F234,ynna,0)),LEN(F234)>0),AND(ISNA(MATCH(D234,ynna,0)),LEN(D234)>0))","v":false},null,{"$f":"IF(ISERROR(W234), TRUE,W234)","v":false}]
[null,{"$f":"lang!A688","v":"Class 4.1. : Flammable solids,  self-reactive substances and solid desensitized explosives."}]
[null,{"$f":"lang!A528","v":"Is the surface temperature of the heating system lower than the ignition temperature of the product stored ?"},null,null,null,null,null,null,null,null,null,null,null,null,null,null,null,null,null,null,null,null,null,null,{"$f":"ISERROR(CONCATENATE(D236,F236,H236,J236,L236))","v":false}]
[null,{"$f":"lang!A643","v":"Facility management"}]
[" "," "]
["4.2.4.",{"$f":"lang!A511","v":"Constructional fire protection"}]
["4.2.4.1.",{"$f":"lang!A512","v":"Is the warehouse separated by a safe distance from adjacent buildings in compliance with local regulations (eg. not less then 10 m or not less then 5 m in combination with an external fire wall) ?"},null,null,null,null,null,null,null,null,null,null,null,null,null,null,null,null,null,null,null,"d5",{"$f":"OR(AND(ISNA(MATCH(L240,ynna,0)),LEN(L240)>0),AND(ISNA(MATCH(J240,ynna,0)),LEN(J240)>0),AND(ISNA(MATCH(H240,ynna,0)),LEN(H240)>0),AND(ISNA(MATCH(F240,ynna,0)),LEN(F240)>0),AND(ISNA(MATCH(D240,ynna,0)),LEN(D240)>0))","v":false},null,{"$f":"IF(ISERROR(W240), TRUE,W240)","v":false}]
[null,{"$f":"lang!A587","v":"electric"}]
[null,{"$f":"lang!A529","v":"Warehouse security"},null,null,null,null,null,null,null,null,null,null,null,null,null,null,null,null,null,null,null,null,null,null,{"$f":"ISERROR(CONCATENATE(D242,F242,H242,J242,L242))","v":false}]
[null,{"$f":"lang!A546","v":"concrete/bricks"}]
["4.2.4.2.",{"$f":"lang!A513","v":"Are structural components like pillars, girders, floors and roof structure made of fire resistant materials (e.g. reinforced concrete) ?"},null,null,null,null,null,null,null,null,null,null,null,null,null,null,null,null,null,null,null,"d5",{"$f":"OR(AND(ISNA(MATCH(L244,ynna,0)),LEN(L244)>0),AND(ISNA(MATCH(J244,ynna,0)),LEN(J244)>0),AND(ISNA(MATCH(H244,ynna,0)),LEN(H244)>0),AND(ISNA(MATCH(F244,ynna,0)),LEN(F244)>0),AND(ISNA(MATCH(D244,ynna,0)),LEN(D244)>0))","v":false},null,{"$f":"IF(ISERROR(W244), TRUE,W244)","v":false}]
[null,{"$f":"lang!A530","v":"Are doors and gates equipped with a locking system and is it assured that they are locked, when no persons are working in the warehouse ?"}]
[null,{"$f":"lang!A543","v":"wood"},null,null,null,null,null,null,null,null,null,null,null,null,null,null,null,null,null,null,null,null,null,null,{"$f":"ISERROR(CONCATENATE(D246,F246,H246,J246,L246))","v":false}]
[]
["4.2.4.3.",{"$f":"lang!A514","v":"Are insulation and nonstructural components made of noncombustible materials ?"},null,null,null,null,null,null,null,null,null,null,null,null,null,null,null,null,null,null,null,"d5",{"$f":"OR(AND(ISNA(MATCH(L248,ynna,0)),LEN(L248)>0),AND(ISNA(MATCH(J248,ynna,0)),LEN(J248)>0),AND(ISNA(MATCH(H248,ynna,0)),LEN(H248)>0),AND(ISNA(MATCH(F248,ynna,0)),LEN(F248)>0),AND(ISNA(MATCH(D248,ynna,0)),LEN(D248)>0))","v":false},null,{"$f":"IF(ISERROR(W248), TRUE,W248)","v":false}]
[null,{"$f":"lang!A588","v":"Fixed storage tanks for liquids"}]
[null,{"$f":"lang!A531","v":"Are windows or other glass areas appropriately secured (e.g. by fixed grills) ?"},null,null,null,null,null,null,null,null,null,null,null,null,null,null,null,null,null,null,null,null,null,null,{"$f":"ISERROR(CONCATENATE(D250,F250,H250,J250,L250))","v":false}]
[]
["4.2.4.4.",{"$f":"lang!A515","v":"Are internal and external fire walls rated in accordance with local regulations (eg. wall made of noncombustible material like brick, concrete or reinforced concrete, wall thickness not less than 24 cm, wall minimum 50 cm above the roof or up to the roof and adjacent roof areas 5 m of noncombustible material,  doors and gates in the wall fire resistant and self-closing, no other openings in the walls) ?"},null,null,null,null,null,null,null,null,null,null,null,null,null,null,null,null,null,null,null,"d5",{"$f":"OR(AND(ISNA(MATCH(L252,ynna,0)),LEN(L252)>0),AND(ISNA(MATCH(J252,ynna,0)),LEN(J252)>0),AND(ISNA(MATCH(H252,ynna,0)),LEN(H252)>0),AND(ISNA(MATCH(F252,ynna,0)),LEN(F252)>0),AND(ISNA(MATCH(D252,ynna,0)),LEN(D252)>0))","v":false},null,{"$f":"IF(ISERROR(W252), TRUE,W252)","v":false}]
[null,{"$f":"lang!A697","v":"Class 9 : Miscellaneous dangerous substances and\narticles"}]
[null,{"$f":"lang!A696","v":"Class 8 : Corrosive substances"},null,null,null,null,null,null,null,null,null,null,null,null,null,null,null,null,null,null,null,null,null,null,{"$f":"ISERROR(CONCATENATE(D254,F254,H254,J254,L254))","v":false}]
[null,{"$f":"lang!A533","v":"Are burglar alarms transmitted automatically to security personnel or to a nearby police station ?"}]
["4.2.4.5.",{"$f":"lang!A516","v":"Are adjacent rooms (incl. office, staff - and technical rooms) separated from the storage area with at least fire resistant walls (eg. made of noncombustible material like brick, concrete or reinforced concrete, wall thickness not less than 11.5 cm, doors and gates at least fire retardant and self closing, no other openings in the walls) ?"},null,null,null,null,null,null,null,null,null,null,null,null,null,null,null,null,null,null,null,"d5",{"$f":"OR(AND(ISNA(MATCH(L256,ynna,0)),LEN(L256)>0),AND(ISNA(MATCH(J256,ynna,0)),LEN(J256)>0),AND(ISNA(MATCH(H256,ynna,0)),LEN(H256)>0),AND(ISNA(MATCH(F256,ynna,0)),LEN(F256)>0),AND(ISNA(MATCH(D256,ynna,0)),LEN(D256)>0))","v":false},null,{"$f":"IF(ISERROR(W256), TRUE,W256)","v":false}]
[null,{"$f":"lang!A532","v":"Is the warehouse secured with a burglar alarm system or by security personnel on-site ?"}]
[null,{"$f":"lang!A589","v":"Total capacity of storage tanks available (cubic meters) ?"},null,null,null,null,null,null,null,null,null,null,null,null,null,null,null,null,null,null,null,null,null,null,{"$f":"ISERROR(CONCATENATE(D258,F258,H258,J258,L258))","v":false}]
[null,{"$f":"lang!A705","v":"BY - Belarus"}]
[]
["4.2.5.",{"$f":"lang!A517","v":"Technical fire protection"}]
["4.2.5.1.",{"$f":"lang!A518","v":"Is the warehouse equipped with an overall fire and smoke detection system with direct connection to a permanently manned office that will notify the local fire department without delay or if not, with a direct connection to the local fire department ?"},null,null,null,null,null,null,null,null,null,null,null,null,null,null,null,null,null,null,null,"d5",{"$f":"OR(AND(ISNA(MATCH(L262,ynna,0)),LEN(L262)>0),AND(ISNA(MATCH(J262,ynna,0)),LEN(J262)>0),AND(ISNA(MATCH(H262,ynna,0)),LEN(H262)>0),AND(ISNA(MATCH(F262,ynna,0)),LEN(F262)>0),AND(ISNA(MATCH(D262,ynna,0)),LEN(D262)>0))","v":false},null,{"$f":"IF(ISERROR(W262), TRUE,W262)","v":false}]
[null,{"$f":"lang!A651","v":"Cerificate Number"}]
[null,{"$f":"lang!A634","v":"Comment"},null,null,null,null,null,null,null,null,null,null,null,null,null,null,null,null,null,null,null,null,null,null,{"$f":"ISERROR(CONCATENATE(D264,F264,H264,J264,L264))","v":false}]
[null,{"$f":"lang!A537","v":"multi story  (above ground floor)"}]
["4.2.5.2.",{"$f":"lang!A519","v":"Is there a manual fire alarm system with a direct connection to the local fire brigade installed and is it readily accessible at any time ?"},null,null,null,null,null,null,null,null,null,null,null,null,null,null,null,null,null,null,null,"d5",{"$f":"OR(AND(ISNA(MATCH(L266,ynna,0)),LEN(L266)>0),AND(ISNA(MATCH(J266,ynna,0)),LEN(J266)>0),AND(ISNA(MATCH(H266,ynna,0)),LEN(H266)>0),AND(ISNA(MATCH(F266,ynna,0)),LEN(F266)>0),AND(ISNA(MATCH(D266,ynna,0)),LEN(D266)>0))","v":false},null,{"$f":"IF(ISERROR(W266), TRUE,W266)","v":false}]
[null,{"$f":"lang!A667","v":"Owned/operated tracks present"}]
[null,{"$f":"lang!A534","v":"Warehouse construction"},null,null,null,null,null,null,null,null,null,null,null,null,null,null,null,null,null,null,null,null,null,null,{"$f":"ISERROR(CONCATENATE(D268,F268,H268,J268,L268))","v":false}]
[]
["4.2.5.3.",{"$f":"lang!A520","v":"Is the warehouse equipped with an audible alarm system easily audible throughout the work area ?"},null,null,null,null,null,null,null,null,null,null,null,null,null,null,null,null,null,null,null,"d5",{"$f":"OR(AND(ISNA(MATCH(L270,ynna,0)),LEN(L270)>0),AND(ISNA(MATCH(J270,ynna,0)),LEN(J270)>0),AND(ISNA(MATCH(H270,ynna,0)),LEN(H270)>0),AND(ISNA(MATCH(F270,ynna,0)),LEN(F270)>0),AND(ISNA(MATCH(D270,ynna,0)),LEN(D270)>0))","v":false},null,{"$f":"IF(ISERROR(W270), TRUE,W270)","v":false}]
[null,{"$f":"lang!A536","v":"single story"}]
[null,{"$f":"lang!A633","v":"Smoke and heat vents"},null,null,null,null,null,null,null,null,null,null,null,null,null,null,null,null,null,null,null,null,null,null,{"$f":"ISERROR(CONCATENATE(D272,F272,H272,J272,L272))","v":false}]
[]
["4.2.5.4.",{"$f":"lang!A521","v":"Are smoke and heat vents installed in each fire compartment with an area not less than 2% of the storage area of the fire compartment ?"},null,null,null,null,null,null,null,null,null,null,null,null,null,null,null,null,null,null,null,"d5",{"$f":"OR(AND(ISNA(MATCH(L274,ynna,0)),LEN(L274)>0),AND(ISNA(MATCH(J274,ynna,0)),LEN(J274)>0),AND(ISNA(MATCH(H274,ynna,0)),LEN(H274)>0),AND(ISNA(MATCH(F274,ynna,0)),LEN(F274)>0),AND(ISNA(MATCH(D274,ynna,0)),LEN(D274)>0))","v":false},null,{"$f":"IF(ISERROR(W274), TRUE,W274)","v":false}]
[null,{"$f":"lang!A773","v":"more than 50"}]
[null,{"$f":"lang!A776","v":"Please enter (or Copy/Paste) these fields EXACTLY as mentioned in the confirmation e-mail of this authorized assessment, otherwise your assessment report will be rejected by the SQAS system"},null,null,null,null,null,null,null,null,null,null,null,null,null,null,null,null,null,null,null,null,null,null,{"$f":"ISERROR(CONCATENATE(D276,F276,H276,J276,L276))","v":false}]
[]
["4.2.5.5.",{"$f":"lang!A522","v":"Are smoke vents automatically operated and is there in addition a button near the exit doors to operate these smoke vents manually ? "},null,null,null,null,null,null,null,null,null,null,null,null,null,null,null,null,null,null,null,"d5",{"$f":"OR(AND(ISNA(MATCH(L278,ynna,0)),LEN(L278)>0),AND(ISNA(MATCH(J278,ynna,0)),LEN(J278)>0),AND(ISNA(MATCH(H278,ynna,0)),LEN(H278)>0),AND(ISNA(MATCH(F278,ynna,0)),LEN(F278)>0),AND(ISNA(MATCH(D278,ynna,0)),LEN(D278)>0))","v":false},null,{"$f":"IF(ISERROR(W278), TRUE,W278)","v":false}]
[null,{"$f":"lang!A779","v":"Company Location ( Town/City)"}]
[null,{"$f":"lang!A780","v":"Company Country"},null,null,null,null,null,null,null,null,null,null,null,null,null,null,null,null,null,null,null,null,null,null,{"$f":"ISERROR(CONCATENATE(D280,F280,H280,J280,L280))","v":false}]
[]
["4.2.5.6.",{"$f":"lang!A523","v":"Are fire extinguishers and hose reels provided in accordance with local regulations as stated in the Fire Plan and are they highly visible, with unrestricted access at all times (eg. one hose reel or 1x50 kg or 4x12 kg fire extinguisher(s) with dry powder per 800 m2 of warehouse surface). "},null,null,null,null,null,null,null,null,null,null,null,null,null,null,null,null,null,null,null,"d5",{"$f":"OR(AND(ISNA(MATCH(L282,ynna,0)),LEN(L282)>0),AND(ISNA(MATCH(J282,ynna,0)),LEN(J282)>0),AND(ISNA(MATCH(H282,ynna,0)),LEN(H282)>0),AND(ISNA(MATCH(F282,ynna,0)),LEN(F282)>0),AND(ISNA(MATCH(D282,ynna,0)),LEN(D282)>0))","v":false},null,{"$f":"IF(ISERROR(W282), TRUE,W282)","v":false}]
[null,{"$f":"lang!A582","v":"Is lightning protection installed ?"}]
[null,{"$f":"lang!A639","v":"Corporate"},null,null,null,null,null,null,null,null,null,null,null,null,null,null,null,null,null,null,null,null,null,null,{"$f":"ISERROR(CONCATENATE(D284,F284,H284,J284,L284))","v":false}]
[null,{"$f":"lang!A584","v":"Forklift type :"}]
["4.2.5.7.",{"$f":"lang!A524","v":"Are fire compartments storing products classified as toxic, oxidising, flammable or dangerous to the environment, equipped with fixed extinguishing systems (eg. water, foam) ?"},null,null,null,null,null,null,null,null,null,null,null,null,null,null,null,null,null,null,null,"d5",{"$f":"OR(AND(ISNA(MATCH(L286,ynna,0)),LEN(L286)>0),AND(ISNA(MATCH(J286,ynna,0)),LEN(J286)>0),AND(ISNA(MATCH(H286,ynna,0)),LEN(H286)>0),AND(ISNA(MATCH(F286,ynna,0)),LEN(F286)>0),AND(ISNA(MATCH(D286,ynna,0)),LEN(D286)>0))","v":false},null,{"$f":"IF(ISERROR(W286), TRUE,W286)","v":false}]
[null,{"$f":"lang!A538","v":"underground"}]
[null,{"$f":"lang!A701","v":"AD - Andorra"},null,null,null,null,null,null,null,null,null,null,null,null,null,null,null,null,null,null,null,null,null,null,{"$f":"ISERROR(CONCATENATE(D288,F288,H288,J288,L288))","v":false}]
[null,{"$f":"lang!A539","v":"Supporting construction:"}]
["4.2.5.8.",{"$f":"lang!A525","v":"Are fire compartments storing products classified as toxic, oxidising, flammable or dangerous to the environment, equipped with an operating ventilation system, with an air exchange rate of at least twice/hour ?"},null,null,null,null,null,null,null,null,null,null,null,null,null,null,null,null,null,null,null,"d5",{"$f":"OR(AND(ISNA(MATCH(L290,ynna,0)),LEN(L290)>0),AND(ISNA(MATCH(J290,ynna,0)),LEN(J290)>0),AND(ISNA(MATCH(H290,ynna,0)),LEN(H290)>0),AND(ISNA(MATCH(F290,ynna,0)),LEN(F290)>0),AND(ISNA(MATCH(D290,ynna,0)),LEN(D290)>0))","v":false},null,{"$f":"IF(ISERROR(W290), TRUE,W290)","v":false}]
[null,{"$f":"lang!A626","v":"(ADR-Class or Hazardous Symbol)"}]
[null,{"$f":"lang!A687","v":"Class 3 : Flammable liquids"},null,null,null,null,null,null,null,null,null,null,null,null,null,null,null,null,null,null,null,null,null,null,{"$f":"ISERROR(CONCATENATE(D292,F292,H292,J292,L292))","v":false}]
[null,{"$f":"lang!A700","v":"AL - Albania"}]
["4.2.5.9.",{"$f":"lang!A526","v":"Are charging stations for fork lift trucks placed in separate and vented rooms or inside the storage area with a protection distance of at least 5 m to any stored product or combustible material ?"},null,null,null,null,null,null,null,null,null,null,null,null,null,null,null,null,null,null,null,"d5",{"$f":"OR(AND(ISNA(MATCH(L294,ynna,0)),LEN(L294)>0),AND(ISNA(MATCH(J294,ynna,0)),LEN(J294)>0),AND(ISNA(MATCH(H294,ynna,0)),LEN(H294)>0),AND(ISNA(MATCH(F294,ynna,0)),LEN(F294)>0),AND(ISNA(MATCH(D294,ynna,0)),LEN(D294)>0))","v":false},null,{"$f":"IF(ISERROR(W294), TRUE,W294)","v":false}]
[null,{"$f":"lang!A540","v":"concrete/bricks"}]
[null,{"$f":"lang!A585","v":"gasoil"},null,null,null,null,null,null,null,null,null,null,null,null,null,null,null,null,null,null,null,null,null,null,{"$f":"ISERROR(CONCATENATE(D296,F296,H296,J296,L296))","v":false}]
[null,{"$f":"lang!A642","v":"Engineering/technical"}]
["4.2.5.10.",{"$f":"lang!A527","v":"Is the heating system in warehouses where flammable products are stored a hot-water heating system ? "},null,null,null,null,null,null,null,null,null,null,null,null,null,null,null,null,null,null,null,"d5",{"$f":"OR(AND(ISNA(MATCH(L298,ynna,0)),LEN(L298)>0),AND(ISNA(MATCH(J298,ynna,0)),LEN(J298)>0),AND(ISNA(MATCH(H298,ynna,0)),LEN(H298)>0),AND(ISNA(MATCH(F298,ynna,0)),LEN(F298)>0),AND(ISNA(MATCH(D298,ynna,0)),LEN(D298)>0))","v":false},null,{"$f":"IF(ISERROR(W298), TRUE,W298)","v":false}]
[null,{"$f":"lang!A586","v":"LPG"}]
[null,{"$f":"lang!A685","v":"Class 1 : Explosive substances and articles"},null,null,null,null,null,null,null,null,null,null,null,null,null,null,null,null,null,null,null,null,null,null,{"$f":"ISERROR(CONCATENATE(D300,F300,H300,J300,L300))","v":false}]
[]
["4.2.5.11.",{"$f":"lang!A528","v":"Is the surface temperature of the heating system lower than the ignition temperature of the product stored ?"},null,null,null,null,null,null,null,null,null,null,null,null,null,null,null,null,null,null,null,"d5",{"$f":"OR(AND(ISNA(MATCH(L302,ynna,0)),LEN(L302)>0),AND(ISNA(MATCH(J302,ynna,0)),LEN(J302)>0),AND(ISNA(MATCH(H302,ynna,0)),LEN(H302)>0),AND(ISNA(MATCH(F302,ynna,0)),LEN(F302)>0),AND(ISNA(MATCH(D302,ynna,0)),LEN(D302)>0))","v":false},null,{"$f":"IF(ISERROR(W302), TRUE,W302)","v":false}]
[null,{"$f":"lang!A643","v":"Facility management"}]
[null,{"$f":"lang!A542","v":"metal"},null,null,null,null,null,null,null,null,null,null,null,null,null,null,null,null,null,null,null,null,null,null,{"$f":"ISERROR(CONCATENATE(D304,F304,H304,J304,L304))","v":false}]
[]
[]
["5.",{"$f":"lang!A529","v":"Warehouse security"}]
["5.1.",{"$f":"lang!A530","v":"Are doors and gates equipped with a locking system and is it assured that they are locked, when no persons are working in the warehouse ?"},null,null,null,null,null,null,null,null,null,null,null,null,null,null,null,null,null,null,null,"d5",{"$f":"OR(AND(ISNA(MATCH(L308,ynna,0)),LEN(L308)>0),AND(ISNA(MATCH(J308,ynna,0)),LEN(J308)>0),AND(ISNA(MATCH(H308,ynna,0)),LEN(H308)>0),AND(ISNA(MATCH(F308,ynna,0)),LEN(F308)>0),AND(ISNA(MATCH(D308,ynna,0)),LEN(D308)>0))","v":false},null,{"$f":"IF(ISERROR(W308), TRUE,W308)","v":false}]
[null,{"$f":"lang!A543","v":"wood"}]
[null,{"$f":"lang!A544","v":"other (please indicate)"},null,null,null,null,null,null,null,null,null,null,null,null,null,null,null,null,null,null,null,null,null,null,{"$f":"ISERROR(CONCATENATE(D310,F310,H310,J310,L310))","v":false}]
[]
["5.2.",{"$f":"lang!A531","v":"Are windows or other glass areas appropriately secured (e.g. by fixed grills) ?"},null,null,null,null,null,null,null,null,null,null,null,null,null,null,null,null,null,null,null,"d5",{"$f":"OR(AND(ISNA(MATCH(L312,ynna,0)),LEN(L312)>0),AND(ISNA(MATCH(J312,ynna,0)),LEN(J312)>0),AND(ISNA(MATCH(H312,ynna,0)),LEN(H312)>0),AND(ISNA(MATCH(F312,ynna,0)),LEN(F312)>0),AND(ISNA(MATCH(D312,ynna,0)),LEN(D312)>0))","v":false},null,{"$f":"IF(ISERROR(W312), TRUE,W312)","v":false}]
[null,{"$f":"lang!A646","v":"Network"}]
[null,{"$f":"lang!A697","v":"Class 9 : Miscellaneous dangerous substances and\narticles"},null,null,null,null,null,null,null,null,null,null,null,null,null,null,null,null,null,null,null,null,null,null,{"$f":"ISERROR(CONCATENATE(D314,F314,H314,J314,L314))","v":false}]
[]
["5.3.",{"$f":"lang!A532","v":"Is the warehouse secured with a burglar alarm system or by security personnel on-site ?"},null,null,null,null,null,null,null,null,null,null,null,null,null,null,null,null,null,null,null,"d5",{"$f":"OR(AND(ISNA(MATCH(L316,ynna,0)),LEN(L316)>0),AND(ISNA(MATCH(J316,ynna,0)),LEN(J316)>0),AND(ISNA(MATCH(H316,ynna,0)),LEN(H316)>0),AND(ISNA(MATCH(F316,ynna,0)),LEN(F316)>0),AND(ISNA(MATCH(D316,ynna,0)),LEN(D316)>0))","v":false},null,{"$f":"IF(ISERROR(W316), TRUE,W316)","v":false}]
[null,{"$f":"lang!A589","v":"Total capacity of storage tanks available (cubic meters) ?"}]
[null,{"$f":"lang!A705","v":"BY - Belarus"},null,null,null,null,null,null,null,null,null,null,null,null,null,null,null,null,null,null,null,null,null,null,{"$f":"ISERROR(CONCATENATE(D318,F318,H318,J318,L318))","v":false}]
[]
["5.4.",{"$f":"lang!A533","v":"Are burglar alarms transmitted automatically to security personnel or to a nearby police station ?"},null,null,null,null,null,null,null,null,null,null,null,null,null,null,null,null,null,null,null,"d5",{"$f":"OR(AND(ISNA(MATCH(L320,ynna,0)),LEN(L320)>0),AND(ISNA(MATCH(J320,ynna,0)),LEN(J320)>0),AND(ISNA(MATCH(H320,ynna,0)),LEN(H320)>0),AND(ISNA(MATCH(F320,ynna,0)),LEN(F320)>0),AND(ISNA(MATCH(D320,ynna,0)),LEN(D320)>0))","v":false},null,{"$f":"IF(ISERROR(W320), TRUE,W320)","v":false}]
[null,{"$f":"lang!A546","v":"concrete/bricks"}]
[null,{"$f":"lang!A649","v":"Is the company certified by the National Safety Agency?"},null,null,null,null,null,null,null,null,null,null,null,null,null,null,null,null,null,null,null,null,null,null,{"$f":"ISERROR(CONCATENATE(D322,F322,H322,J322,L322))","v":false}]
[]
[]
["6.",{"$f":"lang!A534","v":"Warehouse construction"}]
["6.1.",{"$f":"lang!A535","v":"Warehouse level:"}]
["6.1.1.",{"$f":"lang!A536","v":"single story"},null,null,null,null,null,null,null,null,null,null,null,null,null,null,null,null,null,null,null,"d5",{"$f":"OR(AND(ISNA(MATCH(L327,ynna,0)),LEN(L327)>0),AND(ISNA(MATCH(J327,ynna,0)),LEN(J327)>0),AND(ISNA(MATCH(H327,ynna,0)),LEN(H327)>0),AND(ISNA(MATCH(F327,ynna,0)),LEN(F327)>0),AND(ISNA(MATCH(D327,ynna,0)),LEN(D327)>0))","v":false},null,{"$f":"IF(ISERROR(W327), TRUE,W327)","v":false}]
[null,{"$f":"lang!A633","v":"Smoke and heat vents"}]
[null,{"$f":"lang!A581","v":"Are safety lights installed in storage areas with safety lamps at least 1.5 m away from the product ?"},null,null,null,null,null,null,null,null,null,null,null,null,null,null,null,null,null,null,null,null,null,null,{"$f":"ISERROR(CONCATENATE(D329,F329,H329,J329,L329))","v":false}]
[]
["6.1.2.",{"$f":"lang!A537","v":"multi story  (above ground floor)"},null,null,null,null,null,null,null,null,null,null,null,null,null,null,null,null,null,null,null,"d5",{"$f":"OR(AND(ISNA(MATCH(L331,ynna,0)),LEN(L331)>0),AND(ISNA(MATCH(J331,ynna,0)),LEN(J331)>0),AND(ISNA(MATCH(H331,ynna,0)),LEN(H331)>0),AND(ISNA(MATCH(F331,ynna,0)),LEN(F331)>0),AND(ISNA(MATCH(D331,ynna,0)),LEN(D331)>0))","v":false},null,{"$f":"IF(ISERROR(W331), TRUE,W331)","v":false}]
[null,{"$f":"lang!A580","v":"Is the coverage of lighting 100 % ? (yes and/or indicate %)"}]
[null,{"$f":"lang!A637","v":"Desciption/location(s)"},null,null,null,null,null,null,null,null,null,null,null,null,null,null,null,null,null,null,null,null,null,null,{"$f":"ISERROR(CONCATENATE(D333,F333,H333,J333,L333))","v":false}]
[]
["6.1.3.",{"$f":"lang!A538","v":"underground"},null,null,null,null,null,null,null,null,null,null,null,null,null,null,null,null,null,null,null,"d5",{"$f":"OR(AND(ISNA(MATCH(L335,ynna,0)),LEN(L335)>0),AND(ISNA(MATCH(J335,ynna,0)),LEN(J335)>0),AND(ISNA(MATCH(H335,ynna,0)),LEN(H335)>0),AND(ISNA(MATCH(F335,ynna,0)),LEN(F335)>0),AND(ISNA(MATCH(D335,ynna,0)),LEN(D335)>0))","v":false},null,{"$f":"IF(ISERROR(W335), TRUE,W335)","v":false}]
[null,{"$f":"lang!A538","v":"underground"}]
[null,{"$f":"lang!A626","v":"(ADR-Class or Hazardous Symbol)"},null,null,null,null,null,null,null,null,null,null,null,null,null,null,null,null,null,null,null,null,null,null,{"$f":"ISERROR(CONCATENATE(D337,F337,H337,J337,L337))","v":false}]
[]
[]
["6.2.",{"$f":"lang!A539","v":"Supporting construction:"}]
[]
["6.2.1.",{"$f":"lang!A540","v":"concrete/bricks"},null,null,null,null,null,null,null,null,null,null,null,null,null,null,null,null,null,null,null,"d5",{"$f":"OR(AND(ISNA(MATCH(L342,ynna,0)),LEN(L342)>0),AND(ISNA(MATCH(J342,ynna,0)),LEN(J342)>0),AND(ISNA(MATCH(H342,ynna,0)),LEN(H342)>0),AND(ISNA(MATCH(F342,ynna,0)),LEN(F342)>0),AND(ISNA(MATCH(D342,ynna,0)),LEN(D342)>0))","v":false},null,{"$f":"IF(ISERROR(W342), TRUE,W342)","v":false}]
[null,{"$f":"lang!A585","v":"gasoil"}]
[null,{"$f":"lang!A642","v":"Engineering/technical"},null,null,null,null,null,null,null,null,null,null,null,null,null,null,null,null,null,null,null,null,null,null,{"$f":"ISERROR(CONCATENATE(D344,F344,H344,J344,L344))","v":false}]
[]
["6.2.2.",{"$f":"lang!A541","v":"fire protected steel"},null,null,null,null,null,null,null,null,null,null,null,null,null,null,null,null,null,null,null,"d5",{"$f":"OR(AND(ISNA(MATCH(L346,ynna,0)),LEN(L346)>0),AND(ISNA(MATCH(J346,ynna,0)),LEN(J346)>0),AND(ISNA(MATCH(H346,ynna,0)),LEN(H346)>0),AND(ISNA(MATCH(F346,ynna,0)),LEN(F346)>0),AND(ISNA(MATCH(D346,ynna,0)),LEN(D346)>0))","v":false},null,{"$f":"IF(ISERROR(W346), TRUE,W346)","v":false}]
[null,{"$f":"lang!A586","v":"LPG"}]
[null,{"$f":"lang!A685","v":"Class 1 : Explosive substances and articles"},null,null,null,null,null,null,null,null,null,null,null,null,null,null,null,null,null,null,null,null,null,null,{"$f":"ISERROR(CONCATENATE(D348,F348,H348,J348,L348))","v":false}]
[]
["6.2.3.",{"$f":"lang!A542","v":"metal"},null,null,null,null,null,null,null,null,null,null,null,null,null,null,null,null,null,null,null,"d5",{"$f":"OR(AND(ISNA(MATCH(L350,ynna,0)),LEN(L350)>0),AND(ISNA(MATCH(J350,ynna,0)),LEN(J350)>0),AND(ISNA(MATCH(H350,ynna,0)),LEN(H350)>0),AND(ISNA(MATCH(F350,ynna,0)),LEN(F350)>0),AND(ISNA(MATCH(D350,ynna,0)),LEN(D350)>0))","v":false},null,{"$f":"IF(ISERROR(W350), TRUE,W350)","v":false}]
[null,{"$f":"lang!A686","v":"Class 2 : Gases"}]
[null,{"$f":"lang!A587","v":"electric"},null,null,null,null,null,null,null,null,null,null,null,null,null,null,null,null,null,null,null,null,null,null,{"$f":"ISERROR(CONCATENATE(D352,F352,H352,J352,L352))","v":false}]
[]
["6.2.4.",{"$f":"lang!A543","v":"wood"},null,null,null,null,null,null,null,null,null,null,null,null,null,null,null,null,null,null,null,"d5",{"$f":"OR(AND(ISNA(MATCH(L354,ynna,0)),LEN(L354)>0),AND(ISNA(MATCH(J354,ynna,0)),LEN(J354)>0),AND(ISNA(MATCH(H354,ynna,0)),LEN(H354)>0),AND(ISNA(MATCH(F354,ynna,0)),LEN(F354)>0),AND(ISNA(MATCH(D354,ynna,0)),LEN(D354)>0))","v":false},null,{"$f":"IF(ISERROR(W354), TRUE,W354)","v":false}]
[null,{"$f":"lang!A646","v":"Network"}]
[null,{"$f":"lang!A697","v":"Class 9 : Miscellaneous dangerous substances and\narticles"},null,null,null,null,null,null,null,null,null,null,null,null,null,null,null,null,null,null,null,null,null,null,{"$f":"ISERROR(CONCATENATE(D356,F356,H356,J356,L356))","v":false}]
[]
["6.2.5.",{"$f":"lang!A544","v":"other (please indicate)"},null,null,null,null,null,null,null,null,null,null,null,null,null,null,null,null,null,null,null,null,null,null,{"$f":"ISERROR(CONCATENATE(D358,F358,H358,J358,L358))","v":false}]
[null,{"$f":"lang!A588","v":"Fixed storage tanks for liquids"}]
[null,{"$f":"lang!A589","v":"Total capacity of storage tanks available (cubic meters) ?"},null,null,null,null,null,null,null,null,null,null,null,null,null,null,null,null,null,null,null,null,null,null,{"$f":"ISERROR(CONCATENATE(D360,F360,H360,J360,L360))","v":false}]
[]
["6.3.",{"$f":"lang!A545","v":"External walls:"}]
["6.3.1.",{"$f":"lang!A546","v":"concrete/bricks"},null,null,null,null,null,null,null,null,null,null,null,null,null,null,null,null,null,null,null,"d5",{"$f":"OR(AND(ISNA(MATCH(L363,ynna,0)),LEN(L363)>0),AND(ISNA(MATCH(J363,ynna,0)),LEN(J363)>0),AND(ISNA(MATCH(H363,ynna,0)),LEN(H363)>0),AND(ISNA(MATCH(F363,ynna,0)),LEN(F363)>0),AND(ISNA(MATCH(D363,ynna,0)),LEN(D363)>0))","v":false},null,{"$f":"IF(ISERROR(W363), TRUE,W363)","v":false}]
[null,{"$f":"lang!A649","v":"Is the company certified by the National Safety Agency?"}]
[null,{"$f":"lang!A651","v":"Cerificate Number"},null,null,null,null,null,null,null,null,null,null,null,null,null,null,null,null,null,null,null,null,null,null,{"$f":"ISERROR(CONCATENATE(D365,F365,H365,J365,L365))","v":false}]
[]
["6.3.2.",{"$f":"lang!A547","v":"metal"},null,null,null,null,null,null,null,null,null,null,null,null,null,null,null,null,null,null,null,"d5",{"$f":"OR(AND(ISNA(MATCH(L367,ynna,0)),LEN(L367)>0),AND(ISNA(MATCH(J367,ynna,0)),LEN(J367)>0),AND(ISNA(MATCH(H367,ynna,0)),LEN(H367)>0),AND(ISNA(MATCH(F367,ynna,0)),LEN(F367)>0),AND(ISNA(MATCH(D367,ynna,0)),LEN(D367)>0))","v":false},null,{"$f":"IF(ISERROR(W367), TRUE,W367)","v":false}]
[null,{"$f":"lang!A648","v":"Is the company mentioned in the list of committed RU's to UIC 471-3?"}]
[null,{"$f":"lang!A652","v":"Subcontracting"},null,null,null,null,null,null,null,null,null,null,null,null,null,null,null,null,null,null,null,null,null,null,{"$f":"ISERROR(CONCATENATE(D369,F369,H369,J369,L369))","v":false}]
[]
["6.3.3.",{"$f":"lang!A548","v":"wood"},null,null,null,null,null,null,null,null,null,null,null,null,null,null,null,null,null,null,null,"d5",{"$f":"OR(AND(ISNA(MATCH(L371,ynna,0)),LEN(L371)>0),AND(ISNA(MATCH(J371,ynna,0)),LEN(J371)>0),AND(ISNA(MATCH(H371,ynna,0)),LEN(H371)>0),AND(ISNA(MATCH(F371,ynna,0)),LEN(F371)>0),AND(ISNA(MATCH(D371,ynna,0)),LEN(D371)>0))","v":false},null,{"$f":"IF(ISERROR(W371), TRUE,W371)","v":false}]
[null,{"$f":"lang!A592","v":"stainless steel"}]
[null,{"$f":"lang!A689","v":"Class 4.2. : Substances liable for spontaneous combustion"},null,null,null,null,null,null,null,null,null,null,null,null,null,null,null,null,null,null,null,null,null,null,{"$f":"ISERROR(CONCATENATE(D373,F373,H373,J373,L373))","v":false}]
[]
["6.3.4.",{"$f":"lang!A549","v":"other (please indicate)"},null,null,null,null,null,null,null,null,null,null,null,null,null,null,null,null,null,null,null,null,null,null,{"$f":"ISERROR(CONCATENATE(D375,F375,H375,J375,L375))","v":false}]
[null,{"$f":"lang!A591","v":"Construction material of:"}]
[null,{"$f":"lang!A613","v":"It is envisaged that one warehouse building may have more than one fire compartment. For this reason the below spreadsheet is used by the warehouse to record fire compartment details per building. The combination is identified through the first two columns."},null,null,null,null,null,null,null,null,null,null,null,null,null,null,null,null,null,null,null,null,null,null,{"$f":"ISERROR(CONCATENATE(D377,F377,H377,J377,L377))","v":false}]
[]
["6.4.",{"$f":"lang!A550","v":"Internal walls:"}]
["6.4.1.",{"$f":"lang!A551","v":"concrete/bricks"},null,null,null,null,null,null,null,null,null,null,null,null,null,null,null,null,null,null,null,"d5",{"$f":"OR(AND(ISNA(MATCH(L380,ynna,0)),LEN(L380)>0),AND(ISNA(MATCH(J380,ynna,0)),LEN(J380)>0),AND(ISNA(MATCH(H380,ynna,0)),LEN(H380)>0),AND(ISNA(MATCH(F380,ynna,0)),LEN(F380)>0),AND(ISNA(MATCH(D380,ynna,0)),LEN(D380)>0))","v":false},null,{"$f":"IF(ISERROR(W380), TRUE,W380)","v":false}]
[null,{"$f":"lang!A590","v":"If available:"}]
[null,{"$f":"lang!A636","v":"Activities included in assessment"},null,null,null,null,null,null,null,null,null,null,null,null,null,null,null,null,null,null,null,null,null,null,{"$f":"ISERROR(CONCATENATE(D382,F382,H382,J382,L382))","v":false}]
[]
["6.4.2.",{"$f":"lang!A552","v":"metal"},null,null,null,null,null,null,null,null,null,null,null,null,null,null,null,null,null,null,null,"d5",{"$f":"OR(AND(ISNA(MATCH(L384,ynna,0)),LEN(L384)>0),AND(ISNA(MATCH(J384,ynna,0)),LEN(J384)>0),AND(ISNA(MATCH(H384,ynna,0)),LEN(H384)>0),AND(ISNA(MATCH(F384,ynna,0)),LEN(F384)>0),AND(ISNA(MATCH(D384,ynna,0)),LEN(D384)>0))","v":false},null,{"$f":"IF(ISERROR(W384), TRUE,W384)","v":false}]
[null,{"$f":"lang!A647","v":"Shunting yard(s)"}]
[null,{"$f":"lang!A692","v":"Class 5.2. : Organic peroxides"},null,null,null,null,null,null,null,null,null,null,null,null,null,null,null,null,null,null,null,null,null,null,{"$f":"ISERROR(CONCATENATE(D386,F386,H386,J386,L386))","v":false}]
[]
["6.4.3.",{"$f":"lang!A553","v":"wood"},null,null,null,null,null,null,null,null,null,null,null,null,null,null,null,null,null,null,null,"d5",{"$f":"OR(AND(ISNA(MATCH(L388,ynna,0)),LEN(L388)>0),AND(ISNA(MATCH(J388,ynna,0)),LEN(J388)>0),AND(ISNA(MATCH(H388,ynna,0)),LEN(H388)>0),AND(ISNA(MATCH(F388,ynna,0)),LEN(F388)>0),AND(ISNA(MATCH(D388,ynna,0)),LEN(D388)>0))","v":false},null,{"$f":"IF(ISERROR(W388), TRUE,W388)","v":false}]
[null,{"$f":"lang!A665","v":"Number of let railcars to other companies"}]
[null,{"$f":"lang!A604","v":"polyester/plastic"},null,null,null,null,null,null,null,null,null,null,null,null,null,null,null,null,null,null,null,null,null,null,{"$f":"ISERROR(CONCATENATE(D390,F390,H390,J390,L390))","v":false}]
[]
["6.4.4.",{"$f":"lang!A554","v":"other (please indicate)"},null,null,null,null,null,null,null,null,null,null,null,null,null,null,null,null,null,null,null,null,null,null,{"$f":"ISERROR(CONCATENATE(D392,F392,H392,J392,L392))","v":false}]
[null,{"$f":"lang!A719","v":"HU - Hungary"}]
[null,{"$f":"lang!A662","v":"Number of own Rail Tank Cars (RTC's)"},null,null,null,null,null,null,null,null,null,null,null,null,null,null,null,null,null,null,null,null,null,null,{"$f":"ISERROR(CONCATENATE(D394,F394,H394,J394,L394))","v":false}]
[]
["6.5.",{"$f":"lang!A555","v":"Roof and supporting construction material:"}]
["6.5.1.",{"$f":"lang!A556","v":"tiles"},null,null,null,null,null,null,null,null,null,null,null,null,null,null,null,null,null,null,null,"d5",{"$f":"OR(AND(ISNA(MATCH(L397,ynna,0)),LEN(L397)>0),AND(ISNA(MATCH(J397,ynna,0)),LEN(J397)>0),AND(ISNA(MATCH(H397,ynna,0)),LEN(H397)>0),AND(ISNA(MATCH(F397,ynna,0)),LEN(F397)>0),AND(ISNA(MATCH(D397,ynna,0)),LEN(D397)>0))","v":false},null,{"$f":"IF(ISERROR(W397), TRUE,W397)","v":false}]
[null,{"$f":"lang!A605","v":"Internal coating?"}]
[null,{"$f":"lang!A693","v":"Class 6.1. : Toxic substances"},null,null,null,null,null,null,null,null,null,null,null,null,null,null,null,null,null,null,null,null,null,null,{"$f":"ISERROR(CONCATENATE(D399,F399,H399,J399,L399))","v":false}]
[]
["6.5.2.",{"$f":"lang!A557","v":"metal"},null,null,null,null,null,null,null,null,null,null,null,null,null,null,null,null,null,null,null,"d5",{"$f":"OR(AND(ISNA(MATCH(L401,ynna,0)),LEN(L401)>0),AND(ISNA(MATCH(J401,ynna,0)),LEN(J401)>0),AND(ISNA(MATCH(H401,ynna,0)),LEN(H401)>0),AND(ISNA(MATCH(F401,ynna,0)),LEN(F401)>0),AND(ISNA(MATCH(D401,ynna,0)),LEN(D401)>0))","v":false},null,{"$f":"IF(ISERROR(W401), TRUE,W401)","v":false}]
[null,{"$f":"lang!A666","v":"Fixed storage tanks present "}]
[null,{"$f":"lang!A667","v":"Owned/operated tracks present"},null,null,null,null,null,null,null,null,null,null,null,null,null,null,null,null,null,null,null,null,null,null,{"$f":"ISERROR(CONCATENATE(D403,F403,H403,J403,L403))","v":false}]
[]
["6.5.3.",{"$f":"lang!A558","v":"wood"},null,null,null,null,null,null,null,null,null,null,null,null,null,null,null,null,null,null,null,"d5",{"$f":"OR(AND(ISNA(MATCH(L405,ynna,0)),LEN(L405)>0),AND(ISNA(MATCH(J405,ynna,0)),LEN(J405)>0),AND(ISNA(MATCH(H405,ynna,0)),LEN(H405)>0),AND(ISNA(MATCH(F405,ynna,0)),LEN(F405)>0),AND(ISNA(MATCH(D405,ynna,0)),LEN(D405)>0))","v":false},null,{"$f":"IF(ISERROR(W405), TRUE,W405)","v":false}]
[null,{"$f":"lang!A607","v":"Are hazardous substances handled (filling/blending) in open systems in the warehouses ?"}]
[null,{"$f":"lang!A668","v":"Maintenance shop"},null,null,null,null,null,null,null,null,null,null,null,null,null,null,null,null,null,null,null,null,null,null,{"$f":"ISERROR(CONCATENATE(D407,F407,H407,J407,L407))","v":false}]
[]
["6.5.4.",{"$f":"lang!A559","v":"other (please indicate)"},null,null,null,null,null,null,null,null,null,null,null,null,null,null,null,null,null,null,null,null,null,null,{"$f":"ISERROR(CONCATENATE(D409,F409,H409,J409,L409))","v":false}]
[null,{"$f":"lang!A673","v":"Are changes of tare weights and to the label clip weight limits documented and painted on the wagon ?\n"}]
[null,{"$f":"lang!A608","v":"Which classes of hazardous substances are handled in these open systems ?"},null,null,null,null,null,null,null,null,null,null,null,null,null,null,null,null,null,null,null,null,null,null,{"$f":"ISERROR(CONCATENATE(D411,F411,H411,J411,L411))","v":false}]
[]
["6.6.",{"$f":"lang!A560","v":"Floor:"}]
["6.6.1.",{"$f":"lang!A561","v":"concrete"},null,null,null,null,null,null,null,null,null,null,null,null,null,null,null,null,null,null,null,"d5",{"$f":"OR(AND(ISNA(MATCH(L414,ynna,0)),LEN(L414)>0),AND(ISNA(MATCH(J414,ynna,0)),LEN(J414)>0),AND(ISNA(MATCH(H414,ynna,0)),LEN(H414)>0),AND(ISNA(MATCH(F414,ynna,0)),LEN(F414)>0),AND(ISNA(MATCH(D414,ynna,0)),LEN(D414)>0))","v":false},null,{"$f":"IF(ISERROR(W414), TRUE,W414)","v":false}]
[null,{"$f":"lang!A609","v":"Are drumming lines available ? "}]
[null,{"$f":"lang!A610","v":"Are bagging lines available ?"},null,null,null,null,null,null,null,null,null,null,null,null,null,null,null,null,null,null,null,null,null,null,{"$f":"ISERROR(CONCATENATE(D416,F416,H416,J416,L416))","v":false}]
[]
["6.6.2.",{"$f":"lang!A562","v":"asphalt"},null,null,null,null,null,null,null,null,null,null,null,null,null,null,null,null,null,null,null,"d5",{"$f":"OR(AND(ISNA(MATCH(L418,ynna,0)),LEN(L418)>0),AND(ISNA(MATCH(J418,ynna,0)),LEN(J418)>0),AND(ISNA(MATCH(H418,ynna,0)),LEN(H418)>0),AND(ISNA(MATCH(F418,ynna,0)),LEN(F418)>0),AND(ISNA(MATCH(D418,ynna,0)),LEN(D418)>0))","v":false},null,{"$f":"IF(ISERROR(W418), TRUE,W418)","v":false}]
[null,{"$f":"lang!A674","v":"Is the next maintenance date documented and painted on the wagon ?"}]
[null,{"$f":"lang!A675","v":"Is the next tank revision date documented and painted on the RTC ?"},null,null,null,null,null,null,null,null,null,null,null,null,null,null,null,null,null,null,null,null,null,null,{"$f":"ISERROR(CONCATENATE(D420,F420,H420,J420,L420))","v":false}]
[]
["6.6.3.",{"$f":"lang!A563","v":"paved"},null,null,null,null,null,null,null,null,null,null,null,null,null,null,null,null,null,null,null,"d5",{"$f":"OR(AND(ISNA(MATCH(L422,ynna,0)),LEN(L422)>0),AND(ISNA(MATCH(J422,ynna,0)),LEN(J422)>0),AND(ISNA(MATCH(H422,ynna,0)),LEN(H422)>0),AND(ISNA(MATCH(F422,ynna,0)),LEN(F422)>0),AND(ISNA(MATCH(D422,ynna,0)),LEN(D422)>0))","v":false},null,{"$f":"IF(ISERROR(W422), TRUE,W422)","v":false}]
[null,{"$f":"lang!A681","v":"Number of chartered / hired drivers "}]
[null,{"$f":"lang!A702","v":"AM - Armenia"},null,null,null,null,null,null,null,null,null,null,null,null,null,null,null,null,null,null,null,null,null,null,{"$f":"ISERROR(CONCATENATE(D424,F424,H424,J424,L424))","v":false}]
[]
["6.6.4.",{"$f":"lang!A564","v":"impervious"},null,null,null,null,null,null,null,null,null,null,null,null,null,null,null,null,null,null,null,"d5",{"$f":"OR(AND(ISNA(MATCH(L426,ynna,0)),LEN(L426)>0),AND(ISNA(MATCH(J426,ynna,0)),LEN(J426)>0),AND(ISNA(MATCH(H426,ynna,0)),LEN(H426)>0),AND(ISNA(MATCH(F426,ynna,0)),LEN(F426)>0),AND(ISNA(MATCH(D426,ynna,0)),LEN(D426)>0))","v":false},null,{"$f":"IF(ISERROR(W426), TRUE,W426)","v":false}]
[null,{"$f":"lang!A615","v":"Warehouse"}]
[null,{"$f":"lang!A704","v":"AZ- Azerbaijan"},null,null,null,null,null,null,null,null,null,null,null,null,null,null,null,null,null,null,null,null,null,null,{"$f":"ISERROR(CONCATENATE(D428,F428,H428,J428,L428))","v":false}]
[]
["6.6.5.",{"$f":"lang!A565","v":"other (please indicate)"},null,null,null,null,null,null,null,null,null,null,null,null,null,null,null,null,null,null,null,null,null,null,{"$f":"ISERROR(CONCATENATE(D430,F430,H430,J430,L430))","v":false}]
[null,{"$f":"lang!A677","v":"Total number of employees"}]
[null,{"$f":"lang!A678","v":"Company own drivers?"},null,null,null,null,null,null,null,null,null,null,null,null,null,null,null,null,null,null,null,null,null,null,{"$f":"ISERROR(CONCATENATE(D432,F432,H432,J432,L432))","v":false}]
[]
["6.7.",{"$f":"lang!A566","v":"Insulation - walls:"}]
["6.7.1.",{"$f":"lang!A567","v":"polyurethane"},null,null,null,null,null,null,null,null,null,null,null,null,null,null,null,null,null,null,null,"d5",{"$f":"OR(AND(ISNA(MATCH(L435,ynna,0)),LEN(L435)>0),AND(ISNA(MATCH(J435,ynna,0)),LEN(J435)>0),AND(ISNA(MATCH(H435,ynna,0)),LEN(H435)>0),AND(ISNA(MATCH(F435,ynna,0)),LEN(F435)>0),AND(ISNA(MATCH(D435,ynna,0)),LEN(D435)>0))","v":false},null,{"$f":"IF(ISERROR(W435), TRUE,W435)","v":false}]
[null,{"$f":"lang!A618","v":"Area"}]
[null,{"$f":"lang!A655","v":"Do you own locomotives?"},null,null,null,null,null,null,null,null,null,null,null,null,null,null,null,null,null,null,null,null,null,null,{"$f":"ISERROR(CONCATENATE(D437,F437,H437,J437,L437))","v":false}]
[]
["6.7.2.",{"$f":"lang!A568","v":"asbestos"},null,null,null,null,null,null,null,null,null,null,null,null,null,null,null,null,null,null,null,"d5",{"$f":"OR(AND(ISNA(MATCH(L439,ynna,0)),LEN(L439)>0),AND(ISNA(MATCH(J439,ynna,0)),LEN(J439)>0),AND(ISNA(MATCH(H439,ynna,0)),LEN(H439)>0),AND(ISNA(MATCH(F439,ynna,0)),LEN(F439)>0),AND(ISNA(MATCH(D439,ynna,0)),LEN(D439)>0))","v":false},null,{"$f":"IF(ISERROR(W439), TRUE,W439)","v":false}]
[null,{"$f":"lang!A617","v":"Fire compartment"}]
[null,{"$f":"lang!A603","v":"aluminum"},null,null,null,null,null,null,null,null,null,null,null,null,null,null,null,null,null,null,null,null,null,null,{"$f":"ISERROR(CONCATENATE(D441,F441,H441,J441,L441))","v":false}]
[]
["6.7.3.",{"$f":"lang!A569","v":"glass fiber"},null,null,null,null,null,null,null,null,null,null,null,null,null,null,null,null,null,null,null,"d5",{"$f":"OR(AND(ISNA(MATCH(L443,ynna,0)),LEN(L443)>0),AND(ISNA(MATCH(J443,ynna,0)),LEN(J443)>0),AND(ISNA(MATCH(H443,ynna,0)),LEN(H443)>0),AND(ISNA(MATCH(F443,ynna,0)),LEN(F443)>0),AND(ISNA(MATCH(D443,ynna,0)),LEN(D443)>0))","v":false},null,{"$f":"IF(ISERROR(W443), TRUE,W443)","v":false}]
[null,{"$f":"lang!A619","v":"[sqm]"}]
[null,{"$f":"lang!A596","v":"Internal coating ?"},null,null,null,null,null,null,null,null,null,null,null,null,null,null,null,null,null,null,null,null,null,null,{"$f":"ISERROR(CONCATENATE(D445,F445,H445,J445,L445))","v":false}]
[]
["6.7.4.",{"$f":"lang!A570","v":"other (please indicate)"},null,null,null,null,null,null,null,null,null,null,null,null,null,null,null,null,null,null,null,null,null,null,{"$f":"ISERROR(CONCATENATE(D447,F447,H447,J447,L447))","v":false}]
[null,{"$f":"lang!A656","v":"Number of electrical locomotives"}]
[null,{"$f":"lang!A658","v":"Number of shunting locomotives"},null,null,null,null,null,null,null,null,null,null,null,null,null,null,null,null,null,null,null,null,null,null,{"$f":"ISERROR(CONCATENATE(D449,F449,H449,J449,L449))","v":false}]
[]
["6.8.",{"$f":"lang!A571","v":"Insulation - roof:"}]
["6.8.1.",{"$f":"lang!A572","v":"polyurethane"},null,null,null,null,null,null,null,null,null,null,null,null,null,null,null,null,null,null,null,"d5",{"$f":"OR(AND(ISNA(MATCH(L452,ynna,0)),LEN(L452)>0),AND(ISNA(MATCH(J452,ynna,0)),LEN(J452)>0),AND(ISNA(MATCH(H452,ynna,0)),LEN(H452)>0),AND(ISNA(MATCH(F452,ynna,0)),LEN(F452)>0),AND(ISNA(MATCH(D452,ynna,0)),LEN(D452)>0))","v":false},null,{"$f":"IF(ISERROR(W452), TRUE,W452)","v":false}]
[null,{"$f":"lang!A597","v":"Fixed storage silos for solids"}]
[null,{"$f":"lang!A598","v":"Total capacity of storage silos available (cubic meters) ?"},null,null,null,null,null,null,null,null,null,null,null,null,null,null,null,null,null,null,null,null,null,null,{"$f":"ISERROR(CONCATENATE(D454,F454,H454,J454,L454))","v":false}]
[]
["6.8.2.",{"$f":"lang!A573","v":"asbestos"},null,null,null,null,null,null,null,null,null,null,null,null,null,null,null,null,null,null,null,"d5",{"$f":"OR(AND(ISNA(MATCH(L456,ynna,0)),LEN(L456)>0),AND(ISNA(MATCH(J456,ynna,0)),LEN(J456)>0),AND(ISNA(MATCH(H456,ynna,0)),LEN(H456)>0),AND(ISNA(MATCH(F456,ynna,0)),LEN(F456)>0),AND(ISNA(MATCH(D456,ynna,0)),LEN(D456)>0))","v":false},null,{"$f":"IF(ISERROR(W456), TRUE,W456)","v":false}]
[null,{"$f":"lang!A599","v":"If available:"}]
[null,{"$f":"lang!A600","v":"Construction material of:"},null,null,null,null,null,null,null,null,null,null,null,null,null,null,null,null,null,null,null,null,null,null,{"$f":"ISERROR(CONCATENATE(D458,F458,H458,J458,L458))","v":false}]
[]
["6.8.3.",{"$f":"lang!A574","v":"glass fiber"},null,null,null,null,null,null,null,null,null,null,null,null,null,null,null,null,null,null,null,"d5",{"$f":"OR(AND(ISNA(MATCH(L460,ynna,0)),LEN(L460)>0),AND(ISNA(MATCH(J460,ynna,0)),LEN(J460)>0),AND(ISNA(MATCH(H460,ynna,0)),LEN(H460)>0),AND(ISNA(MATCH(F460,ynna,0)),LEN(F460)>0),AND(ISNA(MATCH(D460,ynna,0)),LEN(D460)>0))","v":false},null,{"$f":"IF(ISERROR(W460), TRUE,W460)","v":false}]
[null,{"$f":"lang!A695","v":"Class 7 : Radioactive material"}]
[null,{"$f":"lang!A657","v":"Number of diesel locomotives"},null,null,null,null,null,null,null,null,null,null,null,null,null,null,null,null,null,null,null,null,null,null,{"$f":"ISERROR(CONCATENATE(D462,F462,H462,J462,L462))","v":false}]
[]
["6.8.4.",{"$f":"lang!A575","v":"other (please indicate)"},null,null,null,null,null,null,null,null,null,null,null,null,null,null,null,null,null,null,null,null,null,null,{"$f":"ISERROR(CONCATENATE(D464,F464,H464,J464,L464))","v":false}]
[null,{"$f":"lang!A690","v":"Class 4.3. : Substances which in contact with water, emit flammable gases"}]
[null,{"$f":"lang!A660","v":"Do you own railcars?"},null,null,null,null,null,null,null,null,null,null,null,null,null,null,null,null,null,null,null,null,null,null,{"$f":"ISERROR(CONCATENATE(D466,F466,H466,J466,L466))","v":false}]
[]
["6.9.",{"$f":"lang!A576","v":"Is the warehouse construction code in line with \"natural disaster guidelines\", if any ?"},null,null,null,null,null,null,null,null,null,null,null,null,null,null,null,null,null,null,null,"d5",{"$f":"OR(AND(ISNA(MATCH(L468,ynna,0)),LEN(L468)>0),AND(ISNA(MATCH(J468,ynna,0)),LEN(J468)>0),AND(ISNA(MATCH(H468,ynna,0)),LEN(H468)>0),AND(ISNA(MATCH(F468,ynna,0)),LEN(F468)>0),AND(ISNA(MATCH(D468,ynna,0)),LEN(D468)>0))","v":false},null,{"$f":"IF(ISERROR(W468), TRUE,W468)","v":false}]
[null,{"$f":"lang!A622","v":"Storage Type"}]
[null,{"$f":"lang!A623","v":"(Block / Rack / High Rack / Tank / Silo)"},null,null,null,null,null,null,null,null,null,null,null,null,null,null,null,null,null,null,null,null,null,null,{"$f":"ISERROR(CONCATENATE(D470,F470,H470,J470,L470))","v":false}]
[]
[]
["7.",{"$f":"lang!A577","v":"Electrical equipment"}]
["7.1.",{"$f":"lang!A578","v":"Is the electrical installation in accordance with the local regulations and standards ?"},null,null,null,null,null,null,null,null,null,null,null,null,null,null,null,null,null,null,null,"d5",{"$f":"OR(AND(ISNA(MATCH(L474,ynna,0)),LEN(L474)>0),AND(ISNA(MATCH(J474,ynna,0)),LEN(J474)>0),AND(ISNA(MATCH(H474,ynna,0)),LEN(H474)>0),AND(ISNA(MATCH(F474,ynna,0)),LEN(F474)>0),AND(ISNA(MATCH(D474,ynna,0)),LEN(D474)>0))","v":false},null,{"$f":"IF(ISERROR(W474), TRUE,W474)","v":false}]
[null,{"$f":"lang!A621","v":"(Pallets / Tank / Silo)"}]
[null,{"$f":"lang!A645","v":"Workshop locomotives"},null,null,null,null,null,null,null,null,null,null,null,null,null,null,null,null,null,null,null,null,null,null,{"$f":"ISERROR(CONCATENATE(D476,F476,H476,J476,L476))","v":false}]
[]
["7.2.",{"$f":"lang!A579","v":"Is the electrical installation (inclusive lighting) in accordance to the explosion protection regulations ?"},null,null,null,null,null,null,null,null,null,null,null,null,null,null,null,null,null,null,null,"d5",{"$f":"OR(AND(ISNA(MATCH(L478,ynna,0)),LEN(L478)>0),AND(ISNA(MATCH(J478,ynna,0)),LEN(J478)>0),AND(ISNA(MATCH(H478,ynna,0)),LEN(H478)>0),AND(ISNA(MATCH(F478,ynna,0)),LEN(F478)>0),AND(ISNA(MATCH(D478,ynna,0)),LEN(D478)>0))","v":false},null,{"$f":"IF(ISERROR(W478), TRUE,W478)","v":false}]
[null,{"$f":"lang!A626","v":"(ADR-Class or Hazardous Symbol)"}]
[null,{"$f":"lang!A627","v":"Risk Phrases"},null,null,null,null,null,null,null,null,null,null,null,null,null,null,null,null,null,null,null,null,null,null,{"$f":"ISERROR(CONCATENATE(D480,F480,H480,J480,L480))","v":false}]
[]
["7.3.",{"$f":"lang!A580","v":"Is the coverage of lighting 100 % ? (yes and/or indicate %)"},null,null,null,null,null,null,null,null,null,null,null,null,null,null,null,null,null,null,null,"d5",{"$f":"OR(AND(ISNA(MATCH(L482,ynna,0)),LEN(L482)>0),AND(ISNA(MATCH(J482,ynna,0)),LEN(J482)>0),AND(ISNA(MATCH(H482,ynna,0)),LEN(H482)>0),AND(ISNA(MATCH(F482,ynna,0)),LEN(F482)>0),AND(ISNA(MATCH(D482,ynna,0)),LEN(D482)>0))","v":false},null,{"$f":"IF(ISERROR(W482), TRUE,W482)","v":false}]
[null,{"$f":"lang!A631","v":"(existing Y or N)"}]
[null,{"$f":"lang!A632","v":"Fixed extinguishing system"},null,null,null,null,null,null,null,null,null,null,null,null,null,null,null,null,null,null,null,null,null,null,{"$f":"ISERROR(CONCATENATE(D484,F484,H484,J484,L484))","v":false}]
[]
["7.4.",{"$f":"lang!A581","v":"Are safety lights installed in storage areas with safety lamps at least 1.5 m away from the product ?"},null,null,null,null,null,null,null,null,null,null,null,null,null,null,null,null,null,null,null,"d5",{"$f":"OR(AND(ISNA(MATCH(L486,ynna,0)),LEN(L486)>0),AND(ISNA(MATCH(J486,ynna,0)),LEN(J486)>0),AND(ISNA(MATCH(H486,ynna,0)),LEN(H486)>0),AND(ISNA(MATCH(F486,ynna,0)),LEN(F486)>0),AND(ISNA(MATCH(D486,ynna,0)),LEN(D486)>0))","v":false},null,{"$f":"IF(ISERROR(W486), TRUE,W486)","v":false}]
[null,{"$f":"lang!A634","v":"Comment"}]
[null,{"$f":"lang!A612","v":"Fire Compartments Information :"},null,null,null,null,null,null,null,null,null,null,null,null,null,null,null,null,null,null,null,null,null,null,{"$f":"ISERROR(CONCATENATE(D488,F488,H488,J488,L488))","v":false}]
[]
["7.5.",{"$f":"lang!A582","v":"Is lightning protection installed ?"},null,null,null,null,null,null,null,null,null,null,null,null,null,null,null,null,null,null,null,"d5",{"$f":"OR(AND(ISNA(MATCH(L490,ynna,0)),LEN(L490)>0),AND(ISNA(MATCH(J490,ynna,0)),LEN(J490)>0),AND(ISNA(MATCH(H490,ynna,0)),LEN(H490)>0),AND(ISNA(MATCH(F490,ynna,0)),LEN(F490)>0),AND(ISNA(MATCH(D490,ynna,0)),LEN(D490)>0))","v":false},null,{"$f":"IF(ISERROR(W490), TRUE,W490)","v":false}]
[null,{"$f":"lang!A639","v":"Corporate"}]
[null,{"$f":"lang!A718","v":"GG - Guernsey"},null,null,null,null,null,null,null,null,null,null,null,null,null,null,null,null,null,null,null,null,null,null,{"$f":"ISERROR(CONCATENATE(D492,F492,H492,J492,L492))","v":false}]
[]
[]
["8.",{"$f":"lang!A583","v":"Handling equipment"}]
["8.1.",{"$f":"lang!A584","v":"Forklift type :"}]
[]
["8.1.1.",{"$f":"lang!A585","v":"gasoil"},null,null,null,null,null,null,null,null,null,null,null,null,null,null,null,null,null,null,null,"d5",{"$f":"OR(AND(ISNA(MATCH(L498,ynna,0)),LEN(L498)>0),AND(ISNA(MATCH(J498,ynna,0)),LEN(J498)>0),AND(ISNA(MATCH(H498,ynna,0)),LEN(H498)>0),AND(ISNA(MATCH(F498,ynna,0)),LEN(F498)>0),AND(ISNA(MATCH(D498,ynna,0)),LEN(D498)>0))","v":false},null,{"$f":"IF(ISERROR(W498), TRUE,W498)","v":false}]
[null,{"$f":"lang!A642","v":"Engineering/technical"}]
[null,{"$f":"lang!A644","v":"Workshop general maintenance"},null,null,null,null,null,null,null,null,null,null,null,null,null,null,null,null,null,null,null,null,null,null,{"$f":"ISERROR(CONCATENATE(D500,F500,H500,J500,L500))","v":false}]
[]
["8.1.2.",{"$f":"lang!A586","v":"LPG"},null,null,null,null,null,null,null,null,null,null,null,null,null,null,null,null,null,null,null,"d5",{"$f":"OR(AND(ISNA(MATCH(L502,ynna,0)),LEN(L502)>0),AND(ISNA(MATCH(J502,ynna,0)),LEN(J502)>0),AND(ISNA(MATCH(H502,ynna,0)),LEN(H502)>0),AND(ISNA(MATCH(F502,ynna,0)),LEN(F502)>0),AND(ISNA(MATCH(D502,ynna,0)),LEN(D502)>0))","v":false},null,{"$f":"IF(ISERROR(W502), TRUE,W502)","v":false}]
[null,{"$f":"lang!A685","v":"Class 1 : Explosive substances and articles"}]
[null,{"$f":"lang!A643","v":"Facility management"},null,null,null,null,null,null,null,null,null,null,null,null,null,null,null,null,null,null,null,null,null,null,{"$f":"ISERROR(CONCATENATE(D504,F504,H504,J504,L504))","v":false}]
[]
["8.1.3.",{"$f":"lang!A587","v":"electric"},null,null,null,null,null,null,null,null,null,null,null,null,null,null,null,null,null,null,null,"d5",{"$f":"OR(AND(ISNA(MATCH(L506,ynna,0)),LEN(L506)>0),AND(ISNA(MATCH(J506,ynna,0)),LEN(J506)>0),AND(ISNA(MATCH(H506,ynna,0)),LEN(H506)>0),AND(ISNA(MATCH(F506,ynna,0)),LEN(F506)>0),AND(ISNA(MATCH(D506,ynna,0)),LEN(D506)>0))","v":false},null,{"$f":"IF(ISERROR(W506), TRUE,W506)","v":false}]
[null,{"$f":"lang!A688","v":"Class 4.1. : Flammable solids,  self-reactive substances and solid desensitized explosives."}]
[null,{"$f":"lang!A646","v":"Network"},null,null,null,null,null,null,null,null,null,null,null,null,null,null,null,null,null,null,null,null,null,null,{"$f":"ISERROR(CONCATENATE(D508,F508,H508,J508,L508))","v":false}]
[]
[]
["9.",{"$f":"lang!A588","v":"Fixed storage tanks for liquids"}]
["9.1.",{"$f":"lang!A589","v":"Total capacity of storage tanks available (cubic meters) ?"},null,null,null,null,null,null,null,null,null,null,null,null,null,null,null,null,null,null,null,"n5",{"$f":"OR(AND(NOT(ISNUMBER(L512)),LEN(L512)>0),AND(NOT(ISNUMBER(J512)),LEN(J512)>0),AND(NOT(ISNUMBER(H512)),LEN(H512)>0),AND(NOT(ISNUMBER(F512)),LEN(F512)>0),AND(NOT(ISNUMBER(D512)),LEN(D512)>0))","v":false},null,{"$f":"IF(ISERROR(W512), TRUE,W512)","v":false}]
[null,{"$f":"lang!A705","v":"BY - Belarus"}]
[null,{"$f":"lang!A647","v":"Shunting yard(s)"},null,null,null,null,null,null,null,null,null,null,null,null,null,null,null,null,null,null,null,null,null,null,{"$f":"ISERROR(CONCATENATE(D514,F514,H514,J514,L514))","v":false}]
[null,{"$f":"lang!A590","v":"If available:"}]
["9.2.",{"$f":"lang!A591","v":"Construction material of:"}]
["9.2.1.",{"$f":"lang!A592","v":"stainless steel"},null,null,null,null,null,null,null,null,null,null,null,null,null,null,null,null,null,null,null,"d5",{"$f":"OR(AND(ISNA(MATCH(L517,ynna,0)),LEN(L517)>0),AND(ISNA(MATCH(J517,ynna,0)),LEN(J517)>0),AND(ISNA(MATCH(H517,ynna,0)),LEN(H517)>0),AND(ISNA(MATCH(F517,ynna,0)),LEN(F517)>0),AND(ISNA(MATCH(D517,ynna,0)),LEN(D517)>0))","v":false},null,{"$f":"IF(ISERROR(W517), TRUE,W517)","v":false}]
[null,{"$f":"lang!A648","v":"Is the company mentioned in the list of committed RU's to UIC 471-3?"}]
[null,{"$f":"lang!A649","v":"Is the company certified by the National Safety Agency?"},null,null,null,null,null,null,null,null,null,null,null,null,null,null,null,null,null,null,null,null,null,null,{"$f":"ISERROR(CONCATENATE(D519,F519,H519,J519,L519))","v":false}]
[]
["9.2.2.",{"$f":"lang!A593","v":"carbon steel"},null,null,null,null,null,null,null,null,null,null,null,null,null,null,null,null,null,null,null,"d5",{"$f":"OR(AND(ISNA(MATCH(L521,ynna,0)),LEN(L521)>0),AND(ISNA(MATCH(J521,ynna,0)),LEN(J521)>0),AND(ISNA(MATCH(H521,ynna,0)),LEN(H521)>0),AND(ISNA(MATCH(F521,ynna,0)),LEN(F521)>0),AND(ISNA(MATCH(D521,ynna,0)),LEN(D521)>0))","v":false},null,{"$f":"IF(ISERROR(W521), TRUE,W521)","v":false}]
[null,{"$f":"lang!A652","v":"Subcontracting"}]
[null,{"$f":"lang!A653","v":"Do you subcontract the traction to (other) RU?"},null,null,null,null,null,null,null,null,null,null,null,null,null,null,null,null,null,null,null,null,null,null,{"$f":"ISERROR(CONCATENATE(D523,F523,H523,J523,L523))","v":false}]
[]
["9.2.3.",{"$f":"lang!A594","v":"aluminum"},null,null,null,null,null,null,null,null,null,null,null,null,null,null,null,null,null,null,null,"d5",{"$f":"OR(AND(ISNA(MATCH(L525,ynna,0)),LEN(L525)>0),AND(ISNA(MATCH(J525,ynna,0)),LEN(J525)>0),AND(ISNA(MATCH(H525,ynna,0)),LEN(H525)>0),AND(ISNA(MATCH(F525,ynna,0)),LEN(F525)>0),AND(ISNA(MATCH(D525,ynna,0)),LEN(D525)>0))","v":false},null,{"$f":"IF(ISERROR(W525), TRUE,W525)","v":false}]
[null,{"$f":"lang!A613","v":"It is envisaged that one warehouse building may have more than one fire compartment. For this reason the below spreadsheet is used by the warehouse to record fire compartment details per building. The combination is identified through the first two columns."}]
[null,{"$f":"lang!A614","v":"(example WH1 / Compartment X)"},null,null,null,null,null,null,null,null,null,null,null,null,null,null,null,null,null,null,null,null,null,null,{"$f":"ISERROR(CONCATENATE(D527,F527,H527,J527,L527))","v":false}]
[]
["9.2.4.",{"$f":"lang!A595","v":"polyester/plastic"},null,null,null,null,null,null,null,null,null,null,null,null,null,null,null,null,null,null,null,"d5",{"$f":"OR(AND(ISNA(MATCH(L529,ynna,0)),LEN(L529)>0),AND(ISNA(MATCH(J529,ynna,0)),LEN(J529)>0),AND(ISNA(MATCH(H529,ynna,0)),LEN(H529)>0),AND(ISNA(MATCH(F529,ynna,0)),LEN(F529)>0),AND(ISNA(MATCH(D529,ynna,0)),LEN(D529)>0))","v":false},null,{"$f":"IF(ISERROR(W529), TRUE,W529)","v":false}]
[null,{"$f":"lang!A617","v":"Fire compartment"}]
[null,{"$f":"lang!A618","v":"Area"},null,null,null,null,null,null,null,null,null,null,null,null,null,null,null,null,null,null,null,null,null,null,{"$f":"ISERROR(CONCATENATE(D531,F531,H531,J531,L531))","v":false}]
[]
["9.3.",{"$f":"lang!A596","v":"Internal coating ?"},null,null,null,null,null,null,null,null,null,null,null,null,null,null,null,null,null,null,null,"d5",{"$f":"OR(AND(ISNA(MATCH(L533,ynna,0)),LEN(L533)>0),AND(ISNA(MATCH(J533,ynna,0)),LEN(J533)>0),AND(ISNA(MATCH(H533,ynna,0)),LEN(H533)>0),AND(ISNA(MATCH(F533,ynna,0)),LEN(F533)>0),AND(ISNA(MATCH(D533,ynna,0)),LEN(D533)>0))","v":false},null,{"$f":"IF(ISERROR(W533), TRUE,W533)","v":false}]
[null,{"$f":"lang!A616","v":"(identification)"}]
[null,{"$f":"lang!A656","v":"Number of electrical locomotives"},null,null,null,null,null,null,null,null,null,null,null,null,null,null,null,null,null,null,null,null,null,null,{"$f":"ISERROR(CONCATENATE(D535,F535,H535,J535,L535))","v":false}]
[]
[]
["10.",{"$f":"lang!A597","v":"Fixed storage silos for solids"}]
["10.1.",{"$f":"lang!A598","v":"Total capacity of storage silos available (cubic meters) ?"},null,null,null,null,null,null,null,null,null,null,null,null,null,null,null,null,null,null,null,"n5",{"$f":"OR(AND(NOT(ISNUMBER(L539)),LEN(L539)>0),AND(NOT(ISNUMBER(J539)),LEN(J539)>0),AND(NOT(ISNUMBER(H539)),LEN(H539)>0),AND(NOT(ISNUMBER(F539)),LEN(F539)>0),AND(NOT(ISNUMBER(D539)),LEN(D539)>0))","v":false},null,{"$f":"IF(ISERROR(W539), TRUE,W539)","v":false}]
[null,{"$f":"lang!A620","v":"Max. storage amount"}]
[null,{"$f":"lang!A655","v":"Do you own locomotives?"},null,null,null,null,null,null,null,null,null,null,null,null,null,null,null,null,null,null,null,null,null,null,{"$f":"ISERROR(CONCATENATE(D541,F541,H541,J541,L541))","v":false}]
[null,{"$f":"lang!A599","v":"If available:"}]
["10.2.",{"$f":"lang!A600","v":"Construction material of:"}]
["10.2.1.",{"$f":"lang!A601","v":"stainless steel"},null,null,null,null,null,null,null,null,null,null,null,null,null,null,null,null,null,null,null,"d5",{"$f":"OR(AND(ISNA(MATCH(L544,ynna,0)),LEN(L544)>0),AND(ISNA(MATCH(J544,ynna,0)),LEN(J544)>0),AND(ISNA(MATCH(H544,ynna,0)),LEN(H544)>0),AND(ISNA(MATCH(F544,ynna,0)),LEN(F544)>0),AND(ISNA(MATCH(D544,ynna,0)),LEN(D544)>0))","v":false},null,{"$f":"ISERROR(CONCATENATE(D544,F544,H544,J544,L544))","v":false}]
[null,{"$f":"lang!A695","v":"Class 7 : Radioactive material"}]
[null,{"$f":"lang!A657","v":"Number of diesel locomotives"},null,null,null,null,null,null,null,null,null,null,null,null,null,null,null,null,null,null,null,null,null,null,{"$f":"ISERROR(CONCATENATE(D546,F546,H546,J546,L546))","v":false}]
[]
["10.2.2.",{"$f":"lang!A602","v":"carbon steel"},null,null,null,null,null,null,null,null,null,null,null,null,null,null,null,null,null,null,null,"d5",{"$f":"OR(AND(ISNA(MATCH(L548,ynna,0)),LEN(L548)>0),AND(ISNA(MATCH(J548,ynna,0)),LEN(J548)>0),AND(ISNA(MATCH(H548,ynna,0)),LEN(H548)>0),AND(ISNA(MATCH(F548,ynna,0)),LEN(F548)>0),AND(ISNA(MATCH(D548,ynna,0)),LEN(D548)>0))","v":false},null,{"$f":"ISERROR(CONCATENATE(D548,F548,H548,J548,L548))","v":false}]
[null,{"$f":"lang!A690","v":"Class 4.3. : Substances which in contact with water, emit flammable gases"}]
[null,{"$f":"lang!A660","v":"Do you own railcars?"},null,null,null,null,null,null,null,null,null,null,null,null,null,null,null,null,null,null,null,null,null,null,{"$f":"ISERROR(CONCATENATE(D550,F550,H550,J550,L550))","v":false}]
[]
["10.2.3.",{"$f":"lang!A603","v":"aluminum"},null,null,null,null,null,null,null,null,null,null,null,null,null,null,null,null,null,null,null,"d5",{"$f":"OR(AND(ISNA(MATCH(L552,ynna,0)),LEN(L552)>0),AND(ISNA(MATCH(J552,ynna,0)),LEN(J552)>0),AND(ISNA(MATCH(H552,ynna,0)),LEN(H552)>0),AND(ISNA(MATCH(F552,ynna,0)),LEN(F552)>0),AND(ISNA(MATCH(D552,ynna,0)),LEN(D552)>0))","v":false},null,{"$f":"ISERROR(CONCATENATE(D552,F552,H552,J552,L552))","v":false}]
[null,{"$f":"lang!A664","v":"Number of rented railcars"}]
[null,{"$f":"lang!A692","v":"Class 5.2. : Organic peroxides"},null,null,null,null,null,null,null,null,null,null,null,null,null,null,null,null,null,null,null,null,null,null,{"$f":"ISERROR(CONCATENATE(D554,F554,H554,J554,L554))","v":false}]
[]
["10.2.4.",{"$f":"lang!A604","v":"polyester/plastic"},null,null,null,null,null,null,null,null,null,null,null,null,null,null,null,null,null,null,null,"d5",{"$f":"OR(AND(ISNA(MATCH(L556,ynna,0)),LEN(L556)>0),AND(ISNA(MATCH(J556,ynna,0)),LEN(J556)>0),AND(ISNA(MATCH(H556,ynna,0)),LEN(H556)>0),AND(ISNA(MATCH(F556,ynna,0)),LEN(F556)>0),AND(ISNA(MATCH(D556,ynna,0)),LEN(D556)>0))","v":false},null,{"$f":"ISERROR(CONCATENATE(D556,F556,H556,J556,L556))","v":false}]
[null,{"$f":"lang!A719","v":"HU - Hungary"}]
[null,{"$f":"lang!A662","v":"Number of own Rail Tank Cars (RTC's)"},null,null,null,null,null,null,null,null,null,null,null,null,null,null,null,null,null,null,null,null,null,null,{"$f":"ISERROR(CONCATENATE(D558,F558,H558,J558,L558))","v":false}]
[]
["10.3.",{"$f":"lang!A605","v":"Internal coating?"},null,null,null,null,null,null,null,null,null,null,null,null,null,null,null,null,null,null,null,"d5",{"$f":"OR(AND(ISNA(MATCH(L560,ynna,0)),LEN(L560)>0),AND(ISNA(MATCH(J560,ynna,0)),LEN(J560)>0),AND(ISNA(MATCH(H560,ynna,0)),LEN(H560)>0),AND(ISNA(MATCH(F560,ynna,0)),LEN(F560)>0),AND(ISNA(MATCH(D560,ynna,0)),LEN(D560)>0))","v":false},null,{"$f":"ISERROR(CONCATENATE(D560,F560,H560,J560,L560))","v":false}]
[null,{"$f":"lang!A693","v":"Class 6.1. : Toxic substances"}]
[null,{"$f":"lang!A666","v":"Fixed storage tanks present "},null,null,null,null,null,null,null,null,null,null,null,null,null,null,null,null,null,null,null,null,null,null,{"$f":"ISERROR(CONCATENATE(D562,F562,H562,J562,L562))","v":false}]
[]
[]
["11.",{"$f":"lang!A606","v":"Operations"}]
["11.1.",{"$f":"lang!A607","v":"Are hazardous substances handled (filling/blending) in open systems in the warehouses ?"},null,null,null,null,null,null,null,null,null,null,null,null,null,null,null,null,null,null,null,"d5",{"$f":"OR(AND(ISNA(MATCH(L566,ynna,0)),LEN(L566)>0),AND(ISNA(MATCH(J566,ynna,0)),LEN(J566)>0),AND(ISNA(MATCH(H566,ynna,0)),LEN(H566)>0),AND(ISNA(MATCH(F566,ynna,0)),LEN(F566)>0),AND(ISNA(MATCH(D566,ynna,0)),LEN(D566)>0))","v":false},null,{"$f":"ISERROR(CONCATENATE(D566,F566,H566,J566,L566))","v":false}]
[null,{"$f":"lang!A668","v":"Maintenance shop"}]
[null,{"$f":"lang!A669","v":"Does the maintenance plan include the checking of site equipment ?"},null,null,null,null,null,null,null,null,null,null,null,null,null,null,null,null,null,null,null,null,null,null,{"$f":"ISERROR(CONCATENATE(D568,F568,H568,J568,L568))","v":false}]
[]
["11.2.",{"$f":"lang!A608","v":"Which classes of hazardous substances are handled in these open systems ?"},null,null,null,null,null,null,null,null,null,null,null,null,null,null,null,null,null,null,null,"d5",{"$f":"OR(AND(ISNA(MATCH(L570,ynna,0)),LEN(L570)>0),AND(ISNA(MATCH(J570,ynna,0)),LEN(J570)>0),AND(ISNA(MATCH(H570,ynna,0)),LEN(H570)>0),AND(ISNA(MATCH(F570,ynna,0)),LEN(F570)>0),AND(ISNA(MATCH(D570,ynna,0)),LEN(D570)>0))","v":false},null,{"$f":"ISERROR(CONCATENATE(D570,F570,H570,J570,L570))","v":false}]
[null,{"$f":"lang!A670","v":"Does the maintenance plan include a procedure for the checking of"}]
[null,{"$f":"lang!A671","v":"- tare weights ?"},null,null,null,null,null,null,null,null,null,null,null,null,null,null,null,null,null,null,null,null,null,null,{"$f":"ISERROR(CONCATENATE(D572,F572,H572,J572,L572))","v":false}]
[]
["11.3.",{"$f":"lang!A609","v":"Are drumming lines available ? "},null,null,null,null,null,null,null,null,null,null,null,null,null,null,null,null,null,null,null,"d5",{"$f":"OR(AND(ISNA(MATCH(L574,ynna,0)),LEN(L574)>0),AND(ISNA(MATCH(J574,ynna,0)),LEN(J574)>0),AND(ISNA(MATCH(H574,ynna,0)),LEN(H574)>0),AND(ISNA(MATCH(F574,ynna,0)),LEN(F574)>0),AND(ISNA(MATCH(D574,ynna,0)),LEN(D574)>0))","v":false},null,{"$f":"ISERROR(CONCATENATE(D574,F574,H574,J574,L574))","v":false}]
[null,{"$f":"lang!A674","v":"Is the next maintenance date documented and painted on the wagon ?"}]
[null,{"$f":"lang!A675","v":"Is the next tank revision date documented and painted on the RTC ?"},null,null,null,null,null,null,null,null,null,null,null,null,null,null,null,null,null,null,null,null,null,null,{"$f":"ISERROR(CONCATENATE(D576,F576,H576,J576,L576))","v":false}]
[]
["11.4.",{"$f":"lang!A610","v":"Are bagging lines available ?"},null,null,null,null,null,null,null,null,null,null,null,null,null,null,null,null,null,null,null,"d5",{"$f":"OR(AND(ISNA(MATCH(L578,ynna,0)),LEN(L578)>0),AND(ISNA(MATCH(J578,ynna,0)),LEN(J578)>0),AND(ISNA(MATCH(H578,ynna,0)),LEN(H578)>0),AND(ISNA(MATCH(F578,ynna,0)),LEN(F578)>0),AND(ISNA(MATCH(D578,ynna,0)),LEN(D578)>0))","v":false},null,{"$f":"ISERROR(CONCATENATE(D578,F578,H578,J578,L578))","v":false}]
[null,{"$f":"lang!A615","v":"Warehouse"}]
[null,{"$f":"lang!A704","v":"AZ- Azerbaijan"},null,null,null,null,null,null,null,null,null,null,null,null,null,null,null,null,null,"c",null,null,null,null,{"$f":"ISERROR(CONCATENATE(D580,F580,H580,J580,L580))","v":false}]
[]
[]
[null,{"$f":"Status!$K$16","v":"Please check the next sheet (Status)"}]
[null,{"$f":"HYPERLINK(Status!$L$16,Status!$K$16)","v":"Please check the next sheet (Status)"}]

{"sheet":"WH - II(3)","index":8,"n_rows":584,"n_cols":28,"rows_kept":584,"cut":false,"hidden":false,"merged":[[582,1,582,15],[583,1,583,15],[547,1,549,1],[551,1,553,1],[555,1,557,1],[559,1,561,1],[571,3,571,11],[575,3,575,11],[579,3,579,11],[565,1,567,1],[538,1,540,1],[543,1,545,1],[511,1,513,1],[516,1,518,1],[520,1,522,1],[524,1,526,1],[489,1,491,1],[497,1,499,1],[501,1,503,1],[505,1,507,1],[455,1,457,1],[459,1,461,1],[463,1,465,1],[467,1,469,1],[477,1,479,1],[473,1,475,1],[438,1,440,1],[442,1,444,1],[446,1,448,1],[451,1,453,1],[421,1,423,1],[425,1,427,1],[429,1,431,1],[434,1,436,1],[404,1,406,1],[408,1,410,1],[413,1,415,1],[417,1,419,1],[387,1,389,1],[391,1,393,1],[396,1,398,1],[400,1,402,1],[370,1,372,1],[374,1,376,1],[379,1,381,1],[383,1,385,1],[353,1,355,1],[357,1,359,1],[362,1,364,1],[366,1,368,1],[334,1,336,1],[341,1,343,1],[345,1,347,1],[349,1,351,1],[315,1,317,1],[319,1,321,1],[326,1,328,1],[330,1,332,1],[198,1,199,1],[200,1,201,1],[202,1,203,1],[205,1,207,1],[167,1,169,1],[171,1,173,1],[175,1,177,1],[179,1,181,1],[225,1,228,1],[229,1,232,1],[151,1,153,1],[155,1,157,1],[159,1,161,1],[163,1,165,1],[134,1,136,1],[138,1,140,1],[143,1,145,1],[147,1,149,1],[118,1,120,1],[122,1,124,1],[126,1,128,1],[130,1,132,1],[106,1,108,1],[110,1,112,1],[114,1,116,1],[100,3,100,11],[81,1,83,1],[85,1,87,1],[88,1,88,11],[90,1,92,1],[83,3,83,11],[8,0,8,11],[9,1,9,11],[10,1,10,11],[11,1,11,11],[4,0,4,11],[5,0,5,11],[6,0,6,11],[7,0,7,11],[481,1,483,1],[479,3,479,11],[483,3,483,11],[461,3,461,11],[465,3,465,11],[469,3,469,11],[475,3,475,11],[444,3,444,11],[448,3,448,11],[453,3,453,11],[457,3,457,11],[427,3,427,11],[431,3,431,11],[436,3,436,11],[440,3,440,11],[410,3,410,11],[485,1,488,1],[573,1,575,1],[577,1,579,1],[553,3,553,11],[557,3,557,11],[561,3,561,11],[567,3,567,11],[569,1,571,1],[534,3,534,11],[540,3,540,11],[545,3,545,11],[549,3,549,11],[518,3,518,11],[522,3,522,11],[526,3,526,11],[530,3,530,11],[499,3,499,11],[503,3,503,11],[507,3,507,11],[513,3,513,11],[487,3,487,11],[491,3,491,11],[528,1,530,1],[532,1,534,1],[415,3,415,11],[419,3,419,11],[423,3,423,11],[393,3,393,11],[398,3,398,11],[402,3,402,11],[406,3,406,11],[376,3,376,11],[381,3,381,11],[385,3,385,11],[389,3,389,11],[364,3,364,11],[368,3,368,11],[372,3,372,11],[347,3,347,11],[351,3,351,11],[355,3,355,11],[359,3,359,11],[328,3,328,11],[332,3,332,11],[336,3,336,11],[343,3,343,11],[309,3,309,11],[313,3,313,11],[317,3,317,11],[321,3,321,11],[303,3,303,11],[261,1,264,1],[265,1,267,1],[269,1,271,1],[273,1,276,1],[281,1,284,1],[285,1,288,1],[289,1,292,1],[277,1,280,1],[287,3,287,11],[291,3,291,11],[295,3,295,11],[299,3,299,11],[271,3,271,11],[275,3,275,11],[279,3,279,11],[283,3,283,11],[263,3,263,11],[293,1,296,1],[297,1,299,1],[257,3,257,11],[267,3,267,11],[255,1,259,1],[235,3,235,11],[241,3,241,11],[233,1,236,1],[253,3,253,11],[251,1,254,1],[239,1,242,1],[245,3,245,11],[249,3,249,11],[243,1,245,1],[247,1,249,1],[211,3,211,11],[209,1,212,1],[222,3,222,11],[227,3,227,11],[231,3,231,11],[220,1,223,1],[199,3,199,11],[201,3,201,11],[203,3,203,11],[207,3,207,11],[185,3,185,11],[183,1,185,1],[192,3,192,11],[196,3,196,11],[190,1,192,1],[194,1,196,1],[173,3,173,11],[177,3,177,11],[181,3,181,11],[157,3,157,11],[161,3,161,11],[165,3,165,11],[169,3,169,11],[140,3,140,11],[145,3,145,11],[149,3,149,11],[153,3,153,11],[124,3,124,11],[128,3,128,11],[132,3,132,11],[136,3,136,11],[68,3,68,11],[58,1,60,1],[66,1,68,1],[62,1,64,1],[104,3,104,11],[74,3,74,11],[79,3,79,11],[94,1,96,1],[98,1,100,1],[92,3,92,11],[96,3,96,11],[102,1,104,1],[54,1,56,1],[36,3,36,11],[301,1,303,1],[311,1,313,1],[307,1,310,1],[87,3,87,11],[72,1,74,1],[77,1,79,1],[21,3,21,11],[23,3,23,11],[42,1,44,1],[46,1,48,1],[50,1,52,1],[40,3,40,11],[44,3,44,11],[48,3,48,11],[52,3,52,11],[56,3,56,11],[60,3,60,11],[108,3,108,11],[112,3,112,11],[116,3,116,11],[120,3,120,11],[64,3,64,11],[14,3,14,11],[15,3,15,11],[17,3,17,11],[38,1,40,1],[25,1,25,11],[26,1,27,11],[30,1,32,1],[34,1,36,1],[32,3,32,11],[19,3,19,11]]}
[null,{"$f":"IF(X1,lang!A30,lang!A31)","v":"This sheet doesn't need to be answered"},null,null,null,null,null,null,null,null,null,null,null,null,null,null,null,null,null,null,null,null,null,{"$f":"AND('General Information'!U117,T14>0)","v":false},{"$f":"IF(R_WH3,AB14,0)","v":0}]
[null,{"$f":"IF(X1,IF(Y2,lang!A32,IF(X2,lang!A33,lang!A34)),\"\")","v":""},null,null,null,null,null,null,null,null,null,null,null,null,null,null,null,null,null,null,null,null,null,{"$f":"X14","v":true},{"$f":"Y14","v":false}]
[null,{"$f":"IF(Y3,lang!A35,IF(X3,lang!A36,lang!A37))","v":"The document is not yet completed"},null,null,null,null,null,null,null,null,null,null,null,null,null,null,null,null,null,null,null,null,null,{"$f":"NOT(Status!F20)","v":false},{"$f":"Status!G20","v":false}]
[]
["Gulf SQAS 2025"]
[{"$f":"lang!A41","v":"ASSESSMENT INFORMATION AND SCOPE - Part II"}]
[{"$f":"lang!A18","v":"Warehouse - 3"}]
[{"$f":"lang!A42","v":"(Items marked with a (*) and/or magenta background must always be completed)"}]
[{"$f":"lang!A43","v":"(For checkboxes \"checked\" means \"Yes\", \"unchecked\" - \"No\")"}]
[null,{"$f":"lang!A424","v":"This complete document, together with the Fire Compartment data, is to be prepared by the Warehousing Company, well ahead of the Assessment, and to be provided to the assessor, for preparation of the assessment and entry in the system."}]
[null,{"$f":"lang!A425","v":"It is envisaged that storage companies may have more than one warehouse building on the assessed site to store Foodstuff and/or Chemical products. For this reason the spreadsheet used to record warehouse details per building, contains five columns. "}]
[null,{"$f":"lang!A426","v":"(if more buildings on premises, use additional sheet)"}]
[]
[null,{"$f":"lang!A427","v":"Reference list of WH number versus site's identification of buildings"},null,null,null,null,null,null,null,null,null,null,null,null,null,null,null,null,null,{"$f":"'WH - II(2)'!T24","v":0},null,null,{"$f":"T14>0","v":false},{"$f":"AND(X16:X580)","v":true},{"$f":"OR(Y16:Y580)","v":false},null,null,{"$f":"SUM(AB16:AB580)","v":0}]
[null,{"$f":"lang!A428","v":"WH-number"},null,{"$f":"lang!A429","v":"Site's identification of buildings"}]
[null,{"$f":"lang!A440","v":"WH11"},null,null,null,null,null,null,null,null,null,null,null,null,null,null,null,null,null,{"$f":"IF(LEN(TRIM(D16))>0,1000,0)","v":0},null,null,{"$f":"T16>T14","v":false},{"$f":"NOT(W16)","v":true},{"$f":"ISERROR(CONCATENATE(D16,F16,H16,J16,L16))","v":false}]
[]
[null,{"$f":"lang!A441","v":"WH12"},null,null,null,null,null,null,null,null,null,null,null,null,null,null,null,null,null,{"$f":"IF(LEN(TRIM(D18))>0,1000,0)","v":0},null,null,{"$f":"T18>T16","v":false},{"$f":"NOT(W18)","v":true},{"$f":"ISERROR(CONCATENATE(D18,F18,H18,J18,L18))","v":false}]
[]
[null,{"$f":"lang!A442","v":"WH13"},null,null,null,null,null,null,null,null,null,null,null,null,null,null,null,null,null,{"$f":"IF(LEN(TRIM(D20))>0,1000,0)","v":0},null,null,{"$f":"T20>T18","v":false},{"$f":"NOT(W20)","v":true},{"$f":"ISERROR(CONCATENATE(D20,F20,H20,J20,L20))","v":false}]
[]
[null,{"$f":"lang!A443","v":"WH14"},null,null,null,null,null,null,null,null,null,null,null,null,null,null,null,null,null,{"$f":"IF(LEN(TRIM(D22))>0,1000,0)","v":0},null,null,{"$f":"T22>T20","v":false},{"$f":"NOT(W22)","v":true},{"$f":"ISERROR(CONCATENATE(D22,F22,H22,J22,L22))","v":false}]
[]
[null,{"$f":"lang!A444","v":"WH15"},null,null,null,null,null,null,null,null,null,null,null,null,null,null,null,null,null,{"$f":"IF(LEN(TRIM(D24))>0,1000,0)","v":0},null,null,{"$f":"T24>T22","v":false},{"$f":"NOT(W24)","v":true},{"$f":"ISERROR(CONCATENATE(D24,F24,H24,J24,L24))","v":false}]
[]
[null,{"$f":"lang!A445","v":"Please complete the appropriate boxes below for site or per warehouse-building :"},{"$f":"lang!B445","v":"Please complete the appropriate boxes below for site or per warehouse-building :"},{"$f":"lang!C445","v":"Bitte vervollständigen Sie die geeigneten Kästchen unterhalb für Standort oder für Lagergebäude"},{"$f":"lang!D445","v":"Por favor complete as células Excel apropriadas abaixo, para cada local a ser avaliado ou por cada edifício de armazenagem"},{"$f":"lang!E445","v":"Veuillez compléter les cadres appropriés pour le site ou par bâtiment d'entreposage"},{"$f":"lang!F445","v":"Por favor completar las casillas de debajo apropiadas para la instalación o los edificios de almacenamiento:"},{"$f":"lang!G445","v":"Si prega di completare gli appositi spazi sottostanti per sito o per singolo deposito:"},{"$f":"lang!H445","v":"Udfyld venligst de passende felter nedenfor pr. lokation eller lagerbygning"},{"$f":"lang!I445","v":"Ole hyvä ja täytä kyseeseen tulevat toimipaikkaa tai varastorakennuksia koskevat kohdat alla"},{"$f":"lang!J445","v":"Proszę uzupełnić odpowiednie  pola poniżej, w odniesieniu do lokalizacji lub budynku magazynu."},{"$f":"lang!K445","v":"A.u.b. de onderstaande vakken invullen voor de locatie of per magazijn/gebouw"}]
[null,{"$f":"lang!A446","v":"(tick with \"Y\", \"N\", \"N/A\" or provide appropriate answer, eg number, add your comments in the yellow zone please)"},{"$f":"lang!B446","v":"(tick with \"Y\", \"N\", \"N/A\" or provide appropriate answer, eg number, add your comments in the yellow zone please)"},{"$f":"lang!C446","v":"Haken Sie ab mit \"Y\", N\"; \"N/A\" oder schreiben Sie eine geeignete Antwort und fügen Sie bitte ihre Kommentare in die gelbe Zone ein)"},{"$f":"lang!D446","v":"(preencha com \"S\", \"N\", \"N/A\" ou efectue uma adequada resposta, por exemplo, referindo o número da pergunta na zona amarela e adicione os seu comentários"},{"$f":"lang!E446","v":"marquer avec \"O\", \"N\", \"N/A\" ou fournir une réponse appropriée, ex un nombre, veuiller ajouter vos commentaires dans la zone jaune."},{"$f":"lang!F446","v":"(indicar \"Y\", \"N\", \"N/A\" o una respuesta adecuada, ej: número, añadir comentarios en el área amarilla por favor)"},{"$f":"lang!G446","v":"Inserire \"Y\", \"N\", \"NA\" o inserire una risposta appropriata, per esempio numero, o aggiungere commenti nello spazio giallo."},{"$f":"lang!H446","v":"(afkrys med \"J\", \"N\", \"N/A\" eller angiv venligst passende svar, f.eks. nummer, tilføj dine kommentarer i det gule felt)"},{"$f":"lang!I446","v":"(merkitse \"Y\" -kyllä, \"N\" - ei, \"N/A\" - ei sovellettavissa, tai kirjoita siihen kuuluva vastaus, ts. varaston numero ja kirjaa kommentit keltaiseen alueeseen)"},{"$f":"lang!J446","v":"(zaznacz \"Y'' - tak,  ''N'' - nie, ''N/A'' - nie dotyczy albo wpisz komentarz w zółtym plu - np. numer)"},{"$f":"lang!K446","v":"(duid aan \"J\", \"N\", \"NVT\" of geef een gepast antwoord, bvb. een getal. Zet uw opmerkingen in de gele zone a.u.b.)"}]
[null,{"$f":"lang!A447","v":"Site"},{"$f":"lang!B447","v":"Site"},{"$f":"lang!C447","v":"Standort"},{"$f":"lang!D447","v":"Local"},{"$f":"lang!E447","v":"Site"},{"$f":"lang!F447","v":"Instalación"},{"$f":"lang!G447","v":"Sito"},{"$f":"lang!H447","v":"Lokation"},{"$f":"lang!I447","v":"Toimipaikka"},{"$f":"lang!J447","v":"Lokalizacja"},{"$f":"lang!K447","v":"Locatie"}]
[null,null,null,null,null,null,null,null,null,null,null,"Site"]
["1.",{"$f":"lang!A448","v":"General site data"}]
["1.1.",{"$f":"lang!A449","v":"Is the warehouse owned ? "},null,null,null,null,null,null,null,null,null,null,null,null,null,null,null,null,null,null,null,null,null,null,{"$f":"ISERROR(CONCATENATE(D31,F31,H31,J31,L31))","v":false}]
[null,{"$f":"lang!A466","v":"Chemicals - classified as dangerous goods per Transport Classification (specify):"}]
[null,{"$f":"lang!A511","v":"Constructional fire protection"},null,null,null,null,null,null,null,null,null,null,null,null,null,null,null,null,null,"c",null,null,null,null,{"$f":"ISERROR(CONCATENATE(D33,F33,H33,J33,L33))","v":false}]
[]
["1.2.",{"$f":"lang!A450","v":"Is the warehouse leased ? "},null,null,null,null,null,null,null,null,null,null,null,null,null,null,null,null,null,null,null,null,null,null,{"$f":"ISERROR(CONCATENATE(D35,F35,H35,J35,L35))","v":false}]
[null,{"$f":"lang!A465","v":"For classified goods, use the Transport Classification (3.4) and the Classification for hazardous substances (3.5), according to the applicable warehouse permits  :"}]
[null,{"$f":"lang!A468","v":"Class 2     - Gases"},null,null,null,null,null,null,null,null,null,null,null,null,null,null,null,null,null,"c",null,null,null,null,{"$f":"ISERROR(CONCATENATE(D37,F37,H37,J37,L37))","v":false}]
[]
["1.3.",{"$f":"lang!A451","v":"Total warehouse space (sq. meters) ?"},null,null,null,null,null,null,null,null,null,null,null,null,null,null,null,null,null,null,null,null,null,null,{"$f":"ISERROR(CONCATENATE(D39,F39,H39,J39,L39))","v":false}]
[null,{"$f":"lang!A694","v":"Class 6.2. : Infectious substances"}]
[null,{"$f":"lang!A470","v":"Class 4.1  - Flammable solids "},null,null,null,null,null,null,null,null,null,null,null,null,null,null,null,null,null,"c",null,null,null,null,{"$f":"ISERROR(CONCATENATE(D41,F41,H41,J41,L41))","v":false}]
[]
["1.4.",{"$f":"lang!A452","v":"Total silo space (cubic meters) ?"},null,null,null,null,null,null,null,null,null,null,null,null,null,null,null,null,null,null,null,null,null,null,{"$f":"ISERROR(CONCATENATE(D43,F43,H43,J43,L43))","v":false}]
[null,{"$f":"lang!A587","v":"electric"}]
[null,{"$f":"lang!A532","v":"Is the warehouse secured with a burglar alarm system or by security personnel on-site ?"},null,null,null,null,null,null,null,null,null,null,null,null,null,null,null,null,null,"c",null,null,null,null,{"$f":"ISERROR(CONCATENATE(D45,F45,H45,J45,L45))","v":false}]
[]
["1.5.",{"$f":"lang!A453","v":"Open air packed storage space (sq. meters) ?"},null,null,null,null,null,null,null,null,null,null,null,null,null,null,null,null,null,null,null,null,null,null,{"$f":"ISERROR(CONCATENATE(D47,F47,H47,J47,L47))","v":false}]
[null,{"$f":"lang!A469","v":"Class 3     - Flammable liquids"}]
[null,{"$f":"lang!A497","v":"  - Municipal ?"},null,null,null,null,null,null,null,null,null,null,null,null,null,null,null,null,null,"c",null,null,null,null,{"$f":"ISERROR(CONCATENATE(D49,F49,H49,J49,L49))","v":false}]
[]
["1.6.",{"$f":"lang!A454","v":"Are video cameras installed on site ?"},null,null,null,null,null,null,null,null,null,null,null,null,null,null,null,null,null,null,null,null,null,null,{"$f":"ISERROR(CONCATENATE(D51,F51,H51,J51,L51))","v":false}]
[null,{"$f":"lang!A546","v":"concrete/bricks"}]
[null,{"$f":"lang!A513","v":"Are structural components like pillars, girders, floors and roof structure made of fire resistant materials (e.g. reinforced concrete) ?"},null,null,null,null,null,null,null,null,null,null,null,null,null,null,null,null,null,"c",null,null,null,null,{"$f":"ISERROR(CONCATENATE(D53,F53,H53,J53,L53))","v":false}]
[]
["1.7.",{"$f":"lang!A455","v":"Is the registration office for visitors/contractors visiting the company clearly marked to indicate where they have to register ?"},null,null,null,null,null,null,null,null,null,null,null,null,null,null,null,null,null,null,null,null,null,null,{"$f":"ISERROR(CONCATENATE(D55,F55,H55,J55,L55))","v":false}]
[null,{"$f":"lang!A530","v":"Are doors and gates equipped with a locking system and is it assured that they are locked, when no persons are working in the warehouse ?"}]
[null,{"$f":"lang!A543","v":"wood"},null,null,null,null,null,null,null,null,null,null,null,null,null,null,null,null,null,"c",null,null,null,null,{"$f":"ISERROR(CONCATENATE(D57,F57,H57,J57,L57))","v":false}]
[]
["1.8.",{"$f":"lang!A456","v":"Is there a waiting room for contractors (drivers and accompanying persons) nearby the registration office ?"},null,null,null,null,null,null,null,null,null,null,null,null,null,null,null,null,null,null,null,null,null,null,{"$f":"ISERROR(CONCATENATE(D59,F59,H59,J59,L59))","v":false}]
[null,{"$f":"lang!A588","v":"Fixed storage tanks for liquids"}]
[null,{"$f":"lang!A473","v":"Class 5.1  - Oxidising substances"},null,null,null,null,null,null,null,null,null,null,null,null,null,null,null,null,null,"c",null,null,null,null,{"$f":"ISERROR(CONCATENATE(D61,F61,H61,J61,L61))","v":false}]
[]
["1.9.",{"$f":"lang!A457","v":"Is smoking prohibited in the storage areas ?"},null,null,null,null,null,null,null,null,null,null,null,null,null,null,null,null,null,null,null,null,null,null,{"$f":"ISERROR(CONCATENATE(D63,F63,H63,J63,L63))","v":false}]
[null,{"$f":"lang!A472","v":"Class 4.3  - Substance, which in contact with water emit flammable gases"}]
[null,{"$f":"lang!A544","v":"other (please indicate)"},null,null,null,null,null,null,null,null,null,null,null,null,null,null,null,null,null,"c",null,null,null,null,{"$f":"ISERROR(CONCATENATE(D65,F65,H65,J65,L65))","v":false}]
[]
["1.10.",{"$f":"lang!A458","v":"Are warning signs posted for emergency and prohibitions (\"no smoking\", \"emergency exit\") ?"},null,null,null,null,null,null,null,null,null,null,null,null,null,null,null,null,null,null,null,null,null,null,{"$f":"ISERROR(CONCATENATE(D67,F67,H67,J67,L67))","v":false}]
[null,{"$f":"lang!A646","v":"Network"}]
[null,{"$f":"lang!A475","v":"Class 6.1  - Toxic substances"},null,null,null,null,null,null,null,null,null,null,null,null,null,null,null,null,null,"c",null,null,null,null,{"$f":"ISERROR(CONCATENATE(D69,F69,H69,J69,L69))","v":false}]
[]
[null,null,null,{"$f":"B16","v":"WH11"},null,{"$f":"B18","v":"WH12"},null,{"$f":"B20","v":"WH13"},null,{"$f":"B22","v":"WH14"},null,{"$f":"B24","v":"WH15"}]
["2.",{"$f":"lang!A459","v":"Warehouse capacity"}]
["2.1.",{"$f":"lang!A460","v":"Warehouse space (sq. meters)"},null,null,null,null,null,null,null,null,null,null,null,null,null,null,null,null,null,null,null,"n5",{"$f":"OR(AND(NOT(ISNUMBER(L73)),LEN(L73)>0),AND(NOT(ISNUMBER(J73)),LEN(J73)>0),AND(NOT(ISNUMBER(H73)),LEN(H73)>0),AND(NOT(ISNUMBER(F73)),LEN(F73)>0),AND(NOT(ISNUMBER(D73)),LEN(D73)>0))","v":false},null,{"$f":"IF(ISERROR(W73), TRUE,W73)","v":false}]
[null,{"$f":"lang!A515","v":"Are internal and external fire walls rated in accordance with local regulations (eg. wall made of noncombustible material like brick, concrete or reinforced concrete, wall thickness not less than 24 cm, wall minimum 50 cm above the roof or up to the roof and adjacent roof areas 5 m of noncombustible material,  doors and gates in the wall fire resistant and self-closing, no other openings in the walls) ?"}]
[null,{"$f":"lang!A697","v":"Class 9 : Miscellaneous dangerous substances and\narticles"},null,null,null,null,null,null,null,null,null,null,null,null,null,null,null,null,null,null,null,null,null,null,{"$f":"ISERROR(CONCATENATE(D75,F75,H75,J75,L75))","v":false}]
[]
["3.",{"$f":"lang!A461","v":"Category of products permitted to be stored"}]
["3.1.",{"$f":"lang!A462","v":"Foodstuffs"},null,null,null,null,null,null,null,null,null,null,null,null,null,null,null,null,null,null,null,"d5",{"$f":"OR(AND(ISNA(MATCH(L78,ynna,0)),LEN(L78)>0),AND(ISNA(MATCH(J78,ynna,0)),LEN(J78)>0),AND(ISNA(MATCH(H78,ynna,0)),LEN(H78)>0),AND(ISNA(MATCH(F78,ynna,0)),LEN(F78)>0),AND(ISNA(MATCH(D78,ynna,0)),LEN(D78)>0))","v":false},null,{"$f":"IF(ISERROR(W78), TRUE,W78)","v":false}]
[null,{"$f":"lang!A533","v":"Are burglar alarms transmitted automatically to security personnel or to a nearby police station ?"}]
[null,{"$f":"lang!A516","v":"Are adjacent rooms (incl. office, staff - and technical rooms) separated from the storage area with at least fire resistant walls (eg. made of noncombustible material like brick, concrete or reinforced concrete, wall thickness not less than 11.5 cm, doors and gates at least fire retardant and self closing, no other openings in the walls) ?"},null,null,null,null,null,null,null,null,null,null,null,null,null,null,null,null,null,null,null,null,null,null,{"$f":"ISERROR(CONCATENATE(D80,F80,H80,J80,L80))","v":false}]
[]
["3.2.",{"$f":"lang!A463","v":"Solid chemicals (non - classified goods)"},null,null,null,null,null,null,null,null,null,null,null,null,null,null,null,null,null,null,null,"d5",{"$f":"OR(AND(ISNA(MATCH(L82,ynna,0)),LEN(L82)>0),AND(ISNA(MATCH(J82,ynna,0)),LEN(J82)>0),AND(ISNA(MATCH(H82,ynna,0)),LEN(H82)>0),AND(ISNA(MATCH(F82,ynna,0)),LEN(F82)>0),AND(ISNA(MATCH(D82,ynna,0)),LEN(D82)>0))","v":false},null,{"$f":"IF(ISERROR(W82), TRUE,W82)","v":false}]
[null,{"$f":"lang!A633","v":"Smoke and heat vents"}]
[null,{"$f":"lang!A581","v":"Are safety lights installed in storage areas with safety lamps at least 1.5 m away from the product ?"},null,null,null,null,null,null,null,null,null,null,null,null,null,null,null,null,null,null,null,null,null,null,{"$f":"ISERROR(CONCATENATE(D84,F84,H84,J84,L84))","v":false}]
[]
["3.3.",{"$f":"lang!A464","v":"Liquid chemicals (non - classified goods)"},null,null,null,null,null,null,null,null,null,null,null,null,null,null,null,null,null,null,null,"d5",{"$f":"OR(AND(ISNA(MATCH(L86,ynna,0)),LEN(L86)>0),AND(ISNA(MATCH(J86,ynna,0)),LEN(J86)>0),AND(ISNA(MATCH(H86,ynna,0)),LEN(H86)>0),AND(ISNA(MATCH(F86,ynna,0)),LEN(F86)>0),AND(ISNA(MATCH(D86,ynna,0)),LEN(D86)>0))","v":false},null,{"$f":"IF(ISERROR(W86), TRUE,W86)","v":false}]
[null,{"$f":"lang!A467","v":"Class 1     - Explosive substances & articles"}]
[null,{"$f":"lang!A498","v":"  - Volunteer ?"},null,null,null,null,null,null,null,null,null,null,null,null,null,null,null,null,null,"c",null,null,null,null,{"$f":"ISERROR(CONCATENATE(D88,F88,H88,J88,L88))","v":false}]
[null,{"$f":"lang!A465","v":"For classified goods, use the Transport Classification (3.4) and the Classification for hazardous substances (3.5), according to the applicable warehouse permits  :"}]
["3.4.",{"$f":"lang!A466","v":"Chemicals - classified as dangerous goods per Transport Classification (specify):"}]
["3.4.1.",{"$f":"lang!A467","v":"Class 1     - Explosive substances & articles"},null,null,null,null,null,null,null,null,null,null,null,null,null,null,null,null,null,null,null,"d5",{"$f":"OR(AND(ISNA(MATCH(L91,ynna,0)),LEN(L91)>0),AND(ISNA(MATCH(J91,ynna,0)),LEN(J91)>0),AND(ISNA(MATCH(H91,ynna,0)),LEN(H91)>0),AND(ISNA(MATCH(F91,ynna,0)),LEN(F91)>0),AND(ISNA(MATCH(D91,ynna,0)),LEN(D91)>0))","v":false},null,{"$f":"IF(ISERROR(W91), TRUE,W91)","v":false},5]
[null,{"$f":"lang!A498","v":"  - Volunteer ?"}]
[null,{"$f":"lang!A511","v":"Constructional fire protection"},null,null,null,null,null,null,null,null,null,null,null,null,null,null,null,null,null,null,null,null,null,null,{"$f":"ISERROR(CONCATENATE(D93,F93,H93,J93,L93))","v":false},"c"]
[]
["3.4.2.",{"$f":"lang!A468","v":"Class 2     - Gases"},null,null,null,null,null,null,null,null,null,null,null,null,null,null,null,null,null,null,null,"d5",{"$f":"OR(AND(ISNA(MATCH(L95,ynna,0)),LEN(L95)>0),AND(ISNA(MATCH(J95,ynna,0)),LEN(J95)>0),AND(ISNA(MATCH(H95,ynna,0)),LEN(H95)>0),AND(ISNA(MATCH(F95,ynna,0)),LEN(F95)>0),AND(ISNA(MATCH(D95,ynna,0)),LEN(D95)>0))","v":false},null,{"$f":"IF(ISERROR(W95), TRUE,W95)","v":false},5]
[null,{"$f":"lang!A694","v":"Class 6.2. : Infectious substances"}]
[null,{"$f":"lang!A587","v":"electric"},null,null,null,null,null,null,null,null,null,null,null,null,null,null,null,null,null,null,null,null,null,null,{"$f":"ISERROR(CONCATENATE(D97,F97,H97,J97,L97))","v":false},"c"]
[]
["3.4.3.",{"$f":"lang!A469","v":"Class 3     - Flammable liquids"},null,null,null,null,null,null,null,null,null,null,null,null,null,null,null,null,null,null,null,"d5",{"$f":"OR(AND(ISNA(MATCH(L99,ynna,0)),LEN(L99)>0),AND(ISNA(MATCH(J99,ynna,0)),LEN(J99)>0),AND(ISNA(MATCH(H99,ynna,0)),LEN(H99)>0),AND(ISNA(MATCH(F99,ynna,0)),LEN(F99)>0),AND(ISNA(MATCH(D99,ynna,0)),LEN(D99)>0))","v":false},null,{"$f":"IF(ISERROR(W99), TRUE,W99)","v":false},5]
[null,{"$f":"lang!A497","v":"  - Municipal ?"}]
[null,{"$f":"lang!A589","v":"Total capacity of storage tanks available (cubic meters) ?"},null,null,null,null,null,null,null,null,null,null,null,null,null,null,null,null,null,null,null,null,null,null,{"$f":"ISERROR(CONCATENATE(D101,F101,H101,J101,L101))","v":false},"c"]
[]
["3.4.4.",{"$f":"lang!A470","v":"Class 4.1  - Flammable solids "},null,null,null,null,null,null,null,null,null,null,null,null,null,null,null,null,null,null,null,"d5",{"$f":"OR(AND(ISNA(MATCH(L103,ynna,0)),LEN(L103)>0),AND(ISNA(MATCH(J103,ynna,0)),LEN(J103)>0),AND(ISNA(MATCH(H103,ynna,0)),LEN(H103)>0),AND(ISNA(MATCH(F103,ynna,0)),LEN(F103)>0),AND(ISNA(MATCH(D103,ynna,0)),LEN(D103)>0))","v":false},null,{"$f":"IF(ISERROR(W103), TRUE,W103)","v":false},5]
[null,{"$f":"lang!A529","v":"Warehouse security"}]
[null,{"$f":"lang!A546","v":"concrete/bricks"},null,null,null,null,null,null,null,null,null,null,null,null,null,null,null,null,null,null,null,null,null,null,{"$f":"ISERROR(CONCATENATE(D105,F105,H105,J105,L105))","v":false},"c"]
[]
["3.4.5.",{"$f":"lang!A471","v":"Class 4.2  - Substances liable to spontaneous combustion"},null,null,null,null,null,null,null,null,null,null,null,null,null,null,null,null,null,null,null,"d5",{"$f":"OR(AND(ISNA(MATCH(L107,ynna,0)),LEN(L107)>0),AND(ISNA(MATCH(J107,ynna,0)),LEN(J107)>0),AND(ISNA(MATCH(H107,ynna,0)),LEN(H107)>0),AND(ISNA(MATCH(F107,ynna,0)),LEN(F107)>0),AND(ISNA(MATCH(D107,ynna,0)),LEN(D107)>0))","v":false},null,{"$f":"IF(ISERROR(W107), TRUE,W107)","v":false},5]
[null,{"$f":"lang!A530","v":"Are doors and gates equipped with a locking system and is it assured that they are locked, when no persons are working in the warehouse ?"}]
[null,{"$f":"lang!A543","v":"wood"},null,null,null,null,null,null,null,null,null,null,null,null,null,null,null,null,null,null,null,null,null,null,{"$f":"ISERROR(CONCATENATE(D109,F109,H109,J109,L109))","v":false},"c"]
[]
["3.4.6.",{"$f":"lang!A472","v":"Class 4.3  - Substance, which in contact with water emit flammable gases"},null,null,null,null,null,null,null,null,null,null,null,null,null,null,null,null,null,null,null,"d5",{"$f":"OR(AND(ISNA(MATCH(L111,ynna,0)),LEN(L111)>0),AND(ISNA(MATCH(J111,ynna,0)),LEN(J111)>0),AND(ISNA(MATCH(H111,ynna,0)),LEN(H111)>0),AND(ISNA(MATCH(F111,ynna,0)),LEN(F111)>0),AND(ISNA(MATCH(D111,ynna,0)),LEN(D111)>0))","v":false},null,{"$f":"IF(ISERROR(W111), TRUE,W111)","v":false},5]
[null,{"$f":"lang!A544","v":"other (please indicate)"}]
[null,{"$f":"lang!A514","v":"Are insulation and nonstructural components made of noncombustible materials ?"},null,null,null,null,null,null,null,null,null,null,null,null,null,null,null,null,null,null,null,null,null,null,{"$f":"ISERROR(CONCATENATE(D113,F113,H113,J113,L113))","v":false},"c"]
[]
["3.4.7.",{"$f":"lang!A473","v":"Class 5.1  - Oxidising substances"},null,null,null,null,null,null,null,null,null,null,null,null,null,null,null,null,null,null,null,"d5",{"$f":"OR(AND(ISNA(MATCH(L115,ynna,0)),LEN(L115)>0),AND(ISNA(MATCH(J115,ynna,0)),LEN(J115)>0),AND(ISNA(MATCH(H115,ynna,0)),LEN(H115)>0),AND(ISNA(MATCH(F115,ynna,0)),LEN(F115)>0),AND(ISNA(MATCH(D115,ynna,0)),LEN(D115)>0))","v":false},null,{"$f":"IF(ISERROR(W115), TRUE,W115)","v":false},5]
[null,{"$f":"lang!A646","v":"Network"}]
[null,{"$f":"lang!A533","v":"Are burglar alarms transmitted automatically to security personnel or to a nearby police station ?"},null,null,null,null,null,null,null,null,null,null,null,null,null,null,null,null,null,null,null,null,null,null,{"$f":"ISERROR(CONCATENATE(D117,F117,H117,J117,L117))","v":false},"c"]
[]
["3.4.8.",{"$f":"lang!A474","v":"Class 5.2. - Organic peroxides"},null,null,null,null,null,null,null,null,null,null,null,null,null,null,null,null,null,null,null,"d5",{"$f":"OR(AND(ISNA(MATCH(L119,ynna,0)),LEN(L119)>0),AND(ISNA(MATCH(J119,ynna,0)),LEN(J119)>0),AND(ISNA(MATCH(H119,ynna,0)),LEN(H119)>0),AND(ISNA(MATCH(F119,ynna,0)),LEN(F119)>0),AND(ISNA(MATCH(D119,ynna,0)),LEN(D119)>0))","v":false},null,{"$f":"IF(ISERROR(W119), TRUE,W119)","v":false},5]
[null,{"$f":"lang!A515","v":"Are internal and external fire walls rated in accordance with local regulations (eg. wall made of noncombustible material like brick, concrete or reinforced concrete, wall thickness not less than 24 cm, wall minimum 50 cm above the roof or up to the roof and adjacent roof areas 5 m of noncombustible material,  doors and gates in the wall fire resistant and self-closing, no other openings in the walls) ?"}]
[null,{"$f":"lang!A697","v":"Class 9 : Miscellaneous dangerous substances and\narticles"},null,null,null,null,null,null,null,null,null,null,null,null,null,null,null,null,null,null,null,null,null,null,{"$f":"ISERROR(CONCATENATE(D121,F121,H121,J121,L121))","v":false},"c"]
[]
["3.4.9.",{"$f":"lang!A475","v":"Class 6.1  - Toxic substances"},null,null,null,null,null,null,null,null,null,null,null,null,null,null,null,null,null,null,null,"d5",{"$f":"OR(AND(ISNA(MATCH(L123,ynna,0)),LEN(L123)>0),AND(ISNA(MATCH(J123,ynna,0)),LEN(J123)>0),AND(ISNA(MATCH(H123,ynna,0)),LEN(H123)>0),AND(ISNA(MATCH(F123,ynna,0)),LEN(F123)>0),AND(ISNA(MATCH(D123,ynna,0)),LEN(D123)>0))","v":false},null,{"$f":"IF(ISERROR(W123), TRUE,W123)","v":false},5]
[null,{"$f":"lang!A518","v":"Is the warehouse equipped with an overall fire and smoke detection system with direct connection to a permanently manned office that will notify the local fire department without delay or if not, with a direct connection to the local fire department ?"}]
[null,{"$f":"lang!A633","v":"Smoke and heat vents"},null,null,null,null,null,null,null,null,null,null,null,null,null,null,null,null,null,null,null,null,null,null,{"$f":"ISERROR(CONCATENATE(D125,F125,H125,J125,L125))","v":false},"c"]
[]
["3.4.10.",{"$f":"lang!A476","v":"Class 6.2  - Infectious substances"},null,null,null,null,null,null,null,null,null,null,null,null,null,null,null,null,null,null,null,"d5",{"$f":"OR(AND(ISNA(MATCH(L127,ynna,0)),LEN(L127)>0),AND(ISNA(MATCH(J127,ynna,0)),LEN(J127)>0),AND(ISNA(MATCH(H127,ynna,0)),LEN(H127)>0),AND(ISNA(MATCH(F127,ynna,0)),LEN(F127)>0),AND(ISNA(MATCH(D127,ynna,0)),LEN(D127)>0))","v":false},null,{"$f":"IF(ISERROR(W127), TRUE,W127)","v":false},5]
[null,{"$f":"lang!A705","v":"BY - Belarus"}]
[null,{"$f":"lang!A545","v":"External walls:"},null,null,null,null,null,null,null,null,null,null,null,null,null,null,null,null,null,null,null,null,null,null,{"$f":"ISERROR(CONCATENATE(D129,F129,H129,J129,L129))","v":false},"c"]
[]
["3.4.11.",{"$f":"lang!A477","v":"Class 7    - Radioactive material"},null,null,null,null,null,null,null,null,null,null,null,null,null,null,null,null,null,null,null,"d5",{"$f":"OR(AND(ISNA(MATCH(L131,ynna,0)),LEN(L131)>0),AND(ISNA(MATCH(J131,ynna,0)),LEN(J131)>0),AND(ISNA(MATCH(H131,ynna,0)),LEN(H131)>0),AND(ISNA(MATCH(F131,ynna,0)),LEN(F131)>0),AND(ISNA(MATCH(D131,ynna,0)),LEN(D131)>0))","v":false},null,{"$f":"IF(ISERROR(W131), TRUE,W131)","v":false},5]
[null,{"$f":"lang!A651","v":"Cerificate Number"}]
[null,{"$f":"lang!A634","v":"Comment"},null,null,null,null,null,null,null,null,null,null,null,null,null,null,null,null,null,null,null,null,null,null,{"$f":"ISERROR(CONCATENATE(D133,F133,H133,J133,L133))","v":false},"c"]
[]
["3.4.12.",{"$f":"lang!A478","v":"Class 8    - Corrosive substances"},null,null,null,null,null,null,null,null,null,null,null,null,null,null,null,null,null,null,null,"d5",{"$f":"OR(AND(ISNA(MATCH(L135,ynna,0)),LEN(L135)>0),AND(ISNA(MATCH(J135,ynna,0)),LEN(J135)>0),AND(ISNA(MATCH(H135,ynna,0)),LEN(H135)>0),AND(ISNA(MATCH(F135,ynna,0)),LEN(F135)>0),AND(ISNA(MATCH(D135,ynna,0)),LEN(D135)>0))","v":false},null,{"$f":"IF(ISERROR(W135), TRUE,W135)","v":false},5]
[null,{"$f":"lang!A519","v":"Is there a manual fire alarm system with a direct connection to the local fire brigade installed and is it readily accessible at any time ?"}]
[null,{"$f":"lang!A667","v":"Owned/operated tracks present"},null,null,null,null,null,null,null,null,null,null,null,null,null,null,null,null,null,null,null,null,null,null,{"$f":"ISERROR(CONCATENATE(D137,F137,H137,J137,L137))","v":false},"c"]
[]
["3.4.13.",{"$f":"lang!A479","v":"Class 9    - Miscellaneous dangerous substances & articles"},null,null,null,null,null,null,null,null,null,null,null,null,null,null,null,null,null,null,null,"d5",{"$f":"OR(AND(ISNA(MATCH(L139,ynna,0)),LEN(L139)>0),AND(ISNA(MATCH(J139,ynna,0)),LEN(J139)>0),AND(ISNA(MATCH(H139,ynna,0)),LEN(H139)>0),AND(ISNA(MATCH(F139,ynna,0)),LEN(F139)>0),AND(ISNA(MATCH(D139,ynna,0)),LEN(D139)>0))","v":false},null,{"$f":"IF(ISERROR(W139), TRUE,W139)","v":false},5]
[null,{"$f":"lang!A535","v":"Warehouse level:"}]
[null,{"$f":"lang!A520","v":"Is the warehouse equipped with an audible alarm system easily audible throughout the work area ?"},null,null,null,null,null,null,null,null,null,null,null,null,null,null,null,null,null,null,null,null,null,null,{"$f":"ISERROR(CONCATENATE(D141,F141,H141,J141,L141))","v":false},"c"]
[]
["3.5.",{"$f":"lang!A480","v":"Chemicals - classified as hazardous substances/ preparations (specify):"}]
["3.5.1.",{"$f":"lang!A481","v":"Oxidising (O, R7, R8, R9)"},null,null,null,null,null,null,null,null,null,null,null,null,null,null,null,null,null,null,null,"d5",{"$f":"OR(AND(ISNA(MATCH(L144,ynna,0)),LEN(L144)>0),AND(ISNA(MATCH(J144,ynna,0)),LEN(J144)>0),AND(ISNA(MATCH(H144,ynna,0)),LEN(H144)>0),AND(ISNA(MATCH(F144,ynna,0)),LEN(F144)>0),AND(ISNA(MATCH(D144,ynna,0)),LEN(D144)>0))","v":false},null,{"$f":"IF(ISERROR(W144), TRUE,W144)","v":false},5]
[null,{"$f":"lang!A499","v":"  - On-site fire brigade ?"}]
[null,{"$f":"lang!A582","v":"Is lightning protection installed ?"},null,null,null,null,null,null,null,null,null,null,null,null,null,null,null,null,null,null,null,null,null,null,{"$f":"ISERROR(CONCATENATE(D146,F146,H146,J146,L146))","v":false},"c"]
[]
["3.5.2.",{"$f":"lang!A482","v":"Extremely flammable  (F+, R12)"},null,null,null,null,null,null,null,null,null,null,null,null,null,null,null,null,null,null,null,"d5",{"$f":"OR(AND(ISNA(MATCH(L148,ynna,0)),LEN(L148)>0),AND(ISNA(MATCH(J148,ynna,0)),LEN(J148)>0),AND(ISNA(MATCH(H148,ynna,0)),LEN(H148)>0),AND(ISNA(MATCH(F148,ynna,0)),LEN(F148)>0),AND(ISNA(MATCH(D148,ynna,0)),LEN(D148)>0))","v":false},null,{"$f":"IF(ISERROR(W148), TRUE,W148)","v":false},5]
[null,{"$f":"lang!A539","v":"Supporting construction:"}]
[null,{"$f":"lang!A506","v":"Are warehouses, open storage areas, tanks and silos on site accessible by fire trucks from at least two sides (1 long side, 1 front side)"},null,null,null,null,null,null,null,null,null,null,null,null,null,null,null,null,null,null,null,null,null,null,{"$f":"ISERROR(CONCATENATE(D150,F150,H150,J150,L150))","v":false},"c"]
[]
["3.5.3.",{"$f":"lang!A483","v":"Highly flammable (F, R11, R15, R17)"},null,null,null,null,null,null,null,null,null,null,null,null,null,null,null,null,null,null,null,"d5",{"$f":"OR(AND(ISNA(MATCH(L152,ynna,0)),LEN(L152)>0),AND(ISNA(MATCH(J152,ynna,0)),LEN(J152)>0),AND(ISNA(MATCH(H152,ynna,0)),LEN(H152)>0),AND(ISNA(MATCH(F152,ynna,0)),LEN(F152)>0),AND(ISNA(MATCH(D152,ynna,0)),LEN(D152)>0))","v":false},null,{"$f":"IF(ISERROR(W152), TRUE,W152)","v":false},5]
[null,{"$f":"lang!A501","v":"Is the required fire water supply defined and guaranteed to at least 2.400 l/min ?"}]
[null,{"$f":"lang!A637","v":"Desciption/location(s)"},null,null,null,null,null,null,null,null,null,null,null,null,null,null,null,null,null,null,null,null,null,null,{"$f":"ISERROR(CONCATENATE(D154,F154,H154,J154,L154))","v":false},"c"]
[]
["3.5.4.",{"$f":"lang!A484","v":"Flammable (R10)"},null,null,null,null,null,null,null,null,null,null,null,null,null,null,null,null,null,null,null,"d5",{"$f":"OR(AND(ISNA(MATCH(L156,ynna,0)),LEN(L156)>0),AND(ISNA(MATCH(J156,ynna,0)),LEN(J156)>0),AND(ISNA(MATCH(H156,ynna,0)),LEN(H156)>0),AND(ISNA(MATCH(F156,ynna,0)),LEN(F156)>0),AND(ISNA(MATCH(D156,ynna,0)),LEN(D156)>0))","v":false},null,{"$f":"IF(ISERROR(W156), TRUE,W156)","v":false},5]
[null,{"$f":"lang!A649","v":"Is the company certified by the National Safety Agency?"}]
[null,{"$f":"lang!A502","v":"Is the required fire water supply (fire-hydrants, river, artificial static water supply, tanks, cisterns) on-site and off-site at a close range to the buildings on site (<150 m) and immediately available at any time and on-hand for at least two hours ?"},null,null,null,null,null,null,null,null,null,null,null,null,null,null,null,null,null,null,null,null,null,null,{"$f":"ISERROR(CONCATENATE(D158,F158,H158,J158,L158))","v":false},"c"]
[]
["3.5.5.",{"$f":"lang!A485","v":"Very toxic (T+, R26, R27, R28)"},null,null,null,null,null,null,null,null,null,null,null,null,null,null,null,null,null,null,null,"d5",{"$f":"OR(AND(ISNA(MATCH(L160,ynna,0)),LEN(L160)>0),AND(ISNA(MATCH(J160,ynna,0)),LEN(J160)>0),AND(ISNA(MATCH(H160,ynna,0)),LEN(H160)>0),AND(ISNA(MATCH(F160,ynna,0)),LEN(F160)>0),AND(ISNA(MATCH(D160,ynna,0)),LEN(D160)>0))","v":false},null,{"$f":"IF(ISERROR(W160), TRUE,W160)","v":false},5]
[null,{"$f":"lang!A584","v":"Forklift type :"}]
[null,{"$f":"lang!A524","v":"Are fire compartments storing products classified as toxic, oxidising, flammable or dangerous to the environment, equipped with fixed extinguishing systems (eg. water, foam) ?"},null,null,null,null,null,null,null,null,null,null,null,null,null,null,null,null,null,null,null,null,null,null,{"$f":"ISERROR(CONCATENATE(D162,F162,H162,J162,L162))","v":false},"c"]
[]
["3.5.6.",{"$f":"lang!A486","v":"Toxic (T, R23, R24, R25)"},null,null,null,null,null,null,null,null,null,null,null,null,null,null,null,null,null,null,null,"d5",{"$f":"OR(AND(ISNA(MATCH(L164,ynna,0)),LEN(L164)>0),AND(ISNA(MATCH(J164,ynna,0)),LEN(J164)>0),AND(ISNA(MATCH(H164,ynna,0)),LEN(H164)>0),AND(ISNA(MATCH(F164,ynna,0)),LEN(F164)>0),AND(ISNA(MATCH(D164,ynna,0)),LEN(D164)>0))","v":false},null,{"$f":"IF(ISERROR(W164), TRUE,W164)","v":false},5]
[null,{"$f":"lang!A538","v":"underground"}]
[null,{"$f":"lang!A503","v":"Detail Fire Protection Management for the warehouse buildings"},null,null,null,null,null,null,null,null,null,null,null,null,null,null,null,null,null,null,null,null,null,null,{"$f":"ISERROR(CONCATENATE(D166,F166,H166,J166,L166))","v":false},"c"]
[]
["3.5.7.",{"$f":"lang!A487","v":"Harmful  (Xn, R20, R21, R22, R42, R65)"},null,null,null,null,null,null,null,null,null,null,null,null,null,null,null,null,null,null,null,"d5",{"$f":"OR(AND(ISNA(MATCH(L168,ynna,0)),LEN(L168)>0),AND(ISNA(MATCH(J168,ynna,0)),LEN(J168)>0),AND(ISNA(MATCH(H168,ynna,0)),LEN(H168)>0),AND(ISNA(MATCH(F168,ynna,0)),LEN(F168)>0),AND(ISNA(MATCH(D168,ynna,0)),LEN(D168)>0))","v":false},null,{"$f":"IF(ISERROR(W168), TRUE,W168)","v":false},5]
[null,{"$f":"lang!A504","v":"Please complete the Fire Compartment Details on the worksheet \"Products Permitted to store\""}]
[null,{"$f":"lang!A525","v":"Are fire compartments storing products classified as toxic, oxidising, flammable or dangerous to the environment, equipped with an operating ventilation system, with an air exchange rate of at least twice/hour ?"},null,null,null,null,null,null,null,null,null,null,null,null,null,null,null,null,null,null,null,null,null,null,{"$f":"ISERROR(CONCATENATE(D170,F170,H170,J170,L170))","v":false},"c"]
[]
["3.5.8",{"$f":"lang!A488","v":"Corrosive  (C, R34, R35)"},null,null,null,null,null,null,null,null,null,null,null,null,null,null,null,null,null,null,null,"d5",{"$f":"OR(AND(ISNA(MATCH(L172,ynna,0)),LEN(L172)>0),AND(ISNA(MATCH(J172,ynna,0)),LEN(J172)>0),AND(ISNA(MATCH(H172,ynna,0)),LEN(H172)>0),AND(ISNA(MATCH(F172,ynna,0)),LEN(F172)>0),AND(ISNA(MATCH(D172,ynna,0)),LEN(D172)>0))","v":false},null,{"$f":"IF(ISERROR(W172), TRUE,W172)","v":false},5]
[null,{"$f":"lang!A700","v":"AL - Albania"}]
[null,{"$f":"lang!A508","v":"Are measures taken inside and outside the warehouse to adequately contain contaminated fire water in compliance with local regulations  (eg. waterproof surface, volume of retention of 300 L per M2 of warehouse- and overflow in municipal water treatment plant) ?"},null,null,null,null,null,null,null,null,null,null,null,null,null,null,null,null,null,null,null,null,null,null,{"$f":"ISERROR(CONCATENATE(D174,F174,H174,J174,L174))","v":false},"c"]
[]
["3.5.9",{"$f":"lang!A489","v":"Irritant  (Xi, R36, R37, R38, R41, R43)"},null,null,null,null,null,null,null,null,null,null,null,null,null,null,null,null,null,null,null,"d5",{"$f":"OR(AND(ISNA(MATCH(L176,ynna,0)),LEN(L176)>0),AND(ISNA(MATCH(J176,ynna,0)),LEN(J176)>0),AND(ISNA(MATCH(H176,ynna,0)),LEN(H176)>0),AND(ISNA(MATCH(F176,ynna,0)),LEN(F176)>0),AND(ISNA(MATCH(D176,ynna,0)),LEN(D176)>0))","v":false},null,{"$f":"IF(ISERROR(W176), TRUE,W176)","v":false},5]
[null,{"$f":"lang!A526","v":"Are charging stations for fork lift trucks placed in separate and vented rooms or inside the storage area with a protection distance of at least 5 m to any stored product or combustible material ?"}]
[null,{"$f":"lang!A686","v":"Class 2 : Gases"},null,null,null,null,null,null,null,null,null,null,null,null,null,null,null,null,null,null,null,null,null,null,{"$f":"ISERROR(CONCATENATE(D178,F178,H178,J178,L178))","v":false},"c"]
[]
["3.5.10",{"$f":"lang!A490","v":"Dangerous for the environment (N, R50 to R59)"},null,null,null,null,null,null,null,null,null,null,null,null,null,null,null,null,null,null,null,"d5",{"$f":"OR(AND(ISNA(MATCH(L180,ynna,0)),LEN(L180)>0),AND(ISNA(MATCH(J180,ynna,0)),LEN(J180)>0),AND(ISNA(MATCH(H180,ynna,0)),LEN(H180)>0),AND(ISNA(MATCH(F180,ynna,0)),LEN(F180)>0),AND(ISNA(MATCH(D180,ynna,0)),LEN(D180)>0))","v":false},null,{"$f":"IF(ISERROR(W180), TRUE,W180)","v":false},5]
[null,{"$f":"lang!A585","v":"gasoil"}]
[null,{"$f":"lang!A642","v":"Engineering/technical"},null,null,null,null,null,null,null,null,null,null,null,null,null,null,null,null,null,null,null,null,null,null,{"$f":"ISERROR(CONCATENATE(D182,F182,H182,J182,L182))","v":false},"c"]
[]
["3.5.11",{"$f":"lang!A491","v":"Category carcinogenic, mutagenic and reprotoxical  (T with R45, R46, R49, R60, R61 or Xn with R40, R62, R63, R68)"},null,null,null,null,null,null,null,null,null,null,null,null,null,null,null,null,null,null,null,"d5",{"$f":"OR(AND(ISNA(MATCH(L184,ynna,0)),LEN(L184)>0),AND(ISNA(MATCH(J184,ynna,0)),LEN(J184)>0),AND(ISNA(MATCH(H184,ynna,0)),LEN(H184)>0),AND(ISNA(MATCH(F184,ynna,0)),LEN(F184)>0),AND(ISNA(MATCH(D184,ynna,0)),LEN(D184)>0))","v":false},null,{"$f":"IF(ISERROR(W184), TRUE,W184)","v":false},5]
[null,{"$f":"lang!A509","v":"Are measures taken in the storage areas to adequately contain spilled product in compliance with local regulations (eg. liquid proof surface, volume of retention at least 3% of the column of the packaged products stored) ?"}]
[null,{"$f":"lang!A527","v":"Is the heating system in warehouses where flammable products are stored a hot-water heating system ? "},null,null,null,null,null,null,null,null,null,null,null,null,null,null,null,null,null,null,null,null,null,null,{"$f":"ISERROR(CONCATENATE(D186,F186,H186,J186,L186))","v":false},"c"]
[]
["4.",{"$f":"lang!A492","v":"Fire Protection Management  (Fire Plan)"}]
["4.1.",{"$f":"lang!A493","v":"The site in general"},null,null,null,null,null,null,null,null,null,"Site"]
[]
["4.1.1.",{"$f":"lang!A494","v":"Is the warehouse site accessible with fire trucks from at least two sides ?"},null,null,null,null,null,null,null,null,null,null,null,null,null,null,null,null,null,null,null,"d",{"$f":"AND(ISNA(MATCH(L191,ynna,0)),LEN(L191)>0)","v":false},null,{"$f":"IF(ISERROR(W191), TRUE,W191)","v":false},1]
[null,{"$f":"lang!A685","v":"Class 1 : Explosive substances and articles"}]
[null,{"$f":"lang!A510","v":"Are measures taken on aisles and loading/unloading areas to adequately contain spilled product (eg. liquid proof surface, volume of retention at least equal to the biggest package to be transported or loaded/unloaded) ?"},null,null,null,null,null,null,null,null,null,null,null,null,null,null,null,null,null,null,null,null,null,null,{"$f":"ISERROR(CONCATENATE(D193,F193,H193,J193,L193))","v":false},"c"]
[]
["4.1.2.",{"$f":"lang!A495","v":"Has a lightning strike survey been performed for the site ?"},null,null,null,null,null,null,null,null,null,null,null,null,null,null,null,null,null,null,null,"d",{"$f":"AND(ISNA(MATCH(L195,ynna,0)),LEN(L195)>0)","v":false},null,{"$f":"IF(ISERROR(W195), TRUE,W195)","v":false},1]
[null,{"$f":"lang!A580","v":"Is the coverage of lighting 100 % ? (yes and/or indicate %)"}]
[null,{"$f":"lang!A541","v":"fire protected steel"},null,null,null,null,null,null,null,null,null,null,null,null,null,null,null,null,null,"c",null,null,null,null,{"$f":"ISERROR(CONCATENATE(D197,F197,H197,J197,L197))","v":false}]
["4.1.3.",{"$f":"lang!A496","v":"Tick which type(s) of fire department are responsible for the site :"}]
["4.1.3.1.",{"$f":"lang!A497","v":"  - Municipal ?"},null,null,null,null,null,null,null,null,null,null,null,null,null,null,null,{"$f":"IF(S199,\"Y\",\"N\")","v":"N"},false]
[null,{"$f":"lang!A694","v":"Class 6.2. : Infectious substances"},null,null,null,null,null,null,null,null,null,null,null,null,null,null,null,null,null,"c",null,null,null,null,{"$f":"ISERROR(CONCATENATE(D200,F200,H200,J200,L200))","v":false}]
["4.1.3.2",{"$f":"lang!A498","v":"  - Volunteer ?"},null,null,null,null,null,null,null,null,null,null,null,null,null,null,null,{"$f":"IF(S201,\"Y\",\"N\")","v":"N"},false]
[null,{"$f":"lang!A539","v":"Supporting construction:"},null,null,null,null,null,null,null,null,null,null,null,null,null,null,null,null,null,"c",null,null,null,null,{"$f":"ISERROR(CONCATENATE(D202,F202,H202,J202,L202))","v":false}]
["4.1.3.3",{"$f":"lang!A499","v":"  - On-site fire brigade ?"},null,null,null,null,null,null,null,null,null,null,null,null,null,null,null,{"$f":"IF(S203,\"Y\",\"N\")","v":"N"},false]
[null,{"$f":"lang!A582","v":"Is lightning protection installed ?"},null,null,null,null,null,null,null,null,null,null,null,null,null,null,null,null,null,"c",null,null,null,null,{"$f":"ISERROR(CONCATENATE(D204,F204,H204,J204,L204))","v":false}]
["4.1.4.",{"$f":"lang!A500","v":"Fire water supply :"}]
["4.1.4.1.",{"$f":"lang!A501","v":"Is the required fire water supply defined and guaranteed to at least 2.400 l/min ?"},null,null,null,null,null,null,null,null,null,null,null,null,null,null,null,null,null,null,null,null,null,null,{"$f":"ISERROR(CONCATENATE(D206,F206,H206,J206,L206))","v":false}]
[null,{"$f":"lang!A637","v":"Desciption/location(s)"}]
[null,{"$f":"lang!A687","v":"Class 3 : Flammable liquids"},null,null,null,null,null,null,null,null,null,null,null,null,null,null,null,null,null,"c",null,null,null,null,{"$f":"ISERROR(CONCATENATE(D208,F208,H208,J208,L208))","v":false}]
[]
["4.1.4.2.",{"$f":"lang!A502","v":"Is the required fire water supply (fire-hydrants, river, artificial static water supply, tanks, cisterns) on-site and off-site at a close range to the buildings on site (<150 m) and immediately available at any time and on-hand for at least two hours ?"},null,null,null,null,null,null,null,null,null,null,null,null,null,null,null,null,null,null,null,null,null,null,{"$f":"ISERROR(CONCATENATE(D210,F210,H210,J210,L210))","v":false}]
[null,{"$f":"lang!A639","v":"Corporate"}]
[null,{"$f":"lang!A584","v":"Forklift type :"},null,null,null,null,null,null,null,null,null,null,null,null,null,null,null,null,null,"c",null,null,null,null,{"$f":"ISERROR(CONCATENATE(D212,F212,H212,J212,L212))","v":false}]
[null,{"$f":"lang!A524","v":"Are fire compartments storing products classified as toxic, oxidising, flammable or dangerous to the environment, equipped with fixed extinguishing systems (eg. water, foam) ?"}]
[]
["4.2.",{"$f":"lang!A503","v":"Detail Fire Protection Management for the warehouse buildings"}]
[]
["4.2.1.",{"$f":"lang!A504","v":"Please complete the Fire Compartment Details on the worksheet \"Products Permitted to store\""}]
[]
[null,null,null,{"$f":"B16","v":"WH11"},null,{"$f":"B18","v":"WH12"},null,{"$f":"B20","v":"WH13"},null,{"$f":"B22","v":"WH14"},null,{"$f":"B24","v":"WH15"}]
["4.2.2.",{"$f":"lang!A505","v":"Warehouse access"}]
["4.2.2.1.",{"$f":"lang!A506","v":"Are warehouses, open storage areas, tanks and silos on site accessible by fire trucks from at least two sides (1 long side, 1 front side)"},null,null,null,null,null,null,null,null,null,null,null,null,null,null,null,null,null,null,null,"d5",{"$f":"OR(AND(ISNA(MATCH(L221,ynna,0)),LEN(L221)>0),AND(ISNA(MATCH(J221,ynna,0)),LEN(J221)>0),AND(ISNA(MATCH(H221,ynna,0)),LEN(H221)>0),AND(ISNA(MATCH(F221,ynna,0)),LEN(F221)>0),AND(ISNA(MATCH(D221,ynna,0)),LEN(D221)>0))","v":false},null,{"$f":"IF(ISERROR(W221), TRUE,W221)","v":false}]
[null,{"$f":"lang!A700","v":"AL - Albania"}]
[null,{"$f":"lang!A526","v":"Are charging stations for fork lift trucks placed in separate and vented rooms or inside the storage area with a protection distance of at least 5 m to any stored product or combustible material ?"},null,null,null,null,null,null,null,null,null,null,null,null,null,null,null,null,null,null,null,null,null,null,{"$f":"ISERROR(CONCATENATE(D223,F223,H223,J223,L223))","v":false}]
[]
["4.2.3.",{"$f":"lang!A507","v":"Retention measurements"}]
["4.2.3.1.",{"$f":"lang!A508","v":"Are measures taken inside and outside the warehouse to adequately contain contaminated fire water in compliance with local regulations  (eg. waterproof surface, volume of retention of 300 L per M2 of warehouse- and overflow in municipal water treatment plant) ?"},null,null,null,null,null,null,null,null,null,null,null,null,null,null,null,null,null,null,null,"d5",{"$f":"OR(AND(ISNA(MATCH(L226,ynna,0)),LEN(L226)>0),AND(ISNA(MATCH(J226,ynna,0)),LEN(J226)>0),AND(ISNA(MATCH(H226,ynna,0)),LEN(H226)>0),AND(ISNA(MATCH(F226,ynna,0)),LEN(F226)>0),AND(ISNA(MATCH(D226,ynna,0)),LEN(D226)>0))","v":false},null,{"$f":"IF(ISERROR(W226), TRUE,W226)","v":false}]
[null,{"$f":"lang!A540","v":"concrete/bricks"}]
[null,{"$f":"lang!A585","v":"gasoil"},null,null,null,null,null,null,null,null,null,null,null,null,null,null,null,null,null,null,null,null,null,null,{"$f":"ISERROR(CONCATENATE(D228,F228,H228,J228,L228))","v":false}]
[null,{"$f":"lang!A642","v":"Engineering/technical"}]
["4.2.3.2.",{"$f":"lang!A509","v":"Are measures taken in the storage areas to adequately contain spilled product in compliance with local regulations (eg. liquid proof surface, volume of retention at least 3% of the column of the packaged products stored) ?"},null,null,null,null,null,null,null,null,null,null,null,null,null,null,null,null,null,null,null,"d5",{"$f":"OR(AND(ISNA(MATCH(L230,ynna,0)),LEN(L230)>0),AND(ISNA(MATCH(J230,ynna,0)),LEN(J230)>0),AND(ISNA(MATCH(H230,ynna,0)),LEN(H230)>0),AND(ISNA(MATCH(F230,ynna,0)),LEN(F230)>0),AND(ISNA(MATCH(D230,ynna,0)),LEN(D230)>0))","v":false},null,{"$f":"IF(ISERROR(W230), TRUE,W230)","v":false}]
[null,{"$f":"lang!A527","v":"Is the heating system in warehouses where flammable products are stored a hot-water heating system ? "}]
[null,{"$f":"lang!A586","v":"LPG"},null,null,null,null,null,null,null,null,null,null,null,null,null,null,null,null,null,null,null,null,null,null,{"$f":"ISERROR(CONCATENATE(D232,F232,H232,J232,L232))","v":false}]
[null,{"$f":"lang!A685","v":"Class 1 : Explosive substances and articles"}]
["4.2.3.3.",{"$f":"lang!A510","v":"Are measures taken on aisles and loading/unloading areas to adequately contain spilled product (eg. liquid proof surface, volume of retention at least equal to the biggest package to be transported or loaded/unloaded) ?"},null,null,null,null,null,null,null,null,null,null,null,null,null,null,null,null,null,null,null,"d5",{"$f":"OR(AND(ISNA(MATCH(L234,ynna,0)),LEN(L234)>0),AND(ISNA(MATCH(J234,ynna,0)),LEN(J234)>0),AND(ISNA(MATCH(H234,ynna,0)),LEN(H234)>0),AND(ISNA(MATCH(F234,ynna,0)),LEN(F234)>0),AND(ISNA(MATCH(D234,ynna,0)),LEN(D234)>0))","v":false},null,{"$f":"IF(ISERROR(W234), TRUE,W234)","v":false}]
[null,{"$f":"lang!A688","v":"Class 4.1. : Flammable solids,  self-reactive substances and solid desensitized explosives."}]
[null,{"$f":"lang!A528","v":"Is the surface temperature of the heating system lower than the ignition temperature of the product stored ?"},null,null,null,null,null,null,null,null,null,null,null,null,null,null,null,null,null,null,null,null,null,null,{"$f":"ISERROR(CONCATENATE(D236,F236,H236,J236,L236))","v":false}]
[null,{"$f":"lang!A643","v":"Facility management"}]
[" "," "]
["4.2.4.",{"$f":"lang!A511","v":"Constructional fire protection"}]
["4.2.4.1.",{"$f":"lang!A512","v":"Is the warehouse separated by a safe distance from adjacent buildings in compliance with local regulations (eg. not less then 10 m or not less then 5 m in combination with an external fire wall) ?"},null,null,null,null,null,null,null,null,null,null,null,null,null,null,null,null,null,null,null,"d5",{"$f":"OR(AND(ISNA(MATCH(L240,ynna,0)),LEN(L240)>0),AND(ISNA(MATCH(J240,ynna,0)),LEN(J240)>0),AND(ISNA(MATCH(H240,ynna,0)),LEN(H240)>0),AND(ISNA(MATCH(F240,ynna,0)),LEN(F240)>0),AND(ISNA(MATCH(D240,ynna,0)),LEN(D240)>0))","v":false},null,{"$f":"IF(ISERROR(W240), TRUE,W240)","v":false}]
[null,{"$f":"lang!A587","v":"electric"}]
[null,{"$f":"lang!A529","v":"Warehouse security"},null,null,null,null,null,null,null,null,null,null,null,null,null,null,null,null,null,null,null,null,null,null,{"$f":"ISERROR(CONCATENATE(D242,F242,H242,J242,L242))","v":false}]
[null,{"$f":"lang!A546","v":"concrete/bricks"}]
["4.2.4.2.",{"$f":"lang!A513","v":"Are structural components like pillars, girders, floors and roof structure made of fire resistant materials (e.g. reinforced concrete) ?"},null,null,null,null,null,null,null,null,null,null,null,null,null,null,null,null,null,null,null,"d5",{"$f":"OR(AND(ISNA(MATCH(L244,ynna,0)),LEN(L244)>0),AND(ISNA(MATCH(J244,ynna,0)),LEN(J244)>0),AND(ISNA(MATCH(H244,ynna,0)),LEN(H244)>0),AND(ISNA(MATCH(F244,ynna,0)),LEN(F244)>0),AND(ISNA(MATCH(D244,ynna,0)),LEN(D244)>0))","v":false},null,{"$f":"IF(ISERROR(W244), TRUE,W244)","v":false}]
[null,{"$f":"lang!A530","v":"Are doors and gates equipped with a locking system and is it assured that they are locked, when no persons are working in the warehouse ?"}]
[null,{"$f":"lang!A543","v":"wood"},null,null,null,null,null,null,null,null,null,null,null,null,null,null,null,null,null,null,null,null,null,null,{"$f":"ISERROR(CONCATENATE(D246,F246,H246,J246,L246))","v":false}]
[]
["4.2.4.3.",{"$f":"lang!A514","v":"Are insulation and nonstructural components made of noncombustible materials ?"},null,null,null,null,null,null,null,null,null,null,null,null,null,null,null,null,null,null,null,"d5",{"$f":"OR(AND(ISNA(MATCH(L248,ynna,0)),LEN(L248)>0),AND(ISNA(MATCH(J248,ynna,0)),LEN(J248)>0),AND(ISNA(MATCH(H248,ynna,0)),LEN(H248)>0),AND(ISNA(MATCH(F248,ynna,0)),LEN(F248)>0),AND(ISNA(MATCH(D248,ynna,0)),LEN(D248)>0))","v":false},null,{"$f":"IF(ISERROR(W248), TRUE,W248)","v":false}]
[null,{"$f":"lang!A588","v":"Fixed storage tanks for liquids"}]
[null,{"$f":"lang!A531","v":"Are windows or other glass areas appropriately secured (e.g. by fixed grills) ?"},null,null,null,null,null,null,null,null,null,null,null,null,null,null,null,null,null,null,null,null,null,null,{"$f":"ISERROR(CONCATENATE(D250,F250,H250,J250,L250))","v":false}]
[]
["4.2.4.4.",{"$f":"lang!A515","v":"Are internal and external fire walls rated in accordance with local regulations (eg. wall made of noncombustible material like brick, concrete or reinforced concrete, wall thickness not less than 24 cm, wall minimum 50 cm above the roof or up to the roof and adjacent roof areas 5 m of noncombustible material,  doors and gates in the wall fire resistant and self-closing, no other openings in the walls) ?"},null,null,null,null,null,null,null,null,null,null,null,null,null,null,null,null,null,null,null,"d5",{"$f":"OR(AND(ISNA(MATCH(L252,ynna,0)),LEN(L252)>0),AND(ISNA(MATCH(J252,ynna,0)),LEN(J252)>0),AND(ISNA(MATCH(H252,ynna,0)),LEN(H252)>0),AND(ISNA(MATCH(F252,ynna,0)),LEN(F252)>0),AND(ISNA(MATCH(D252,ynna,0)),LEN(D252)>0))","v":false},null,{"$f":"IF(ISERROR(W252), TRUE,W252)","v":false}]
[null,{"$f":"lang!A697","v":"Class 9 : Miscellaneous dangerous substances and\narticles"}]
[null,{"$f":"lang!A696","v":"Class 8 : Corrosive substances"},null,null,null,null,null,null,null,null,null,null,null,null,null,null,null,null,null,null,null,null,null,null,{"$f":"ISERROR(CONCATENATE(D254,F254,H254,J254,L254))","v":false}]
[null,{"$f":"lang!A533","v":"Are burglar alarms transmitted automatically to security personnel or to a nearby police station ?"}]
["4.2.4.5.",{"$f":"lang!A516","v":"Are adjacent rooms (incl. office, staff - and technical rooms) separated from the storage area with at least fire resistant walls (eg. made of noncombustible material like brick, concrete or reinforced concrete, wall thickness not less than 11.5 cm, doors and gates at least fire retardant and self closing, no other openings in the walls) ?"},null,null,null,null,null,null,null,null,null,null,null,null,null,null,null,null,null,null,null,"d5",{"$f":"OR(AND(ISNA(MATCH(L256,ynna,0)),LEN(L256)>0),AND(ISNA(MATCH(J256,ynna,0)),LEN(J256)>0),AND(ISNA(MATCH(H256,ynna,0)),LEN(H256)>0),AND(ISNA(MATCH(F256,ynna,0)),LEN(F256)>0),AND(ISNA(MATCH(D256,ynna,0)),LEN(D256)>0))","v":false},null,{"$f":"IF(ISERROR(W256), TRUE,W256)","v":false}]
[null,{"$f":"lang!A532","v":"Is the warehouse secured with a burglar alarm system or by security personnel on-site ?"}]
[null,{"$f":"lang!A589","v":"Total capacity of storage tanks available (cubic meters) ?"},null,null,null,null,null,null,null,null,null,null,null,null,null,null,null,null,null,null,null,null,null,null,{"$f":"ISERROR(CONCATENATE(D258,F258,H258,J258,L258))","v":false}]
[null,{"$f":"lang!A705","v":"BY - Belarus"}]
[]
["4.2.5.",{"$f":"lang!A517","v":"Technical fire protection"}]
["4.2.5.1.",{"$f":"lang!A518","v":"Is the warehouse equipped with an overall fire and smoke detection system with direct connection to a permanently manned office that will notify the local fire department without delay or if not, with a direct connection to the local fire department ?"},null,null,null,null,null,null,null,null,null,null,null,null,null,null,null,null,null,null,null,"d5",{"$f":"OR(AND(ISNA(MATCH(L262,ynna,0)),LEN(L262)>0),AND(ISNA(MATCH(J262,ynna,0)),LEN(J262)>0),AND(ISNA(MATCH(H262,ynna,0)),LEN(H262)>0),AND(ISNA(MATCH(F262,ynna,0)),LEN(F262)>0),AND(ISNA(MATCH(D262,ynna,0)),LEN(D262)>0))","v":false},null,{"$f":"IF(ISERROR(W262), TRUE,W262)","v":false}]
[null,{"$f":"lang!A651","v":"Cerificate Number"}]
[null,{"$f":"lang!A634","v":"Comment"},null,null,null,null,null,null,null,null,null,null,null,null,null,null,null,null,null,null,null,null,null,null,{"$f":"ISERROR(CONCATENATE(D264,F264,H264,J264,L264))","v":false}]
[null,{"$f":"lang!A537","v":"multi story  (above ground floor)"}]
["4.2.5.2.",{"$f":"lang!A519","v":"Is there a manual fire alarm system with a direct connection to the local fire brigade installed and is it readily accessible at any time ?"},null,null,null,null,null,null,null,null,null,null,null,null,null,null,null,null,null,null,null,"d5",{"$f":"OR(AND(ISNA(MATCH(L266,ynna,0)),LEN(L266)>0),AND(ISNA(MATCH(J266,ynna,0)),LEN(J266)>0),AND(ISNA(MATCH(H266,ynna,0)),LEN(H266)>0),AND(ISNA(MATCH(F266,ynna,0)),LEN(F266)>0),AND(ISNA(MATCH(D266,ynna,0)),LEN(D266)>0))","v":false},null,{"$f":"IF(ISERROR(W266), TRUE,W266)","v":false}]
[null,{"$f":"lang!A667","v":"Owned/operated tracks present"}]
[null,{"$f":"lang!A534","v":"Warehouse construction"},null,null,null,null,null,null,null,null,null,null,null,null,null,null,null,null,null,null,null,null,null,null,{"$f":"ISERROR(CONCATENATE(D268,F268,H268,J268,L268))","v":false}]
[]
["4.2.5.3.",{"$f":"lang!A520","v":"Is the warehouse equipped with an audible alarm system easily audible throughout the work area ?"},null,null,null,null,null,null,null,null,null,null,null,null,null,null,null,null,null,null,null,"d5",{"$f":"OR(AND(ISNA(MATCH(L270,ynna,0)),LEN(L270)>0),AND(ISNA(MATCH(J270,ynna,0)),LEN(J270)>0),AND(ISNA(MATCH(H270,ynna,0)),LEN(H270)>0),AND(ISNA(MATCH(F270,ynna,0)),LEN(F270)>0),AND(ISNA(MATCH(D270,ynna,0)),LEN(D270)>0))","v":false},null,{"$f":"IF(ISERROR(W270), TRUE,W270)","v":false}]
[null,{"$f":"lang!A536","v":"single story"}]
[null,{"$f":"lang!A633","v":"Smoke and heat vents"},null,null,null,null,null,null,null,null,null,null,null,null,null,null,null,null,null,null,null,null,null,null,{"$f":"ISERROR(CONCATENATE(D272,F272,H272,J272,L272))","v":false}]
[]
["4.2.5.4.",{"$f":"lang!A521","v":"Are smoke and heat vents installed in each fire compartment with an area not less than 2% of the storage area of the fire compartment ?"},null,null,null,null,null,null,null,null,null,null,null,null,null,null,null,null,null,null,null,"d5",{"$f":"OR(AND(ISNA(MATCH(L274,ynna,0)),LEN(L274)>0),AND(ISNA(MATCH(J274,ynna,0)),LEN(J274)>0),AND(ISNA(MATCH(H274,ynna,0)),LEN(H274)>0),AND(ISNA(MATCH(F274,ynna,0)),LEN(F274)>0),AND(ISNA(MATCH(D274,ynna,0)),LEN(D274)>0))","v":false},null,{"$f":"IF(ISERROR(W274), TRUE,W274)","v":false}]
[null,{"$f":"lang!A773","v":"more than 50"}]
[null,{"$f":"lang!A776","v":"Please enter (or Copy/Paste) these fields EXACTLY as mentioned in the confirmation e-mail of this authorized assessment, otherwise your assessment report will be rejected by the SQAS system"},null,null,null,null,null,null,null,null,null,null,null,null,null,null,null,null,null,null,null,null,null,null,{"$f":"ISERROR(CONCATENATE(D276,F276,H276,J276,L276))","v":false}]
[]
["4.2.5.5.",{"$f":"lang!A522","v":"Are smoke vents automatically operated and is there in addition a button near the exit doors to operate these smoke vents manually ? "},null,null,null,null,null,null,null,null,null,null,null,null,null,null,null,null,null,null,null,"d5",{"$f":"OR(AND(ISNA(MATCH(L278,ynna,0)),LEN(L278)>0),AND(ISNA(MATCH(J278,ynna,0)),LEN(J278)>0),AND(ISNA(MATCH(H278,ynna,0)),LEN(H278)>0),AND(ISNA(MATCH(F278,ynna,0)),LEN(F278)>0),AND(ISNA(MATCH(D278,ynna,0)),LEN(D278)>0))","v":false},null,{"$f":"IF(ISERROR(W278), TRUE,W278)","v":false}]
[null,{"$f":"lang!A779","v":"Company Location ( Town/City)"}]
[null,{"$f":"lang!A780","v":"Company Country"},null,null,null,null,null,null,null,null,null,null,null,null,null,null,null,null,null,null,null,null,null,null,{"$f":"ISERROR(CONCATENATE(D280,F280,H280,J280,L280))","v":false}]
[]
["4.2.5.6.",{"$f":"lang!A523","v":"Are fire extinguishers and hose reels provided in accordance with local regulations as stated in the Fire Plan and are they highly visible, with unrestricted access at all times (eg. one hose reel or 1x50 kg or 4x12 kg fire extinguisher(s) with dry powder per 800 m2 of warehouse surface). "},null,null,null,null,null,null,null,null,null,null,null,null,null,null,null,null,null,null,null,"d5",{"$f":"OR(AND(ISNA(MATCH(L282,ynna,0)),LEN(L282)>0),AND(ISNA(MATCH(J282,ynna,0)),LEN(J282)>0),AND(ISNA(MATCH(H282,ynna,0)),LEN(H282)>0),AND(ISNA(MATCH(F282,ynna,0)),LEN(F282)>0),AND(ISNA(MATCH(D282,ynna,0)),LEN(D282)>0))","v":false},null,{"$f":"IF(ISERROR(W282), TRUE,W282)","v":false}]
[null,{"$f":"lang!A582","v":"Is lightning protection installed ?"}]
[null,{"$f":"lang!A639","v":"Corporate"},null,null,null,null,null,null,null,null,null,null,null,null,null,null,null,null,null,null,null,null,null,null,{"$f":"ISERROR(CONCATENATE(D284,F284,H284,J284,L284))","v":false}]
[null,{"$f":"lang!A584","v":"Forklift type :"}]
["4.2.5.7.",{"$f":"lang!A524","v":"Are fire compartments storing products classified as toxic, oxidising, flammable or dangerous to the environment, equipped with fixed extinguishing systems (eg. water, foam) ?"},null,null,null,null,null,null,null,null,null,null,null,null,null,null,null,null,null,null,null,"d5",{"$f":"OR(AND(ISNA(MATCH(L286,ynna,0)),LEN(L286)>0),AND(ISNA(MATCH(J286,ynna,0)),LEN(J286)>0),AND(ISNA(MATCH(H286,ynna,0)),LEN(H286)>0),AND(ISNA(MATCH(F286,ynna,0)),LEN(F286)>0),AND(ISNA(MATCH(D286,ynna,0)),LEN(D286)>0))","v":false},null,{"$f":"IF(ISERROR(W286), TRUE,W286)","v":false}]
[null,{"$f":"lang!A538","v":"underground"}]
[null,{"$f":"lang!A701","v":"AD - Andorra"},null,null,null,null,null,null,null,null,null,null,null,null,null,null,null,null,null,null,null,null,null,null,{"$f":"ISERROR(CONCATENATE(D288,F288,H288,J288,L288))","v":false}]
[null,{"$f":"lang!A539","v":"Supporting construction:"}]
["4.2.5.8.",{"$f":"lang!A525","v":"Are fire compartments storing products classified as toxic, oxidising, flammable or dangerous to the environment, equipped with an operating ventilation system, with an air exchange rate of at least twice/hour ?"},null,null,null,null,null,null,null,null,null,null,null,null,null,null,null,null,null,null,null,"d5",{"$f":"OR(AND(ISNA(MATCH(L290,ynna,0)),LEN(L290)>0),AND(ISNA(MATCH(J290,ynna,0)),LEN(J290)>0),AND(ISNA(MATCH(H290,ynna,0)),LEN(H290)>0),AND(ISNA(MATCH(F290,ynna,0)),LEN(F290)>0),AND(ISNA(MATCH(D290,ynna,0)),LEN(D290)>0))","v":false},null,{"$f":"IF(ISERROR(W290), TRUE,W290)","v":false}]
[null,{"$f":"lang!A626","v":"(ADR-Class or Hazardous Symbol)"}]
[null,{"$f":"lang!A687","v":"Class 3 : Flammable liquids"},null,null,null,null,null,null,null,null,null,null,null,null,null,null,null,null,null,null,null,null,null,null,{"$f":"ISERROR(CONCATENATE(D292,F292,H292,J292,L292))","v":false}]
[null,{"$f":"lang!A700","v":"AL - Albania"}]
["4.2.5.9.",{"$f":"lang!A526","v":"Are charging stations for fork lift trucks placed in separate and vented rooms or inside the storage area with a protection distance of at least 5 m to any stored product or combustible material ?"},null,null,null,null,null,null,null,null,null,null,null,null,null,null,null,null,null,null,null,"d5",{"$f":"OR(AND(ISNA(MATCH(L294,ynna,0)),LEN(L294)>0),AND(ISNA(MATCH(J294,ynna,0)),LEN(J294)>0),AND(ISNA(MATCH(H294,ynna,0)),LEN(H294)>0),AND(ISNA(MATCH(F294,ynna,0)),LEN(F294)>0),AND(ISNA(MATCH(D294,ynna,0)),LEN(D294)>0))","v":false},null,{"$f":"IF(ISERROR(W294), TRUE,W294)","v":false}]
[null,{"$f":"lang!A540","v":"concrete/bricks"}]
[null,{"$f":"lang!A585","v":"gasoil"},null,null,null,null,null,null,null,null,null,null,null,null,null,null,null,null,null,null,null,null,null,null,{"$f":"ISERROR(CONCATENATE(D296,F296,H296,J296,L296))","v":false}]
[null,{"$f":"lang!A642","v":"Engineering/technical"}]
["4.2.5.10.",{"$f":"lang!A527","v":"Is the heating system in warehouses where flammable products are stored a hot-water heating system ? "},null,null,null,null,null,null,null,null,null,null,null,null,null,null,null,null,null,null,null,"d5",{"$f":"OR(AND(ISNA(MATCH(L298,ynna,0)),LEN(L298)>0),AND(ISNA(MATCH(J298,ynna,0)),LEN(J298)>0),AND(ISNA(MATCH(H298,ynna,0)),LEN(H298)>0),AND(ISNA(MATCH(F298,ynna,0)),LEN(F298)>0),AND(ISNA(MATCH(D298,ynna,0)),LEN(D298)>0))","v":false},null,{"$f":"IF(ISERROR(W298), TRUE,W298)","v":false}]
[null,{"$f":"lang!A586","v":"LPG"}]
[null,{"$f":"lang!A685","v":"Class 1 : Explosive substances and articles"},null,null,null,null,null,null,null,null,null,null,null,null,null,null,null,null,null,null,null,null,null,null,{"$f":"ISERROR(CONCATENATE(D300,F300,H300,J300,L300))","v":false}]
[]
["4.2.5.11.",{"$f":"lang!A528","v":"Is the surface temperature of the heating system lower than the ignition temperature of the product stored ?"},null,null,null,null,null,null,null,null,null,null,null,null,null,null,null,null,null,null,null,"d5",{"$f":"OR(AND(ISNA(MATCH(L302,ynna,0)),LEN(L302)>0),AND(ISNA(MATCH(J302,ynna,0)),LEN(J302)>0),AND(ISNA(MATCH(H302,ynna,0)),LEN(H302)>0),AND(ISNA(MATCH(F302,ynna,0)),LEN(F302)>0),AND(ISNA(MATCH(D302,ynna,0)),LEN(D302)>0))","v":false},null,{"$f":"IF(ISERROR(W302), TRUE,W302)","v":false}]
[null,{"$f":"lang!A643","v":"Facility management"}]
[null,{"$f":"lang!A542","v":"metal"},null,null,null,null,null,null,null,null,null,null,null,null,null,null,null,null,null,null,null,null,null,null,{"$f":"ISERROR(CONCATENATE(D304,F304,H304,J304,L304))","v":false}]
[]
[]
["5.",{"$f":"lang!A529","v":"Warehouse security"}]
["5.1.",{"$f":"lang!A530","v":"Are doors and gates equipped with a locking system and is it assured that they are locked, when no persons are working in the warehouse ?"},null,null,null,null,null,null,null,null,null,null,null,null,null,null,null,null,null,null,null,"d5",{"$f":"OR(AND(ISNA(MATCH(L308,ynna,0)),LEN(L308)>0),AND(ISNA(MATCH(J308,ynna,0)),LEN(J308)>0),AND(ISNA(MATCH(H308,ynna,0)),LEN(H308)>0),AND(ISNA(MATCH(F308,ynna,0)),LEN(F308)>0),AND(ISNA(MATCH(D308,ynna,0)),LEN(D308)>0))","v":false},null,{"$f":"IF(ISERROR(W308), TRUE,W308)","v":false}]
[null,{"$f":"lang!A543","v":"wood"}]
[null,{"$f":"lang!A544","v":"other (please indicate)"},null,null,null,null,null,null,null,null,null,null,null,null,null,null,null,null,null,null,null,null,null,null,{"$f":"ISERROR(CONCATENATE(D310,F310,H310,J310,L310))","v":false}]
[]
["5.2.",{"$f":"lang!A531","v":"Are windows or other glass areas appropriately secured (e.g. by fixed grills) ?"},null,null,null,null,null,null,null,null,null,null,null,null,null,null,null,null,null,null,null,"d5",{"$f":"OR(AND(ISNA(MATCH(L312,ynna,0)),LEN(L312)>0),AND(ISNA(MATCH(J312,ynna,0)),LEN(J312)>0),AND(ISNA(MATCH(H312,ynna,0)),LEN(H312)>0),AND(ISNA(MATCH(F312,ynna,0)),LEN(F312)>0),AND(ISNA(MATCH(D312,ynna,0)),LEN(D312)>0))","v":false},null,{"$f":"IF(ISERROR(W312), TRUE,W312)","v":false}]
[null,{"$f":"lang!A646","v":"Network"}]
[null,{"$f":"lang!A697","v":"Class 9 : Miscellaneous dangerous substances and\narticles"},null,null,null,null,null,null,null,null,null,null,null,null,null,null,null,null,null,null,null,null,null,null,{"$f":"ISERROR(CONCATENATE(D314,F314,H314,J314,L314))","v":false}]
[]
["5.3.",{"$f":"lang!A532","v":"Is the warehouse secured with a burglar alarm system or by security personnel on-site ?"},null,null,null,null,null,null,null,null,null,null,null,null,null,null,null,null,null,null,null,"d5",{"$f":"OR(AND(ISNA(MATCH(L316,ynna,0)),LEN(L316)>0),AND(ISNA(MATCH(J316,ynna,0)),LEN(J316)>0),AND(ISNA(MATCH(H316,ynna,0)),LEN(H316)>0),AND(ISNA(MATCH(F316,ynna,0)),LEN(F316)>0),AND(ISNA(MATCH(D316,ynna,0)),LEN(D316)>0))","v":false},null,{"$f":"IF(ISERROR(W316), TRUE,W316)","v":false}]
[null,{"$f":"lang!A589","v":"Total capacity of storage tanks available (cubic meters) ?"}]
[null,{"$f":"lang!A705","v":"BY - Belarus"},null,null,null,null,null,null,null,null,null,null,null,null,null,null,null,null,null,null,null,null,null,null,{"$f":"ISERROR(CONCATENATE(D318,F318,H318,J318,L318))","v":false}]
[]
["5.4.",{"$f":"lang!A533","v":"Are burglar alarms transmitted automatically to security personnel or to a nearby police station ?"},null,null,null,null,null,null,null,null,null,null,null,null,null,null,null,null,null,null,null,"d5",{"$f":"OR(AND(ISNA(MATCH(L320,ynna,0)),LEN(L320)>0),AND(ISNA(MATCH(J320,ynna,0)),LEN(J320)>0),AND(ISNA(MATCH(H320,ynna,0)),LEN(H320)>0),AND(ISNA(MATCH(F320,ynna,0)),LEN(F320)>0),AND(ISNA(MATCH(D320,ynna,0)),LEN(D320)>0))","v":false},null,{"$f":"IF(ISERROR(W320), TRUE,W320)","v":false}]
[null,{"$f":"lang!A546","v":"concrete/bricks"}]
[null,{"$f":"lang!A649","v":"Is the company certified by the National Safety Agency?"},null,null,null,null,null,null,null,null,null,null,null,null,null,null,null,null,null,null,null,null,null,null,{"$f":"ISERROR(CONCATENATE(D322,F322,H322,J322,L322))","v":false}]
[]
[]
["6.",{"$f":"lang!A534","v":"Warehouse construction"}]
["6.1.",{"$f":"lang!A535","v":"Warehouse level:"}]
["6.1.1.",{"$f":"lang!A536","v":"single story"},null,null,null,null,null,null,null,null,null,null,null,null,null,null,null,null,null,null,null,"d5",{"$f":"OR(AND(ISNA(MATCH(L327,ynna,0)),LEN(L327)>0),AND(ISNA(MATCH(J327,ynna,0)),LEN(J327)>0),AND(ISNA(MATCH(H327,ynna,0)),LEN(H327)>0),AND(ISNA(MATCH(F327,ynna,0)),LEN(F327)>0),AND(ISNA(MATCH(D327,ynna,0)),LEN(D327)>0))","v":false},null,{"$f":"IF(ISERROR(W327), TRUE,W327)","v":false}]
[null,{"$f":"lang!A633","v":"Smoke and heat vents"}]
[null,{"$f":"lang!A581","v":"Are safety lights installed in storage areas with safety lamps at least 1.5 m away from the product ?"},null,null,null,null,null,null,null,null,null,null,null,null,null,null,null,null,null,null,null,null,null,null,{"$f":"ISERROR(CONCATENATE(D329,F329,H329,J329,L329))","v":false}]
[]
["6.1.2.",{"$f":"lang!A537","v":"multi story  (above ground floor)"},null,null,null,null,null,null,null,null,null,null,null,null,null,null,null,null,null,null,null,"d5",{"$f":"OR(AND(ISNA(MATCH(L331,ynna,0)),LEN(L331)>0),AND(ISNA(MATCH(J331,ynna,0)),LEN(J331)>0),AND(ISNA(MATCH(H331,ynna,0)),LEN(H331)>0),AND(ISNA(MATCH(F331,ynna,0)),LEN(F331)>0),AND(ISNA(MATCH(D331,ynna,0)),LEN(D331)>0))","v":false},null,{"$f":"IF(ISERROR(W331), TRUE,W331)","v":false}]
[null,{"$f":"lang!A580","v":"Is the coverage of lighting 100 % ? (yes and/or indicate %)"}]
[null,{"$f":"lang!A637","v":"Desciption/location(s)"},null,null,null,null,null,null,null,null,null,null,null,null,null,null,null,null,null,null,null,null,null,null,{"$f":"ISERROR(CONCATENATE(D333,F333,H333,J333,L333))","v":false}]
[]
["6.1.3.",{"$f":"lang!A538","v":"underground"},null,null,null,null,null,null,null,null,null,null,null,null,null,null,null,null,null,null,null,"d5",{"$f":"OR(AND(ISNA(MATCH(L335,ynna,0)),LEN(L335)>0),AND(ISNA(MATCH(J335,ynna,0)),LEN(J335)>0),AND(ISNA(MATCH(H335,ynna,0)),LEN(H335)>0),AND(ISNA(MATCH(F335,ynna,0)),LEN(F335)>0),AND(ISNA(MATCH(D335,ynna,0)),LEN(D335)>0))","v":false},null,{"$f":"IF(ISERROR(W335), TRUE,W335)","v":false}]
[null,{"$f":"lang!A538","v":"underground"}]
[null,{"$f":"lang!A626","v":"(ADR-Class or Hazardous Symbol)"},null,null,null,null,null,null,null,null,null,null,null,null,null,null,null,null,null,null,null,null,null,null,{"$f":"ISERROR(CONCATENATE(D337,F337,H337,J337,L337))","v":false}]
[]
[]
["6.2.",{"$f":"lang!A539","v":"Supporting construction:"}]
[]
["6.2.1.",{"$f":"lang!A540","v":"concrete/bricks"},null,null,null,null,null,null,null,null,null,null,null,null,null,null,null,null,null,null,null,"d5",{"$f":"OR(AND(ISNA(MATCH(L342,ynna,0)),LEN(L342)>0),AND(ISNA(MATCH(J342,ynna,0)),LEN(J342)>0),AND(ISNA(MATCH(H342,ynna,0)),LEN(H342)>0),AND(ISNA(MATCH(F342,ynna,0)),LEN(F342)>0),AND(ISNA(MATCH(D342,ynna,0)),LEN(D342)>0))","v":false},null,{"$f":"IF(ISERROR(W342), TRUE,W342)","v":false}]
[null,{"$f":"lang!A585","v":"gasoil"}]
[null,{"$f":"lang!A642","v":"Engineering/technical"},null,null,null,null,null,null,null,null,null,null,null,null,null,null,null,null,null,null,null,null,null,null,{"$f":"ISERROR(CONCATENATE(D344,F344,H344,J344,L344))","v":false}]
[]
["6.2.2.",{"$f":"lang!A541","v":"fire protected steel"},null,null,null,null,null,null,null,null,null,null,null,null,null,null,null,null,null,null,null,"d5",{"$f":"OR(AND(ISNA(MATCH(L346,ynna,0)),LEN(L346)>0),AND(ISNA(MATCH(J346,ynna,0)),LEN(J346)>0),AND(ISNA(MATCH(H346,ynna,0)),LEN(H346)>0),AND(ISNA(MATCH(F346,ynna,0)),LEN(F346)>0),AND(ISNA(MATCH(D346,ynna,0)),LEN(D346)>0))","v":false},null,{"$f":"IF(ISERROR(W346), TRUE,W346)","v":false}]
[null,{"$f":"lang!A586","v":"LPG"}]
[null,{"$f":"lang!A685","v":"Class 1 : Explosive substances and articles"},null,null,null,null,null,null,null,null,null,null,null,null,null,null,null,null,null,null,null,null,null,null,{"$f":"ISERROR(CONCATENATE(D348,F348,H348,J348,L348))","v":false}]
[]
["6.2.3.",{"$f":"lang!A542","v":"metal"},null,null,null,null,null,null,null,null,null,null,null,null,null,null,null,null,null,null,null,"d5",{"$f":"OR(AND(ISNA(MATCH(L350,ynna,0)),LEN(L350)>0),AND(ISNA(MATCH(J350,ynna,0)),LEN(J350)>0),AND(ISNA(MATCH(H350,ynna,0)),LEN(H350)>0),AND(ISNA(MATCH(F350,ynna,0)),LEN(F350)>0),AND(ISNA(MATCH(D350,ynna,0)),LEN(D350)>0))","v":false},null,{"$f":"IF(ISERROR(W350), TRUE,W350)","v":false}]
[null,{"$f":"lang!A686","v":"Class 2 : Gases"}]
[null,{"$f":"lang!A587","v":"electric"},null,null,null,null,null,null,null,null,null,null,null,null,null,null,null,null,null,null,null,null,null,null,{"$f":"ISERROR(CONCATENATE(D352,F352,H352,J352,L352))","v":false}]
[]
["6.2.4.",{"$f":"lang!A543","v":"wood"},null,null,null,null,null,null,null,null,null,null,null,null,null,null,null,null,null,null,null,"d5",{"$f":"OR(AND(ISNA(MATCH(L354,ynna,0)),LEN(L354)>0),AND(ISNA(MATCH(J354,ynna,0)),LEN(J354)>0),AND(ISNA(MATCH(H354,ynna,0)),LEN(H354)>0),AND(ISNA(MATCH(F354,ynna,0)),LEN(F354)>0),AND(ISNA(MATCH(D354,ynna,0)),LEN(D354)>0))","v":false},null,{"$f":"IF(ISERROR(W354), TRUE,W354)","v":false}]
[null,{"$f":"lang!A646","v":"Network"}]
[null,{"$f":"lang!A697","v":"Class 9 : Miscellaneous dangerous substances and\narticles"},null,null,null,null,null,null,null,null,null,null,null,null,null,null,null,null,null,null,null,null,null,null,{"$f":"ISERROR(CONCATENATE(D356,F356,H356,J356,L356))","v":false}]
[]
["6.2.5.",{"$f":"lang!A544","v":"other (please indicate)"},null,null,null,null,null,null,null,null,null,null,null,null,null,null,null,null,null,null,null,null,null,null,{"$f":"ISERROR(CONCATENATE(D358,F358,H358,J358,L358))","v":false}]
[null,{"$f":"lang!A588","v":"Fixed storage tanks for liquids"}]
[null,{"$f":"lang!A589","v":"Total capacity of storage tanks available (cubic meters) ?"},null,null,null,null,null,null,null,null,null,null,null,null,null,null,null,null,null,null,null,null,null,null,{"$f":"ISERROR(CONCATENATE(D360,F360,H360,J360,L360))","v":false}]
[]
["6.3.",{"$f":"lang!A545","v":"External walls:"}]
["6.3.1.",{"$f":"lang!A546","v":"concrete/bricks"},null,null,null,null,null,null,null,null,null,null,null,null,null,null,null,null,null,null,null,"d5",{"$f":"OR(AND(ISNA(MATCH(L363,ynna,0)),LEN(L363)>0),AND(ISNA(MATCH(J363,ynna,0)),LEN(J363)>0),AND(ISNA(MATCH(H363,ynna,0)),LEN(H363)>0),AND(ISNA(MATCH(F363,ynna,0)),LEN(F363)>0),AND(ISNA(MATCH(D363,ynna,0)),LEN(D363)>0))","v":false},null,{"$f":"IF(ISERROR(W363), TRUE,W363)","v":false}]
[null,{"$f":"lang!A649","v":"Is the company certified by the National Safety Agency?"}]
[null,{"$f":"lang!A651","v":"Cerificate Number"},null,null,null,null,null,null,null,null,null,null,null,null,null,null,null,null,null,null,null,null,null,null,{"$f":"ISERROR(CONCATENATE(D365,F365,H365,J365,L365))","v":false}]
[]
["6.3.2.",{"$f":"lang!A547","v":"metal"},null,null,null,null,null,null,null,null,null,null,null,null,null,null,null,null,null,null,null,"d5",{"$f":"OR(AND(ISNA(MATCH(L367,ynna,0)),LEN(L367)>0),AND(ISNA(MATCH(J367,ynna,0)),LEN(J367)>0),AND(ISNA(MATCH(H367,ynna,0)),LEN(H367)>0),AND(ISNA(MATCH(F367,ynna,0)),LEN(F367)>0),AND(ISNA(MATCH(D367,ynna,0)),LEN(D367)>0))","v":false},null,{"$f":"IF(ISERROR(W367), TRUE,W367)","v":false}]
[null,{"$f":"lang!A648","v":"Is the company mentioned in the list of committed RU's to UIC 471-3?"}]
[null,{"$f":"lang!A652","v":"Subcontracting"},null,null,null,null,null,null,null,null,null,null,null,null,null,null,null,null,null,null,null,null,null,null,{"$f":"ISERROR(CONCATENATE(D369,F369,H369,J369,L369))","v":false}]
[]
["6.3.3.",{"$f":"lang!A548","v":"wood"},null,null,null,null,null,null,null,null,null,null,null,null,null,null,null,null,null,null,null,"d5",{"$f":"OR(AND(ISNA(MATCH(L371,ynna,0)),LEN(L371)>0),AND(ISNA(MATCH(J371,ynna,0)),LEN(J371)>0),AND(ISNA(MATCH(H371,ynna,0)),LEN(H371)>0),AND(ISNA(MATCH(F371,ynna,0)),LEN(F371)>0),AND(ISNA(MATCH(D371,ynna,0)),LEN(D371)>0))","v":false},null,{"$f":"IF(ISERROR(W371), TRUE,W371)","v":false}]
[null,{"$f":"lang!A592","v":"stainless steel"}]
[null,{"$f":"lang!A689","v":"Class 4.2. : Substances liable for spontaneous combustion"},null,null,null,null,null,null,null,null,null,null,null,null,null,null,null,null,null,null,null,null,null,null,{"$f":"ISERROR(CONCATENATE(D373,F373,H373,J373,L373))","v":false}]
[]
["6.3.4.",{"$f":"lang!A549","v":"other (please indicate)"},null,null,null,null,null,null,null,null,null,null,null,null,null,null,null,null,null,null,null,null,null,null,{"$f":"ISERROR(CONCATENATE(D375,F375,H375,J375,L375))","v":false}]
[null,{"$f":"lang!A591","v":"Construction material of:"}]
[null,{"$f":"lang!A613","v":"It is envisaged that one warehouse building may have more than one fire compartment. For this reason the below spreadsheet is used by the warehouse to record fire compartment details per building. The combination is identified through the first two columns."},null,null,null,null,null,null,null,null,null,null,null,null,null,null,null,null,null,null,null,null,null,null,{"$f":"ISERROR(CONCATENATE(D377,F377,H377,J377,L377))","v":false}]
[]
["6.4.",{"$f":"lang!A550","v":"Internal walls:"}]
["6.4.1.",{"$f":"lang!A551","v":"concrete/bricks"},null,null,null,null,null,null,null,null,null,null,null,null,null,null,null,null,null,null,null,"d5",{"$f":"OR(AND(ISNA(MATCH(L380,ynna,0)),LEN(L380)>0),AND(ISNA(MATCH(J380,ynna,0)),LEN(J380)>0),AND(ISNA(MATCH(H380,ynna,0)),LEN(H380)>0),AND(ISNA(MATCH(F380,ynna,0)),LEN(F380)>0),AND(ISNA(MATCH(D380,ynna,0)),LEN(D380)>0))","v":false},null,{"$f":"IF(ISERROR(W380), TRUE,W380)","v":false}]
[null,{"$f":"lang!A590","v":"If available:"}]
[null,{"$f":"lang!A636","v":"Activities included in assessment"},null,null,null,null,null,null,null,null,null,null,null,null,null,null,null,null,null,null,null,null,null,null,{"$f":"ISERROR(CONCATENATE(D382,F382,H382,J382,L382))","v":false}]
[]
["6.4.2.",{"$f":"lang!A552","v":"metal"},null,null,null,null,null,null,null,null,null,null,null,null,null,null,null,null,null,null,null,"d5",{"$f":"OR(AND(ISNA(MATCH(L384,ynna,0)),LEN(L384)>0),AND(ISNA(MATCH(J384,ynna,0)),LEN(J384)>0),AND(ISNA(MATCH(H384,ynna,0)),LEN(H384)>0),AND(ISNA(MATCH(F384,ynna,0)),LEN(F384)>0),AND(ISNA(MATCH(D384,ynna,0)),LEN(D384)>0))","v":false},null,{"$f":"IF(ISERROR(W384), TRUE,W384)","v":false}]
[null,{"$f":"lang!A647","v":"Shunting yard(s)"}]
[null,{"$f":"lang!A692","v":"Class 5.2. : Organic peroxides"},null,null,null,null,null,null,null,null,null,null,null,null,null,null,null,null,null,null,null,null,null,null,{"$f":"ISERROR(CONCATENATE(D386,F386,H386,J386,L386))","v":false}]
[]
["6.4.3.",{"$f":"lang!A553","v":"wood"},null,null,null,null,null,null,null,null,null,null,null,null,null,null,null,null,null,null,null,"d5",{"$f":"OR(AND(ISNA(MATCH(L388,ynna,0)),LEN(L388)>0),AND(ISNA(MATCH(J388,ynna,0)),LEN(J388)>0),AND(ISNA(MATCH(H388,ynna,0)),LEN(H388)>0),AND(ISNA(MATCH(F388,ynna,0)),LEN(F388)>0),AND(ISNA(MATCH(D388,ynna,0)),LEN(D388)>0))","v":false},null,{"$f":"IF(ISERROR(W388), TRUE,W388)","v":false}]
[null,{"$f":"lang!A665","v":"Number of let railcars to other companies"}]
[null,{"$f":"lang!A604","v":"polyester/plastic"},null,null,null,null,null,null,null,null,null,null,null,null,null,null,null,null,null,null,null,null,null,null,{"$f":"ISERROR(CONCATENATE(D390,F390,H390,J390,L390))","v":false}]
[]
["6.4.4.",{"$f":"lang!A554","v":"other (please indicate)"},null,null,null,null,null,null,null,null,null,null,null,null,null,null,null,null,null,null,null,null,null,null,{"$f":"ISERROR(CONCATENATE(D392,F392,H392,J392,L392))","v":false}]
[null,{"$f":"lang!A719","v":"HU - Hungary"}]
[null,{"$f":"lang!A662","v":"Number of own Rail Tank Cars (RTC's)"},null,null,null,null,null,null,null,null,null,null,null,null,null,null,null,null,null,null,null,null,null,null,{"$f":"ISERROR(CONCATENATE(D394,F394,H394,J394,L394))","v":false}]
[]
["6.5.",{"$f":"lang!A555","v":"Roof and supporting construction material:"}]
["6.5.1.",{"$f":"lang!A556","v":"tiles"},null,null,null,null,null,null,null,null,null,null,null,null,null,null,null,null,null,null,null,"d5",{"$f":"OR(AND(ISNA(MATCH(L397,ynna,0)),LEN(L397)>0),AND(ISNA(MATCH(J397,ynna,0)),LEN(J397)>0),AND(ISNA(MATCH(H397,ynna,0)),LEN(H397)>0),AND(ISNA(MATCH(F397,ynna,0)),LEN(F397)>0),AND(ISNA(MATCH(D397,ynna,0)),LEN(D397)>0))","v":false},null,{"$f":"IF(ISERROR(W397), TRUE,W397)","v":false}]
[null,{"$f":"lang!A605","v":"Internal coating?"}]
[null,{"$f":"lang!A693","v":"Class 6.1. : Toxic substances"},null,null,null,null,null,null,null,null,null,null,null,null,null,null,null,null,null,null,null,null,null,null,{"$f":"ISERROR(CONCATENATE(D399,F399,H399,J399,L399))","v":false}]
[]
["6.5.2.",{"$f":"lang!A557","v":"metal"},null,null,null,null,null,null,null,null,null,null,null,null,null,null,null,null,null,null,null,"d5",{"$f":"OR(AND(ISNA(MATCH(L401,ynna,0)),LEN(L401)>0),AND(ISNA(MATCH(J401,ynna,0)),LEN(J401)>0),AND(ISNA(MATCH(H401,ynna,0)),LEN(H401)>0),AND(ISNA(MATCH(F401,ynna,0)),LEN(F401)>0),AND(ISNA(MATCH(D401,ynna,0)),LEN(D401)>0))","v":false},null,{"$f":"IF(ISERROR(W401), TRUE,W401)","v":false}]
[null,{"$f":"lang!A666","v":"Fixed storage tanks present "}]
[null,{"$f":"lang!A667","v":"Owned/operated tracks present"},null,null,null,null,null,null,null,null,null,null,null,null,null,null,null,null,null,null,null,null,null,null,{"$f":"ISERROR(CONCATENATE(D403,F403,H403,J403,L403))","v":false}]
[]
["6.5.3.",{"$f":"lang!A558","v":"wood"},null,null,null,null,null,null,null,null,null,null,null,null,null,null,null,null,null,null,null,"d5",{"$f":"OR(AND(ISNA(MATCH(L405,ynna,0)),LEN(L405)>0),AND(ISNA(MATCH(J405,ynna,0)),LEN(J405)>0),AND(ISNA(MATCH(H405,ynna,0)),LEN(H405)>0),AND(ISNA(MATCH(F405,ynna,0)),LEN(F405)>0),AND(ISNA(MATCH(D405,ynna,0)),LEN(D405)>0))","v":false},null,{"$f":"IF(ISERROR(W405), TRUE,W405)","v":false}]
[null,{"$f":"lang!A607","v":"Are hazardous substances handled (filling/blending) in open systems in the warehouses ?"}]
[null,{"$f":"lang!A668","v":"Maintenance shop"},null,null,null,null,null,null,null,null,null,null,null,null,null,null,null,null,null,null,null,null,null,null,{"$f":"ISERROR(CONCATENATE(D407,F407,H407,J407,L407))","v":false}]
[]
["6.5.4.",{"$f":"lang!A559","v":"other (please indicate)"},null,null,null,null,null,null,null,null,null,null,null,null,null,null,null,null,null,null,null,null,null,null,{"$f":"ISERROR(CONCATENATE(D409,F409,H409,J409,L409))","v":false}]
[null,{"$f":"lang!A673","v":"Are changes of tare weights and to the label clip weight limits documented and painted on the wagon ?\n"}]
[null,{"$f":"lang!A608","v":"Which classes of hazardous substances are handled in these open systems ?"},null,null,null,null,null,null,null,null,null,null,null,null,null,null,null,null,null,null,null,null,null,null,{"$f":"ISERROR(CONCATENATE(D411,F411,H411,J411,L411))","v":false}]
[]
["6.6.",{"$f":"lang!A560","v":"Floor:"}]
["6.6.1.",{"$f":"lang!A561","v":"concrete"},null,null,null,null,null,null,null,null,null,null,null,null,null,null,null,null,null,null,null,"d5",{"$f":"OR(AND(ISNA(MATCH(L414,ynna,0)),LEN(L414)>0),AND(ISNA(MATCH(J414,ynna,0)),LEN(J414)>0),AND(ISNA(MATCH(H414,ynna,0)),LEN(H414)>0),AND(ISNA(MATCH(F414,ynna,0)),LEN(F414)>0),AND(ISNA(MATCH(D414,ynna,0)),LEN(D414)>0))","v":false},null,{"$f":"IF(ISERROR(W414), TRUE,W414)","v":false}]
[null,{"$f":"lang!A609","v":"Are drumming lines available ? "}]
[null,{"$f":"lang!A610","v":"Are bagging lines available ?"},null,null,null,null,null,null,null,null,null,null,null,null,null,null,null,null,null,null,null,null,null,null,{"$f":"ISERROR(CONCATENATE(D416,F416,H416,J416,L416))","v":false}]
[]
["6.6.2.",{"$f":"lang!A562","v":"asphalt"},null,null,null,null,null,null,null,null,null,null,null,null,null,null,null,null,null,null,null,"d5",{"$f":"OR(AND(ISNA(MATCH(L418,ynna,0)),LEN(L418)>0),AND(ISNA(MATCH(J418,ynna,0)),LEN(J418)>0),AND(ISNA(MATCH(H418,ynna,0)),LEN(H418)>0),AND(ISNA(MATCH(F418,ynna,0)),LEN(F418)>0),AND(ISNA(MATCH(D418,ynna,0)),LEN(D418)>0))","v":false},null,{"$f":"IF(ISERROR(W418), TRUE,W418)","v":false}]
[null,{"$f":"lang!A674","v":"Is the next maintenance date documented and painted on the wagon ?"}]
[null,{"$f":"lang!A675","v":"Is the next tank revision date documented and painted on the RTC ?"},null,null,null,null,null,null,null,null,null,null,null,null,null,null,null,null,null,null,null,null,null,null,{"$f":"ISERROR(CONCATENATE(D420,F420,H420,J420,L420))","v":false}]
[]
["6.6.3.",{"$f":"lang!A563","v":"paved"},null,null,null,null,null,null,null,null,null,null,null,null,null,null,null,null,null,null,null,"d5",{"$f":"OR(AND(ISNA(MATCH(L422,ynna,0)),LEN(L422)>0),AND(ISNA(MATCH(J422,ynna,0)),LEN(J422)>0),AND(ISNA(MATCH(H422,ynna,0)),LEN(H422)>0),AND(ISNA(MATCH(F422,ynna,0)),LEN(F422)>0),AND(ISNA(MATCH(D422,ynna,0)),LEN(D422)>0))","v":false},null,{"$f":"IF(ISERROR(W422), TRUE,W422)","v":false}]
[null,{"$f":"lang!A681","v":"Number of chartered / hired drivers "}]
[null,{"$f":"lang!A702","v":"AM - Armenia"},null,null,null,null,null,null,null,null,null,null,null,null,null,null,null,null,null,null,null,null,null,null,{"$f":"ISERROR(CONCATENATE(D424,F424,H424,J424,L424))","v":false}]
[]
["6.6.4.",{"$f":"lang!A564","v":"impervious"},null,null,null,null,null,null,null,null,null,null,null,null,null,null,null,null,null,null,null,"d5",{"$f":"OR(AND(ISNA(MATCH(L426,ynna,0)),LEN(L426)>0),AND(ISNA(MATCH(J426,ynna,0)),LEN(J426)>0),AND(ISNA(MATCH(H426,ynna,0)),LEN(H426)>0),AND(ISNA(MATCH(F426,ynna,0)),LEN(F426)>0),AND(ISNA(MATCH(D426,ynna,0)),LEN(D426)>0))","v":false},null,{"$f":"IF(ISERROR(W426), TRUE,W426)","v":false}]
[null,{"$f":"lang!A615","v":"Warehouse"}]
[null,{"$f":"lang!A704","v":"AZ- Azerbaijan"},null,null,null,null,null,null,null,null,null,null,null,null,null,null,null,null,null,null,null,null,null,null,{"$f":"ISERROR(CONCATENATE(D428,F428,H428,J428,L428))","v":false}]
[]
["6.6.5.",{"$f":"lang!A565","v":"other (please indicate)"},null,null,null,null,null,null,null,null,null,null,null,null,null,null,null,null,null,null,null,null,null,null,{"$f":"ISERROR(CONCATENATE(D430,F430,H430,J430,L430))","v":false}]
[null,{"$f":"lang!A677","v":"Total number of employees"}]
[null,{"$f":"lang!A678","v":"Company own drivers?"},null,null,null,null,null,null,null,null,null,null,null,null,null,null,null,null,null,null,null,null,null,null,{"$f":"ISERROR(CONCATENATE(D432,F432,H432,J432,L432))","v":false}]
[]
["6.7.",{"$f":"lang!A566","v":"Insulation - walls:"}]
["6.7.1.",{"$f":"lang!A567","v":"polyurethane"},null,null,null,null,null,null,null,null,null,null,null,null,null,null,null,null,null,null,null,"d5",{"$f":"OR(AND(ISNA(MATCH(L435,ynna,0)),LEN(L435)>0),AND(ISNA(MATCH(J435,ynna,0)),LEN(J435)>0),AND(ISNA(MATCH(H435,ynna,0)),LEN(H435)>0),AND(ISNA(MATCH(F435,ynna,0)),LEN(F435)>0),AND(ISNA(MATCH(D435,ynna,0)),LEN(D435)>0))","v":false},null,{"$f":"IF(ISERROR(W435), TRUE,W435)","v":false}]
[null,{"$f":"lang!A618","v":"Area"}]
[null,{"$f":"lang!A655","v":"Do you own locomotives?"},null,null,null,null,null,null,null,null,null,null,null,null,null,null,null,null,null,null,null,null,null,null,{"$f":"ISERROR(CONCATENATE(D437,F437,H437,J437,L437))","v":false}]
[]
["6.7.2.",{"$f":"lang!A568","v":"asbestos"},null,null,null,null,null,null,null,null,null,null,null,null,null,null,null,null,null,null,null,"d5",{"$f":"OR(AND(ISNA(MATCH(L439,ynna,0)),LEN(L439)>0),AND(ISNA(MATCH(J439,ynna,0)),LEN(J439)>0),AND(ISNA(MATCH(H439,ynna,0)),LEN(H439)>0),AND(ISNA(MATCH(F439,ynna,0)),LEN(F439)>0),AND(ISNA(MATCH(D439,ynna,0)),LEN(D439)>0))","v":false},null,{"$f":"IF(ISERROR(W439), TRUE,W439)","v":false}]
[null,{"$f":"lang!A617","v":"Fire compartment"}]
[null,{"$f":"lang!A603","v":"aluminum"},null,null,null,null,null,null,null,null,null,null,null,null,null,null,null,null,null,null,null,null,null,null,{"$f":"ISERROR(CONCATENATE(D441,F441,H441,J441,L441))","v":false}]
[]
["6.7.3.",{"$f":"lang!A569","v":"glass fiber"},null,null,null,null,null,null,null,null,null,null,null,null,null,null,null,null,null,null,null,"d5",{"$f":"OR(AND(ISNA(MATCH(L443,ynna,0)),LEN(L443)>0),AND(ISNA(MATCH(J443,ynna,0)),LEN(J443)>0),AND(ISNA(MATCH(H443,ynna,0)),LEN(H443)>0),AND(ISNA(MATCH(F443,ynna,0)),LEN(F443)>0),AND(ISNA(MATCH(D443,ynna,0)),LEN(D443)>0))","v":false},null,{"$f":"IF(ISERROR(W443), TRUE,W443)","v":false}]
[null,{"$f":"lang!A619","v":"[sqm]"}]
[null,{"$f":"lang!A596","v":"Internal coating ?"},null,null,null,null,null,null,null,null,null,null,null,null,null,null,null,null,null,null,null,null,null,null,{"$f":"ISERROR(CONCATENATE(D445,F445,H445,J445,L445))","v":false}]
[]
["6.7.4.",{"$f":"lang!A570","v":"other (please indicate)"},null,null,null,null,null,null,null,null,null,null,null,null,null,null,null,null,null,null,null,null,null,null,{"$f":"ISERROR(CONCATENATE(D447,F447,H447,J447,L447))","v":false}]
[null,{"$f":"lang!A656","v":"Number of electrical locomotives"}]
[null,{"$f":"lang!A658","v":"Number of shunting locomotives"},null,null,null,null,null,null,null,null,null,null,null,null,null,null,null,null,null,null,null,null,null,null,{"$f":"ISERROR(CONCATENATE(D449,F449,H449,J449,L449))","v":false}]
[]
["6.8.",{"$f":"lang!A571","v":"Insulation - roof:"}]
["6.8.1.",{"$f":"lang!A572","v":"polyurethane"},null,null,null,null,null,null,null,null,null,null,null,null,null,null,null,null,null,null,null,"d5",{"$f":"OR(AND(ISNA(MATCH(L452,ynna,0)),LEN(L452)>0),AND(ISNA(MATCH(J452,ynna,0)),LEN(J452)>0),AND(ISNA(MATCH(H452,ynna,0)),LEN(H452)>0),AND(ISNA(MATCH(F452,ynna,0)),LEN(F452)>0),AND(ISNA(MATCH(D452,ynna,0)),LEN(D452)>0))","v":false},null,{"$f":"IF(ISERROR(W452), TRUE,W452)","v":false}]
[null,{"$f":"lang!A597","v":"Fixed storage silos for solids"}]
[null,{"$f":"lang!A598","v":"Total capacity of storage silos available (cubic meters) ?"},null,null,null,null,null,null,null,null,null,null,null,null,null,null,null,null,null,null,null,null,null,null,{"$f":"ISERROR(CONCATENATE(D454,F454,H454,J454,L454))","v":false}]
[]
["6.8.2.",{"$f":"lang!A573","v":"asbestos"},null,null,null,null,null,null,null,null,null,null,null,null,null,null,null,null,null,null,null,"d5",{"$f":"OR(AND(ISNA(MATCH(L456,ynna,0)),LEN(L456)>0),AND(ISNA(MATCH(J456,ynna,0)),LEN(J456)>0),AND(ISNA(MATCH(H456,ynna,0)),LEN(H456)>0),AND(ISNA(MATCH(F456,ynna,0)),LEN(F456)>0),AND(ISNA(MATCH(D456,ynna,0)),LEN(D456)>0))","v":false},null,{"$f":"IF(ISERROR(W456), TRUE,W456)","v":false}]
[null,{"$f":"lang!A599","v":"If available:"}]
[null,{"$f":"lang!A600","v":"Construction material of:"},null,null,null,null,null,null,null,null,null,null,null,null,null,null,null,null,null,null,null,null,null,null,{"$f":"ISERROR(CONCATENATE(D458,F458,H458,J458,L458))","v":false}]
[]
["6.8.3.",{"$f":"lang!A574","v":"glass fiber"},null,null,null,null,null,null,null,null,null,null,null,null,null,null,null,null,null,null,null,"d5",{"$f":"OR(AND(ISNA(MATCH(L460,ynna,0)),LEN(L460)>0),AND(ISNA(MATCH(J460,ynna,0)),LEN(J460)>0),AND(ISNA(MATCH(H460,ynna,0)),LEN(H460)>0),AND(ISNA(MATCH(F460,ynna,0)),LEN(F460)>0),AND(ISNA(MATCH(D460,ynna,0)),LEN(D460)>0))","v":false},null,{"$f":"IF(ISERROR(W460), TRUE,W460)","v":false}]
[null,{"$f":"lang!A695","v":"Class 7 : Radioactive material"}]
[null,{"$f":"lang!A657","v":"Number of diesel locomotives"},null,null,null,null,null,null,null,null,null,null,null,null,null,null,null,null,null,null,null,null,null,null,{"$f":"ISERROR(CONCATENATE(D462,F462,H462,J462,L462))","v":false}]
[]
["6.8.4.",{"$f":"lang!A575","v":"other (please indicate)"},null,null,null,null,null,null,null,null,null,null,null,null,null,null,null,null,null,null,null,null,null,null,{"$f":"ISERROR(CONCATENATE(D464,F464,H464,J464,L464))","v":false}]
[null,{"$f":"lang!A690","v":"Class 4.3. : Substances which in contact with water, emit flammable gases"}]
[null,{"$f":"lang!A660","v":"Do you own railcars?"},null,null,null,null,null,null,null,null,null,null,null,null,null,null,null,null,null,null,null,null,null,null,{"$f":"ISERROR(CONCATENATE(D466,F466,H466,J466,L466))","v":false}]
[]
["6.9.",{"$f":"lang!A576","v":"Is the warehouse construction code in line with \"natural disaster guidelines\", if any ?"},null,null,null,null,null,null,null,null,null,null,null,null,null,null,null,null,null,null,null,"d5",{"$f":"OR(AND(ISNA(MATCH(L468,ynna,0)),LEN(L468)>0),AND(ISNA(MATCH(J468,ynna,0)),LEN(J468)>0),AND(ISNA(MATCH(H468,ynna,0)),LEN(H468)>0),AND(ISNA(MATCH(F468,ynna,0)),LEN(F468)>0),AND(ISNA(MATCH(D468,ynna,0)),LEN(D468)>0))","v":false},null,{"$f":"IF(ISERROR(W468), TRUE,W468)","v":false}]
[null,{"$f":"lang!A622","v":"Storage Type"}]
[null,{"$f":"lang!A623","v":"(Block / Rack / High Rack / Tank / Silo)"},null,null,null,null,null,null,null,null,null,null,null,null,null,null,null,null,null,null,null,null,null,null,{"$f":"ISERROR(CONCATENATE(D470,F470,H470,J470,L470))","v":false}]
[]
[]
["7.",{"$f":"lang!A577","v":"Electrical equipment"}]
["7.1.",{"$f":"lang!A578","v":"Is the electrical installation in accordance with the local regulations and standards ?"},null,null,null,null,null,null,null,null,null,null,null,null,null,null,null,null,null,null,null,"d5",{"$f":"OR(AND(ISNA(MATCH(L474,ynna,0)),LEN(L474)>0),AND(ISNA(MATCH(J474,ynna,0)),LEN(J474)>0),AND(ISNA(MATCH(H474,ynna,0)),LEN(H474)>0),AND(ISNA(MATCH(F474,ynna,0)),LEN(F474)>0),AND(ISNA(MATCH(D474,ynna,0)),LEN(D474)>0))","v":false},null,{"$f":"IF(ISERROR(W474), TRUE,W474)","v":false}]
[null,{"$f":"lang!A621","v":"(Pallets / Tank / Silo)"}]
[null,{"$f":"lang!A645","v":"Workshop locomotives"},null,null,null,null,null,null,null,null,null,null,null,null,null,null,null,null,null,null,null,null,null,null,{"$f":"ISERROR(CONCATENATE(D476,F476,H476,J476,L476))","v":false}]
[]
["7.2.",{"$f":"lang!A579","v":"Is the electrical installation (inclusive lighting) in accordance to the explosion protection regulations ?"},null,null,null,null,null,null,null,null,null,null,null,null,null,null,null,null,null,null,null,"d5",{"$f":"OR(AND(ISNA(MATCH(L478,ynna,0)),LEN(L478)>0),AND(ISNA(MATCH(J478,ynna,0)),LEN(J478)>0),AND(ISNA(MATCH(H478,ynna,0)),LEN(H478)>0),AND(ISNA(MATCH(F478,ynna,0)),LEN(F478)>0),AND(ISNA(MATCH(D478,ynna,0)),LEN(D478)>0))","v":false},null,{"$f":"IF(ISERROR(W478), TRUE,W478)","v":false}]
[null,{"$f":"lang!A626","v":"(ADR-Class or Hazardous Symbol)"}]
[null,{"$f":"lang!A627","v":"Risk Phrases"},null,null,null,null,null,null,null,null,null,null,null,null,null,null,null,null,null,null,null,null,null,null,{"$f":"ISERROR(CONCATENATE(D480,F480,H480,J480,L480))","v":false}]
[]
["7.3.",{"$f":"lang!A580","v":"Is the coverage of lighting 100 % ? (yes and/or indicate %)"},null,null,null,null,null,null,null,null,null,null,null,null,null,null,null,null,null,null,null,"d5",{"$f":"OR(AND(ISNA(MATCH(L482,ynna,0)),LEN(L482)>0),AND(ISNA(MATCH(J482,ynna,0)),LEN(J482)>0),AND(ISNA(MATCH(H482,ynna,0)),LEN(H482)>0),AND(ISNA(MATCH(F482,ynna,0)),LEN(F482)>0),AND(ISNA(MATCH(D482,ynna,0)),LEN(D482)>0))","v":false},null,{"$f":"IF(ISERROR(W482), TRUE,W482)","v":false}]
[null,{"$f":"lang!A631","v":"(existing Y or N)"}]
[null,{"$f":"lang!A632","v":"Fixed extinguishing system"},null,null,null,null,null,null,null,null,null,null,null,null,null,null,null,null,null,null,null,null,null,null,{"$f":"ISERROR(CONCATENATE(D484,F484,H484,J484,L484))","v":false}]
[]
["7.4.",{"$f":"lang!A581","v":"Are safety lights installed in storage areas with safety lamps at least 1.5 m away from the product ?"},null,null,null,null,null,null,null,null,null,null,null,null,null,null,null,null,null,null,null,"d5",{"$f":"OR(AND(ISNA(MATCH(L486,ynna,0)),LEN(L486)>0),AND(ISNA(MATCH(J486,ynna,0)),LEN(J486)>0),AND(ISNA(MATCH(H486,ynna,0)),LEN(H486)>0),AND(ISNA(MATCH(F486,ynna,0)),LEN(F486)>0),AND(ISNA(MATCH(D486,ynna,0)),LEN(D486)>0))","v":false},null,{"$f":"IF(ISERROR(W486), TRUE,W486)","v":false}]
[null,{"$f":"lang!A634","v":"Comment"}]
[null,{"$f":"lang!A612","v":"Fire Compartments Information :"},null,null,null,null,null,null,null,null,null,null,null,null,null,null,null,null,null,null,null,null,null,null,{"$f":"ISERROR(CONCATENATE(D488,F488,H488,J488,L488))","v":false}]
[]
["7.5.",{"$f":"lang!A582","v":"Is lightning protection installed ?"},null,null,null,null,null,null,null,null,null,null,null,null,null,null,null,null,null,null,null,"d5",{"$f":"OR(AND(ISNA(MATCH(L490,ynna,0)),LEN(L490)>0),AND(ISNA(MATCH(J490,ynna,0)),LEN(J490)>0),AND(ISNA(MATCH(H490,ynna,0)),LEN(H490)>0),AND(ISNA(MATCH(F490,ynna,0)),LEN(F490)>0),AND(ISNA(MATCH(D490,ynna,0)),LEN(D490)>0))","v":false},null,{"$f":"IF(ISERROR(W490), TRUE,W490)","v":false}]
[null,{"$f":"lang!A639","v":"Corporate"}]
[null,{"$f":"lang!A718","v":"GG - Guernsey"},null,null,null,null,null,null,null,null,null,null,null,null,null,null,null,null,null,null,null,null,null,null,{"$f":"ISERROR(CONCATENATE(D492,F492,H492,J492,L492))","v":false}]
[]
[]
["8.",{"$f":"lang!A583","v":"Handling equipment"}]
["8.1.",{"$f":"lang!A584","v":"Forklift type :"}]
[]
["8.1.1.",{"$f":"lang!A585","v":"gasoil"},null,null,null,null,null,null,null,null,null,null,null,null,null,null,null,null,null,null,null,"d5",{"$f":"OR(AND(ISNA(MATCH(L498,ynna,0)),LEN(L498)>0),AND(ISNA(MATCH(J498,ynna,0)),LEN(J498)>0),AND(ISNA(MATCH(H498,ynna,0)),LEN(H498)>0),AND(ISNA(MATCH(F498,ynna,0)),LEN(F498)>0),AND(ISNA(MATCH(D498,ynna,0)),LEN(D498)>0))","v":false},null,{"$f":"IF(ISERROR(W498), TRUE,W498)","v":false}]
[null,{"$f":"lang!A642","v":"Engineering/technical"}]
[null,{"$f":"lang!A644","v":"Workshop general maintenance"},null,null,null,null,null,null,null,null,null,null,null,null,null,null,null,null,null,null,null,null,null,null,{"$f":"ISERROR(CONCATENATE(D500,F500,H500,J500,L500))","v":false}]
[]
["8.1.2.",{"$f":"lang!A586","v":"LPG"},null,null,null,null,null,null,null,null,null,null,null,null,null,null,null,null,null,null,null,"d5",{"$f":"OR(AND(ISNA(MATCH(L502,ynna,0)),LEN(L502)>0),AND(ISNA(MATCH(J502,ynna,0)),LEN(J502)>0),AND(ISNA(MATCH(H502,ynna,0)),LEN(H502)>0),AND(ISNA(MATCH(F502,ynna,0)),LEN(F502)>0),AND(ISNA(MATCH(D502,ynna,0)),LEN(D502)>0))","v":false},null,{"$f":"IF(ISERROR(W502), TRUE,W502)","v":false}]
[null,{"$f":"lang!A685","v":"Class 1 : Explosive substances and articles"}]
[null,{"$f":"lang!A643","v":"Facility management"},null,null,null,null,null,null,null,null,null,null,null,null,null,null,null,null,null,null,null,null,null,null,{"$f":"ISERROR(CONCATENATE(D504,F504,H504,J504,L504))","v":false}]
[]
["8.1.3.",{"$f":"lang!A587","v":"electric"},null,null,null,null,null,null,null,null,null,null,null,null,null,null,null,null,null,null,null,"d5",{"$f":"OR(AND(ISNA(MATCH(L506,ynna,0)),LEN(L506)>0),AND(ISNA(MATCH(J506,ynna,0)),LEN(J506)>0),AND(ISNA(MATCH(H506,ynna,0)),LEN(H506)>0),AND(ISNA(MATCH(F506,ynna,0)),LEN(F506)>0),AND(ISNA(MATCH(D506,ynna,0)),LEN(D506)>0))","v":false},null,{"$f":"IF(ISERROR(W506), TRUE,W506)","v":false}]
[null,{"$f":"lang!A688","v":"Class 4.1. : Flammable solids,  self-reactive substances and solid desensitized explosives."}]
[null,{"$f":"lang!A646","v":"Network"},null,null,null,null,null,null,null,null,null,null,null,null,null,null,null,null,null,null,null,null,null,null,{"$f":"ISERROR(CONCATENATE(D508,F508,H508,J508,L508))","v":false}]
[]
[]
["9.",{"$f":"lang!A588","v":"Fixed storage tanks for liquids"}]
["9.1.",{"$f":"lang!A589","v":"Total capacity of storage tanks available (cubic meters) ?"},null,null,null,null,null,null,null,null,null,null,null,null,null,null,null,null,null,null,null,"n5",{"$f":"OR(AND(NOT(ISNUMBER(L512)),LEN(L512)>0),AND(NOT(ISNUMBER(J512)),LEN(J512)>0),AND(NOT(ISNUMBER(H512)),LEN(H512)>0),AND(NOT(ISNUMBER(F512)),LEN(F512)>0),AND(NOT(ISNUMBER(D512)),LEN(D512)>0))","v":false},null,{"$f":"IF(ISERROR(W512), TRUE,W512)","v":false}]
[null,{"$f":"lang!A705","v":"BY - Belarus"}]
[null,{"$f":"lang!A647","v":"Shunting yard(s)"},null,null,null,null,null,null,null,null,null,null,null,null,null,null,null,null,null,null,null,null,null,null,{"$f":"ISERROR(CONCATENATE(D514,F514,H514,J514,L514))","v":false}]
[null,{"$f":"lang!A590","v":"If available:"}]
["9.2.",{"$f":"lang!A591","v":"Construction material of:"}]
["9.2.1.",{"$f":"lang!A592","v":"stainless steel"},null,null,null,null,null,null,null,null,null,null,null,null,null,null,null,null,null,null,null,"d5",{"$f":"OR(AND(ISNA(MATCH(L517,ynna,0)),LEN(L517)>0),AND(ISNA(MATCH(J517,ynna,0)),LEN(J517)>0),AND(ISNA(MATCH(H517,ynna,0)),LEN(H517)>0),AND(ISNA(MATCH(F517,ynna,0)),LEN(F517)>0),AND(ISNA(MATCH(D517,ynna,0)),LEN(D517)>0))","v":false},null,{"$f":"IF(ISERROR(W517), TRUE,W517)","v":false}]
[null,{"$f":"lang!A648","v":"Is the company mentioned in the list of committed RU's to UIC 471-3?"}]
[null,{"$f":"lang!A649","v":"Is the company certified by the National Safety Agency?"},null,null,null,null,null,null,null,null,null,null,null,null,null,null,null,null,null,null,null,null,null,null,{"$f":"ISERROR(CONCATENATE(D519,F519,H519,J519,L519))","v":false}]
[]
["9.2.2.",{"$f":"lang!A593","v":"carbon steel"},null,null,null,null,null,null,null,null,null,null,null,null,null,null,null,null,null,null,null,"d5",{"$f":"OR(AND(ISNA(MATCH(L521,ynna,0)),LEN(L521)>0),AND(ISNA(MATCH(J521,ynna,0)),LEN(J521)>0),AND(ISNA(MATCH(H521,ynna,0)),LEN(H521)>0),AND(ISNA(MATCH(F521,ynna,0)),LEN(F521)>0),AND(ISNA(MATCH(D521,ynna,0)),LEN(D521)>0))","v":false},null,{"$f":"IF(ISERROR(W521), TRUE,W521)","v":false}]
[null,{"$f":"lang!A652","v":"Subcontracting"}]
[null,{"$f":"lang!A653","v":"Do you subcontract the traction to (other) RU?"},null,null,null,null,null,null,null,null,null,null,null,null,null,null,null,null,null,null,null,null,null,null,{"$f":"ISERROR(CONCATENATE(D523,F523,H523,J523,L523))","v":false}]
[]
["9.2.3.",{"$f":"lang!A594","v":"aluminum"},null,null,null,null,null,null,null,null,null,null,null,null,null,null,null,null,null,null,null,"d5",{"$f":"OR(AND(ISNA(MATCH(L525,ynna,0)),LEN(L525)>0),AND(ISNA(MATCH(J525,ynna,0)),LEN(J525)>0),AND(ISNA(MATCH(H525,ynna,0)),LEN(H525)>0),AND(ISNA(MATCH(F525,ynna,0)),LEN(F525)>0),AND(ISNA(MATCH(D525,ynna,0)),LEN(D525)>0))","v":false},null,{"$f":"IF(ISERROR(W525), TRUE,W525)","v":false}]
[null,{"$f":"lang!A613","v":"It is envisaged that one warehouse building may have more than one fire compartment. For this reason the below spreadsheet is used by the warehouse to record fire compartment details per building. The combination is identified through the first two columns."}]
[null,{"$f":"lang!A614","v":"(example WH1 / Compartment X)"},null,null,null,null,null,null,null,null,null,null,null,null,null,null,null,null,null,null,null,null,null,null,{"$f":"ISERROR(CONCATENATE(D527,F527,H527,J527,L527))","v":false}]
[]
["9.2.4.",{"$f":"lang!A595","v":"polyester/plastic"},null,null,null,null,null,null,null,null,null,null,null,null,null,null,null,null,null,null,null,"d5",{"$f":"OR(AND(ISNA(MATCH(L529,ynna,0)),LEN(L529)>0),AND(ISNA(MATCH(J529,ynna,0)),LEN(J529)>0),AND(ISNA(MATCH(H529,ynna,0)),LEN(H529)>0),AND(ISNA(MATCH(F529,ynna,0)),LEN(F529)>0),AND(ISNA(MATCH(D529,ynna,0)),LEN(D529)>0))","v":false},null,{"$f":"IF(ISERROR(W529), TRUE,W529)","v":false}]
[null,{"$f":"lang!A617","v":"Fire compartment"}]
[null,{"$f":"lang!A618","v":"Area"},null,null,null,null,null,null,null,null,null,null,null,null,null,null,null,null,null,null,null,null,null,null,{"$f":"ISERROR(CONCATENATE(D531,F531,H531,J531,L531))","v":false}]
[]
["9.3.",{"$f":"lang!A596","v":"Internal coating ?"},null,null,null,null,null,null,null,null,null,null,null,null,null,null,null,null,null,null,null,"d5",{"$f":"OR(AND(ISNA(MATCH(L533,ynna,0)),LEN(L533)>0),AND(ISNA(MATCH(J533,ynna,0)),LEN(J533)>0),AND(ISNA(MATCH(H533,ynna,0)),LEN(H533)>0),AND(ISNA(MATCH(F533,ynna,0)),LEN(F533)>0),AND(ISNA(MATCH(D533,ynna,0)),LEN(D533)>0))","v":false},null,{"$f":"IF(ISERROR(W533), TRUE,W533)","v":false}]
[null,{"$f":"lang!A616","v":"(identification)"}]
[null,{"$f":"lang!A656","v":"Number of electrical locomotives"},null,null,null,null,null,null,null,null,null,null,null,null,null,null,null,null,null,null,null,null,null,null,{"$f":"ISERROR(CONCATENATE(D535,F535,H535,J535,L535))","v":false}]
[]
[]
["10.",{"$f":"lang!A597","v":"Fixed storage silos for solids"}]
["10.1.",{"$f":"lang!A598","v":"Total capacity of storage silos available (cubic meters) ?"},null,null,null,null,null,null,null,null,null,null,null,null,null,null,null,null,null,null,null,"n5",{"$f":"OR(AND(NOT(ISNUMBER(L539)),LEN(L539)>0),AND(NOT(ISNUMBER(J539)),LEN(J539)>0),AND(NOT(ISNUMBER(H539)),LEN(H539)>0),AND(NOT(ISNUMBER(F539)),LEN(F539)>0),AND(NOT(ISNUMBER(D539)),LEN(D539)>0))","v":false},null,{"$f":"IF(ISERROR(W539), TRUE,W539)","v":false}]
[null,{"$f":"lang!A620","v":"Max. storage amount"}]
[null,{"$f":"lang!A655","v":"Do you own locomotives?"},null,null,null,null,null,null,null,null,null,null,null,null,null,null,null,null,null,null,null,null,null,null,{"$f":"ISERROR(CONCATENATE(D541,F541,H541,J541,L541))","v":false}]
[null,{"$f":"lang!A599","v":"If available:"}]
["10.2.",{"$f":"lang!A600","v":"Construction material of:"}]
["10.2.1.",{"$f":"lang!A601","v":"stainless steel"},null,null,null,null,null,null,null,null,null,null,null,null,null,null,null,null,null,null,null,"d5",{"$f":"OR(AND(ISNA(MATCH(L544,ynna,0)),LEN(L544)>0),AND(ISNA(MATCH(J544,ynna,0)),LEN(J544)>0),AND(ISNA(MATCH(H544,ynna,0)),LEN(H544)>0),AND(ISNA(MATCH(F544,ynna,0)),LEN(F544)>0),AND(ISNA(MATCH(D544,ynna,0)),LEN(D544)>0))","v":false},null,{"$f":"ISERROR(CONCATENATE(D544,F544,H544,J544,L544))","v":false}]
[null,{"$f":"lang!A695","v":"Class 7 : Radioactive material"}]
[null,{"$f":"lang!A657","v":"Number of diesel locomotives"},null,null,null,null,null,null,null,null,null,null,null,null,null,null,null,null,null,null,null,null,null,null,{"$f":"ISERROR(CONCATENATE(D546,F546,H546,J546,L546))","v":false}]
[]
["10.2.2.",{"$f":"lang!A602","v":"carbon steel"},null,null,null,null,null,null,null,null,null,null,null,null,null,null,null,null,null,null,null,"d5",{"$f":"OR(AND(ISNA(MATCH(L548,ynna,0)),LEN(L548)>0),AND(ISNA(MATCH(J548,ynna,0)),LEN(J548)>0),AND(ISNA(MATCH(H548,ynna,0)),LEN(H548)>0),AND(ISNA(MATCH(F548,ynna,0)),LEN(F548)>0),AND(ISNA(MATCH(D548,ynna,0)),LEN(D548)>0))","v":false},null,{"$f":"ISERROR(CONCATENATE(D548,F548,H548,J548,L548))","v":false}]
[null,{"$f":"lang!A690","v":"Class 4.3. : Substances which in contact with water, emit flammable gases"}]
[null,{"$f":"lang!A660","v":"Do you own railcars?"},null,null,null,null,null,null,null,null,null,null,null,null,null,null,null,null,null,null,null,null,null,null,{"$f":"ISERROR(CONCATENATE(D550,F550,H550,J550,L550))","v":false}]
[]
["10.2.3.",{"$f":"lang!A603","v":"aluminum"},null,null,null,null,null,null,null,null,null,null,null,null,null,null,null,null,null,null,null,"d5",{"$f":"OR(AND(ISNA(MATCH(L552,ynna,0)),LEN(L552)>0),AND(ISNA(MATCH(J552,ynna,0)),LEN(J552)>0),AND(ISNA(MATCH(H552,ynna,0)),LEN(H552)>0),AND(ISNA(MATCH(F552,ynna,0)),LEN(F552)>0),AND(ISNA(MATCH(D552,ynna,0)),LEN(D552)>0))","v":false},null,{"$f":"ISERROR(CONCATENATE(D552,F552,H552,J552,L552))","v":false}]
[null,{"$f":"lang!A664","v":"Number of rented railcars"}]
[null,{"$f":"lang!A692","v":"Class 5.2. : Organic peroxides"},null,null,null,null,null,null,null,null,null,null,null,null,null,null,null,null,null,null,null,null,null,null,{"$f":"ISERROR(CONCATENATE(D554,F554,H554,J554,L554))","v":false}]
[]
["10.2.4.",{"$f":"lang!A604","v":"polyester/plastic"},null,null,null,null,null,null,null,null,null,null,null,null,null,null,null,null,null,null,null,"d5",{"$f":"OR(AND(ISNA(MATCH(L556,ynna,0)),LEN(L556)>0),AND(ISNA(MATCH(J556,ynna,0)),LEN(J556)>0),AND(ISNA(MATCH(H556,ynna,0)),LEN(H556)>0),AND(ISNA(MATCH(F556,ynna,0)),LEN(F556)>0),AND(ISNA(MATCH(D556,ynna,0)),LEN(D556)>0))","v":false},null,{"$f":"ISERROR(CONCATENATE(D556,F556,H556,J556,L556))","v":false}]
[null,{"$f":"lang!A719","v":"HU - Hungary"}]
[null,{"$f":"lang!A662","v":"Number of own Rail Tank Cars (RTC's)"},null,null,null,null,null,null,null,null,null,null,null,null,null,null,null,null,null,null,null,null,null,null,{"$f":"ISERROR(CONCATENATE(D558,F558,H558,J558,L558))","v":false}]
[]
["10.3.",{"$f":"lang!A605","v":"Internal coating?"},null,null,null,null,null,null,null,null,null,null,null,null,null,null,null,null,null,null,null,"d5",{"$f":"OR(AND(ISNA(MATCH(L560,ynna,0)),LEN(L560)>0),AND(ISNA(MATCH(J560,ynna,0)),LEN(J560)>0),AND(ISNA(MATCH(H560,ynna,0)),LEN(H560)>0),AND(ISNA(MATCH(F560,ynna,0)),LEN(F560)>0),AND(ISNA(MATCH(D560,ynna,0)),LEN(D560)>0))","v":false},null,{"$f":"ISERROR(CONCATENATE(D560,F560,H560,J560,L560))","v":false}]
[null,{"$f":"lang!A693","v":"Class 6.1. : Toxic substances"}]
[null,{"$f":"lang!A666","v":"Fixed storage tanks present "},null,null,null,null,null,null,null,null,null,null,null,null,null,null,null,null,null,null,null,null,null,null,{"$f":"ISERROR(CONCATENATE(D562,F562,H562,J562,L562))","v":false}]
[]
[]
["11.",{"$f":"lang!A606","v":"Operations"}]
["11.1.",{"$f":"lang!A607","v":"Are hazardous substances handled (filling/blending) in open systems in the warehouses ?"},null,null,null,null,null,null,null,null,null,null,null,null,null,null,null,null,null,null,null,"d5",{"$f":"OR(AND(ISNA(MATCH(L566,ynna,0)),LEN(L566)>0),AND(ISNA(MATCH(J566,ynna,0)),LEN(J566)>0),AND(ISNA(MATCH(H566,ynna,0)),LEN(H566)>0),AND(ISNA(MATCH(F566,ynna,0)),LEN(F566)>0),AND(ISNA(MATCH(D566,ynna,0)),LEN(D566)>0))","v":false},null,{"$f":"ISERROR(CONCATENATE(D566,F566,H566,J566,L566))","v":false}]
[null,{"$f":"lang!A668","v":"Maintenance shop"}]
[null,{"$f":"lang!A669","v":"Does the maintenance plan include the checking of site equipment ?"},null,null,null,null,null,null,null,null,null,null,null,null,null,null,null,null,null,null,null,null,null,null,{"$f":"ISERROR(CONCATENATE(D568,F568,H568,J568,L568))","v":false}]
[]
["11.2.",{"$f":"lang!A608","v":"Which classes of hazardous substances are handled in these open systems ?"},null,null,null,null,null,null,null,null,null,null,null,null,null,null,null,null,null,null,null,"d5",{"$f":"OR(AND(ISNA(MATCH(L570,ynna,0)),LEN(L570)>0),AND(ISNA(MATCH(J570,ynna,0)),LEN(J570)>0),AND(ISNA(MATCH(H570,ynna,0)),LEN(H570)>0),AND(ISNA(MATCH(F570,ynna,0)),LEN(F570)>0),AND(ISNA(MATCH(D570,ynna,0)),LEN(D570)>0))","v":false},null,{"$f":"ISERROR(CONCATENATE(D570,F570,H570,J570,L570))","v":false}]
[null,{"$f":"lang!A670","v":"Does the maintenance plan include a procedure for the checking of"}]
[null,{"$f":"lang!A671","v":"- tare weights ?"},null,null,null,null,null,null,null,null,null,null,null,null,null,null,null,null,null,null,null,null,null,null,{"$f":"ISERROR(CONCATENATE(D572,F572,H572,J572,L572))","v":false}]
[]
["11.3.",{"$f":"lang!A609","v":"Are drumming lines available ? "},null,null,null,null,null,null,null,null,null,null,null,null,null,null,null,null,null,null,null,"d5",{"$f":"OR(AND(ISNA(MATCH(L574,ynna,0)),LEN(L574)>0),AND(ISNA(MATCH(J574,ynna,0)),LEN(J574)>0),AND(ISNA(MATCH(H574,ynna,0)),LEN(H574)>0),AND(ISNA(MATCH(F574,ynna,0)),LEN(F574)>0),AND(ISNA(MATCH(D574,ynna,0)),LEN(D574)>0))","v":false},null,{"$f":"ISERROR(CONCATENATE(D574,F574,H574,J574,L574))","v":false}]
[null,{"$f":"lang!A674","v":"Is the next maintenance date documented and painted on the wagon ?"}]
[null,{"$f":"lang!A675","v":"Is the next tank revision date documented and painted on the RTC ?"},null,null,null,null,null,null,null,null,null,null,null,null,null,null,null,null,null,null,null,null,null,null,{"$f":"ISERROR(CONCATENATE(D576,F576,H576,J576,L576))","v":false}]
[]
["11.4.",{"$f":"lang!A610","v":"Are bagging lines available ?"},null,null,null,null,null,null,null,null,null,null,null,null,null,null,null,null,null,null,null,"d5",{"$f":"OR(AND(ISNA(MATCH(L578,ynna,0)),LEN(L578)>0),AND(ISNA(MATCH(J578,ynna,0)),LEN(J578)>0),AND(ISNA(MATCH(H578,ynna,0)),LEN(H578)>0),AND(ISNA(MATCH(F578,ynna,0)),LEN(F578)>0),AND(ISNA(MATCH(D578,ynna,0)),LEN(D578)>0))","v":false},null,{"$f":"ISERROR(CONCATENATE(D578,F578,H578,J578,L578))","v":false}]
[null,{"$f":"lang!A615","v":"Warehouse"}]
[null,{"$f":"lang!A704","v":"AZ- Azerbaijan"},null,null,null,null,null,null,null,null,null,null,null,null,null,null,null,null,null,"c",null,null,null,null,{"$f":"ISERROR(CONCATENATE(D580,F580,H580,J580,L580))","v":false}]
[]
[]
[null,{"$f":"Status!$K$17","v":"Please check the next sheet (Status)"}]
[null,{"$f":"HYPERLINK(Status!$L$17,Status!$K$17)","v":"Please check the next sheet (Status)"}]

{"sheet":"Rail","index":9,"n_rows":110,"n_cols":28,"rows_kept":110,"cut":false,"hidden":true,"merged":[[20,11,20,17],[33,14,33,16],[26,11,26,17],[23,10,23,12],[23,14,23,16],[28,11,28,17],[25,14,25,16],[21,14,21,16],[29,10,29,12],[38,14,38,16],[35,11,35,14],[33,10,33,12],[1,5,1,13],[2,5,2,13],[31,10,31,12],[31,14,31,16],[30,11,30,17],[21,10,21,12],[29,14,29,16],[23,3,24,7],[17,10,17,12],[17,14,17,16],[19,10,19,12],[19,14,19,16],[18,11,18,17],[17,3,18,7],[27,10,27,12],[29,3,30,7],[11,11,11,17],[4,0,4,17],[5,0,5,17],[6,0,6,17],[27,14,27,16],[89,10,89,12],[89,14,89,16],[90,10,90,12],[89,3,89,8],[90,3,90,8],[105,3,106,8],[99,3,99,8],[100,3,100,8],[101,3,101,8],[91,3,92,8],[93,3,94,8],[95,3,96,8],[90,14,90,16],[91,10,91,12],[91,14,91,16],[93,10,93,12],[93,14,93,16],[7,0,7,17],[8,0,8,17],[75,3,75,7],[42,3,42,8],[53,3,53,8],[0,5,0,13],[76,3,76,7],[77,3,77,7],[16,11,16,17],[13,3,14,7],[25,3,26,7],[27,3,28,7],[13,10,13,12],[13,14,13,16],[14,11,14,17],[15,3,16,7],[35,3,35,7],[15,10,15,12],[15,14,15,16],[19,3,20,7],[21,3,22,7],[22,11,22,17],[24,11,24,17],[25,10,25,12],[31,3,32,7],[38,3,39,7],[46,3,46,8],[44,3,44,8],[33,3,34,7],[49,3,49,8],[51,3,52,8],[55,3,56,8],[42,11,42,12],[44,11,44,12],[46,11,46,12],[49,11,49,12],[51,11,51,12],[53,9,53,10],[38,10,38,12],[41,10,41,12],[41,14,41,16],[48,10,48,12],[48,14,48,16],[57,10,57,12],[57,14,57,16],[55,9,55,10],[58,10,58,12],[58,14,58,16],[71,3,72,7],[61,10,61,12],[61,14,61,16],[64,10,64,12],[64,14,64,16],[65,10,65,12],[65,14,65,16],[67,10,67,12],[67,14,67,16],[69,10,69,12],[69,14,69,16],[71,10,71,12],[71,14,71,16],[65,3,66,7],[67,3,68,7],[69,3,70,7],[61,3,62,7],[75,9,75,10],[76,10,76,12],[76,14,76,16],[87,3,88,8],[87,10,87,12],[87,14,87,16],[77,11,77,12],[79,9,79,10],[83,9,83,10],[85,9,85,10],[79,3,79,7],[83,3,84,7],[85,3,86,7],[109,1,109,18],[105,10,105,12],[105,14,105,16],[103,10,103,12],[103,14,103,16],[102,10,102,12],[102,14,102,16],[95,10,95,12],[95,14,95,16],[100,10,100,12],[100,14,100,16],[101,10,101,12],[101,14,101,16],[97,10,97,12],[97,14,97,16],[98,10,98,12],[98,14,98,16],[99,10,99,12],[99,14,99,16],[108,1,108,15],[103,3,103,8],[98,3,98,8],[97,3,97,8],[102,3,102,8]]}
[null,null,null,null,null,{"$f":"IF(X1,lang!A30,lang!A31)","v":"This sheet doesn't need to be answered"},null,null,null,null,null,null,null,null,null,null,null,null,null,null,null,null,null,{"$f":"'General Information'!U121","v":false},{"$f":"IF(R_RAIL,AB10,0)","v":0}]
[null,null,null,null,null,{"$f":"IF(X1,IF(Y2,lang!A32,IF(X2,lang!A33,lang!A34)),\"\")","v":""},null,null,null,null,null,null,null,null,null,null,null,null,null,null,null,null,null,{"$f":"X10","v":true},{"$f":"Y10","v":false}]
[null,null,null,null,null,{"$f":"IF(Y3,lang!A35,IF(X3,lang!A36,lang!A37))","v":"The document is not yet completed"},null,null,null,null,null,null,null,null,null,null,null,null,null,null,null,null,null,{"$f":"NOT(Status!F20)","v":false},{"$f":"Status!G20","v":false}]
[]
[{"$f":"lang!A38","v":"Gulf SQAS 2018"}]
[{"$f":"lang!A40","v":"ASSESSMENT INFORMATION AND SCOPE - Part I"}]
[{"$f":"lang!A24","v":"Rail"}]
[{"$f":"lang!A42","v":"(Items marked with a (*) and/or magenta background must always be completed)"}]
[{"$f":"lang!A43","v":"(For checkboxes \"checked\" means \"Yes\", \"unchecked\" - \"No\")"}]
[null,null,null,null,null,null,null,null,null,null,null,null,null,null,null,null,null,null,null,null,null,null,null,{"$f":"AND(X13:X118)","v":true},{"$f":"(OR(Y13:Y118))","v":false},null,null,{"$f":"SUM(AB13:AB118)","v":-2}]
[null,null,"0.7.1",{"$f":"lang!A636","v":"Activities included in assessment"},null,null,null,null,null,null,null,null,null,null,null,null,null,null,null,"value","raw",null,"Validation","Mand OK","Error"]
[null,null,null,null,null,null,null,null,null,null,null,{"$f":"lang!A637","v":"Desciption/location(s)"}]
[]
[null,null,null,{"$f":"lang!A639","v":"Corporate"},{"$f":"lang!B639","v":"Corporate"},{"$f":"lang!C639","v":"Gesellschaft"},{"$f":"lang!D639","v":"Empresa/Corporação"},{"$f":"lang!E639","v":"Société"},null,null,{"$f":"lang!A$755","v":"Yes"},null,null,null,{"$f":"lang!A$756","v":"No"},null,null,null,null,{"$f":"IF(V14=1,\"Y\",IF(V14=2,\"N\",\"\"))","v":""},{"$f":"V14=1","v":false},null,null,{"$f":"X15","v":true},null,2,"T"]
[null,null,null,null,null,null,null,null,null,null,null,null,null,null,null,null,null,null,{"$f":"IF(IF(ISERROR(L15),FALSE,AND(LEN(L15)>0,NOT(V14))),lang!A$638,\"\")","v":""},null,null,null,null,{"$f":"IF(NOT(U14),LEN(L15)=0,TRUE)","v":true},{"$f":"IF(ISERROR(L15),TRUE,LEN(L15)>=160)","v":false},3,"L"]
[null,null,null,{"$f":"lang!A640","v":"Commercial operations"},{"$f":"lang!B640","v":"Commercial operations"},{"$f":"lang!C640","v":"Geschäftstätigkeiten"},{"$f":"lang!D640","v":"Operações comerciais"},{"$f":"lang!E640","v":"Opérations commerciales"},null,null,{"$f":"lang!A$755","v":"Yes"},null,null,null,{"$f":"lang!A$756","v":"No"},null,null,null,null,{"$f":"IF(V16=1,\"Y\",IF(V16=2,\"N\",\"\"))","v":""},{"$f":"V16=1","v":false},null,null,{"$f":"X17","v":true},null,4,"T"]
[null,null,null,null,null,null,null,null,null,null,null,null,null,null,null,null,null,null,{"$f":"IF(IF(ISERROR(L17),FALSE,AND(LEN(L17)>0,NOT(V16))),lang!A$638,\"\")","v":""},null,null,null,null,{"$f":"IF(NOT(U16),LEN(L17)=0,TRUE)","v":true},{"$f":"IF(ISERROR(L17),TRUE,LEN(L17)>=160)","v":false},5,"L"]
[null,null,null,{"$f":"lang!A641","v":"Purchasing"},{"$f":"lang!B641","v":"Purchasing"},{"$f":"lang!C641","v":"Einkauf"},{"$f":"lang!D641","v":"Compras"},{"$f":"lang!E641","v":"Achats"},null,null,{"$f":"lang!A$755","v":"Yes"},null,null,null,{"$f":"lang!A$756","v":"No"},null,null,null,null,{"$f":"IF(V18=1,\"Y\",IF(V18=2,\"N\",\"\"))","v":""},{"$f":"V18=1","v":false},null,null,{"$f":"X19","v":true},null,6,"T"]
[null,null,null,null,null,null,null,null,null,null,null,null,null,null,null,null,null,null,{"$f":"IF(IF(ISERROR(L19),FALSE,AND(LEN(L19)>0,NOT(V18))),lang!A$638,\"\")","v":""},null,null,null,null,{"$f":"IF(NOT(U18),LEN(L19)=0,TRUE)","v":true},{"$f":"IF(ISERROR(L19),TRUE,LEN(L19)>=160)","v":false},7,"L"]
[null,null,null,{"$f":"lang!A642","v":"Engineering/technical"},{"$f":"lang!B642","v":"Engineering/technical"},{"$f":"lang!C642","v":"Technik"},{"$f":"lang!D642","v":"Engenharia/técnica"},{"$f":"lang!E642","v":"Ingéniérie/ Technique"},null,null,{"$f":"lang!A$755","v":"Yes"},null,null,null,{"$f":"lang!A$756","v":"No"},null,null,null,null,{"$f":"IF(V20=1,\"Y\",IF(V20=2,\"N\",\"\"))","v":""},{"$f":"V20=1","v":false},null,null,{"$f":"X21","v":true},null,8,"T"]
[null,null,null,null,null,null,null,null,null,null,null,null,null,null,null,null,null,null,{"$f":"IF(IF(ISERROR(L21),FALSE,AND(LEN(L21)>0,NOT(V20))),lang!A$638,\"\")","v":""},null,null,null,null,{"$f":"IF(NOT(U20),LEN(L21)=0,TRUE)","v":true},{"$f":"IF(ISERROR(L21),TRUE,LEN(L21)>=160)","v":false},9,"L"]
[null,null,null,{"$f":"lang!A643","v":"Facility management"},{"$f":"lang!B643","v":"Facility management"},{"$f":"lang!C643","v":"Gebäudemanagement"},{"$f":"lang!D643","v":"Instalações da gestão/direcção"},{"$f":"lang!E643","v":"Gestion de l'entreprise"},null,null,{"$f":"lang!A$755","v":"Yes"},null,null,null,{"$f":"lang!A$756","v":"No"},null,null,null,null,{"$f":"IF(V22=1,\"Y\",IF(V22=2,\"N\",\"\"))","v":""},{"$f":"V22=1","v":false},null,null,{"$f":"X23","v":true},null,10,"T"]
[null,null,null,null,null,null,null,null,null,null,null,null,null,null,null,null,null,null,{"$f":"IF(IF(ISERROR(L23),FALSE,AND(LEN(L23)>0,NOT(V22))),lang!A$638,\"\")","v":""},null,null,null,null,{"$f":"IF(NOT(U22),LEN(L23)=0,TRUE)","v":true},{"$f":"IF(ISERROR(L23),TRUE,LEN(L23)>=160)","v":false},11,"L"]
[null,null,{"$f":"IF(R_RAIL,\"(*)\",\"\")","v":""},{"$f":"lang!A644","v":"Workshop general maintenance"},{"$f":"lang!B644","v":"Workshop general maintenance"},{"$f":"lang!C644","v":"Werkstatt allgemeine Instandsetzung"},{"$f":"lang!D644","v":"Oficina geral de manutenção"},{"$f":"lang!E644","v":"Atelier de maintenance générale"},null,null,{"$f":"lang!A$755","v":"Yes"},null,null,null,{"$f":"lang!A$756","v":"No"},null,null,null,null,{"$f":"IF(U24,\"Y\",\"\")","v":""},{"$f":"V24=1","v":false},null,null,{"$f":"X25","v":true},null,12,"T",{"$f":"IF(U24,2,0)","v":0}]
[null,null,null,null,null,null,null,null,null,null,null,null,null,null,null,null,null,null,{"$f":"IF(IF(ISERROR(L25),FALSE,AND(LEN(L25)>0,NOT(V24))),lang!A$638,\"\")","v":""},null,null,null,null,{"$f":"IF(NOT(U24),LEN(L25)=0,TRUE)","v":true},{"$f":"IF(ISERROR(L25),TRUE,LEN(L25)>=160)","v":false},13,"L"]
[null,null,{"$f":"IF(R_RAIL,\"(*)\",\"\")","v":""},{"$f":"lang!A645","v":"Workshop locomotives"},{"$f":"lang!B645","v":"Workshop locomotives"},{"$f":"lang!C645","v":"Werkstatt Lokomotiven"},{"$f":"lang!D645","v":"Oficina para locomotivas"},{"$f":"lang!E645","v":"Atelier des locomotives"},null,null,{"$f":"lang!A$755","v":"Yes"},null,null,null,{"$f":"lang!A$756","v":"No"},null,null,null,null,{"$f":"IF(U26,\"Y\",\"\")","v":""},{"$f":"V26=1","v":false},null,null,{"$f":"X27","v":true},null,14,"T",{"$f":"IF(U26,2,0)","v":0}]
[null,null,null,null,null,null,null,null,null,null,null,null,null,null,null,null,null,null,{"$f":"IF(IF(ISERROR(L27),FALSE,AND(LEN(L27)>0,NOT(V26))),lang!A$638,\"\")","v":""},null,null,null,null,{"$f":"IF(NOT(U26),LEN(L27)=0,TRUE)","v":true},{"$f":"IF(ISERROR(L27),TRUE,LEN(L27)>=160)","v":false},15,"L"]
[null,null,null,{"$f":"lang!A646","v":"Network"},{"$f":"lang!B646","v":"Network"},{"$f":"lang!C646","v":"Netz"},{"$f":"lang!D646","v":"Rede de transporte (network)"},{"$f":"lang!E646","v":"Réseau"},null,null,{"$f":"lang!A$755","v":"Yes"},null,null,null,{"$f":"lang!A$756","v":"No"},null,null,null,null,{"$f":"IF(V28=1,\"Y\",IF(V28=2,\"N\",\"\"))","v":""},{"$f":"V28=1","v":false},null,null,{"$f":"X29","v":true},null,16,"T"]
[null,null,null,null,null,null,null,null,null,null,null,null,null,null,null,null,null,null,{"$f":"IF(IF(ISERROR(L29),FALSE,AND(LEN(L29)>0,NOT(V28))),lang!A$638,\"\")","v":""},null,null,null,null,{"$f":"IF(NOT(U28),LEN(L29)=0,TRUE)","v":true},{"$f":"IF(ISERROR(L29),TRUE,LEN(L29)>=160)","v":false},17,"L"]
[null,null,{"$f":"IF(R_RAIL,\"(*)\",\"\")","v":""},{"$f":"lang!A647","v":"Shunting yard(s)"},{"$f":"lang!B647","v":"Shunting yard(s)"},{"$f":"lang!C647","v":"Rangierbahnhof(höfe)"},{"$f":"lang!D647","v":"Parque para manobras (s)"},{"$f":"lang!E647","v":"Gare(s) de triage"},null,null,{"$f":"lang!A$755","v":"Yes"},null,null,null,{"$f":"lang!A$756","v":"No"},null,null,null,null,{"$f":"IF(U30,\"Y\",\"\")","v":""},{"$f":"V30=1","v":false},null,{"$f":"OR(U24,U30)","v":false},{"$f":"X31","v":true},null,18,"T",{"$f":"IF(W30,0,-1)","v":-1}]
[null,null,null,null,null,null,null,null,null,null,null,null,null,null,null,null,null,null,{"$f":"IF(IF(ISERROR(L31),FALSE,AND(LEN(L31)>0,NOT(V30))),lang!A$638,\"\")","v":""},null,null,null,null,{"$f":"IF(NOT(U30),LEN(L31)=0,TRUE)","v":true},{"$f":"IF(ISERROR(L31),TRUE,LEN(L31)>=160)","v":false},19,"L"]
[null,null,null,{"$f":"lang!A648","v":"Is the company mentioned in the list of committed RU's to UIC 471-3?"},{"$f":"lang!B648","v":"Is the company mentioned in the list of committed RU's to UIC 471-3?"},{"$f":"lang!C648","v":"Ist das Unternehmen in der Liste der Eisenbahnverkehrsunternehmen, die das Merkblatt UIC 471-3 verbindlich anwenden, aufgeführt?"},{"$f":"lang!D648","v":"A empresa figura na lista dos comprometidos RU's para UIC 471-3?"},{"$f":"lang!E648","v":"Est-ce que la société est mentionnée dans la liste des entreprises ferroviaires (EF) adhérant à la norme UIC 471-3 ?"},null,null,{"$f":"lang!A$755","v":"Yes"},null,null,null,{"$f":"lang!A$756","v":"No"},null,null,null,null,{"$f":"IF(V32=1,\"Y\",IF(V32=2,\"N\",\"\"))","v":""},{"$f":"V32=1","v":false},null,null,true,null,20,"T"]
[]
[null,null,null,{"$f":"lang!A649","v":"Is the company certified by the National Safety Agency?"},{"$f":"lang!B649","v":"Is the company certified by the National Safety Agency?"},{"$f":"lang!C649","v":"Ist das Unternehmen durch die Nationale Sicherheitsbehörde zertifiziert?"},{"$f":"lang!D649","v":"A empresa está certificada pelo IMTT (ou entidade competente para a sua actividade)?"},{"$f":"lang!E649","v":"Est-ce que la société est certifiée par l'Agence Nationale de Sécurité ?"},null,null,{"$f":"lang!A$755","v":"Yes"},null,null,null,{"$f":"lang!A$756","v":"No"},null,null,null,null,{"$f":"IF(V34=1,\"Y\",IF(V34=2,\"N\",\"\"))","v":""},{"$f":"V34=1","v":false},null,null,{"$f":"OR(U34,AND(LEN(L36)=0,NOT(U34)))","v":true},null,21,"T"]
[]
[null,null,{"$f":"IF(AND(R_RAIL,U34),\"(*)\",\"\")","v":""},{"$f":"lang!A651","v":"Cerificate Number"},{"$f":"lang!B651","v":"Cerificate Number"},{"$f":"lang!C651","v":"Zertifikatsnummer"},{"$f":"lang!D651","v":"Número do certificado"},{"$f":"lang!E651","v":"Numéro de certificat"},null,null,null,null,null,null,null,null,null,{"$f":"IF(IF(ISERROR(L36),FALSE,AND(LEN(L36)>0,NOT(U34))),lang!A$650,\"\")","v":""},null,null,null,null,{"$f":"OR(LEN(L36)=0,ISNUMBER(VALUE(L36)))","v":true},{"$f":"OR(AND(LEN(L36)>0,U34),AND(LEN(L36)=0,NOT(U34)))","v":true},{"$f":"IF(ISERROR(L36),TRUE,IF(ISERROR(W36),TRUE,NOT(W36)))","v":false},22,"L"]
[]
[null,null,"0.7.2",{"$f":"lang!A652","v":"Subcontracting"}]
[null,null,null,{"$f":"lang!A653","v":"Do you subcontract the traction to (other) RU?"},{"$f":"lang!B653","v":"Do you subcontract the traction to (other) RU?"},{"$f":"lang!C653","v":"Wird die Traktion an (andere) Eisenbahnverkehrsunternehmen vergeben?"},{"$f":"lang!D653","v":"Efectua subcontratação da tracção para outro RU"},{"$f":"lang!E653","v":"Sous-traitez-vous la traction à une autre entreprise ferroviaire ?"},null,null,{"$f":"lang!A$755","v":"Yes"},null,null,null,{"$f":"lang!A$756","v":"No"},null,null,null,null,{"$f":"IF(V39=1,\"Y\",IF(V39=2,\"N\",\"\"))","v":""},{"$f":"V39=1","v":false},null,null,true,null,24,"T"]
[]
[null,null,"0.7.3",{"$f":"lang!A654","v":"Facilities"}]
[null,null,{"$f":"IF(R_RAIL,\"(*)\",\"\")","v":""},{"$f":"lang!A655","v":"Do you own locomotives?"},null,null,null,null,null,null,{"$f":"lang!A$755","v":"Yes"},null,null,null,{"$f":"lang!A$756","v":"No"},null,null,null,null,{"$f":"IF(V42=1,\"Y\",IF(V42=2,\"N\",\"\"))","v":""},{"$f":"V42=1","v":false},null,{"$f":"SUM(L43,L45,L47)>0","v":false},{"$f":"AND(OR(NOT(R_RAIL),V42>0),NOT(AND(W42,NOT(U42))))","v":true},null,26,"T",{"$f":"IF(U42,2,0)","v":0}]
[null,null,{"$f":"IF(AND(R_RAIL,U$42),\"(*)\",\"\")","v":""},{"$f":"lang!A656","v":"Number of electrical locomotives"},{"$f":"lang!B656","v":"Number of electrical locomotives"},{"$f":"lang!C656","v":"Anzahl der E-Loks"},{"$f":"lang!D656","v":"Número de locomotivas eléctricas"},{"$f":"lang!E656","v":"Nombre de locomotives électriques"},{"$f":"lang!F656","v":"Número de locomotoras eléctricas"},null,null,null,null,null,null,null,null,{"$f":"IF(IF(ISERROR(L43),FALSE,AND(L43>0,NOT($U$42))),lang!A$659,\"\")","v":""},null,null,null,{"$f":"AND(U42,NOT(W42))","v":false},{"$f":"OR(LEN(L43)=0,ISNUMBER(VALUE(L43)))","v":true},{"$f":"OR(AND(W$42,U$42),AND(LEN(L43)=0,NOT(U$42)))","v":true},{"$f":"IF(ISERROR(L43),TRUE,IF(ISERROR(W43),TRUE,NOT(W43)))","v":false},{"$f":"Z42+1","v":27},"L"]
[]
[null,null,{"$f":"IF(AND(R_RAIL,U$42),\"(*)\",\"\")","v":""},{"$f":"lang!A657","v":"Number of diesel locomotives"},{"$f":"lang!B657","v":"Number of diesel locomotives"},{"$f":"lang!C657","v":"Anzahl der Diesellokomotiven"},{"$f":"lang!D657","v":"Número de locomotivas a gasóleo"},{"$f":"lang!E657","v":"Nombre de locomotives diesel"},{"$f":"lang!F657","v":"Número de locomotoras diessel"},null,null,null,null,null,null,null,null,{"$f":"IF(IF(ISERROR(L45),FALSE,AND(L45>0,NOT($U$42))),lang!A$659,\"\")","v":""},null,null,null,null,{"$f":"OR(LEN(L45)=0,ISNUMBER(VALUE(L45)))","v":true},{"$f":"OR(AND(W$42,U$42),AND(LEN(L45)=0,NOT(U$42)))","v":true},{"$f":"IF(ISERROR(L45),TRUE,IF(ISERROR(W45),TRUE,NOT(W45)))","v":false},{"$f":"Z43+1","v":28},"L"]
[]
[null,null,{"$f":"IF(AND(R_RAIL,U$42),\"(*)\",\"\")","v":""},{"$f":"lang!A658","v":"Number of shunting locomotives"},{"$f":"lang!B658","v":"Number of shunting locomotives"},{"$f":"lang!C658","v":"Anzahl der Rangierlokomotiven"},{"$f":"lang!D658","v":"Número de locomotivas de manobra"},{"$f":"lang!E658","v":"Nombre de locomotives de triage"},{"$f":"lang!F658","v":"Número de locomotoras de maniobra"},null,null,null,null,null,null,null,null,{"$f":"IF(IF(ISERROR(L47),FALSE,AND(L47>0,NOT($U$42))),lang!A$659,\"\")","v":""},null,null,null,null,{"$f":"OR(LEN(L47)=0,ISNUMBER(VALUE(L47)))","v":true},{"$f":"OR(AND(W$42,U$42),AND(LEN(L47)=0,NOT(U$42)))","v":true},{"$f":"IF(ISERROR(L47),TRUE,IF(ISERROR(W47),TRUE,NOT(W47)))","v":false},{"$f":"Z45+1","v":29},"L"]
[]
[null,null,null,{"$f":"lang!A660","v":"Do you own railcars?"},null,null,null,null,null,null,{"$f":"lang!A$755","v":"Yes"},null,null,null,{"$f":"lang!A$756","v":"No"},null,null,null,null,{"$f":"IF(V49=1,\"Y\",IF(V49=2,\"N\",\"\"))","v":""},{"$f":"V49=1","v":false},null,{"$f":"SUM(L50,L52)>0","v":false},{"$f":"OR(U49,NOT(W49))","v":true},null,{"$f":"Z47+1","v":30},"T"]
[null,null,{"$f":"IF(U$49,\"(*)\",\"\")","v":""},{"$f":"lang!A661","v":"Number of owned railcars"},{"$f":"lang!B661","v":"Number of owned railcars"},{"$f":"lang!C661","v":"Anzahl eigener Eisenbahnwaggons "},{"$f":"lang!D661","v":"Número de automotoras da empresa"},{"$f":"lang!E661","v":"Nombre de wagons en propre ?"},{"$f":"lang!F661","v":"Número de vagones propios"},null,null,null,null,null,null,null,null,{"$f":"IF(IF(ISERROR(L50),FALSE,AND(L50>0,NOT($U$49))),lang!A$663,\"\")","v":""},null,null,null,{"$f":"AND(U49,NOT(W49))","v":false},{"$f":"OR(LEN(L50)=0,ISNUMBER(VALUE(L50)))","v":true},{"$f":"OR(AND(W$49,U$49),AND(LEN(L50)=0,NOT(U$49)))","v":true},{"$f":"IF(ISERROR(L50),TRUE,IF(ISERROR(W50),TRUE,NOT(W50)))","v":false},{"$f":"Z49+1","v":31},"L"]
[]
[null,null,{"$f":"IF(U$49,\"(*)\",\"\")","v":""},{"$f":"lang!A662","v":"Number of own Rail Tank Cars (RTC's)"},{"$f":"lang!B662","v":"Number of own Rail Tank Cars (RTC's)"},{"$f":"lang!C662","v":"Anzahl eigener Tankwaggons"},{"$f":"lang!D662","v":"Número de contentores ferróviários (RTC's) da empresa "},{"$f":"lang!E662","v":"Nombre de wagons-citernes "},{"$f":"lang!F662","v":"Número de vagones cisterna propios"},null,null,null,null,null,null,null,null,{"$f":"IF(IF(ISERROR(L52),FALSE,AND(L52>0,NOT($U$49))),lang!A$663,\"\")","v":""},null,null,null,null,{"$f":"OR(LEN(L52)=0,ISNUMBER(VALUE(L52)))","v":true},{"$f":"OR(AND(W$49,U$49),AND(LEN(L52)=0,NOT(U$49)))","v":true},{"$f":"IF(ISERROR(L52),TRUE,IF(ISERROR(W52),TRUE,NOT(W52)))","v":false},{"$f":"Z50+1","v":32},"L"]
[]
[null,null,null,{"$f":"lang!A664","v":"Number of rented railcars"},{"$f":"lang!B664","v":"Number of rented railcars"},{"$f":"lang!C664","v":"Anzahl gemieter Eisenbahnwaggons"},{"$f":"lang!D664","v":"Número de automotoras alugadas"},{"$f":"lang!E664","v":"Nombre de wagons-citernes loués ?"},{"$f":"lang!F664","v":"Número de vagones alquilados"},null,null,null,null,null,null,null,null,null,null,null,null,null,{"$f":"OR(LEN(J54)=0,ISNUMBER(VALUE(J54)))","v":true},true,{"$f":"IF(ISERROR(J54),TRUE,IF(ISERROR(W54),TRUE,NOT(W54)))","v":false},{"$f":"Z52+1","v":33},"J"]
[]
[null,null,null,{"$f":"lang!A665","v":"Number of let railcars to other companies"},{"$f":"lang!B665","v":"Number of let railcars to other companies"},{"$f":"lang!C665","v":"Anzahl an andere Unternehmen vermieteter Eisenbahnwaggons"},{"$f":"lang!D665","v":"Número de automotoras utilisadas por outras companhias"},{"$f":"lang!E665","v":"Nombre de wagons-citernes loués à d'autres compagnies?"},{"$f":"lang!F665","v":"Número de vagones cedidos a otras compañías"},null,null,null,null,null,null,null,null,null,null,null,null,null,{"$f":"OR(LEN(J56)=0,ISNUMBER(VALUE(J56)))","v":true},true,{"$f":"IF(ISERROR(J56),TRUE,IF(ISERROR(W56),TRUE,NOT(W56)))","v":false},{"$f":"Z54+1","v":34},"J"]
[]
[null,null,null,{"$f":"lang!A666","v":"Fixed storage tanks present "},null,null,null,null,null,null,{"$f":"lang!A$755","v":"Yes"},null,null,null,{"$f":"lang!A$756","v":"No"},null,null,null,null,{"$f":"IF(V58=1,\"Y\",IF(V58=2,\"N\",\"\"))","v":""},{"$f":"V58=1","v":false},null,null,true,null,{"$f":"Z56+1","v":35},"T"]
[null,null,null,{"$f":"lang!A667","v":"Owned/operated tracks present"},null,null,null,null,null,null,{"$f":"lang!A$755","v":"Yes"},null,null,null,{"$f":"lang!A$756","v":"No"},null,null,null,null,{"$f":"IF(V59=1,\"Y\",IF(V59=2,\"N\",\"\"))","v":""},{"$f":"V59=1","v":false},null,null,true,null,{"$f":"Z58+1","v":36},"T"]
[]
[null,null,"0.7.4",{"$f":"lang!A668","v":"Maintenance shop"}]
[null,null,null,{"$f":"lang!A669","v":"Does the maintenance plan include the checking of site equipment ?"},{"$f":"lang!B669","v":"Does the maintenance plan include the checking of site equipment ?"},{"$f":"lang!C669","v":"Beinhaltet der Wartungsplan auch die Kontrolle des Eqiupments der Anlage?"},{"$f":"lang!D669","v":"O plano de manutenção inclui a verificação do equipamento existente na oficina?"},{"$f":"lang!E669","v":"Le plan de maintenance inclut-il la vérification des équipements du site ?"},null,null,{"$f":"lang!A$755","v":"Yes"},null,null,null,{"$f":"lang!A$756","v":"No"},null,null,null,null,{"$f":"IF(V62=1,\"Y\",IF(V62=2,\"N\",\"\"))","v":""},{"$f":"V62=1","v":false},null,null,true,null,{"$f":"Z59+2","v":38},"T"]
[]
[null,null,null,{"$f":"lang!A670","v":"Does the maintenance plan include a procedure for the checking of"}]
[null,null,null,{"$f":"lang!A671","v":"- tare weights ?"},null,null,null,null,null,null,{"$f":"lang!A$755","v":"Yes"},null,null,null,{"$f":"lang!A$756","v":"No"},null,null,null,null,{"$f":"IF(V65=1,\"Y\",IF(V65=2,\"N\",\"\"))","v":""},{"$f":"V65=1","v":false},null,null,true,null,39,"T"]
[null,null,null,{"$f":"lang!A672","v":"- tank pressure testing (for tank wagons), if applicable ?"},{"$f":"lang!B672","v":"- tank pressure testing (for tank wagons), if applicable ?"},{"$f":"lang!C672","v":"Tank Druckprüfungen (für Tankwaggons), wenn anwendbar?"},{"$f":"lang!D672","v":" - teste de pressão da cisterna (para vagões), se aplicável ?"},{"$f":"lang!E672","v":"Pression d'épreuve de la citerne (pour les wagons-citernes), si applicable"},null,null,{"$f":"lang!A$755","v":"Yes"},null,null,null,{"$f":"lang!A$756","v":"No"},null,null,null,null,{"$f":"IF(V66=1,\"Y\",IF(V66=2,\"N\",\"\"))","v":""},{"$f":"V66=1","v":false},null,null,true,null,{"$f":"Z65+1","v":40},"T"]
[]
[null,null,null,{"$f":"lang!A673","v":"Are changes of tare weights and to the label clip weight limits documented and painted on the wagon ?\n"},{"$f":"lang!B673","v":"Are changes of tare weights and to the label clip weight limits documented and painted on the wagon ?\n"},{"$f":"lang!C673","v":"Sind Änderungen von Tara Gewichten und dem Label Lastgewichten dokumentiert und am Waggon angezeichnet?"},{"$f":"lang!D673","v":"As mudanças de peso da tara e da chapa dos limites de peso do clip são documentados e pintadas no vagão ?"},{"$f":"lang!E673","v":"Est-ce que les changements dans les poids à vide et les limites de poids sur l'étiquette sont documentés et peints sur le wagon ? "},null,null,{"$f":"lang!A$755","v":"Yes"},null,null,null,{"$f":"lang!A$756","v":"No"},null,null,null,null,{"$f":"IF(V68=1,\"Y\",IF(V68=2,\"N\",\"\"))","v":""},{"$f":"V68=1","v":false},null,null,true,null,{"$f":"Z66+1","v":41},"T"]
[]
[null,null,null,{"$f":"lang!A674","v":"Is the next maintenance date documented and painted on the wagon ?"},{"$f":"lang!B674","v":"Is the next maintenance date documented and painted on the wagon ?"},{"$f":"lang!C674","v":"Ist der nächste Werkstatttermin dokumentiert und am Waggon angezeichnet?"},{"$f":"lang!D674","v":"A data próxima manutenção é documentada e pintada no vagão ?"},{"$f":"lang!E674","v":"Est-ce que la prochaine date de maintenance est documentée et peinte sur le wagon ?"},null,null,{"$f":"lang!A$755","v":"Yes"},null,null,null,{"$f":"lang!A$756","v":"No"},null,null,null,null,{"$f":"IF(V70=1,\"Y\",IF(V70=2,\"N\",\"\"))","v":""},{"$f":"V70=1","v":false},null,null,true,null,{"$f":"Z68+1","v":42},"T"]
[]
[null,null,null,{"$f":"lang!A675","v":"Is the next tank revision date documented and painted on the RTC ?"},{"$f":"lang!B675","v":"Is the next tank revision date documented and painted on the RTC ?"},{"$f":"lang!C675","v":"Ist das nächste Tank Revisionsdatum dokumentiert und am Tankwaggon angezeichnet?"},{"$f":"lang!D675","v":"A data próxima revisão da cisterna é documentada e pintada no RTC (contentores ferróviários) ?"},{"$f":"lang!E675","v":"Est-ce que la prochaine date de révision du wagon est documentée et peinte sur le wagon ?"},null,null,{"$f":"lang!A$755","v":"Yes"},null,null,null,{"$f":"lang!A$756","v":"No"},null,null,null,null,{"$f":"IF(V72=1,\"Y\",IF(V72=2,\"N\",\"\"))","v":""},{"$f":"V72=1","v":false},null,null,true,null,{"$f":"Z70+1","v":43},"T"]
[]
[null,null,"0.7.5",{"$f":"lang!A676","v":"Personnel"}]
[]
[null,null,{"$f":"IF(R_RAIL,\"(*)\",\"\")","v":""},{"$f":"lang!A677","v":"Total number of employees"},{"$f":"lang!B677","v":"Total number of employees"},{"$f":"lang!C677","v":"Gesamtzahl der Beschäftigten"},{"$f":"lang!D677","v":"Número total de trabalhadores"},{"$f":"lang!E677","v":"Nombre total d'employés"},null,null,null,null,null,null,null,null,null,null,null,null,null,null,{"$f":"OR(LEN(J76)=0,ISNUMBER(VALUE(J76)))","v":true},{"$f":"OR(NOT(R_RAIL),LEN(J76)>0)","v":true},{"$f":"IF(ISERROR(J76),TRUE,IF(ISERROR(W76),TRUE,NOT(W76)))","v":false},45,"J"]
[null,null,{"$f":"IF(R_RAIL,\"(*)\",\"\")","v":""},{"$f":"lang!A678","v":"Company own drivers?"},{"$f":"lang!B678","v":"Company own drivers?"},{"$f":"lang!C678","v":"Eigene Lokführer"},{"$f":"lang!D678","v":"Motorista da empresa"},{"$f":"lang!E678","v":"La société a-t-elle ses propres conducteurs ?"},null,null,{"$f":"lang!A$755","v":"Yes"},null,null,null,{"$f":"lang!A$756","v":"No"},null,null,null,null,{"$f":"IF(V77=1,\"Y\",IF(V77=2,\"N\",\"\"))","v":""},{"$f":"V77=1","v":false},null,null,{"$f":"AND(OR(NOT(R_ESAD),V77>0),NOT(AND(LEN(L78)>0,NOT(U77))))","v":true},null,{"$f":"Z76+1","v":46},"T",{"$f":"IF(U77,0,-1)","v":-1}]
[null,null,{"$f":"IF(U77,\"(*)\",\"\")","v":""},{"$f":"lang!A679","v":"Number of own drivers"},{"$f":"lang!B679","v":"Number of own drivers"},{"$f":"lang!C679","v":"Anzahl eigener Lokführer"},{"$f":"lang!D679","v":"Número motoristas da empresa"},{"$f":"lang!E679","v":"Nombre de conducteurs en propre ?"},null,null,null,null,null,null,null,null,null,{"$f":"IF(IF(ISERROR(L78),FALSE,AND(L78>0,NOT(U77))),lang!A$680,\"\")","v":""},null,null,null,null,{"$f":"OR(LEN(L78)=0,ISNUMBER(VALUE(L78)))","v":true},{"$f":"OR(AND(LEN(L78)>0,U77),AND(LEN(L78)=0,NOT(U77)))","v":true},{"$f":"IF(ISERROR(L78),TRUE,IF(ISERROR(W78),TRUE,NOT(W78)))","v":false},{"$f":"Z77+1","v":47},"L"]
[]
[null,null,null,{"$f":"lang!A681","v":"Number of chartered / hired drivers "},{"$f":"lang!B681","v":"Number of chartered / hired drivers "},{"$f":"lang!C681","v":"Anzahl gemieter Lokführer"},{"$f":"lang!D681","v":"Número de motoristas contratados"},{"$f":"lang!E681","v":"Nombre de conducteurs affrétés/loués  ?"},null,null,null,null,null,null,null,null,null,null,null,null,null,null,{"$f":"OR(LEN(J80)=0,ISNUMBER(VALUE(J80)))","v":true},true,{"$f":"IF(ISERROR(J80),TRUE,IF(ISERROR(W80),TRUE,NOT(W80)))","v":false},{"$f":"Z78+1","v":48},"J"]
[]
[]
[null,null,"0.7.6",{"$f":"lang!A682","v":"Products"}]
[null,null,null,{"$f":"lang!A683","v":"Tonnage chem. transported per year"},{"$f":"lang!B683","v":"Tonnage chem. transported per year"},{"$f":"lang!C683","v":"Gesamttonnage der tranportierten chemischen Produkte pro Jahr"},{"$f":"lang!D683","v":"Tonelagem de produtos químicos transportados por ano"},{"$f":"lang!E683","v":"Tonnage total de produits chimiques transportés par an?"},null,null,null,null,null,null,null,null,null,null,null,null,null,null,{"$f":"OR(LEN(J84)=0,ISNUMBER(VALUE(J84)))","v":true},true,{"$f":"IF(ISERROR(J84),TRUE,IF(ISERROR(W84),TRUE,NOT(W84)))","v":false},{"$f":"Z80+2","v":50},"J"]
[]
[null,null,null,{"$f":"lang!A684","v":"% dangerous goods"},{"$f":"lang!B684","v":"% dangerous goods"},{"$f":"lang!C684","v":"Prozentualer Anteil Gefahrgut"},{"$f":"lang!D684","v":"% de mercadorias perigosas"},{"$f":"lang!E684","v":"Quel pourcentage du tonnage total est effectué en matières dangereuses ?"},"%",null,null,null,null,null,null,null,null,null,null,null,null,null,{"$f":"OR(LEN(J86)=0,ISNUMBER(VALUE(J86)))","v":true},true,{"$f":"IF(ISERROR(J86),TRUE,IF(ISERROR(W86),TRUE,NOT(W86)))","v":false},{"$f":"Z84+1","v":51},"J"]
[null,null,null,{"$f":"lang!A718","v":"GG - Guernsey"},{"$f":"lang!B718","v":"GG - Guernsey"},{"$f":"lang!C718","v":"GG - Guernsey"},{"$f":"lang!D718","v":"GG - Guernsey"},{"$f":"lang!E718","v":"GG - Guernsey"}]
[null,null,null,{"$f":"lang!A685","v":"Class 1 : Explosive substances and articles"},null,null,null,null,null,null,{"$f":"lang!A$755","v":"Yes"},null,null,null,{"$f":"lang!A$756","v":"No"},null,null,null,null,{"$f":"IF(V88=1,\"Y\",IF(V88=2,\"N\",\"\"))","v":""},{"$f":"V88=1","v":false},null,null,true,null,{"$f":"Z86+1","v":52},"T"]
[]
[null,null,null,{"$f":"lang!A686","v":"Class 2 : Gases"},{"$f":"lang!B686","v":"Class 2 : Gases"},{"$f":"lang!C686","v":"Klasse 2: Gase"},{"$f":"lang!D686","v":"Classe 2 : Gases"},{"$f":"lang!E686","v":"Class 2 : Gaz"},{"$f":"lang!F686","v":"Clase 2: Gases"},null,{"$f":"lang!A$755","v":"Yes"},null,null,null,{"$f":"lang!A$756","v":"No"},null,null,null,null,{"$f":"IF(V90=1,\"Y\",IF(V90=2,\"N\",\"\"))","v":""},{"$f":"V90=1","v":false},null,null,true,null,{"$f":"Z88+1","v":53},"T"]
[null,null,null,{"$f":"lang!A687","v":"Class 3 : Flammable liquids"},{"$f":"lang!B687","v":"Class 3 : Flammable liquids"},{"$f":"lang!C687","v":"Klasse 3: Entzündbare flüssige Stoffe "},{"$f":"lang!D687","v":"Classe 3 : Líquidos inflamáveis"},{"$f":"lang!E687","v":"Classe 3 : liquides inflammables"},{"$f":"lang!F687","v":"Clase 3: Líquidos inflamables"},null,{"$f":"lang!A$755","v":"Yes"},null,null,null,{"$f":"lang!A$756","v":"No"},null,null,null,null,{"$f":"IF(V91=1,\"Y\",IF(V91=2,\"N\",\"\"))","v":""},{"$f":"V91=1","v":false},null,null,true,null,{"$f":"Z90+1","v":54},"T"]
[null,null,null,{"$f":"lang!A688","v":"Class 4.1. : Flammable solids,  self-reactive substances and solid desensitized explosives."},{"$f":"lang!B688","v":"Class 4.1. : Flammable solids,  self-reactive substances and solid desensitized explosives."},{"$f":"lang!C688","v":"Klasse 4.1: Entzündbare feste Stoffe, selbstzersetzliche Stoffe und desensiblisierte explosive feste Stoffe"},{"$f":"lang!D688","v":"Classe 4.1. : Matérias sólidas inflamáveis,  matérias auto-reactivas e matérias explosivas dessensibilizadas sólidas"},{"$f":"lang!E688","v":"Class 4.1. : Matières solides inflammables, matières autoréactives et matières solides explosibles désensibilisées"},{"$f":"lang!F688","v":"Clase 4.1: Sólidos inflamables, autoreactivos y explosivos desensibilizados"},null,{"$f":"lang!A$755","v":"Yes"},null,null,null,{"$f":"lang!A$756","v":"No"},null,null,null,null,{"$f":"IF(V92=1,\"Y\",IF(V92=2,\"N\",\"\"))","v":""},{"$f":"V92=1","v":false},null,null,true,null,{"$f":"Z91+1","v":55},"T"]
[null,null,null,{"$f":"lang!A705","v":"BY - Belarus"},{"$f":"lang!B705","v":"BY - Belarus"},{"$f":"lang!C705","v":"BY - Belarus"},{"$f":"lang!D705","v":"BY - Bielorússia"},{"$f":"lang!E705","v":"BY - Belarus"},{"$f":"lang!F705","v":"BY - Belarus"}]
[null,null,null,{"$f":"lang!A689","v":"Class 4.2. : Substances liable for spontaneous combustion"},{"$f":"lang!B689","v":"Class 4.2. : Substances liable for spontaneous combustion"},{"$f":"lang!C689","v":"Klasse 4.2: Selbstentzündliche Stoffe"},{"$f":"lang!D689","v":"Classe 4.2. : Matérias espontaneamente inflamáveis"},{"$f":"lang!E689","v":"Class 4.2. : Matières sujettes à l'inflammation spontanée"},{"$f":"lang!F689","v":"Clase 4.2: Materias que reaccionan de forma espontánea"},null,{"$f":"lang!A$755","v":"Yes"},null,null,null,{"$f":"lang!A$756","v":"No"},null,null,null,null,{"$f":"IF(V94=1,\"Y\",IF(V94=2,\"N\",\"\"))","v":""},{"$f":"V94=1","v":false},null,null,true,null,{"$f":"Z92+1","v":56},"T"]
[null,null,null,{"$f":"lang!A707","v":"BA - Bosnia and Herzegovina"},{"$f":"lang!B707","v":"BA - Bosnia and Herzegovina"},{"$f":"lang!C707","v":"BA - Bosnia and Herzegovina"},{"$f":"lang!D707","v":"BA - Bósnia-Herzegovina"},{"$f":"lang!E707","v":"BA - Bosnia and Herzegovina"},{"$f":"lang!F707","v":"BA - Bosnia and Herzegovina"}]
[null,null,null,{"$f":"lang!A690","v":"Class 4.3. : Substances which in contact with water, emit flammable gases"},{"$f":"lang!B690","v":"Class 4.3. : Substances which in contact with water, emit flammable gases"},{"$f":"lang!C690","v":"Klasse 4.3: Stoffe, die in Berührung mit Wasser entzündlbare Gase entwickeln"},{"$f":"lang!D690","v":"Classe 4.3. : Matérias que, em contacto com a àgua, libertem gases inflamáveis"},{"$f":"lang!E690","v":"Class 4.3. : Matières qui, au contact de l'eau, dégagent des gaz inflammables"},{"$f":"lang!F690","v":"Clase 4.3: Materias que en contacto con el agua desprenden gases inflamables"},null,{"$f":"lang!A$755","v":"Yes"},null,null,null,{"$f":"lang!A$756","v":"No"},null,null,null,null,{"$f":"IF(V96=1,\"Y\",IF(V96=2,\"N\",\"\"))","v":""},{"$f":"V96=1","v":false},null,null,true,null,{"$f":"Z94+1","v":57},"T"]
[null,null,null,{"$f":"lang!A719","v":"HU - Hungary"},{"$f":"lang!B719","v":"HU - Hungary"},{"$f":"lang!C719","v":"HU - Hungary"},{"$f":"lang!D719","v":"HU - Hungria"},{"$f":"lang!E719","v":"HU - Hungary"},{"$f":"lang!F719","v":"HU - Hungary"}]
[null,null,null,{"$f":"lang!A691","v":"Class 5.1. : Oxidizing substances"},{"$f":"lang!B691","v":"Class 5.1. : Oxidizing substances"},{"$f":"lang!C691","v":"Klasse 5.1: Entzündend (oxydierend) wirkende Stoffe"},{"$f":"lang!D691","v":"Classe 5.1. : Matérias comburentes"},{"$f":"lang!E691","v":"Class 5.1. : Matières comburantes"},{"$f":"lang!F691","v":"Clase 5.1: Materias comburentes"},null,{"$f":"lang!A$755","v":"Yes"},null,null,null,{"$f":"lang!A$756","v":"No"},null,null,null,null,{"$f":"IF(V98=1,\"Y\",IF(V98=2,\"N\",\"\"))","v":""},{"$f":"V98=1","v":false},null,null,true,null,{"$f":"Z96+1","v":58},"T"]
[null,null,null,{"$f":"lang!A692","v":"Class 5.2. : Organic peroxides"},{"$f":"lang!B692","v":"Class 5.2. : Organic peroxides"},{"$f":"lang!C692","v":"Klasse 5.2: Organische Peroxide"},{"$f":"lang!D692","v":"Classe 5.2. : Peróxidos organicos"},{"$f":"lang!E692","v":"Class 5.2. : Peroxydes organiques"},{"$f":"lang!F692","v":"Clase 5.2: Peróxidos Orgánicos"},null,{"$f":"lang!A$755","v":"Yes"},null,null,null,{"$f":"lang!A$756","v":"No"},null,null,null,null,"",false,null,null,true,null,{"$f":"Z98+1","v":59},"T"]
[null,null,null,{"$f":"lang!A693","v":"Class 6.1. : Toxic substances"},{"$f":"lang!B693","v":"Class 6.1. : Toxic substances"},{"$f":"lang!C693","v":"Klasse 6.1: Giftige Stoffe"},{"$f":"lang!D693","v":"Classe 6.1. : Matérias toxicas"},{"$f":"lang!E693","v":"Class 6.1. : Matières toxiques"},{"$f":"lang!F693","v":"Clase 6.1: Sustancias tóxicas"},null,{"$f":"lang!A$755","v":"Yes"},null,null,null,{"$f":"lang!A$756","v":"No"},null,null,null,null,"",false,null,null,true,null,60,"T"]
[null,null,null,{"$f":"lang!A694","v":"Class 6.2. : Infectious substances"},{"$f":"lang!B694","v":"Class 6.2. : Infectious substances"},{"$f":"lang!C694","v":"Klasse 6.2: Ansteckungsgefährliche Stoffe"},{"$f":"lang!D694","v":"Classe 6.2. : Matérias infecciosas"},{"$f":"lang!E694","v":"Class 6.2. : Matières infectieuses"},{"$f":"lang!F694","v":"Clase 6.2: Sustancias infecciosas"},null,{"$f":"lang!A$755","v":"Yes"},null,null,null,{"$f":"lang!A$756","v":"No"},null,null,null,null,"",false,null,null,true,null,61,"T"]
[null,null,null,{"$f":"lang!A695","v":"Class 7 : Radioactive material"},{"$f":"lang!B695","v":"Class 7 : Radioactive material"},{"$f":"lang!C695","v":"Klasse 7: Radioaktive Stoffe"},{"$f":"lang!D695","v":"Classe 7 : Matérias radioactivas"},{"$f":"lang!E695","v":"Class 7 : Matières radioactives"},{"$f":"lang!F695","v":"Clase 7: Materias radiactivas"},null,{"$f":"lang!A$755","v":"Yes"},null,null,null,{"$f":"lang!A$756","v":"No"},null,null,null,null,"",false,null,null,true,null,62,"T"]
[null,null,null,{"$f":"lang!A696","v":"Class 8 : Corrosive substances"},{"$f":"lang!B696","v":"Class 8 : Corrosive substances"},{"$f":"lang!C696","v":"Klasse 8: Ätzende Stoffe"},{"$f":"lang!D696","v":"Classe 8 : Matérias corrosivas"},{"$f":"lang!E696","v":"Class 8 : Matières corrosives"},{"$f":"lang!F696","v":"Clase 8: Sustancias corrosivas"},null,{"$f":"lang!A$755","v":"Yes"},null,null,null,{"$f":"lang!A$756","v":"No"},null,null,null,null,"",false,null,null,true,null,63,"T"]
[null,null,null,{"$f":"lang!A697","v":"Class 9 : Miscellaneous dangerous substances and\narticles"},{"$f":"lang!B697","v":"Class 9 : Miscellaneous dangerous substances and\narticles"},{"$f":"lang!C697","v":"Klasse 9: Verschiedene gefährliche Stoffe und Gegenstände"},{"$f":"lang!D697","v":"Classe 9 : Matérias e objectos perigosos"},{"$f":"lang!E697","v":"Class 9 : Matières et objets dangereux divers"},{"$f":"lang!F697","v":"Clase 9: Materias y objetos con riesgos diversos"},null,{"$f":"lang!A$755","v":"Yes"},null,null,null,{"$f":"lang!A$756","v":"No"},null,null,null,null,"",false,null,null,true,null,64,"T"]
[]
[null,null,null,{"$f":"lang!A698","v":"Does the company handle/transport HCDG goods (RID 1.10)?"},{"$f":"lang!B698","v":"Does the company handle/transport HCDG goods (RID 1.10)?"},{"$f":"lang!C698","v":"Das Unternehmen fertigt ab / transportiert HCDG Güter (RID 1.10)?"},{"$f":"lang!D698","v":"A empresa movimenta/transporta MPAR - mercadorias perigosas de alto risco (RID 1.10)?"},{"$f":"lang!E698","v":"La société manutentionne-t-elle ou transporte-t-elle des marchandises dangereuses à haut risque MDHR (RID 1.10)?"},{"$f":"lang!F698","v":"La empresa transporta o trabaja con mercancía peligrosa de alto riesgo  (RID 1.10)?"},null,{"$f":"lang!A$755","v":"Yes"},null,null,null,{"$f":"lang!A$756","v":"No"},null,null,null,null,{"$f":"IF(V106=1,\"Y\",IF(V106=2,\"N\",\"\"))","v":""},false,null,null,true,null,{"$f":"Z104+1","v":65},"T"]
[null,null,null,{"$f":"lang!A700","v":"AL - Albania"},{"$f":"lang!B700","v":"AL - Albania"},{"$f":"lang!C700","v":"AL - Albania"},{"$f":"lang!D700","v":"AL - Albânia"},{"$f":"lang!E700","v":"AL - Albania"},{"$f":"lang!F700","v":"AL - Albania"}]
[null,null,null,null,null,null,null,null,null,null,null,null,null,null,null,null,null,null,null,"end"]
[null,{"$f":"Status!$K$18","v":"Please check the next sheet (Status)"}]
[null,{"$f":"HYPERLINK(Status!$L$18,Status!$K$18)","v":"Please check the next sheet (Status)"}]

{"sheet":"Status","index":10,"n_rows":25,"n_cols":12,"rows_kept":25,"cut":false,"hidden":false,"merged":[[7,1,7,2],[24,0,24,3]]}
[null,"PAD","Gulf SQAS 2025"]
[null,{"$f":"lang!A5","v":"Template Version "},5]
[null,{"$f":"lang!A6","v":"Template Date"},"2025-07-08"]
[]
[null,{"$f":"lang!A4","v":"Select language"},"English",null,{"$f":"MATCH(C5,lang,0)","v":1},{"$f":"IF(ISNA(E5),1,E5)","v":1}]
[]
[null,null,null,null,null,null,null,null,null,null,null,"#"]
[null,{"$f":"lang!A7","v":"Document Status"},null,null,"Required","Not filled","Corrupted","man hours",null,{"$f":"IF(E9,I9,J9)","v":"General Information"},{"$f":"CONCATENATE(lang!A$46,\" (\",J8,\")\")","v":"Please check the next sheet (General Information)"},{"$f":"CONCATENATE(IF(ISERROR($L$7),\"\",$L$7),\"'\",J8,\"'!A5\")","v":"#'General Information'!A5"}]
[null,{"$f":"lang!A8","v":"Sheet"},{"$f":"lang!A9","v":"State"},null,{"$f":"'General Information'!$X$1","v":true},{"$f":"AND(E9,NOT('General Information'!$X$2))","v":true},{"$f":"'General Information'!$Y$2","v":false},{"$f":"'General Information'!Y$1","v":-2},"General Information","Status",{"$f":"CONCATENATE(lang!A$46,\" (\",J9,\")\")","v":"Please check the next sheet (Status)"},"#'Status'!A5"]
[null,{"$f":"lang!A10","v":"General Information"},{"$f":"IF(G9,lang!$A$25,IF(E9,IF(F9,lang!$A$26,lang!$A$27),\"\"))","v":"Not yet completed"},null,{"$f":"'Transport Services'!$X$1","v":false},{"$f":"AND(E10,NOT('Transport Services'!$X$2))","v":false},{"$f":"'Transport Services'!$Y$2","v":false},{"$f":"'Transport Services'!Y$1","v":0},"Transport Services","Status",{"$f":"CONCATENATE(lang!A$46,\" (\",J10,\")\")","v":"Please check the next sheet (Status)"},"#'Status'!A5"]
[null,{"$f":"IF(C11<>\"\",lang!A11,\"\")","v":""},{"$f":"IF(G10,lang!$A$25,IF(E10,IF(F10,lang!$A$26,lang!$A$27),\"\"))","v":""},null,{"$f":"'Tank Cleaning'!$X$1","v":false},{"$f":"AND(E11,NOT('Tank Cleaning'!$X$2))","v":false},{"$f":"'Tank Cleaning'!$Y$2","v":false},{"$f":"'Tank Cleaning'!Y$1","v":0},"Tank Cleaning","Status",{"$f":"CONCATENATE(lang!A$46,\" (\",J11,\")\")","v":"Please check the next sheet (Status)"},"#'Status'!A5"]
[null,{"$f":"IF(C12<>\"\",lang!A12,\"\")","v":""},{"$f":"IF(G11,lang!$A$25,IF(E11,IF(F11,lang!$A$26,lang!$A$27),\"\"))","v":""},null,{"$f":"ESAD!$X$1","v":false},{"$f":"AND(E12,NOT(ESAD!$X$2))","v":false},{"$f":"ESAD!$Y$2","v":false},{"$f":"ESAD!Y$1","v":0},"ESAD","Status",{"$f":"CONCATENATE(lang!A$46,\" (\",J12,\")\")","v":"Please check the next sheet (Status)"},"#'Status'!A5"]
[null,{"$f":"IF(C13<>\"\",lang!A13,\"\")","v":""},{"$f":"IF(G12,lang!$A$25,IF(E12,IF(F12,lang!$A$26,lang!$A$27),\"\"))","v":""},null,{"$f":"Warehouse!$X$1","v":false},{"$f":"AND(E13,NOT(Warehouse!$X$2))","v":false},{"$f":"Warehouse!$Y$2","v":false},{"$f":"Warehouse!Y$1","v":0},"Warehouse","Status",{"$f":"CONCATENATE(lang!A$46,\" (\",J13,\")\")","v":"Please check the next sheet (Status)"},"#'Status'!A5"]
[null,{"$f":"IF(C14<>\"\",lang!A19,\"\")","v":""},{"$f":"IF(G13,lang!$A$25,IF(E13,IF(F13,lang!$A$26,lang!$A$27),\"\"))","v":""},null,{"$f":"'WH - II(1)'!X1","v":false},{"$f":"AND(E14,NOT('WH - II(1)'!$X$2))","v":false},{"$f":"'WH - II(1)'!$Y$2","v":false},{"$f":"'WH - II(1)'!Y$1","v":0},"WH - II(1)","Status",{"$f":"CONCATENATE(lang!A$46,\" (\",J14,\")\")","v":"Please check the next sheet (Status)"},"#'Status'!A5"]
[null,{"$f":"IF(C15<>\"\",lang!A20,\"\")","v":""},{"$f":"IF(G14,lang!$A$25,IF(E14,IF(F14,lang!$A$26,lang!$A$27),\"\"))","v":""},null,{"$f":"'WH - FCI'!X1","v":false},{"$f":"AND(E15,NOT('WH - FCI'!$X$2))","v":false},{"$f":"'WH - FCI'!Y2","v":false},{"$f":"'WH - FCI'!Y1","v":0},"WH - FCI","Status",{"$f":"CONCATENATE(lang!A$46,\" (\",J15,\")\")","v":"Please check the next sheet (Status)"},"#'Status'!A5"]
[null,{"$f":"IF(C16<>\"\",lang!A21,\"\")","v":""},{"$f":"IF(G15,lang!$A$25,IF(E15,IF(F15,lang!$A$26,lang!$A$27),\"\"))","v":""},null,{"$f":"'WH - II(2)'!$X$1","v":false},{"$f":"AND(E16,NOT('WH - II(2)'!$X$2))","v":false},{"$f":"'WH - II(2)'!$Y$2","v":false},{"$f":"'WH - II(2)'!Y$1","v":0},"WH - II(2)","Status",{"$f":"CONCATENATE(lang!A$46,\" (\",J16,\")\")","v":"Please check the next sheet (Status)"},"#'Status'!A5"]
[null,{"$f":"IF(C17<>\"\",lang!A22,\"\")","v":""},{"$f":"IF(G16,lang!$A$25,IF(E16,IF(F16,lang!$A$26,lang!$A$27),\"\"))","v":""},null,{"$f":"'WH - II(3)'!$X$1","v":false},{"$f":"AND(E17,NOT('WH - II(3)'!$X$2))","v":false},{"$f":"'WH - II(3)'!Y2","v":false},{"$f":"'WH - II(3)'!Y$1","v":0},"WH - II(3)","Status",{"$f":"CONCATENATE(lang!A$46,\" (\",J17,\")\")","v":"Please check the next sheet (Status)"},"#'Status'!A5"]
[null,{"$f":"IF(C18<>\"\",lang!A23,\"\")","v":""},{"$f":"IF(G17,lang!$A$25,IF(E17,IF(F17,lang!$A$26,lang!$A$27),\"\"))","v":""},null,{"$f":"Rail!$X$1","v":false},{"$f":"AND(E18,NOT(Rail!$X$2))","v":false},{"$f":"Rail!$Y$2","v":false},{"$f":"Rail!Y$1","v":0},"Rail",{"$f":"IF(E20,I19,J19)","v":"Status"},{"$f":"CONCATENATE(lang!A$46,\" (\",J18,\")\")","v":"Please check the next sheet (Status)"},"#'Status'!A5"]
[null,{"$f":"IF(C19<>\"\",lang!A24,\"\")","v":""},{"$f":"IF(G18,lang!$A$25,IF(E18,IF(F18,lang!$A$26,lang!$A$27),\"\"))","v":""},null,null,null,{"$f":"Data!C1","v":false},null,"Status"]
[null,{"$f":"lang!A28","v":"Overall"},{"$f":"IF(G20,lang!$A$25,IF(E20,IF(F20,lang!$A$26,lang!$A$27),\"\"))","v":"Not yet completed"},null,true,{"$f":"OR(F9:F18)","v":true},{"$f":"OR(G9:G19)","v":false},{"$f":"SUM(H9:H18)*1.65","v":-3.3}]
[null,null,null,null,null,{"$f":"IF(ISERROR(F20),TRUE,F20)","v":true},"Roundup",{"$f":"(8+(4*ROUND(H20/4,0))) + 2","v":6}]
[{"$f":"IF(F21,\"\",lang!A29)","v":""},{"$f":"IF(F21,\"\",H22)","v":""},null,null,null,null,null,{"$f":"IF(AND(isSubsidiary,R_TC),12,IF(Status!H21>8,Status!H21,8))","v":8}]
[]
[]
[{"$f":"HYPERLINK(Status!$L$8,Status!$K$8)","v":"Please check the next sheet (General Information)"}]

{"sheet":"Data","index":11,"n_rows":4858,"n_cols":4,"rows_kept":4858,"cut":false,"hidden":true,"merged":[]}
["$SQAS1.4",null,{"$f":"OR(C2:C4858)","v":false},"Y"]
["$COMPANYHOURS",{"$f":"HOURS","v":8},{"$f":"ISERROR(B2)","v":false},"Y"]
["$GI0_2",{"$f":"IF(R_GI,CONCATENATE(\"\", 'General Information'!H14),\"\")","v":""},{"$f":"ISERROR(B3)","v":false},"Y"]
["$GI0_3",{"$f":"IF(R_GI,CONCATENATE(\"\", 'General Information'!H16),\"\")","v":""},{"$f":"ISERROR(B4)","v":false},"Y"]
["$GI0_4",{"$f":"IF(R_GI,CONCATENATE(\"\", 'General Information'!H18),\"\")","v":""},false,"Y"]
["$GI0_5",{"$f":"IF(R_GI,CONCATENATE(\"\", 'General Information'!H20),\"\")","v":""},false,"Y"]
["$GI0_6",{"$f":"IF(R_GI,CONCATENATE(\"\", 'General Information'!H22),\"\")","v":""},false,"Y"]
["$GI0_7",{"$f":"IF(R_GI,CONCATENATE(\"\", 'General Information'!H26),\"\")","v":""},false,"Y"]
["$GI0_8",{"$f":"IF(R_GI,CONCATENATE(\"\", 'General Information'!H28),\"\")","v":""},false,"Y"]
["$GI0_9",{"$f":"IF(R_GI,CONCATENATE(\"\", 'General Information'!H30),\"\")","v":""},false,"Y"]
["$GI0_10",{"$f":"IF(R_GI,CONCATENATE(\"\", 'General Information'!H32),\"\")","v":""},false,"Y"]
["$GI0_11",{"$f":"IF(R_GI,CONCATENATE(\"\", 'General Information'!H34),\"\")","v":""},false,"Y"]
["$GI0_12",{"$f":"IF(R_GI,CONCATENATE(\"\", 'General Information'!H36),\"\")","v":""},false,"Y"]
["$GI0_13",{"$f":"IF(R_GI,CONCATENATE(\"\", 'General Information'!H38),\"\")","v":""},false,"Y"]
["$GI0_14",{"$f":"IF(R_GI,CONCATENATE(\"\", 'General Information'!H40),\"\")","v":""},false,"Y"]
["$GI0_15",{"$f":"IF(R_GI,CONCATENATE(\"\", 'General Information'!H42),\"\")","v":""},false,"Y"]
["$GI0_16",{"$f":"IF(R_GI,CONCATENATE(\"\", 'General Information'!H44),\"\")","v":""},false,"Y"]
["$GI0_TOC",{"$f":"IF(R_GI,CONCATENATE(\"\", 'General Information'!T48),\"\")","v":"0"},false,"Y"]
["$GI0_18",{"$f":"IF(R_GI,CONCATENATE(\"\", 'General Information'!I52),\"\")","v":""},false,"Y"]
["$GI0_20",{"$f":"IF(R_GI,CONCATENATE(\"\", 'General Information'!I56),\"\")","v":""},false,"Y"]
["$GI0_22",{"$f":"IF(R_GI,CONCATENATE(\"\", 'General Information'!H58),\"\")","v":""},false,"Y"]
["$GI0_23",{"$f":"IF(R_GI,CONCATENATE(\"\", 'General Information'!T63),\"\")","v":"Less than 10"},false,"Y"]
["$GI0_81",{"$f":"IF(R_GI,CONCATENATE(\"\", 'General Information'!T111),\"\")","v":"N"},false,"Y"]
["$GI0_83",{"$f":"IF(R_GI,CONCATENATE(\"\", 'General Information'!T113),\"\")","v":"N"},false,"Y"]
["$GI0_84",{"$f":"IF(R_GI,CONCATENATE(\"\", 'General Information'!T115),\"\")","v":"N"},false,"N"]
["$GI0_85",{"$f":"IF(R_GI,CONCATENATE(\"\", 'General Information'!T117),\"\")","v":"N"},false,"Y"]
["$GI0_86",{"$f":"IF(R_GI,CONCATENATE(\"\", 'General Information'!T119),\"\")","v":"N"},false,"N"]
["$GI0_87",{"$f":"IF(R_GI,CONCATENATE(\"\", 'General Information'!T121),\"\")","v":"N"},false,"N"]
["$GI0_38",{"$f":"IF(R_GI,CONCATENATE(\"\", 'General Information'!T126),\"\")","v":"Y"},false,"Y"]
["$GI0_39_0",{"$f":"IF(R_GI,CONCATENATE(\"\", 'General Information'!T128),\"\")","v":"N"},false,"Y"]
["$GI0_39",{"$f":"IF(R_GI,CONCATENATE(\"\", 'General Information'!I129),\"\")","v":""},false,"Y"]
["$GI0_39_1",{"$f":"IF(R_GI,CONCATENATE(\"\", 'General Information'!I131),\"\")","v":""},false,"Y"]
["$GI0_39_2",{"$f":"IF(R_GI,CONCATENATE(\"\", 'General Information'!I133),\"\")","v":""},false,"Y"]
["$GI0_52",{"$f":"IF(R_GI,CONCATENATE(\"\", 'General Information'!I139),\"\")","v":""},false,"Y"]
["$GI0_53",{"$f":"IF(R_GI,CONCATENATE(\"\", 'General Information'!Q139),\"\")","v":""},false,"Y"]
["$GI0_54",{"$f":"IF(R_GI,CONCATENATE(\"\", 'General Information'!I141),\"\")","v":""},false,"Y"]
["$GI0_55",{"$f":"IF(R_GI,CONCATENATE(\"\", 'General Information'!Q141),\"\")","v":""},false,"Y"]
["$GI0_56",{"$f":"IF(R_GI,CONCATENATE(\"\", 'General Information'!I143),\"\")","v":""},false,"Y"]
["$GI0_57",{"$f":"IF(R_GI,CONCATENATE(\"\", 'General Information'!Q143),\"\")","v":""},false,"Y"]
["$GI0_58",{"$f":"IF(R_GI,CONCATENATE(\"\", 'General Information'!I145),\"\")","v":""},false,"Y"]
["$GI0_59",{"$f":"IF(R_GI,CONCATENATE(\"\", 'General Information'!Q145),\"\")","v":""},false,"Y"]
["$GI0_60",{"$f":"IF(R_GI,CONCATENATE(\"\", 'General Information'!I147),\"\")","v":""},false,"Y"]
["$GI0_61",{"$f":"IF(R_GI,CONCATENATE(\"\", 'General Information'!Q147),\"\")","v":""},false,"Y"]
["$GI0_62",{"$f":"IF(R_GI,CONCATENATE(\"\", 'General Information'!I149),\"\")","v":"-"},false,"N"]
["$GI0_63",{"$f":"IF(R_GI,CONCATENATE(\"\", 'General Information'!Q149),\"\")","v":"-"},false,"N"]
["$GI0_64",{"$f":"IF(R_GI,CONCATENATE(\"\", 'General Information'!I151),\"\")","v":""},false,"N"]
["$GI0_65",{"$f":"IF(R_GI,CONCATENATE(\"\", 'General Information'!Q151),\"\")","v":""},false,"N"]
["$GI0_66",{"$f":"IF(R_GI,CONCATENATE(\"\", 'General Information'!I153),\"\")","v":""},false,"Y"]
["$GI0_67",{"$f":"IF(R_GI,CONCATENATE(\"\", 'General Information'!Q153),\"\")","v":""},false,"Y"]
["$GI0_70",{"$f":"IF(R_GI,CONCATENATE(\"\", 'General Information'!F162),\"\")","v":""},false,"Y"]
["$GI0_71",{"$f":"IF(R_GI,CONCATENATE(\"\", 'General Information'!I162),\"\")","v":""},false,"Y"]
["$GI0_71_a",{"$f":"IF(R_GI,CONCATENATE(\"\", 'General Information'!M162),\"\")","v":""},false,"Y"]
["$GI0_72",{"$f":"IF(R_GI,CONCATENATE(\"\", 'General Information'!Q162),\"\")","v":""},false,"Y"]
["$GI0_74",{"$f":"IF(R_GI,CONCATENATE(\"\", 'General Information'!F164),\"\")","v":""},false,"Y"]
["$GI0_75",{"$f":"IF(R_GI,CONCATENATE(\"\", 'General Information'!I164),\"\")","v":""},false,"Y"]
["$GI0_75_a",{"$f":"IF(R_GI,CONCATENATE(\"\", 'General Information'!M164),\"\")","v":""},false,"Y"]
["$GI0_76",{"$f":"IF(R_GI,CONCATENATE(\"\", 'General Information'!Q164),\"\")","v":""},false,"Y"]
["$GI0_77",{"$f":"IF(R_GI,CONCATENATE(\"\", 'General Information'!C166),\"\")","v":"RC 14001"},false,"N"]
["$GI0_78",{"$f":"IF(R_GI,CONCATENATE(\"\", 'General Information'!F166),\"\")","v":""},false,"Y"]
["$GI0_79",{"$f":"IF(R_GI,CONCATENATE(\"\", 'General Information'!I166),\"\")","v":""},false,"Y"]
["$GI0_79_a",{"$f":"IF(R_GI,CONCATENATE(\"\", 'General Information'!M166),\"\")","v":""},false,"Y"]
["$GI0_80",{"$f":"IF(R_GI,CONCATENATE(\"\", 'General Information'!Q166),\"\")","v":""},false,"Y"]
["$GI0_77a",{"$f":"IF(R_GI,CONCATENATE(\"\", 'General Information'!C168),\"\")","v":""},false,"Y"]
["$GI0_78a",{"$f":"IF(R_GI,CONCATENATE(\"\", 'General Information'!F168),\"\")","v":""},false,"Y"]
["$GI0_79a",{"$f":"IF(R_GI,CONCATENATE(\"\", 'General Information'!I168),\"\")","v":""},false,"Y"]
["$GI0_79a_a",{"$f":"IF(R_GI,CONCATENATE(\"\", 'General Information'!M168),\"\")","v":""},false,"Y"]
["$GI0_80a",{"$f":"IF(R_GI,CONCATENATE(\"\", 'General Information'!Q168),\"\")","v":""},{"$f":"ISERROR(B67)","v":false},"Y"]
["$GI0_77b",{"$f":"IF(R_GI,CONCATENATE(\"\", 'General Information'!C170),\"\")","v":""},false,"Y"]
["$GI0_78b",{"$f":"IF(R_GI,CONCATENATE(\"\", 'General Information'!F170),\"\")","v":""},false,"Y"]
["$GI0_79b",{"$f":"IF(R_GI,CONCATENATE(\"\", 'General Information'!I170),\"\")","v":""},false,"Y"]
["$GI0_79b_a",{"$f":"IF(R_GI,CONCATENATE(\"\", 'General Information'!M170),\"\")","v":""},false,"Y"]
["$GI0_80b",{"$f":"IF(R_GI,CONCATENATE(\"\", 'General Information'!Q170),\"\")","v":""},false,"Y"]
["$GI0_90",{"$f":"IF(R_GI,CONCATENATE(\"\", 'General Information'!T175),\"\")","v":""},false,"N"]
["$GI0_91",{"$f":"IF(R_GI,CONCATENATE(\"\", 'General Information'!T177),\"\")","v":""},false,"N"]
["$GI0_92",{"$f":"IF(R_GI,CONCATENATE(\"\", 'General Information'!L179),\"\")","v":""},false,"N"]
["$GI0_95",{"$f":"IF(R_GI,CONCATENATE(\"\", 'General Information'!T183),\"\")","v":"Y"},false,"Y"]
["$GI0_96",{"$f":"IF(R_GI,CONCATENATE(\"\", 'General Information'!T185),\"\")","v":"N"},false,"Y"]
["$GI0_97",{"$f":"IF(R_GI,CONCATENATE(\"\", 'General Information'!T187),\"\")","v":"N"},false,"Y"]
["$GI0_102",{"$f":"IF(R_GI,CONCATENATE(\"\", 'General Information'!T189),\"\")","v":"N"},false,"Y"]
["$GI0_103",{"$f":"IF(R_GI,CONCATENATE(\"\", 'General Information'!T191),\"\")","v":"N"},false,"Y"]
["$GI0_104",{"$f":"IF(R_GI,CONCATENATE(\"\", 'General Information'!T193),\"\")","v":"N"},false,"Y"]
["$GI0_105",{"$f":"IF(R_GI,CONCATENATE(\"\", 'General Information'!T195),\"\")","v":"N"},false,"Y"]
["$GI0_107",{"$f":"IF(R_GI,CONCATENATE(\"\", 'General Information'!T197),\"\")","v":"N"},false,"Y"]
["$GI0_108",{"$f":"IF(R_GI,CONCATENATE(\"\", 'General Information'!T199),\"\")","v":"N"},false,"Y"]
["$GI0_122",{"$f":"IF(R_GI,CONCATENATE(\"\", 'General Information'!T201),\"\")","v":""},false,"Y"]
["$GI0_123",{"$f":"IF(R_GI,CONCATENATE(\"\", 'General Information'!T203),\"\")","v":""},false,"Y"]
["$GI0_111",{"$f":"IF(R_GI,CONCATENATE(\"\", 'General Information'!I207),\"\")","v":""},false,"Y"]
["$GI0_112",{"$f":"IF(R_GI,CONCATENATE(\"\", 'General Information'!I211),\"\")","v":""},false,"Y"]
["$GI0_113",{"$f":"IF(R_GI,CONCATENATE(\"\", 'General Information'!I217),\"\")","v":""},false,"Y"]
["$GI0_116",{"$f":"IF(R_GI,CONCATENATE(\"\", 'General Information'!I223),\"\")","v":""},false,"Y"]
["$GI0_117",{"$f":"IF(R_GI,CONCATENATE(\"\", 'General Information'!I225),\"\")","v":""},false,"Y"]
["$GI0_118",{"$f":"IF(R_GI,CONCATENATE(\"\", 'General Information'!I227),\"\")","v":""},false,"Y"]
["$GI0_119",{"$f":"IF(R_GI,CONCATENATE(\"\", 'General Information'!T229),\"\")","v":"Y"},false,"Y"]
["$GI0_120",{"$f":"IF(R_GI,CONCATENATE(\"\", 'General Information'!I232),\"\")","v":""},false,"Y"]
["$GI0_121",{"$f":"IF(R_GI,CONCATENATE(\"\", 'General Information'!I236),\"\")","v":""},false,"Y"]
["$TS0_2",{"$f":"IF(R_TS,CONCATENATE(\"\", 'Transport Services'!T12),\"\")","v":""},false,"Y"]
["$TS0_4",{"$f":"IF(R_TS,CONCATENATE(\"\", 'Transport Services'!T15),\"\")","v":""},false,"Y"]
["$TS0_5",{"$f":"IF(R_TS,CONCATENATE(\"\", 'Transport Services'!T16),\"\")","v":""},false,"Y"]
["$TS0_6",{"$f":"IF(R_TS,CONCATENATE(\"\", 'Transport Services'!T17),\"\")","v":""},false,"Y"]
["$TS0_7",{"$f":"IF(R_TS,CONCATENATE(\"\", 'Transport Services'!T18),\"\")","v":""},false,"Y"]
["$TS0_8",{"$f":"IF(R_TS,CONCATENATE(\"\", 'Transport Services'!T19),\"\")","v":""},false,"Y"]
["$TS0_9",{"$f":"IF(R_TS,CONCATENATE(\"\", 'Transport Services'!T20),\"\")","v":""},false,"Y"]
["$TS0_10",{"$f":"IF(R_TS,CONCATENATE(\"\", 'Transport Services'!T23),\"\")","v":""},false,"Y"]
["$TS0_11",{"$f":"IF(R_TS,CONCATENATE(\"\", 'Transport Services'!T24),\"\")","v":""},false,"Y"]
["$TS0_12",{"$f":"IF(R_TS,CONCATENATE(\"\", 'Transport Services'!T25),\"\")","v":""},false,"Y"]
["$TS0_13",{"$f":"IF(R_TS,CONCATENATE(\"\", 'Transport Services'!T26),\"\")","v":""},false,"Y"]
["$TS0_14",{"$f":"IF(R_TS,CONCATENATE(\"\", 'Transport Services'!T27),\"\")","v":""},false,"Y"]
["$TS0_15",{"$f":"IF(R_TS,CONCATENATE(\"\", 'Transport Services'!T28),\"\")","v":""},false,"Y"]
["$TS0_16",{"$f":"IF(R_TS,CONCATENATE(\"\", 'Transport Services'!T29),\"\")","v":""},false,"Y"]
["$TS0_17",{"$f":"IF(R_TS,CONCATENATE(\"\", 'Transport Services'!T30),\"\")","v":""},false,"Y"]
["$TS0_18",{"$f":"IF(R_TS,CONCATENATE(\"\", 'Transport Services'!T31),\"\")","v":""},false,"Y"]
["$TS0_19",{"$f":"IF(R_TS,CONCATENATE(\"\", 'Transport Services'!T32),\"\")","v":""},false,"Y"]
["$TS0_22",{"$f":"IF(R_TS,CONCATENATE(\"\", 'Transport Services'!T35),\"\")","v":""},false,"Y"]
["$TS0_23",{"$f":"IF(R_TS,CONCATENATE(\"\", 'Transport Services'!T36),\"\")","v":""},false,"Y"]
["$TS0_23B",{"$f":"IF(R_TS,CONCATENATE(\"\", 'Transport Services'!T37),\"\")","v":""},false,"Y"]
["$TS0_24",{"$f":"IF(R_TS,CONCATENATE(\"\", 'Transport Services'!T40),\"\")","v":""},false,"Y"]
["$TS0_25",{"$f":"IF(R_TS,CONCATENATE(\"\", 'Transport Services'!K41),\"\")","v":""},false,"Y"]
["$TS0_26",{"$f":"IF(R_TS,CONCATENATE(\"\", 'Transport Services'!T43),\"\")","v":""},false,"Y"]
["$TS0_27",{"$f":"IF(R_TS,CONCATENATE(\"\", 'Transport Services'!K45),\"\")","v":""},false,"Y"]
["$TS0_28",{"$f":"IF(R_TS,CONCATENATE(\"\", 'Transport Services'!T47),\"\")","v":""},false,"Y"]
["$TS0_29",{"$f":"IF(R_TS,CONCATENATE(\"\", 'Transport Services'!K48),\"\")","v":""},false,"Y"]
["$TS0_30",{"$f":"IF(R_TS,CONCATENATE(\"\", 'Transport Services'!T50),\"\")","v":""},false,"Y"]
["$TS0_31",{"$f":"IF(R_TS,CONCATENATE(\"\", 'Transport Services'!K52),\"\")","v":""},false,"Y"]
["$TS0_32",{"$f":"IF(R_TS,CONCATENATE(\"\", 'Transport Services'!J54),\"\")","v":""},false,"Y"]
["$TS0_33",{"$f":"IF(R_TS,CONCATENATE(\"\", 'Transport Services'!J56),\"\")","v":""},false,"Y"]
["$TS0_34",{"$f":"IF(R_TS,CONCATENATE(\"\", 'Transport Services'!J59),\"\")","v":""},false,"Y"]
["$TS0_35",{"$f":"IF(R_TS,CONCATENATE(\"\", 'Transport Services'!J61),\"\")","v":""},false,"Y"]
["$TS0_36",{"$f":"IF(R_TS,CONCATENATE(\"\", 'Transport Services'!J63),\"\")","v":""},false,"Y"]
["$TS0_37",{"$f":"IF(R_TS,CONCATENATE(\"\", 'Transport Services'!J65),\"\")","v":""},false,"Y"]
["$TS0_39",{"$f":"IF(R_TS,CONCATENATE(\"\", 'Transport Services'!T70),\"\")","v":""},false,"Y"]
["$TS0_40",{"$f":"IF(R_TS,CONCATENATE(\"\", 'Transport Services'!G70),\"\")","v":""},false,"Y"]
["$TS0_45",{"$f":"IF(R_TS,CONCATENATE(\"\", 'Transport Services'!V70),\"\")","v":""},{"$f":"ISERROR(B132)","v":false},"Y"]
["$TS0_46",{"$f":"IF(R_TS,CONCATENATE(\"\", 'Transport Services'!K70),\"\")","v":""},false,"Y"]
["$TS0_41",{"$f":"IF(R_TS,CONCATENATE(\"\", 'Transport Services'!T72),\"\")","v":""},false,"Y"]
["$TS0_42",{"$f":"IF(R_TS,CONCATENATE(\"\", 'Transport Services'!G72),\"\")","v":""},false,"Y"]
["$TS0_47",{"$f":"IF(R_TS,CONCATENATE(\"\", 'Transport Services'!V72),\"\")","v":""},false,"Y"]
["$TS0_48",{"$f":"IF(R_TS,CONCATENATE(\"\", 'Transport Services'!K72),\"\")","v":""},false,"Y"]
["$TS0_43",{"$f":"IF(R_TS,CONCATENATE(\"\", 'Transport Services'!T74),\"\")","v":""},false,"Y"]
["$TS0_44",{"$f":"IF(R_TS,CONCATENATE(\"\", 'Transport Services'!G74),\"\")","v":""},false,"Y"]
["$TS0_49",{"$f":"IF(R_TS,CONCATENATE(\"\", 'Transport Services'!V74),\"\")","v":""},false,"Y"]
["$TS0_50",{"$f":"IF(R_TS,CONCATENATE(\"\", 'Transport Services'!K74),\"\")","v":""},false,"Y"]
["$TS0_52",{"$f":"IF(R_TS,CONCATENATE(\"\", 'Transport Services'!J78),\"\")","v":""},false,"Y"]
["$TS0_53",{"$f":"IF(R_TS,CONCATENATE(\"\", 'Transport Services'!T80),\"\")","v":""},false,"Y"]
["$TS0_54",{"$f":"IF(R_TS,CONCATENATE(\"\", 'Transport Services'!K83),\"\")","v":""},false,"Y"]
["$TS0_55",{"$f":"IF(R_TS,CONCATENATE(\"\", 'Transport Services'!T86),\"\")","v":""},false,"Y"]
["$TS0_56",{"$f":"IF(R_TS,CONCATENATE(\"\", 'Transport Services'!T87),\"\")","v":""},false,"Y"]
["$TS0_57",{"$f":"IF(R_TS,CONCATENATE(\"\", 'Transport Services'!T88),\"\")","v":""},false,"Y"]
["$TS0_58",{"$f":"IF(R_TS,CONCATENATE(\"\", 'Transport Services'!T91),\"\")","v":""},false,"Y"]
["$TS0_59",{"$f":"IF(R_TS,CONCATENATE(\"\", 'Transport Services'!T92),\"\")","v":""},false,"Y"]
["$TS0_60",{"$f":"IF(R_TS,CONCATENATE(\"\", 'Transport Services'!T95),\"\")","v":""},false,"Y"]
["$TS0_61",{"$f":"IF(R_TS,CONCATENATE(\"\", 'Transport Services'!T97),\"\")","v":""},false,"Y"]
["$TS0_62",{"$f":"IF(R_TS,CONCATENATE(\"\", 'Transport Services'!T100),\"\")","v":""},false,"Y"]
["$TS0_63",{"$f":"IF(R_TS,CONCATENATE(\"\", 'Transport Services'!T102),\"\")","v":""},false,"Y"]
["$TS0_64",{"$f":"IF(R_TS,CONCATENATE(\"\", 'Transport Services'!T105),\"\")","v":""},false,"Y"]
["$TS0_65",{"$f":"IF(R_TS,CONCATENATE(\"\", 'Transport Services'!T107),\"\")","v":""},false,"Y"]
["$TS0_66",{"$f":"IF(R_TS,CONCATENATE(\"\", 'Transport Services'!T110),\"\")","v":""},false,"Y"]
["$TS0_67",{"$f":"IF(R_TS,CONCATENATE(\"\", 'Transport Services'!T111),\"\")","v":""},false,"Y"]
["$TS0_68",{"$f":"IF(R_TS,CONCATENATE(\"\", 'Transport Services'!T114),\"\")","v":""},false,"Y"]
["$TS0_69",{"$f":"IF(R_TS,CONCATENATE(\"\", 'Transport Services'!T115),\"\")","v":""},false,"Y"]
["$TS0_70",{"$f":"IF(R_TS,CONCATENATE(\"\", 'Transport Services'!T116),\"\")","v":""},false,"Y"]
["$TS0_71",{"$f":"IF(R_TS,CONCATENATE(\"\", 'Transport Services'!T119),\"\")","v":""},false,"Y"]
["$TS0_72",{"$f":"IF(R_TS,CONCATENATE(\"\", 'Transport Services'!T120),\"\")","v":""},false,"Y"]
["$TS0_73",{"$f":"IF(R_TS,CONCATENATE(\"\", 'Transport Services'!T123),\"\")","v":""},false,"Y"]
["$TS0_74",{"$f":"IF(R_TS,CONCATENATE(\"\", 'Transport Services'!T124),\"\")","v":""},false,"Y"]
["$TS0_75",{"$f":"IF(R_TS,CONCATENATE(\"\", 'Transport Services'!T127),\"\")","v":""},false,"Y"]
["$TS0_76",{"$f":"IF(R_TS,CONCATENATE(\"\", 'Transport Services'!T128),\"\")","v":""},false,"Y"]
["$TS0_77",{"$f":"IF(R_TS,CONCATENATE(\"\", 'Transport Services'!T131),\"\")","v":""},false,"Y"]
["$TS0_78",{"$f":"IF(R_TS,CONCATENATE(\"\", 'Transport Services'!T133),\"\")","v":""},false,"Y"]
["$TS0_79",{"$f":"IF(R_TS,CONCATENATE(\"\", 'Transport Services'!T135),\"\")","v":""},false,"Y"]
["$TS0_84",{"$f":"IF(R_TS,CONCATENATE(\"\", 'Transport Services'!T136),\"\")","v":""},false,"Y"]
["$TS0_85",{"$f":"IF(R_TS,CONCATENATE(\"\", 'Transport Services'!T137),\"\")","v":""},false,"Y"]
["$TS0_88",{"$f":"IF(R_TS,CONCATENATE(\"\", 'Transport Services'!T140),\"\")","v":""},false,"Y"]
["$TS0_89",{"$f":"IF(R_TS,CONCATENATE(\"\", 'Transport Services'!T141),\"\")","v":""},false,"Y"]
["$TS0_90",{"$f":"IF(R_TS,CONCATENATE(\"\", 'Transport Services'!T142),\"\")","v":""},false,"Y"]
["$TS0_91",{"$f":"IF(R_TS,CONCATENATE(\"\", 'Transport Services'!T143),\"\")","v":""},false,"Y"]
["$TS0_92",{"$f":"IF(R_TS,CONCATENATE(\"\", 'Transport Services'!T146),\"\")","v":""},false,"Y"]
["$TS0_93",{"$f":"IF(R_TS,CONCATENATE(\"\", 'Transport Services'!T147),\"\")","v":""},false,"Y"]
["$TS0_94",{"$f":"IF(R_TS,CONCATENATE(\"\", 'Transport Services'!T148),\"\")","v":""},false,"Y"]
["$TC0_2",{"$f":"IF(R_TC,CONCATENATE(\"\", 'Tank Cleaning'!T13),\"\")","v":""},false,"Y"]
["$TC0_3",{"$f":"IF(R_TC,CONCATENATE(\"\", 'Tank Cleaning'!T14),\"\")","v":""},false,"Y"]
["$TC0_4",{"$f":"IF(R_TC,CONCATENATE(\"\", 'Tank Cleaning'!T15),\"\")","v":""},false,"Y"]
["$TC0_5",{"$f":"IF(R_TC,CONCATENATE(\"\", 'Tank Cleaning'!T16),\"\")","v":""},false,"Y"]
["$TC0_6",{"$f":"IF(R_TC,CONCATENATE(\"\", 'Tank Cleaning'!T17),\"\")","v":""},false,"Y"]
["$TC0_7",{"$f":"IF(R_TC,CONCATENATE(\"\", 'Tank Cleaning'!T19),\"\")","v":""},false,"Y"]
["$TC0_8",{"$f":"IF(R_TC,CONCATENATE(\"\", 'Tank Cleaning'!T20),\"\")","v":""},false,"Y"]
["$TC0_10",{"$f":"IF(R_TC,CONCATENATE(\"\", 'Tank Cleaning'!T23),\"\")","v":""},false,"Y"]
["$TC0_11",{"$f":"IF(R_TC,CONCATENATE(\"\", 'Tank Cleaning'!K24),\"\")","v":""},false,"Y"]
["$TC0_12",{"$f":"IF(R_TC,CONCATENATE(\"\", 'Tank Cleaning'!T26),\"\")","v":""},false,"Y"]
["$TC0_13",{"$f":"IF(R_TC,CONCATENATE(\"\", 'Tank Cleaning'!K27),\"\")","v":""},false,"Y"]
["$TC0_14",{"$f":"IF(R_TC,CONCATENATE(\"\", 'Tank Cleaning'!J29),\"\")","v":""},{"$f":"ISERROR(B190)","v":false},"Y"]
["$TC0_15",{"$f":"IF(R_TC,CONCATENATE(\"\", 'Tank Cleaning'!J31),\"\")","v":""},false,"Y"]
["$TC0_17",{"$f":"IF(R_TC,CONCATENATE(\"\", 'Tank Cleaning'!T34),\"\")","v":""},false,"Y"]
["$TC0_18",{"$f":"IF(R_TC,CONCATENATE(\"\", 'Tank Cleaning'!K36),\"\")","v":""},false,"Y"]
["$TC0_19",{"$f":"IF(R_TC,CONCATENATE(\"\", 'Tank Cleaning'!T38),\"\")","v":""},false,"Y"]
["$TC0_20",{"$f":"IF(R_TC,CONCATENATE(\"\", 'Tank Cleaning'!K40),\"\")","v":""},false,"Y"]
["$TC0_21",{"$f":"IF(R_TC,CONCATENATE(\"\", 'Tank Cleaning'!J42),\"\")","v":""},false,"Y"]
["$TC0_22",{"$f":"IF(R_TC,CONCATENATE(\"\", 'Tank Cleaning'!J44),\"\")","v":""},false,"Y"]
["$TC0_23",{"$f":"IF(R_TC,CONCATENATE(\"\", 'Tank Cleaning'!K46),\"\")","v":""},false,"Y"]
["$TC0_24",{"$f":"IF(R_TC,CONCATENATE(\"\", 'Tank Cleaning'!J48),\"\")","v":""},false,"Y"]
["$TC0_25",{"$f":"IF(R_TC,CONCATENATE(\"\", 'Tank Cleaning'!J50),\"\")","v":""},false,"Y"]
["$TC0_26",{"$f":"IF(R_TC,CONCATENATE(\"\", 'Tank Cleaning'!J52),\"\")","v":""},false,"Y"]
["$TC0_27",{"$f":"IF(R_TC,CONCATENATE(\"\", 'Tank Cleaning'!K54),\"\")","v":""},false,"Y"]
["$TC0_28",{"$f":"IF(R_TC,CONCATENATE(\"\", 'Tank Cleaning'!T56),\"\")","v":""},false,"Y"]
["$TC0_29",{"$f":"IF(R_TC,CONCATENATE(\"\", 'Tank Cleaning'!K57),\"\")","v":""},false,"Y"]
["$TC0_30",{"$f":"IF(R_TC,CONCATENATE(\"\", 'Tank Cleaning'!K59),\"\")","v":""},false,"Y"]
["$TC0_31",{"$f":"IF(R_TC,CONCATENATE(\"\", 'Tank Cleaning'!K61),\"\")","v":""},false,"Y"]
["$TC0_32",{"$f":"IF(R_TC,CONCATENATE(\"\", 'Tank Cleaning'!T63),\"\")","v":""},false,"Y"]
["$TC0_33",{"$f":"IF(R_TC,CONCATENATE(\"\", 'Tank Cleaning'!T64),\"\")","v":""},false,"Y"]
["$TC0_34",{"$f":"IF(R_TC,CONCATENATE(\"\", 'Tank Cleaning'!T65),\"\")","v":""},false,"Y"]
["$TC0_35",{"$f":"IF(R_TC,CONCATENATE(\"\", 'Tank Cleaning'!T66),\"\")","v":""},false,"Y"]
["$TC0_36",{"$f":"IF(R_TC,CONCATENATE(\"\", 'Tank Cleaning'!J67),\"\")","v":""},false,"Y"]
["$TC0_38",{"$f":"IF(R_TC,CONCATENATE(\"\", 'Tank Cleaning'!T72),\"\")","v":""},false,"Y"]
["$TC0_39",{"$f":"IF(R_TC,CONCATENATE(\"\", 'Tank Cleaning'!T74),\"\")","v":""},false,"Y"]
["$TC0_40",{"$f":"IF(R_TC,CONCATENATE(\"\", 'Tank Cleaning'!T76),\"\")","v":""},false,"Y"]
["$TC0_41",{"$f":"IF(R_TC,CONCATENATE(\"\", 'Tank Cleaning'!T78),\"\")","v":""},false,"Y"]
["$TC0_42",{"$f":"IF(R_TC,CONCATENATE(\"\", 'Tank Cleaning'!T80),\"\")","v":""},false,"Y"]
["$TC0_43",{"$f":"IF(R_TC,CONCATENATE(\"\", 'Tank Cleaning'!J82),\"\")","v":""},false,"Y"]
["$TC0_44",{"$f":"IF(R_TC,CONCATENATE(\"\", 'Tank Cleaning'!J87),\"\")","v":""},false,"N"]
["$TC0_45",{"$f":"IF(R_TC,CONCATENATE(\"\", 'Tank Cleaning'!T89),\"\")","v":""},false,"Y"]
["$TC0_46",{"$f":"IF(R_TC,CONCATENATE(\"\", 'Tank Cleaning'!K92),\"\")","v":""},false,"Y"]
["$TC0_47",{"$f":"IF(R_TC,CONCATENATE(\"\", 'Tank Cleaning'!T94),\"\")","v":""},false,"Y"]
["$TC0_48",{"$f":"IF(R_TC,CONCATENATE(\"\", 'Tank Cleaning'!T96),\"\")","v":""},false,"Y"]
["$TC0_49",{"$f":"IF(R_TC,CONCATENATE(\"\", 'Tank Cleaning'!T97),\"\")","v":""},false,"Y"]
["$TC0_50",{"$f":"IF(R_TC,CONCATENATE(\"\", 'Tank Cleaning'!T98),\"\")","v":""},false,"Y"]
["$TC0_51",{"$f":"IF(R_TC,CONCATENATE(\"\", 'Tank Cleaning'!T100),\"\")","v":""},false,"Y"]
["$TC0_52",{"$f":"IF(R_TC,CONCATENATE(\"\", 'Tank Cleaning'!T102),\"\")","v":""},false,"Y"]
["$TC0_53",{"$f":"IF(R_TC,CONCATENATE(\"\", 'Tank Cleaning'!T104),\"\")","v":""},false,"Y"]
["$TC0_54",{"$f":"IF(R_TC,CONCATENATE(\"\", 'Tank Cleaning'!T105),\"\")","v":""},false,"Y"]
["$TC0_55",{"$f":"IF(R_TC,CONCATENATE(\"\", 'Tank Cleaning'!T106),\"\")","v":""},false,"Y"]
["$TC0_56",{"$f":"IF(R_TC,CONCATENATE(\"\", 'Tank Cleaning'!T107),\"\")","v":""},false,"Y"]
["$TC0_57",{"$f":"IF(R_TC,CONCATENATE(\"\", 'Tank Cleaning'!T108),\"\")","v":""},false,"Y"]
["$TC0_58",{"$f":"IF(R_TC,CONCATENATE(\"\", 'Tank Cleaning'!T109),\"\")","v":""},false,"Y"]
["$TC0_59",{"$f":"IF(R_TC,CONCATENATE(\"\", 'Tank Cleaning'!T110),\"\")","v":""},false,"Y"]
["$TC0_60",{"$f":"IF(R_TC,CONCATENATE(\"\", 'Tank Cleaning'!T112),\"\")","v":""},false,"Y"]
["$TC0_61",{"$f":"IF(R_TC,CONCATENATE(\"\", 'Tank Cleaning'!T114),\"\")","v":""},false,"Y"]
["$TC0_62",{"$f":"IF(R_TC,CONCATENATE(\"\", 'Tank Cleaning'!T115),\"\")","v":""},false,"Y"]
["$TC0_63",{"$f":"IF(R_TC,CONCATENATE(\"\", 'Tank Cleaning'!T116),\"\")","v":""},false,"Y"]
["$TC0_64",{"$f":"IF(R_TC,CONCATENATE(\"\", 'Tank Cleaning'!T117),\"\")","v":""},false,"Y"]
["$TC0_65",{"$f":"IF(R_TC,CONCATENATE(\"\", 'Tank Cleaning'!T119),\"\")","v":""},false,"Y"]
["$ESAD0_2",{"$f":"IF(R_ESAD,CONCATENATE(\"\", ESAD!T13),\"\")","v":""},false,"N"]
["$ESAD0_3",{"$f":"IF(R_ESAD,CONCATENATE(\"\", ESAD!T14),\"\")","v":""},false,"N"]
["$ESAD0_4",{"$f":"IF(R_ESAD,CONCATENATE(\"\", ESAD!K16),\"\")","v":""},false,"N"]
["$ESAD0_5_0",{"$f":"IF(R_ESAD,CONCATENATE(\"\", ESAD!T18),\"\")","v":""},false,"N"]
["$ESAD0_5",{"$f":"IF(R_ESAD,CONCATENATE(\"\", ESAD!L20),\"\")","v":""},false,"N"]
["$ESAD0_6",{"$f":"IF(R_ESAD,CONCATENATE(\"\", ESAD!T22),\"\")","v":""},false,"N"]
["$ESAD0_7",{"$f":"IF(R_ESAD,CONCATENATE(\"\", ESAD!T24),\"\")","v":""},false,"N"]
["$ESAD0_8",{"$f":"IF(R_ESAD,CONCATENATE(\"\", ESAD!T26),\"\")","v":""},false,"N"]
["$ESAD0_9",{"$f":"IF(R_ESAD,CONCATENATE(\"\", ESAD!T27),\"\")","v":""},false,"N"]
["$ESAD0_10",{"$f":"IF(R_ESAD,CONCATENATE(\"\", ESAD!T28),\"\")","v":""},false,"N"]
["$ESAD0_11",{"$f":"IF(R_ESAD,CONCATENATE(\"\", ESAD!T30),\"\")","v":""},false,"N"]
["$ESAD0_12",{"$f":"IF(R_ESAD,CONCATENATE(\"\", ESAD!T32),\"\")","v":""},false,"N"]
["$ESAD0_14",{"$f":"IF(R_ESAD,CONCATENATE(\"\", ESAD!T35),\"\")","v":""},false,"N"]
["$ESAD0_15",{"$f":"IF(R_ESAD,CONCATENATE(\"\", ESAD!T37),\"\")","v":""},false,"N"]
["$ESAD0_16",{"$f":"IF(R_ESAD,CONCATENATE(\"\", ESAD!T38),\"\")","v":""},{"$f":"ISERROR(B254)","v":false},"N"]
["$ESAD0_17",{"$f":"IF(R_ESAD,CONCATENATE(\"\", ESAD!T39),\"\")","v":""},false,"N"]
["$ESAD0_18",{"$f":"IF(R_ESAD,CONCATENATE(\"\", ESAD!T41),\"\")","v":""},false,"N"]
["$ESAD0_19",{"$f":"IF(R_ESAD,CONCATENATE(\"\", ESAD!T43),\"\")","v":""},false,"N"]
["$ESAD0_20",{"$f":"IF(R_ESAD,CONCATENATE(\"\", ESAD!T45),\"\")","v":""},false,"N"]
["$ESAD0_21",{"$f":"IF(R_ESAD,CONCATENATE(\"\", ESAD!T46),\"\")","v":""},false,"N"]
["$ESAD0_22",{"$f":"IF(R_ESAD,CONCATENATE(\"\", ESAD!T47),\"\")","v":""},false,"N"]
["$ESAD0_23",{"$f":"IF(R_ESAD,CONCATENATE(\"\", ESAD!T48),\"\")","v":""},false,"N"]
["$ESAD0_24",{"$f":"IF(R_ESAD,CONCATENATE(\"\", ESAD!T49),\"\")","v":""},false,"N"]
["$ESAD0_25",{"$f":"IF(R_ESAD,CONCATENATE(\"\", ESAD!T50),\"\")","v":""},false,"N"]
["$ESAD0_26",{"$f":"IF(R_ESAD,CONCATENATE(\"\", ESAD!T51),\"\")","v":""},false,"N"]
["$ESAD0_27",{"$f":"IF(R_ESAD,CONCATENATE(\"\", ESAD!T53),\"\")","v":""},false,"N"]
["$ESAD0_29",{"$f":"IF(R_ESAD,CONCATENATE(\"\", ESAD!T56),\"\")","v":""},false,"N"]
["$ESAD0_30",{"$f":"IF(R_ESAD,CONCATENATE(\"\", ESAD!T57),\"\")","v":""},false,"N"]
["$ESAD0_31",{"$f":"IF(R_ESAD,CONCATENATE(\"\", ESAD!T58),\"\")","v":""},false,"N"]
["$ESAD0_33",{"$f":"IF(R_ESAD,CONCATENATE(\"\", ESAD!T61),\"\")","v":""},false,"N"]
["$ESAD0_34",{"$f":"IF(R_ESAD,CONCATENATE(\"\", ESAD!K62),\"\")","v":""},false,"N"]
["$ESAD0_35",{"$f":"IF(R_ESAD,CONCATENATE(\"\", ESAD!T64),\"\")","v":""},false,"N"]
["$ESAD0_36",{"$f":"IF(R_ESAD,CONCATENATE(\"\", ESAD!K65),\"\")","v":""},false,"N"]
["$ESAD0_37",{"$f":"IF(R_ESAD,CONCATENATE(\"\", ESAD!J67),\"\")","v":""},false,"N"]
["$ESAD0_38",{"$f":"IF(R_ESAD,CONCATENATE(\"\", ESAD!J69),\"\")","v":""},false,"N"]
["$WH0_2",{"$f":"IF(R_WH,CONCATENATE(\"\", Warehouse!T13),\"\")","v":""},false,"Y"]
["$WH0_3",{"$f":"IF(R_WH,CONCATENATE(\"\", Warehouse!T15),\"\")","v":""},false,"Y"]
["$WH0_4",{"$f":"IF(R_WH,CONCATENATE(\"\", Warehouse!T17),\"\")","v":""},false,"Y"]
["$WH0_5",{"$f":"IF(R_WH,CONCATENATE(\"\", Warehouse!T19),\"\")","v":""},false,"Y"]
["$WH0_6",{"$f":"IF(R_WH,CONCATENATE(\"\", Warehouse!T20),\"\")","v":""},false,"Y"]
["$WH0_7",{"$f":"IF(R_WH,CONCATENATE(\"\", Warehouse!T21),\"\")","v":""},false,"Y"]
["$WH0_8",{"$f":"IF(R_WH,CONCATENATE(\"\", Warehouse!T22),\"\")","v":""},false,"Y"]
["$WH0_9",{"$f":"IF(R_WH,CONCATENATE(\"\", Warehouse!T24),\"\")","v":""},false,"Y"]
["$WH0_10",{"$f":"IF(R_WH,CONCATENATE(\"\", Warehouse!T26),\"\")","v":""},false,"Y"]
["$WH0_11",{"$f":"IF(R_WH,CONCATENATE(\"\", Warehouse!T27),\"\")","v":""},false,"Y"]
["$WH0_12",{"$f":"IF(R_WH,CONCATENATE(\"\", Warehouse!T28),\"\")","v":""},false,"Y"]
["$WH0_13",{"$f":"IF(R_WH,CONCATENATE(\"\", Warehouse!T30),\"\")","v":""},false,"Y"]
["$WH0_14",{"$f":"IF(R_WH,CONCATENATE(\"\", Warehouse!T31),\"\")","v":""},false,"Y"]
["$WH0_15",{"$f":"IF(R_WH,CONCATENATE(\"\", Warehouse!T32),\"\")","v":""},false,"Y"]
["$WH0_16",{"$f":"IF(R_WH,CONCATENATE(\"\", Warehouse!T33),\"\")","v":""},false,"Y"]
["$WH0_17",{"$f":"IF(R_WH,CONCATENATE(\"\", Warehouse!T36),\"\")","v":""},false,"Y"]
["$WH0_18",{"$f":"IF(R_WH,CONCATENATE(\"\", Warehouse!K37),\"\")","v":""},false,"Y"]
["$WH0_19",{"$f":"IF(R_WH,CONCATENATE(\"\", Warehouse!T39),\"\")","v":""},false,"Y"]
["$WH0_20",{"$f":"IF(R_WH,CONCATENATE(\"\", Warehouse!K40),\"\")","v":""},false,"Y"]
["$WH0_21",{"$f":"IF(R_WH,CONCATENATE(\"\", Warehouse!J42),\"\")","v":""},false,"Y"]
["$WH0_22",{"$f":"IF(R_WH,CONCATENATE(\"\", Warehouse!J44),\"\")","v":""},false,"Y"]
["$WH1_0.WH1",{"$f":"IF(R_WH1,CONCATENATE(\"\", 'WH - II(1)'!D16),\"\")","v":""},false,"Y"]
["$WH1_0.WH6",{"$f":"IF(R_WH2,CONCATENATE(\"\", 'WH - II(2)'!D16),\"\")","v":""},false,"Y"]
["$WH1_0.WH11",{"$f":"IF(R_WH3,CONCATENATE(\"\", 'WH - II(3)'!D16),\"\")","v":""},false,"Y"]
["$WH1_0.WH2",{"$f":"IF(R_WH1,CONCATENATE(\"\", 'WH - II(1)'!D18),\"\")","v":""},false,"Y"]
["$WH1_0.WH7",{"$f":"IF(R_WH2,CONCATENATE(\"\", 'WH - II(2)'!D18),\"\")","v":""},false,"Y"]
["$WH1_0.WH12",{"$f":"IF(R_WH3,CONCATENATE(\"\", 'WH - II(3)'!D18),\"\")","v":""},false,"Y"]
["$WH1_0.WH3",{"$f":"IF(R_WH1,CONCATENATE(\"\", 'WH - II(1)'!D20),\"\")","v":""},false,"Y"]
["$WH1_0.WH8",{"$f":"IF(R_WH2,CONCATENATE(\"\", 'WH - II(2)'!D20),\"\")","v":""},false,"Y"]
["$WH1_0.WH13",{"$f":"IF(R_WH3,CONCATENATE(\"\", 'WH - II(3)'!D20),\"\")","v":""},false,"Y"]
["$WH1_0.WH4",{"$f":"IF(R_WH1,CONCATENATE(\"\", 'WH - II(1)'!D22),\"\")","v":""},false,"Y"]
["$WH1_0.WH9",{"$f":"IF(R_WH2,CONCATENATE(\"\", 'WH - II(2)'!D22),\"\")","v":""},false,"Y"]
["$WH1_0.WH14",{"$f":"IF(R_WH3,CONCATENATE(\"\", 'WH - II(3)'!D22),\"\")","v":""},false,"Y"]
["$WH1_0.WH5",{"$f":"IF(R_WH1,CONCATENATE(\"\", 'WH - II(1)'!D24),\"\")","v":""},false,"Y"]
["$WH1_0.WH10",{"$f":"IF(R_WH2,CONCATENATE(\"\", 'WH - II(2)'!D24),\"\")","v":""},false,"Y"]
["$WH1_0.WH15",{"$f":"IF(R_WH3,CONCATENATE(\"\", 'WH - II(3)'!D24),\"\")","v":""},false,"Y"]
["$WH1_1.1",{"$f":"IF(R_WH1,CONCATENATE(\"\", 'WH - II(1)'!L31),\"\")","v":""},false,"Y"]
["$WH1_1.1.C",{"$f":"IF(R_WH1,CONCATENATE(\"\", 'WH - II(1)'!D33),\"\")","v":""},false,"Y"]
["$WH1_1.2",{"$f":"IF(R_WH1,CONCATENATE(\"\", 'WH - II(1)'!L35),\"\")","v":""},false,"Y"]
["$WH1_1.2.C",{"$f":"IF(R_WH1,CONCATENATE(\"\", 'WH - II(1)'!D37),\"\")","v":""},false,"Y"]
["$WH1_1.3",{"$f":"IF(R_WH1,CONCATENATE(\"\", 'WH - II(1)'!L39),\"\")","v":""},false,"Y"]
["$WH1_1.3.C",{"$f":"IF(R_WH1,CONCATENATE(\"\", 'WH - II(1)'!D41),\"\")","v":""},false,"Y"]
["$WH1_1.4",{"$f":"IF(R_WH1,CONCATENATE(\"\", 'WH - II(1)'!L43),\"\")","v":""},false,"Y"]
["$WH1_1.4.C",{"$f":"IF(R_WH1,CONCATENATE(\"\", 'WH - II(1)'!D45),\"\")","v":""},{"$f":"ISERROR(B318)","v":false},"Y"]
["$WH1_1.5",{"$f":"IF(R_WH1,CONCATENATE(\"\", 'WH - II(1)'!L47),\"\")","v":""},false,"Y"]
["$WH1_1.5.C",{"$f":"IF(R_WH1,CONCATENATE(\"\", 'WH - II(1)'!D49),\"\")","v":""},false,"Y"]
["$WH1_1.6",{"$f":"IF(R_WH1,CONCATENATE(\"\", 'WH - II(1)'!L51),\"\")","v":""},false,"Y"]
["$WH1_1.6.C",{"$f":"IF(R_WH1,CONCATENATE(\"\", 'WH - II(1)'!D53),\"\")","v":""},false,"Y"]
["$WH1_1.7",{"$f":"IF(R_WH1,CONCATENATE(\"\", 'WH - II(1)'!L55),\"\")","v":""},false,"Y"]
["$WH1_1.7.C",{"$f":"IF(R_WH1,CONCATENATE(\"\", 'WH - II(1)'!D57),\"\")","v":""},false,"Y"]
["$WH1_1.8",{"$f":"IF(R_WH1,CONCATENATE(\"\", 'WH - II(1)'!L59),\"\")","v":""},false,"Y"]
["$WH1_1.8.C",{"$f":"IF(R_WH1,CONCATENATE(\"\", 'WH - II(1)'!D61),\"\")","v":""},false,"Y"]
["$WH1_1.9",{"$f":"IF(R_WH1,CONCATENATE(\"\", 'WH - II(1)'!L63),\"\")","v":""},false,"Y"]
["$WH1_1.9.C",{"$f":"IF(R_WH1,CONCATENATE(\"\", 'WH - II(1)'!D65),\"\")","v":""},false,"Y"]
["$WH1_1.10",{"$f":"IF(R_WH1,CONCATENATE(\"\", 'WH - II(1)'!L67),\"\")","v":""},false,"Y"]
["$WH1_1.10.C",{"$f":"IF(R_WH1,CONCATENATE(\"\", 'WH - II(1)'!D69),\"\")","v":""},false,"Y"]
["$WH1_2.1.WH1",{"$f":"IF(R_WH1,CONCATENATE(\"\", 'WH - II(1)'!D73),\"\")","v":""},false,"Y"]
["$WH1_2.1.WH2",{"$f":"IF(R_WH1,CONCATENATE(\"\", 'WH - II(1)'!F73),\"\")","v":""},false,"Y"]
["$WH1_2.1.WH3",{"$f":"IF(R_WH1,CONCATENATE(\"\", 'WH - II(1)'!H73),\"\")","v":""},false,"Y"]
["$WH1_2.1.WH4",{"$f":"IF(R_WH1,CONCATENATE(\"\", 'WH - II(1)'!J73),\"\")","v":""},false,"Y"]
["$WH1_2.1.WH5",{"$f":"IF(R_WH1,CONCATENATE(\"\", 'WH - II(1)'!L73),\"\")","v":""},false,"Y"]
["$WH1_2.1.WH6",{"$f":"IF(R_WH2,CONCATENATE(\"\", 'WH - II(2)'!D73),\"\")","v":""},false,"Y"]
["$WH1_2.1.WH7",{"$f":"IF(R_WH2,CONCATENATE(\"\", 'WH - II(2)'!F73),\"\")","v":""},false,"Y"]
["$WH1_2.1.WH8",{"$f":"IF(R_WH2,CONCATENATE(\"\", 'WH - II(2)'!H73),\"\")","v":""},false,"Y"]
["$WH1_2.1.WH9",{"$f":"IF(R_WH2,CONCATENATE(\"\", 'WH - II(2)'!J73),\"\")","v":""},false,"Y"]
["$WH1_2.1.WH10",{"$f":"IF(R_WH2,CONCATENATE(\"\", 'WH - II(2)'!L73),\"\")","v":""},false,"Y"]
["$WH1_2.1.WH11",{"$f":"IF(R_WH3,CONCATENATE(\"\", 'WH - II(3)'!D73),\"\")","v":""},false,"Y"]
["$WH1_2.1.WH12",{"$f":"IF(R_WH3,CONCATENATE(\"\", 'WH - II(3)'!F73),\"\")","v":""},false,"Y"]
["$WH1_2.1.WH13",{"$f":"IF(R_WH3,CONCATENATE(\"\", 'WH - II(3)'!H73),\"\")","v":""},false,"Y"]
["$WH1_2.1.WH14",{"$f":"IF(R_WH3,CONCATENATE(\"\", 'WH - II(3)'!J73),\"\")","v":""},false,"Y"]
["$WH1_2.1.WH15",{"$f":"IF(R_WH3,CONCATENATE(\"\", 'WH - II(3)'!L73),\"\")","v":""},false,"Y"]
["$WH1_2.1.C1",{"$f":"IF(R_WH1,CONCATENATE(\"\", 'WH - II(1)'!D75),\"\")","v":""},false,"Y"]
["$WH1_2.1.C2",{"$f":"IF(R_WH2,CONCATENATE(\"\", 'WH - II(2)'!D75),\"\")","v":""},false,"Y"]
["$WH1_2.1.C3",{"$f":"IF(R_WH3,CONCATENATE(\"\", 'WH - II(3)'!D75),\"\")","v":""},false,"Y"]
["$WH1_3.1.WH1",{"$f":"IF(R_WH1,CONCATENATE(\"\", 'WH - II(1)'!D78),\"\")","v":""},false,"Y"]
["$WH1_3.1.WH2",{"$f":"IF(R_WH1,CONCATENATE(\"\", 'WH - II(1)'!F78),\"\")","v":""},false,"Y"]
["$WH1_3.1.WH3",{"$f":"IF(R_WH1,CONCATENATE(\"\", 'WH - II(1)'!H78),\"\")","v":""},false,"Y"]
["$WH1_3.1.WH4",{"$f":"IF(R_WH1,CONCATENATE(\"\", 'WH - II(1)'!J78),\"\")","v":""},false,"Y"]
["$WH1_3.1.WH5",{"$f":"IF(R_WH1,CONCATENATE(\"\", 'WH - II(1)'!L78),\"\")","v":""},false,"Y"]
["$WH1_3.1.WH6",{"$f":"IF(R_WH2,CONCATENATE(\"\", 'WH - II(2)'!D78),\"\")","v":""},false,"Y"]
["$WH1_3.1.WH7",{"$f":"IF(R_WH2,CONCATENATE(\"\", 'WH - II(2)'!F78),\"\")","v":""},false,"Y"]
["$WH1_3.1.WH8",{"$f":"IF(R_WH2,CONCATENATE(\"\", 'WH - II(2)'!H78),\"\")","v":""},false,"Y"]
["$WH1_3.1.WH9",{"$f":"IF(R_WH2,CONCATENATE(\"\", 'WH - II(2)'!J78),\"\")","v":""},false,"Y"]
["$WH1_3.1.WH10",{"$f":"IF(R_WH2,CONCATENATE(\"\", 'WH - II(2)'!L78),\"\")","v":""},false,"Y"]
["$WH1_3.1.WH11",{"$f":"IF(R_WH3,CONCATENATE(\"\", 'WH - II(3)'!D78),\"\")","v":""},false,"Y"]
["$WH1_3.1.WH12",{"$f":"IF(R_WH3,CONCATENATE(\"\", 'WH - II(3)'!F78),\"\")","v":""},false,"Y"]
["$WH1_3.1.WH13",{"$f":"IF(R_WH3,CONCATENATE(\"\", 'WH - II(3)'!H78),\"\")","v":""},false,"Y"]
["$WH1_3.1.WH14",{"$f":"IF(R_WH3,CONCATENATE(\"\", 'WH - II(3)'!J78),\"\")","v":""},false,"Y"]
["$WH1_3.1.WH15",{"$f":"IF(R_WH3,CONCATENATE(\"\", 'WH - II(3)'!L78),\"\")","v":""},false,"Y"]
["$WH1_3.1.C1",{"$f":"IF(R_WH1,CONCATENATE(\"\", 'WH - II(1)'!D80),\"\")","v":""},false,"Y"]
["$WH1_3.1.C2",{"$f":"IF(R_WH2,CONCATENATE(\"\", 'WH - II(2)'!D80),\"\")","v":""},false,"Y"]
["$WH1_3.1.C3",{"$f":"IF(R_WH3,CONCATENATE(\"\", 'WH - II(3)'!D80),\"\")","v":""},false,"Y"]
["$WH1_3.2.WH1",{"$f":"IF(R_WH1,CONCATENATE(\"\", 'WH - II(1)'!D82),\"\")","v":""},false,"Y"]
["$WH1_3.2.WH2",{"$f":"IF(R_WH1,CONCATENATE(\"\", 'WH - II(1)'!F82),\"\")","v":""},false,"Y"]
["$WH1_3.2.WH3",{"$f":"IF(R_WH1,CONCATENATE(\"\", 'WH - II(1)'!H82),\"\")","v":""},false,"Y"]
["$WH1_3.2.WH4",{"$f":"IF(R_WH1,CONCATENATE(\"\", 'WH - II(1)'!J82),\"\")","v":""},false,"Y"]
["$WH1_3.2.WH5",{"$f":"IF(R_WH1,CONCATENATE(\"\", 'WH - II(1)'!L82),\"\")","v":""},false,"Y"]
["$WH1_3.2.WH6",{"$f":"IF(R_WH2,CONCATENATE(\"\", 'WH - II(2)'!D82),\"\")","v":""},false,"Y"]
["$WH1_3.2.WH7",{"$f":"IF(R_WH2,CONCATENATE(\"\", 'WH - II(2)'!F82),\"\")","v":""},false,"Y"]
["$WH1_3.2.WH8",{"$f":"IF(R_WH2,CONCATENATE(\"\", 'WH - II(2)'!H82),\"\")","v":""},false,"Y"]
["$WH1_3.2.WH9",{"$f":"IF(R_WH2,CONCATENATE(\"\", 'WH - II(2)'!J82),\"\")","v":""},false,"Y"]
["$WH1_3.2.WH10",{"$f":"IF(R_WH2,CONCATENATE(\"\", 'WH - II(2)'!L82),\"\")","v":""},false,"Y"]
["$WH1_3.2.WH11",{"$f":"IF(R_WH3,CONCATENATE(\"\", 'WH - II(3)'!D82),\"\")","v":""},false,"Y"]
["$WH1_3.2.WH12",{"$f":"IF(R_WH3,CONCATENATE(\"\", 'WH - II(3)'!F82),\"\")","v":""},false,"Y"]
["$WH1_3.2.WH13",{"$f":"IF(R_WH3,CONCATENATE(\"\", 'WH - II(3)'!H82),\"\")","v":""},false,"Y"]
["$WH1_3.2.WH14",{"$f":"IF(R_WH3,CONCATENATE(\"\", 'WH - II(3)'!J82),\"\")","v":""},false,"Y"]
["$WH1_3.2.WH15",{"$f":"IF(R_WH3,CONCATENATE(\"\", 'WH - II(3)'!L82),\"\")","v":""},false,"Y"]
["$WH1_3.2.C1",{"$f":"IF(R_WH1,CONCATENATE(\"\", 'WH - II(1)'!D84),\"\")","v":""},{"$f":"ISERROR(B382)","v":false},"Y"]
["$WH1_3.2.C2",{"$f":"IF(R_WH2,CONCATENATE(\"\", 'WH - II(2)'!D84),\"\")","v":""},false,"Y"]
["$WH1_3.2.C3",{"$f":"IF(R_WH3,CONCATENATE(\"\", 'WH - II(3)'!D84),\"\")","v":""},false,"Y"]
["$WH1_3.3.WH1",{"$f":"IF(R_WH1,CONCATENATE(\"\", 'WH - II(1)'!D86),\"\")","v":""},false,"Y"]
["$WH1_3.3.WH2",{"$f":"IF(R_WH1,CONCATENATE(\"\", 'WH - II(1)'!F86),\"\")","v":""},false,"Y"]
["$WH1_3.3.WH3",{"$f":"IF(R_WH1,CONCATENATE(\"\", 'WH - II(1)'!H86),\"\")","v":""},false,"Y"]
["$WH1_3.3.WH4",{"$f":"IF(R_WH1,CONCATENATE(\"\", 'WH - II(1)'!J86),\"\")","v":""},false,"Y"]
["$WH1_3.3.WH5",{"$f":"IF(R_WH1,CONCATENATE(\"\", 'WH - II(1)'!L86),\"\")","v":""},false,"Y"]
["$WH1_3.3.WH6",{"$f":"IF(R_WH2,CONCATENATE(\"\", 'WH - II(2)'!D86),\"\")","v":""},false,"Y"]
["$WH1_3.3.WH7",{"$f":"IF(R_WH2,CONCATENATE(\"\", 'WH - II(2)'!F86),\"\")","v":""},false,"Y"]
["$WH1_3.3.WH8",{"$f":"IF(R_WH2,CONCATENATE(\"\", 'WH - II(2)'!H86),\"\")","v":""},false,"Y"]
["$WH1_3.3.WH9",{"$f":"IF(R_WH2,CONCATENATE(\"\", 'WH - II(2)'!J86),\"\")","v":""},false,"Y"]
["$WH1_3.3.WH10",{"$f":"IF(R_WH2,CONCATENATE(\"\", 'WH - II(2)'!L86),\"\")","v":""},false,"Y"]
["$WH1_3.3.WH11",{"$f":"IF(R_WH3,CONCATENATE(\"\", 'WH - II(3)'!D86),\"\")","v":""},false,"Y"]
["$WH1_3.3.WH12",{"$f":"IF(R_WH3,CONCATENATE(\"\", 'WH - II(3)'!F86),\"\")","v":""},false,"Y"]
["$WH1_3.3.WH13",{"$f":"IF(R_WH3,CONCATENATE(\"\", 'WH - II(3)'!H86),\"\")","v":""},false,"Y"]
["$WH1_3.3.WH14",{"$f":"IF(R_WH3,CONCATENATE(\"\", 'WH - II(3)'!J86),\"\")","v":""},false,"Y"]
["$WH1_3.3.WH15",{"$f":"IF(R_WH3,CONCATENATE(\"\", 'WH - II(3)'!L86),\"\")","v":""},false,"Y"]
["$WH1_3.3.C1",{"$f":"IF(R_WH1,CONCATENATE(\"\", 'WH - II(1)'!D88),\"\")","v":""},false,"Y"]
["$WH1_3.3.C2",{"$f":"IF(R_WH2,CONCATENATE(\"\", 'WH - II(2)'!D88),\"\")","v":""},false,"Y"]
["$WH1_3.3.C3",{"$f":"IF(R_WH3,CONCATENATE(\"\", 'WH - II(3)'!D88),\"\")","v":""},false,"Y"]
["$WH1_3.4.1.WH1",{"$f":"IF(R_WH1,CONCATENATE(\"\", 'WH - II(1)'!D91),\"\")","v":""},false,"Y"]
["$WH1_3.4.1.WH2",{"$f":"IF(R_WH1,CONCATENATE(\"\", 'WH - II(1)'!F91),\"\")","v":""},false,"Y"]
["$WH1_3.4.1.WH3",{"$f":"IF(R_WH1,CONCATENATE(\"\", 'WH - II(1)'!H91),\"\")","v":""},false,"Y"]
["$WH1_3.4.1.WH4",{"$f":"IF(R_WH1,CONCATENATE(\"\", 'WH - II(1)'!J91),\"\")","v":""},false,"Y"]
["$WH1_3.4.1.WH5",{"$f":"IF(R_WH1,CONCATENATE(\"\", 'WH - II(1)'!L91),\"\")","v":""},false,"Y"]
["$WH1_3.4.1.WH6",{"$f":"IF(R_WH2,CONCATENATE(\"\", 'WH - II(2)'!D91),\"\")","v":""},false,"Y"]
["$WH1_3.4.1.WH7",{"$f":"IF(R_WH2,CONCATENATE(\"\", 'WH - II(2)'!F91),\"\")","v":""},false,"Y"]
["$WH1_3.4.1.WH8",{"$f":"IF(R_WH2,CONCATENATE(\"\", 'WH - II(2)'!H91),\"\")","v":""},false,"Y"]
["$WH1_3.4.1.WH9",{"$f":"IF(R_WH2,CONCATENATE(\"\", 'WH - II(2)'!J91),\"\")","v":""},false,"Y"]
["$WH1_3.4.1.WH10",{"$f":"IF(R_WH2,CONCATENATE(\"\", 'WH - II(2)'!L91),\"\")","v":""},false,"Y"]
["$WH1_3.4.1.WH11",{"$f":"IF(R_WH3,CONCATENATE(\"\", 'WH - II(3)'!D91),\"\")","v":""},false,"Y"]
["$WH1_3.4.1.WH12",{"$f":"IF(R_WH3,CONCATENATE(\"\", 'WH - II(3)'!F91),\"\")","v":""},false,"Y"]
["$WH1_3.4.1.WH13",{"$f":"IF(R_WH3,CONCATENATE(\"\", 'WH - II(3)'!H91),\"\")","v":""},false,"Y"]
["$WH1_3.4.1.WH14",{"$f":"IF(R_WH3,CONCATENATE(\"\", 'WH - II(3)'!J91),\"\")","v":""},false,"Y"]
["$WH1_3.4.1.WH15",{"$f":"IF(R_WH3,CONCATENATE(\"\", 'WH - II(3)'!L91),\"\")","v":""},false,"Y"]
["$WH1_3.4.1.C1",{"$f":"IF(R_WH1,CONCATENATE(\"\", 'WH - II(1)'!D93),\"\")","v":""},false,"Y"]
["$WH1_3.4.1.C2",{"$f":"IF(R_WH2,CONCATENATE(\"\", 'WH - II(2)'!D93),\"\")","v":""},false,"Y"]
["$WH1_3.4.1.C3",{"$f":"IF(R_WH3,CONCATENATE(\"\", 'WH - II(3)'!D93),\"\")","v":""},false,"Y"]
["$WH1_3.4.2.WH1",{"$f":"IF(R_WH1,CONCATENATE(\"\", 'WH - II(1)'!D95),\"\")","v":""},false,"Y"]
["$WH1_3.4.2.WH2",{"$f":"IF(R_WH1,CONCATENATE(\"\", 'WH - II(1)'!F95),\"\")","v":""},false,"Y"]
["$WH1_3.4.2.WH3",{"$f":"IF(R_WH1,CONCATENATE(\"\", 'WH - II(1)'!H95),\"\")","v":""},false,"Y"]
["$WH1_3.4.2.WH4",{"$f":"IF(R_WH1,CONCATENATE(\"\", 'WH - II(1)'!J95),\"\")","v":""},false,"Y"]
["$WH1_3.4.2.WH5",{"$f":"IF(R_WH1,CONCATENATE(\"\", 'WH - II(1)'!L95),\"\")","v":""},false,"Y"]
["$WH1_3.4.2.WH6",{"$f":"IF(R_WH2,CONCATENATE(\"\", 'WH - II(2)'!D95),\"\")","v":""},false,"Y"]
["$WH1_3.4.2.WH7",{"$f":"IF(R_WH2,CONCATENATE(\"\", 'WH - II(2)'!F95),\"\")","v":""},false,"Y"]
["$WH1_3.4.2.WH8",{"$f":"IF(R_WH2,CONCATENATE(\"\", 'WH - II(2)'!H95),\"\")","v":""},false,"Y"]
["$WH1_3.4.2.WH9",{"$f":"IF(R_WH2,CONCATENATE(\"\", 'WH - II(2)'!J95),\"\")","v":""},false,"Y"]
["$WH1_3.4.2.WH10",{"$f":"IF(R_WH2,CONCATENATE(\"\", 'WH - II(2)'!L95),\"\")","v":""},false,"Y"]
["$WH1_3.4.2.WH11",{"$f":"IF(R_WH3,CONCATENATE(\"\", 'WH - II(3)'!D95),\"\")","v":""},false,"Y"]
["$WH1_3.4.2.WH12",{"$f":"IF(R_WH3,CONCATENATE(\"\", 'WH - II(3)'!F95),\"\")","v":""},false,"Y"]
["$WH1_3.4.2.WH13",{"$f":"IF(R_WH3,CONCATENATE(\"\", 'WH - II(3)'!H95),\"\")","v":""},false,"Y"]
["$WH1_3.4.2.WH14",{"$f":"IF(R_WH3,CONCATENATE(\"\", 'WH - II(3)'!J95),\"\")","v":""},false,"Y"]
["$WH1_3.4.2.WH15",{"$f":"IF(R_WH3,CONCATENATE(\"\", 'WH - II(3)'!L95),\"\")","v":""},false,"Y"]
["$WH1_3.4.2.C1",{"$f":"IF(R_WH1,CONCATENATE(\"\", 'WH - II(1)'!D97),\"\")","v":""},false,"Y"]
["$WH1_3.4.2.C2",{"$f":"IF(R_WH2,CONCATENATE(\"\", 'WH - II(2)'!D97),\"\")","v":""},false,"Y"]
["$WH1_3.4.2.C3",{"$f":"IF(R_WH3,CONCATENATE(\"\", 'WH - II(3)'!D97),\"\")","v":""},false,"Y"]
["$WH1_3.4.3.WH1",{"$f":"IF(R_WH1,CONCATENATE(\"\", 'WH - II(1)'!D99),\"\")","v":""},false,"Y"]
["$WH1_3.4.3.WH2",{"$f":"IF(R_WH1,CONCATENATE(\"\", 'WH - II(1)'!F99),\"\")","v":""},false,"Y"]
["$WH1_3.4.3.WH3",{"$f":"IF(R_WH1,CONCATENATE(\"\", 'WH - II(1)'!H99),\"\")","v":""},false,"Y"]
["$WH1_3.4.3.WH4",{"$f":"IF(R_WH1,CONCATENATE(\"\", 'WH - II(1)'!J99),\"\")","v":""},false,"Y"]
["$WH1_3.4.3.WH5",{"$f":"IF(R_WH1,CONCATENATE(\"\", 'WH - II(1)'!L99),\"\")","v":""},false,"Y"]
["$WH1_3.4.3.WH6",{"$f":"IF(R_WH2,CONCATENATE(\"\", 'WH - II(2)'!D99),\"\")","v":""},false,"Y"]
["$WH1_3.4.3.WH7",{"$f":"IF(R_WH2,CONCATENATE(\"\", 'WH - II(2)'!F99),\"\")","v":""},false,"Y"]
["$WH1_3.4.3.WH8",{"$f":"IF(R_WH2,CONCATENATE(\"\", 'WH - II(2)'!H99),\"\")","v":""},{"$f":"ISERROR(B446)","v":false},"Y"]
["$WH1_3.4.3.WH9",{"$f":"IF(R_WH2,CONCATENATE(\"\", 'WH - II(2)'!J99),\"\")","v":""},false,"Y"]
["$WH1_3.4.3.WH10",{"$f":"IF(R_WH2,CONCATENATE(\"\", 'WH - II(2)'!L99),\"\")","v":""},false,"Y"]
["$WH1_3.4.3.WH11",{"$f":"IF(R_WH3,CONCATENATE(\"\", 'WH - II(3)'!D99),\"\")","v":""},false,"Y"]
["$WH1_3.4.3.WH12",{"$f":"IF(R_WH3,CONCATENATE(\"\", 'WH - II(3)'!F99),\"\")","v":""},false,"Y"]
["$WH1_3.4.3.WH13",{"$f":"IF(R_WH3,CONCATENATE(\"\", 'WH - II(3)'!H99),\"\")","v":""},false,"Y"]
["$WH1_3.4.3.WH14",{"$f":"IF(R_WH3,CONCATENATE(\"\", 'WH - II(3)'!J99),\"\")","v":""},false,"Y"]
["$WH1_3.4.3.WH15",{"$f":"IF(R_WH3,CONCATENATE(\"\", 'WH - II(3)'!L99),\"\")","v":""},false,"Y"]
["$WH1_3.4.3.C1",{"$f":"IF(R_WH1,CONCATENATE(\"\", 'WH - II(1)'!D101),\"\")","v":""},false,"Y"]
["$WH1_3.4.3.C2",{"$f":"IF(R_WH2,CONCATENATE(\"\", 'WH - II(2)'!D101),\"\")","v":""},false,"Y"]
["$WH1_3.4.3.C3",{"$f":"IF(R_WH3,CONCATENATE(\"\", 'WH - II(3)'!D101),\"\")","v":""},false,"Y"]
["$WH1_3.4.4.WH1",{"$f":"IF(R_WH1,CONCATENATE(\"\", 'WH - II(1)'!D103),\"\")","v":""},false,"Y"]
["$WH1_3.4.4.WH2",{"$f":"IF(R_WH1,CONCATENATE(\"\", 'WH - II(1)'!F103),\"\")","v":""},false,"Y"]
["$WH1_3.4.4.WH3",{"$f":"IF(R_WH1,CONCATENATE(\"\", 'WH - II(1)'!H103),\"\")","v":""},false,"Y"]
["$WH1_3.4.4.WH4",{"$f":"IF(R_WH1,CONCATENATE(\"\", 'WH - II(1)'!J103),\"\")","v":""},false,"Y"]
["$WH1_3.4.4.WH5",{"$f":"IF(R_WH1,CONCATENATE(\"\", 'WH - II(1)'!L103),\"\")","v":""},false,"Y"]
["$WH1_3.4.4.WH6",{"$f":"IF(R_WH2,CONCATENATE(\"\", 'WH - II(2)'!D103),\"\")","v":""},false,"Y"]
["$WH1_3.4.4.WH7",{"$f":"IF(R_WH2,CONCATENATE(\"\", 'WH - II(2)'!F103),\"\")","v":""},false,"Y"]
["$WH1_3.4.4.WH8",{"$f":"IF(R_WH2,CONCATENATE(\"\", 'WH - II(2)'!H103),\"\")","v":""},false,"Y"]
["$WH1_3.4.4.WH9",{"$f":"IF(R_WH2,CONCATENATE(\"\", 'WH - II(2)'!J103),\"\")","v":""},false,"Y"]
["$WH1_3.4.4.WH10",{"$f":"IF(R_WH2,CONCATENATE(\"\", 'WH - II(2)'!L103),\"\")","v":""},false,"Y"]
["$WH1_3.4.4.WH11",{"$f":"IF(R_WH3,CONCATENATE(\"\", 'WH - II(3)'!D103),\"\")","v":""},false,"Y"]
["$WH1_3.4.4.WH12",{"$f":"IF(R_WH3,CONCATENATE(\"\", 'WH - II(3)'!F103),\"\")","v":""},false,"Y"]
["$WH1_3.4.4.WH13",{"$f":"IF(R_WH3,CONCATENATE(\"\", 'WH - II(3)'!H103),\"\")","v":""},false,"Y"]
["$WH1_3.4.4.WH14",{"$f":"IF(R_WH3,CONCATENATE(\"\", 'WH - II(3)'!J103),\"\")","v":""},false,"Y"]
["$WH1_3.4.4.WH15",{"$f":"IF(R_WH3,CONCATENATE(\"\", 'WH - II(3)'!L103),\"\")","v":""},false,"Y"]
["$WH1_3.4.4.C1",{"$f":"IF(R_WH1,CONCATENATE(\"\", 'WH - II(1)'!D105),\"\")","v":""},false,"Y"]
["$WH1_3.4.4.C2",{"$f":"IF(R_WH2,CONCATENATE(\"\", 'WH - II(2)'!D105),\"\")","v":""},false,"Y"]
["$WH1_3.4.4.C3",{"$f":"IF(R_WH3,CONCATENATE(\"\", 'WH - II(3)'!D105),\"\")","v":""},false,"Y"]
["$WH1_3.4.5.WH1",{"$f":"IF(R_WH1,CONCATENATE(\"\", 'WH - II(1)'!D107),\"\")","v":""},false,"Y"]
["$WH1_3.4.5.WH2",{"$f":"IF(R_WH1,CONCATENATE(\"\", 'WH - II(1)'!F107),\"\")","v":""},false,"Y"]
["$WH1_3.4.5.WH3",{"$f":"IF(R_WH1,CONCATENATE(\"\", 'WH - II(1)'!H107),\"\")","v":""},false,"Y"]
["$WH1_3.4.5.WH4",{"$f":"IF(R_WH1,CONCATENATE(\"\", 'WH - II(1)'!J107),\"\")","v":""},false,"Y"]
["$WH1_3.4.5.WH5",{"$f":"IF(R_WH1,CONCATENATE(\"\", 'WH - II(1)'!L107),\"\")","v":""},false,"Y"]
["$WH1_3.4.5.WH6",{"$f":"IF(R_WH2,CONCATENATE(\"\", 'WH - II(2)'!D107),\"\")","v":""},false,"Y"]
["$WH1_3.4.5.WH7",{"$f":"IF(R_WH2,CONCATENATE(\"\", 'WH - II(2)'!F107),\"\")","v":""},false,"Y"]
["$WH1_3.4.5.WH8",{"$f":"IF(R_WH2,CONCATENATE(\"\", 'WH - II(2)'!H107),\"\")","v":""},false,"Y"]
["$WH1_3.4.5.WH9",{"$f":"IF(R_WH2,CONCATENATE(\"\", 'WH - II(2)'!J107),\"\")","v":""},false,"Y"]
["$WH1_3.4.5.WH10",{"$f":"IF(R_WH2,CONCATENATE(\"\", 'WH - II(2)'!L107),\"\")","v":""},false,"Y"]
["$WH1_3.4.5.WH11",{"$f":"IF(R_WH3,CONCATENATE(\"\", 'WH - II(3)'!D107),\"\")","v":""},false,"Y"]
["$WH1_3.4.5.WH12",{"$f":"IF(R_WH3,CONCATENATE(\"\", 'WH - II(3)'!F107),\"\")","v":""},false,"Y"]
["$WH1_3.4.5.WH13",{"$f":"IF(R_WH3,CONCATENATE(\"\", 'WH - II(3)'!H107),\"\")","v":""},false,"Y"]
["$WH1_3.4.5.WH14",{"$f":"IF(R_WH3,CONCATENATE(\"\", 'WH - II(3)'!J107),\"\")","v":""},false,"Y"]
["$WH1_3.4.5.WH15",{"$f":"IF(R_WH3,CONCATENATE(\"\", 'WH - II(3)'!L107),\"\")","v":""},false,"Y"]
["$WH1_3.4.5.C1",{"$f":"IF(R_WH1,CONCATENATE(\"\", 'WH - II(1)'!D109),\"\")","v":""},false,"Y"]
["$WH1_3.4.5.C2",{"$f":"IF(R_WH2,CONCATENATE(\"\", 'WH - II(2)'!D109),\"\")","v":""},false,"Y"]
["$WH1_3.4.5.C3",{"$f":"IF(R_WH3,CONCATENATE(\"\", 'WH - II(3)'!D109),\"\")","v":""},false,"Y"]
["$WH1_3.4.6.WH1",{"$f":"IF(R_WH1,CONCATENATE(\"\", 'WH - II(1)'!D111),\"\")","v":""},false,"Y"]
["$WH1_3.4.6.WH2",{"$f":"IF(R_WH1,CONCATENATE(\"\", 'WH - II(1)'!F111),\"\")","v":""},false,"Y"]
["$WH1_3.4.6.WH3",{"$f":"IF(R_WH1,CONCATENATE(\"\", 'WH - II(1)'!H111),\"\")","v":""},false,"Y"]
["$WH1_3.4.6.WH4",{"$f":"IF(R_WH1,CONCATENATE(\"\", 'WH - II(1)'!J111),\"\")","v":""},false,"Y"]
["$WH1_3.4.6.WH5",{"$f":"IF(R_WH1,CONCATENATE(\"\", 'WH - II(1)'!L111),\"\")","v":""},false,"Y"]
["$WH1_3.4.6.WH6",{"$f":"IF(R_WH2,CONCATENATE(\"\", 'WH - II(2)'!D111),\"\")","v":""},false,"Y"]
["$WH1_3.4.6.WH7",{"$f":"IF(R_WH2,CONCATENATE(\"\", 'WH - II(2)'!F111),\"\")","v":""},false,"Y"]
["$WH1_3.4.6.WH8",{"$f":"IF(R_WH2,CONCATENATE(\"\", 'WH - II(2)'!H111),\"\")","v":""},false,"Y"]
["$WH1_3.4.6.WH9",{"$f":"IF(R_WH2,CONCATENATE(\"\", 'WH - II(2)'!J111),\"\")","v":""},false,"Y"]
["$WH1_3.4.6.WH10",{"$f":"IF(R_WH2,CONCATENATE(\"\", 'WH - II(2)'!L111),\"\")","v":""},false,"Y"]
["$WH1_3.4.6.WH11",{"$f":"IF(R_WH3,CONCATENATE(\"\", 'WH - II(3)'!D111),\"\")","v":""},false,"Y"]
["$WH1_3.4.6.WH12",{"$f":"IF(R_WH3,CONCATENATE(\"\", 'WH - II(3)'!F111),\"\")","v":""},false,"Y"]
["$WH1_3.4.6.WH13",{"$f":"IF(R_WH3,CONCATENATE(\"\", 'WH - II(3)'!H111),\"\")","v":""},false,"Y"]
["$WH1_3.4.6.WH14",{"$f":"IF(R_WH3,CONCATENATE(\"\", 'WH - II(3)'!J111),\"\")","v":""},false,"Y"]
["$WH1_3.4.6.WH15",{"$f":"IF(R_WH3,CONCATENATE(\"\", 'WH - II(3)'!L111),\"\")","v":""},false,"Y"]
["$WH1_3.4.6.C1",{"$f":"IF(R_WH1,CONCATENATE(\"\", 'WH - II(1)'!D113),\"\")","v":""},false,"Y"]
["$WH1_3.4.6.C2",{"$f":"IF(R_WH2,CONCATENATE(\"\", 'WH - II(2)'!D113),\"\")","v":""},false,"Y"]
["$WH1_3.4.6.C3",{"$f":"IF(R_WH3,CONCATENATE(\"\", 'WH - II(3)'!D113),\"\")","v":""},{"$f":"ISERROR(B510)","v":false},"Y"]
["$WH1_3.4.7.WH1",{"$f":"IF(R_WH1,CONCATENATE(\"\", 'WH - II(1)'!D115),\"\")","v":""},false,"Y"]
["$WH1_3.4.7.WH2",{"$f":"IF(R_WH1,CONCATENATE(\"\", 'WH - II(1)'!F115),\"\")","v":""},false,"Y"]
["$WH1_3.4.7.WH3",{"$f":"IF(R_WH1,CONCATENATE(\"\", 'WH - II(1)'!H115),\"\")","v":""},false,"Y"]
["$WH1_3.4.7.WH4",{"$f":"IF(R_WH1,CONCATENATE(\"\", 'WH - II(1)'!J115),\"\")","v":""},false,"Y"]
["$WH1_3.4.7.WH5",{"$f":"IF(R_WH1,CONCATENATE(\"\", 'WH - II(1)'!L115),\"\")","v":""},false,"Y"]
["$WH1_3.4.7.WH6",{"$f":"IF(R_WH2,CONCATENATE(\"\", 'WH - II(2)'!D115),\"\")","v":""},false,"Y"]
["$WH1_3.4.7.WH7",{"$f":"IF(R_WH2,CONCATENATE(\"\", 'WH - II(2)'!F115),\"\")","v":""},false,"Y"]
["$WH1_3.4.7.WH8",{"$f":"IF(R_WH2,CONCATENATE(\"\", 'WH - II(2)'!H115),\"\")","v":""},false,"Y"]
["$WH1_3.4.7.WH9",{"$f":"IF(R_WH2,CONCATENATE(\"\", 'WH - II(2)'!J115),\"\")","v":""},false,"Y"]
["$WH1_3.4.7.WH10",{"$f":"IF(R_WH2,CONCATENATE(\"\", 'WH - II(2)'!L115),\"\")","v":""},false,"Y"]
["$WH1_3.4.7.WH11",{"$f":"IF(R_WH3,CONCATENATE(\"\", 'WH - II(3)'!D115),\"\")","v":""},false,"Y"]
["$WH1_3.4.7.WH12",{"$f":"IF(R_WH3,CONCATENATE(\"\", 'WH - II(3)'!F115),\"\")","v":""},false,"Y"]
["$WH1_3.4.7.WH13",{"$f":"IF(R_WH3,CONCATENATE(\"\", 'WH - II(3)'!H115),\"\")","v":""},false,"Y"]
["$WH1_3.4.7.WH14",{"$f":"IF(R_WH3,CONCATENATE(\"\", 'WH - II(3)'!J115),\"\")","v":""},false,"Y"]
["$WH1_3.4.7.WH15",{"$f":"IF(R_WH3,CONCATENATE(\"\", 'WH - II(3)'!L115),\"\")","v":""},false,"Y"]
["$WH1_3.4.7.C1",{"$f":"IF(R_WH1,CONCATENATE(\"\", 'WH - II(1)'!D117),\"\")","v":""},false,"Y"]
["$WH1_3.4.7.C2",{"$f":"IF(R_WH2,CONCATENATE(\"\", 'WH - II(2)'!D117),\"\")","v":""},false,"Y"]
["$WH1_3.4.7.C3",{"$f":"IF(R_WH3,CONCATENATE(\"\", 'WH - II(3)'!D117),\"\")","v":""},false,"Y"]
["$WH1_3.4.8.WH1",{"$f":"IF(R_WH1,CONCATENATE(\"\", 'WH - II(1)'!D119),\"\")","v":""},false,"Y"]
["$WH1_3.4.8.WH2",{"$f":"IF(R_WH1,CONCATENATE(\"\", 'WH - II(1)'!F119),\"\")","v":""},false,"Y"]
["$WH1_3.4.8.WH3",{"$f":"IF(R_WH1,CONCATENATE(\"\", 'WH - II(1)'!H119),\"\")","v":""},false,"Y"]
["$WH1_3.4.8.WH4",{"$f":"IF(R_WH1,CONCATENATE(\"\", 'WH - II(1)'!J119),\"\")","v":""},false,"Y"]
["$WH1_3.4.8.WH5",{"$f":"IF(R_WH1,CONCATENATE(\"\", 'WH - II(1)'!L119),\"\")","v":""},false,"Y"]
["$WH1_3.4.8.WH6",{"$f":"IF(R_WH2,CONCATENATE(\"\", 'WH - II(2)'!D119),\"\")","v":""},false,"Y"]
["$WH1_3.4.8.WH7",{"$f":"IF(R_WH2,CONCATENATE(\"\", 'WH - II(2)'!F119),\"\")","v":""},false,"Y"]
["$WH1_3.4.8.WH8",{"$f":"IF(R_WH2,CONCATENATE(\"\", 'WH - II(2)'!H119),\"\")","v":""},false,"Y"]
["$WH1_3.4.8.WH9",{"$f":"IF(R_WH2,CONCATENATE(\"\", 'WH - II(2)'!J119),\"\")","v":""},false,"Y"]
["$WH1_3.4.8.WH10",{"$f":"IF(R_WH2,CONCATENATE(\"\", 'WH - II(2)'!L119),\"\")","v":""},false,"Y"]
["$WH1_3.4.8.WH11",{"$f":"IF(R_WH3,CONCATENATE(\"\", 'WH - II(3)'!D119),\"\")","v":""},false,"Y"]
["$WH1_3.4.8.WH12",{"$f":"IF(R_WH3,CONCATENATE(\"\", 'WH - II(3)'!F119),\"\")","v":""},false,"Y"]
["$WH1_3.4.8.WH13",{"$f":"IF(R_WH3,CONCATENATE(\"\", 'WH - II(3)'!H119),\"\")","v":""},false,"Y"]
["$WH1_3.4.8.WH14",{"$f":"IF(R_WH3,CONCATENATE(\"\", 'WH - II(3)'!J119),\"\")","v":""},false,"Y"]
["$WH1_3.4.8.WH15",{"$f":"IF(R_WH3,CONCATENATE(\"\", 'WH - II(3)'!L119),\"\")","v":""},false,"Y"]
["$WH1_3.4.8.C1",{"$f":"IF(R_WH1,CONCATENATE(\"\", 'WH - II(1)'!D121),\"\")","v":""},false,"Y"]
["$WH1_3.4.8.C2",{"$f":"IF(R_WH2,CONCATENATE(\"\", 'WH - II(2)'!D121),\"\")","v":""},false,"Y"]
["$WH1_3.4.8.C3",{"$f":"IF(R_WH3,CONCATENATE(\"\", 'WH - II(3)'!D121),\"\")","v":""},false,"Y"]
["$WH1_3.4.9.WH1",{"$f":"IF(R_WH1,CONCATENATE(\"\", 'WH - II(1)'!D123),\"\")","v":""},false,"Y"]
["$WH1_3.4.9.WH2",{"$f":"IF(R_WH1,CONCATENATE(\"\", 'WH - II(1)'!F123),\"\")","v":""},false,"Y"]
["$WH1_3.4.9.WH3",{"$f":"IF(R_WH1,CONCATENATE(\"\", 'WH - II(1)'!H123),\"\")","v":""},false,"Y"]
["$WH1_3.4.9.WH4",{"$f":"IF(R_WH1,CONCATENATE(\"\", 'WH - II(1)'!J123),\"\")","v":""},false,"Y"]
["$WH1_3.4.9.WH5",{"$f":"IF(R_WH1,CONCATENATE(\"\", 'WH - II(1)'!L123),\"\")","v":""},false,"Y"]
["$WH1_3.4.9.WH6",{"$f":"IF(R_WH2,CONCATENATE(\"\", 'WH - II(2)'!D123),\"\")","v":""},false,"Y"]
["$WH1_3.4.9.WH7",{"$f":"IF(R_WH2,CONCATENATE(\"\", 'WH - II(2)'!F123),\"\")","v":""},false,"Y"]
["$WH1_3.4.9.WH8",{"$f":"IF(R_WH2,CONCATENATE(\"\", 'WH - II(2)'!H123),\"\")","v":""},false,"Y"]
["$WH1_3.4.9.WH9",{"$f":"IF(R_WH2,CONCATENATE(\"\", 'WH - II(2)'!J123),\"\")","v":""},false,"Y"]
["$WH1_3.4.9.WH10",{"$f":"IF(R_WH2,CONCATENATE(\"\", 'WH - II(2)'!L123),\"\")","v":""},false,"Y"]
["$WH1_3.4.9.WH11",{"$f":"IF(R_WH3,CONCATENATE(\"\", 'WH - II(3)'!D123),\"\")","v":""},false,"Y"]
["$WH1_3.4.9.WH12",{"$f":"IF(R_WH3,CONCATENATE(\"\", 'WH - II(3)'!F123),\"\")","v":""},false,"Y"]
["$WH1_3.4.9.WH13",{"$f":"IF(R_WH3,CONCATENATE(\"\", 'WH - II(3)'!H123),\"\")","v":""},false,"Y"]
["$WH1_3.4.9.WH14",{"$f":"IF(R_WH3,CONCATENATE(\"\", 'WH - II(3)'!J123),\"\")","v":""},false,"Y"]
["$WH1_3.4.9.WH15",{"$f":"IF(R_WH3,CONCATENATE(\"\", 'WH - II(3)'!L123),\"\")","v":""},false,"Y"]
["$WH1_3.4.9.C1",{"$f":"IF(R_WH1,CONCATENATE(\"\", 'WH - II(1)'!D125),\"\")","v":""},false,"Y"]
["$WH1_3.4.9.C2",{"$f":"IF(R_WH2,CONCATENATE(\"\", 'WH - II(2)'!D125),\"\")","v":""},false,"Y"]
["$WH1_3.4.9.C3",{"$f":"IF(R_WH3,CONCATENATE(\"\", 'WH - II(3)'!D125),\"\")","v":""},false,"Y"]
["$WH1_3.4.10.WH1",{"$f":"IF(R_WH1,CONCATENATE(\"\", 'WH - II(1)'!D127),\"\")","v":""},false,"Y"]
["$WH1_3.4.10.WH2",{"$f":"IF(R_WH1,CONCATENATE(\"\", 'WH - II(1)'!F127),\"\")","v":""},false,"Y"]
["$WH1_3.4.10.WH3",{"$f":"IF(R_WH1,CONCATENATE(\"\", 'WH - II(1)'!H127),\"\")","v":""},false,"Y"]
["$WH1_3.4.10.WH4",{"$f":"IF(R_WH1,CONCATENATE(\"\", 'WH - II(1)'!J127),\"\")","v":""},false,"Y"]
["$WH1_3.4.10.WH5",{"$f":"IF(R_WH1,CONCATENATE(\"\", 'WH - II(1)'!L127),\"\")","v":""},false,"Y"]
["$WH1_3.4.10.WH6",{"$f":"IF(R_WH2,CONCATENATE(\"\", 'WH - II(2)'!D127),\"\")","v":""},false,"Y"]
["$WH1_3.4.10.WH7",{"$f":"IF(R_WH2,CONCATENATE(\"\", 'WH - II(2)'!F127),\"\")","v":""},false,"Y"]
["$WH1_3.4.10.WH8",{"$f":"IF(R_WH2,CONCATENATE(\"\", 'WH - II(2)'!H127),\"\")","v":""},false,"Y"]
["$WH1_3.4.10.WH9",{"$f":"IF(R_WH2,CONCATENATE(\"\", 'WH - II(2)'!J127),\"\")","v":""},false,"Y"]
["$WH1_3.4.10.WH10",{"$f":"IF(R_WH2,CONCATENATE(\"\", 'WH - II(2)'!L127),\"\")","v":""},{"$f":"ISERROR(B574)","v":false},"Y"]
["$WH1_3.4.10.WH11",{"$f":"IF(R_WH3,CONCATENATE(\"\", 'WH - II(3)'!D127),\"\")","v":""},false,"Y"]
["$WH1_3.4.10.WH12",{"$f":"IF(R_WH3,CONCATENATE(\"\", 'WH - II(3)'!F127),\"\")","v":""},false,"Y"]
["$WH1_3.4.10.WH13",{"$f":"IF(R_WH3,CONCATENATE(\"\", 'WH - II(3)'!H127),\"\")","v":""},false,"Y"]
["$WH1_3.4.10.WH14",{"$f":"IF(R_WH3,CONCATENATE(\"\", 'WH - II(3)'!J127),\"\")","v":""},false,"Y"]
["$WH1_3.4.10.WH15",{"$f":"IF(R_WH3,CONCATENATE(\"\", 'WH - II(3)'!L127),\"\")","v":""},false,"Y"]
["$WH1_3.4.10.C1",{"$f":"IF(R_WH1,CONCATENATE(\"\", 'WH - II(1)'!D129),\"\")","v":""},false,"Y"]
["$WH1_3.4.10.C2",{"$f":"IF(R_WH2,CONCATENATE(\"\", 'WH - II(2)'!D129),\"\")","v":""},false,"Y"]
["$WH1_3.4.10.C3",{"$f":"IF(R_WH3,CONCATENATE(\"\", 'WH - II(3)'!D129),\"\")","v":""},false,"Y"]
["$WH1_3.4.11.WH1",{"$f":"IF(R_WH1,CONCATENATE(\"\", 'WH - II(1)'!D131),\"\")","v":""},false,"Y"]
["$WH1_3.4.11.WH2",{"$f":"IF(R_WH1,CONCATENATE(\"\", 'WH - II(1)'!F131),\"\")","v":""},false,"Y"]
["$WH1_3.4.11.WH3",{"$f":"IF(R_WH1,CONCATENATE(\"\", 'WH - II(1)'!H131),\"\")","v":""},false,"Y"]
["$WH1_3.4.11.WH4",{"$f":"IF(R_WH1,CONCATENATE(\"\", 'WH - II(1)'!J131),\"\")","v":""},false,"Y"]
["$WH1_3.4.11.WH5",{"$f":"IF(R_WH1,CONCATENATE(\"\", 'WH - II(1)'!L131),\"\")","v":""},false,"Y"]
["$WH1_3.4.11.WH6",{"$f":"IF(R_WH2,CONCATENATE(\"\", 'WH - II(2)'!D131),\"\")","v":""},false,"Y"]
["$WH1_3.4.11.WH7",{"$f":"IF(R_WH2,CONCATENATE(\"\", 'WH - II(2)'!F131),\"\")","v":""},false,"Y"]
["$WH1_3.4.11.WH8",{"$f":"IF(R_WH2,CONCATENATE(\"\", 'WH - II(2)'!H131),\"\")","v":""},false,"Y"]
["$WH1_3.4.11.WH9",{"$f":"IF(R_WH2,CONCATENATE(\"\", 'WH - II(2)'!J131),\"\")","v":""},false,"Y"]
["$WH1_3.4.11.WH10",{"$f":"IF(R_WH2,CONCATENATE(\"\", 'WH - II(2)'!L131),\"\")","v":""},false,"Y"]
["$WH1_3.4.11.WH11",{"$f":"IF(R_WH3,CONCATENATE(\"\", 'WH - II(3)'!D131),\"\")","v":""},false,"Y"]
["$WH1_3.4.11.WH12",{"$f":"IF(R_WH3,CONCATENATE(\"\", 'WH - II(3)'!F131),\"\")","v":""},false,"Y"]
["$WH1_3.4.11.WH13",{"$f":"IF(R_WH3,CONCATENATE(\"\", 'WH - II(3)'!H131),\"\")","v":""},false,"Y"]
["$WH1_3.4.11.WH14",{"$f":"IF(R_WH3,CONCATENATE(\"\", 'WH - II(3)'!J131),\"\")","v":""},false,"Y"]
["$WH1_3.4.11.WH15",{"$f":"IF(R_WH3,CONCATENATE(\"\", 'WH - II(3)'!L131),\"\")","v":""},false,"Y"]
["$WH1_3.4.11.C1",{"$f":"IF(R_WH1,CONCATENATE(\"\", 'WH - II(1)'!D133),\"\")","v":""},false,"Y"]
["$WH1_3.4.11.C2",{"$f":"IF(R_WH2,CONCATENATE(\"\", 'WH - II(2)'!D133),\"\")","v":""},false,"Y"]
["$WH1_3.4.11.C3",{"$f":"IF(R_WH3,CONCATENATE(\"\", 'WH - II(3)'!D133),\"\")","v":""},false,"Y"]
["$WH1_3.4.12.WH1",{"$f":"IF(R_WH1,CONCATENATE(\"\", 'WH - II(1)'!D135),\"\")","v":""},false,"Y"]
["$WH1_3.4.12.WH2",{"$f":"IF(R_WH1,CONCATENATE(\"\", 'WH - II(1)'!F135),\"\")","v":""},false,"Y"]
["$WH1_3.4.12.WH3",{"$f":"IF(R_WH1,CONCATENATE(\"\", 'WH - II(1)'!H135),\"\")","v":""},false,"Y"]
["$WH1_3.4.12.WH4",{"$f":"IF(R_WH1,CONCATENATE(\"\", 'WH - II(1)'!J135),\"\")","v":""},false,"Y"]
["$WH1_3.4.12.WH5",{"$f":"IF(R_WH1,CONCATENATE(\"\", 'WH - II(1)'!L135),\"\")","v":""},false,"Y"]
["$WH1_3.4.12.WH6",{"$f":"IF(R_WH2,CONCATENATE(\"\", 'WH - II(2)'!D135),\"\")","v":""},false,"Y"]
["$WH1_3.4.12.WH7",{"$f":"IF(R_WH2,CONCATENATE(\"\", 'WH - II(2)'!F135),\"\")","v":""},false,"Y"]
["$WH1_3.4.12.WH8",{"$f":"IF(R_WH2,CONCATENATE(\"\", 'WH - II(2)'!H135),\"\")","v":""},false,"Y"]
["$WH1_3.4.12.WH9",{"$f":"IF(R_WH2,CONCATENATE(\"\", 'WH - II(2)'!J135),\"\")","v":""},false,"Y"]
["$WH1_3.4.12.WH10",{"$f":"IF(R_WH2,CONCATENATE(\"\", 'WH - II(2)'!L135),\"\")","v":""},false,"Y"]
["$WH1_3.4.12.WH11",{"$f":"IF(R_WH3,CONCATENATE(\"\", 'WH - II(3)'!D135),\"\")","v":""},false,"Y"]
["$WH1_3.4.12.WH12",{"$f":"IF(R_WH3,CONCATENATE(\"\", 'WH - II(3)'!F135),\"\")","v":""},false,"Y"]
["$WH1_3.4.12.WH13",{"$f":"IF(R_WH3,CONCATENATE(\"\", 'WH - II(3)'!H135),\"\")","v":""},false,"Y"]
["$WH1_3.4.12.WH14",{"$f":"IF(R_WH3,CONCATENATE(\"\", 'WH - II(3)'!J135),\"\")","v":""},false,"Y"]
["$WH1_3.4.12.WH15",{"$f":"IF(R_WH3,CONCATENATE(\"\", 'WH - II(3)'!L135),\"\")","v":""},false,"Y"]
["$WH1_3.4.12.C1",{"$f":"IF(R_WH1,CONCATENATE(\"\", 'WH - II(1)'!D137),\"\")","v":""},false,"Y"]
["$WH1_3.4.12.C2",{"$f":"IF(R_WH2,CONCATENATE(\"\", 'WH - II(2)'!D137),\"\")","v":""},false,"Y"]
["$WH1_3.4.12.C3",{"$f":"IF(R_WH3,CONCATENATE(\"\", 'WH - II(3)'!D137),\"\")","v":""},false,"Y"]
["$WH1_3.4.13.WH1",{"$f":"IF(R_WH1,CONCATENATE(\"\", 'WH - II(1)'!D139),\"\")","v":""},false,"Y"]
["$WH1_3.4.13.WH2",{"$f":"IF(R_WH1,CONCATENATE(\"\", 'WH - II(1)'!F139),\"\")","v":""},false,"Y"]
["$WH1_3.4.13.WH3",{"$f":"IF(R_WH1,CONCATENATE(\"\", 'WH - II(1)'!H139),\"\")","v":""},false,"Y"]
["$WH1_3.4.13.WH4",{"$f":"IF(R_WH1,CONCATENATE(\"\", 'WH - II(1)'!J139),\"\")","v":""},false,"Y"]
["$WH1_3.4.13.WH5",{"$f":"IF(R_WH1,CONCATENATE(\"\", 'WH - II(1)'!L139),\"\")","v":""},false,"Y"]
["$WH1_3.4.13.WH6",{"$f":"IF(R_WH2,CONCATENATE(\"\", 'WH - II(2)'!D139),\"\")","v":""},false,"Y"]
["$WH1_3.4.13.WH7",{"$f":"IF(R_WH2,CONCATENATE(\"\", 'WH - II(2)'!F139),\"\")","v":""},false,"Y"]
["$WH1_3.4.13.WH8",{"$f":"IF(R_WH2,CONCATENATE(\"\", 'WH - II(2)'!H139),\"\")","v":""},false,"Y"]
["$WH1_3.4.13.WH9",{"$f":"IF(R_WH2,CONCATENATE(\"\", 'WH - II(2)'!J139),\"\")","v":""},false,"Y"]
["$WH1_3.4.13.WH10",{"$f":"IF(R_WH2,CONCATENATE(\"\", 'WH - II(2)'!L139),\"\")","v":""},false,"Y"]
["$WH1_3.4.13.WH11",{"$f":"IF(R_WH3,CONCATENATE(\"\", 'WH - II(3)'!D139),\"\")","v":""},false,"Y"]
["$WH1_3.4.13.WH12",{"$f":"IF(R_WH3,CONCATENATE(\"\", 'WH - II(3)'!F139),\"\")","v":""},false,"Y"]
["$WH1_3.4.13.WH13",{"$f":"IF(R_WH3,CONCATENATE(\"\", 'WH - II(3)'!H139),\"\")","v":""},false,"Y"]
["$WH1_3.4.13.WH14",{"$f":"IF(R_WH3,CONCATENATE(\"\", 'WH - II(3)'!J139),\"\")","v":""},false,"Y"]
["$WH1_3.4.13.WH15",{"$f":"IF(R_WH3,CONCATENATE(\"\", 'WH - II(3)'!L139),\"\")","v":""},false,"Y"]
["$WH1_3.4.13.C1",{"$f":"IF(R_WH1,CONCATENATE(\"\", 'WH - II(1)'!D141),\"\")","v":""},false,"Y"]
["$WH1_3.4.13.C2",{"$f":"IF(R_WH2,CONCATENATE(\"\", 'WH - II(2)'!D141),\"\")","v":""},false,"Y"]
["$WH1_3.4.13.C3",{"$f":"IF(R_WH3,CONCATENATE(\"\", 'WH - II(3)'!D141),\"\")","v":""},false,"Y"]
["$WH1_3.5.1.WH1",{"$f":"IF(R_WH1,CONCATENATE(\"\", 'WH - II(1)'!D144),\"\")","v":""},false,"Y"]
["$WH1_3.5.1.WH2",{"$f":"IF(R_WH1,CONCATENATE(\"\", 'WH - II(1)'!F144),\"\")","v":""},{"$f":"ISERROR(B638)","v":false},"Y"]
["$WH1_3.5.1.WH3",{"$f":"IF(R_WH1,CONCATENATE(\"\", 'WH - II(1)'!H144),\"\")","v":""},false,"Y"]
["$WH1_3.5.1.WH4",{"$f":"IF(R_WH1,CONCATENATE(\"\", 'WH - II(1)'!J144),\"\")","v":""},false,"Y"]
["$WH1_3.5.1.WH5",{"$f":"IF(R_WH1,CONCATENATE(\"\", 'WH - II(1)'!L144),\"\")","v":""},false,"Y"]
["$WH1_3.5.1.WH6",{"$f":"IF(R_WH2,CONCATENATE(\"\", 'WH - II(2)'!D144),\"\")","v":""},false,"Y"]
["$WH1_3.5.1.WH7",{"$f":"IF(R_WH2,CONCATENATE(\"\", 'WH - II(2)'!F144),\"\")","v":""},false,"Y"]
["$WH1_3.5.1.WH8",{"$f":"IF(R_WH2,CONCATENATE(\"\", 'WH - II(2)'!H144),\"\")","v":""},false,"Y"]
["$WH1_3.5.1.WH9",{"$f":"IF(R_WH2,CONCATENATE(\"\", 'WH - II(2)'!J144),\"\")","v":""},false,"Y"]
["$WH1_3.5.1.WH10",{"$f":"IF(R_WH2,CONCATENATE(\"\", 'WH - II(2)'!L144),\"\")","v":""},false,"Y"]
["$WH1_3.5.1.WH11",{"$f":"IF(R_WH3,CONCATENATE(\"\", 'WH - II(3)'!D144),\"\")","v":""},false,"Y"]
["$WH1_3.5.1.WH12",{"$f":"IF(R_WH3,CONCATENATE(\"\", 'WH - II(3)'!F144),\"\")","v":""},false,"Y"]
["$WH1_3.5.1.WH13",{"$f":"IF(R_WH3,CONCATENATE(\"\", 'WH - II(3)'!H144),\"\")","v":""},false,"Y"]
["$WH1_3.5.1.WH14",{"$f":"IF(R_WH3,CONCATENATE(\"\", 'WH - II(3)'!J144),\"\")","v":""},false,"Y"]
["$WH1_3.5.1.WH15",{"$f":"IF(R_WH3,CONCATENATE(\"\", 'WH - II(3)'!L144),\"\")","v":""},false,"Y"]
["$WH1_3.5.1.C1",{"$f":"IF(R_WH1,CONCATENATE(\"\", 'WH - II(1)'!D146),\"\")","v":""},false,"Y"]
["$WH1_3.5.1.C2",{"$f":"IF(R_WH2,CONCATENATE(\"\", 'WH - II(2)'!D146),\"\")","v":""},false,"Y"]
["$WH1_3.5.1.C3",{"$f":"IF(R_WH3,CONCATENATE(\"\", 'WH - II(3)'!D146),\"\")","v":""},false,"Y"]
["$WH1_3.5.2.WH1",{"$f":"IF(R_WH1,CONCATENATE(\"\", 'WH - II(1)'!D148),\"\")","v":""},false,"Y"]
["$WH1_3.5.2.WH2",{"$f":"IF(R_WH1,CONCATENATE(\"\", 'WH - II(1)'!F148),\"\")","v":""},false,"Y"]
["$WH1_3.5.2.WH3",{"$f":"IF(R_WH1,CONCATENATE(\"\", 'WH - II(1)'!H148),\"\")","v":""},false,"Y"]
["$WH1_3.5.2.WH4",{"$f":"IF(R_WH1,CONCATENATE(\"\", 'WH - II(1)'!J148),\"\")","v":""},false,"Y"]
["$WH1_3.5.2.WH5",{"$f":"IF(R_WH1,CONCATENATE(\"\", 'WH - II(1)'!L148),\"\")","v":""},false,"Y"]
["$WH1_3.5.2.WH6",{"$f":"IF(R_WH2,CONCATENATE(\"\", 'WH - II(2)'!D148),\"\")","v":""},false,"Y"]
["$WH1_3.5.2.WH7",{"$f":"IF(R_WH2,CONCATENATE(\"\", 'WH - II(2)'!F148),\"\")","v":""},false,"Y"]
["$WH1_3.5.2.WH8",{"$f":"IF(R_WH2,CONCATENATE(\"\", 'WH - II(2)'!H148),\"\")","v":""},false,"Y"]
["$WH1_3.5.2.WH9",{"$f":"IF(R_WH2,CONCATENATE(\"\", 'WH - II(2)'!J148),\"\")","v":""},false,"Y"]
["$WH1_3.5.2.WH10",{"$f":"IF(R_WH2,CONCATENATE(\"\", 'WH - II(2)'!L148),\"\")","v":""},false,"Y"]
["$WH1_3.5.2.WH11",{"$f":"IF(R_WH3,CONCATENATE(\"\", 'WH - II(3)'!D148),\"\")","v":""},false,"Y"]
["$WH1_3.5.2.WH12",{"$f":"IF(R_WH3,CONCATENATE(\"\", 'WH - II(3)'!F148),\"\")","v":""},false,"Y"]
["$WH1_3.5.2.WH13",{"$f":"IF(R_WH3,CONCATENATE(\"\", 'WH - II(3)'!H148),\"\")","v":""},false,"Y"]
["$WH1_3.5.2.WH14",{"$f":"IF(R_WH3,CONCATENATE(\"\", 'WH - II(3)'!J148),\"\")","v":""},false,"Y"]
["$WH1_3.5.2.WH15",{"$f":"IF(R_WH3,CONCATENATE(\"\", 'WH - II(3)'!L148),\"\")","v":""},false,"Y"]
["$WH1_3.5.2.C1",{"$f":"IF(R_WH1,CONCATENATE(\"\", 'WH - II(1)'!D150),\"\")","v":""},false,"Y"]
["$WH1_3.5.2.C2",{"$f":"IF(R_WH2,CONCATENATE(\"\", 'WH - II(2)'!D150),\"\")","v":""},false,"Y"]
["$WH1_3.5.2.C3",{"$f":"IF(R_WH3,CONCATENATE(\"\", 'WH - II(3)'!D150),\"\")","v":""},false,"Y"]
["$WH1_3.5.3.WH1",{"$f":"IF(R_WH1,CONCATENATE(\"\", 'WH - II(1)'!D152),\"\")","v":""},false,"Y"]
["$WH1_3.5.3.WH2",{"$f":"IF(R_WH1,CONCATENATE(\"\", 'WH - II(1)'!F152),\"\")","v":""},false,"Y"]
["$WH1_3.5.3.WH3",{"$f":"IF(R_WH1,CONCATENATE(\"\", 'WH - II(1)'!H152),\"\")","v":""},false,"Y"]
["$WH1_3.5.3.WH4",{"$f":"IF(R_WH1,CONCATENATE(\"\", 'WH - II(1)'!J152),\"\")","v":""},false,"Y"]
["$WH1_3.5.3.WH5",{"$f":"IF(R_WH1,CONCATENATE(\"\", 'WH - II(1)'!L152),\"\")","v":""},false,"Y"]
["$WH1_3.5.3.WH6",{"$f":"IF(R_WH2,CONCATENATE(\"\", 'WH - II(2)'!D152),\"\")","v":""},false,"Y"]
["$WH1_3.5.3.WH7",{"$f":"IF(R_WH2,CONCATENATE(\"\", 'WH - II(2)'!F152),\"\")","v":""},false,"Y"]
["$WH1_3.5.3.WH8",{"$f":"IF(R_WH2,CONCATENATE(\"\", 'WH - II(2)'!H152),\"\")","v":""},false,"Y"]
["$WH1_3.5.3.WH9",{"$f":"IF(R_WH2,CONCATENATE(\"\", 'WH - II(2)'!J152),\"\")","v":""},false,"Y"]
["$WH1_3.5.3.WH10",{"$f":"IF(R_WH2,CONCATENATE(\"\", 'WH - II(2)'!L152),\"\")","v":""},false,"Y"]
["$WH1_3.5.3.WH11",{"$f":"IF(R_WH3,CONCATENATE(\"\", 'WH - II(3)'!D152),\"\")","v":""},false,"Y"]
["$WH1_3.5.3.WH12",{"$f":"IF(R_WH3,CONCATENATE(\"\", 'WH - II(3)'!F152),\"\")","v":""},false,"Y"]
["$WH1_3.5.3.WH13",{"$f":"IF(R_WH3,CONCATENATE(\"\", 'WH - II(3)'!H152),\"\")","v":""},false,"Y"]
["$WH1_3.5.3.WH14",{"$f":"IF(R_WH3,CONCATENATE(\"\", 'WH - II(3)'!J152),\"\")","v":""},false,"Y"]
["$WH1_3.5.3.WH15",{"$f":"IF(R_WH3,CONCATENATE(\"\", 'WH - II(3)'!L152),\"\")","v":""},false,"Y"]
["$WH1_3.5.3.C1",{"$f":"IF(R_WH1,CONCATENATE(\"\", 'WH - II(1)'!D154),\"\")","v":""},false,"Y"]
["$WH1_3.5.3.C2",{"$f":"IF(R_WH2,CONCATENATE(\"\", 'WH - II(2)'!D154),\"\")","v":""},false,"Y"]
["$WH1_3.5.3.C3",{"$f":"IF(R_WH3,CONCATENATE(\"\", 'WH - II(3)'!D154),\"\")","v":""},false,"Y"]
["$WH1_3.5.4.WH1",{"$f":"IF(R_WH1,CONCATENATE(\"\", 'WH - II(1)'!D156),\"\")","v":""},false,"Y"]
["$WH1_3.5.4.WH2",{"$f":"IF(R_WH1,CONCATENATE(\"\", 'WH - II(1)'!F156),\"\")","v":""},false,"Y"]
["$WH1_3.5.4.WH3",{"$f":"IF(R_WH1,CONCATENATE(\"\", 'WH - II(1)'!H156),\"\")","v":""},false,"Y"]
["$WH1_3.5.4.WH4",{"$f":"IF(R_WH1,CONCATENATE(\"\", 'WH - II(1)'!J156),\"\")","v":""},false,"Y"]
["$WH1_3.5.4.WH5",{"$f":"IF(R_WH1,CONCATENATE(\"\", 'WH - II(1)'!L156),\"\")","v":""},false,"Y"]
["$WH1_3.5.4.WH6",{"$f":"IF(R_WH2,CONCATENATE(\"\", 'WH - II(2)'!D156),\"\")","v":""},false,"Y"]
["$WH1_3.5.4.WH7",{"$f":"IF(R_WH2,CONCATENATE(\"\", 'WH - II(2)'!F156),\"\")","v":""},false,"Y"]
["$WH1_3.5.4.WH8",{"$f":"IF(R_WH2,CONCATENATE(\"\", 'WH - II(2)'!H156),\"\")","v":""},false,"Y"]
["$WH1_3.5.4.WH9",{"$f":"IF(R_WH2,CONCATENATE(\"\", 'WH - II(2)'!J156),\"\")","v":""},false,"Y"]
["$WH1_3.5.4.WH10",{"$f":"IF(R_WH2,CONCATENATE(\"\", 'WH - II(2)'!L156),\"\")","v":""},false,"Y"]
["$WH1_3.5.4.WH11",{"$f":"IF(R_WH3,CONCATENATE(\"\", 'WH - II(3)'!D156),\"\")","v":""},false,"Y"]
["$WH1_3.5.4.WH12",{"$f":"IF(R_WH3,CONCATENATE(\"\", 'WH - II(3)'!F156),\"\")","v":""},{"$f":"ISERROR(B702)","v":false},"Y"]
["$WH1_3.5.4.WH13",{"$f":"IF(R_WH3,CONCATENATE(\"\", 'WH - II(3)'!H156),\"\")","v":""},false,"Y"]
["$WH1_3.5.4.WH14",{"$f":"IF(R_WH3,CONCATENATE(\"\", 'WH - II(3)'!J156),\"\")","v":""},false,"Y"]
["$WH1_3.5.4.WH15",{"$f":"IF(R_WH3,CONCATENATE(\"\", 'WH - II(3)'!L156),\"\")","v":""},false,"Y"]
["$WH1_3.5.4.C1",{"$f":"IF(R_WH1,CONCATENATE(\"\", 'WH - II(1)'!D158),\"\")","v":""},false,"Y"]
["$WH1_3.5.4.C2",{"$f":"IF(R_WH2,CONCATENATE(\"\", 'WH - II(2)'!D158),\"\")","v":""},false,"Y"]
["$WH1_3.5.4.C3",{"$f":"IF(R_WH3,CONCATENATE(\"\", 'WH - II(3)'!D158),\"\")","v":""},false,"Y"]
["$WH1_3.5.5.WH1",{"$f":"IF(R_WH1,CONCATENATE(\"\", 'WH - II(1)'!D160),\"\")","v":""},false,"Y"]
["$WH1_3.5.5.WH2",{"$f":"IF(R_WH1,CONCATENATE(\"\", 'WH - II(1)'!F160),\"\")","v":""},false,"Y"]
["$WH1_3.5.5.WH3",{"$f":"IF(R_WH1,CONCATENATE(\"\", 'WH - II(1)'!H160),\"\")","v":""},false,"Y"]
["$WH1_3.5.5.WH4",{"$f":"IF(R_WH1,CONCATENATE(\"\", 'WH - II(1)'!J160),\"\")","v":""},false,"Y"]
["$WH1_3.5.5.WH5",{"$f":"IF(R_WH1,CONCATENATE(\"\", 'WH - II(1)'!L160),\"\")","v":""},false,"Y"]
["$WH1_3.5.5.WH6",{"$f":"IF(R_WH2,CONCATENATE(\"\", 'WH - II(2)'!D160),\"\")","v":""},false,"Y"]
["$WH1_3.5.5.WH7",{"$f":"IF(R_WH2,CONCATENATE(\"\", 'WH - II(2)'!F160),\"\")","v":""},false,"Y"]
["$WH1_3.5.5.WH8",{"$f":"IF(R_WH2,CONCATENATE(\"\", 'WH - II(2)'!H160),\"\")","v":""},false,"Y"]
["$WH1_3.5.5.WH9",{"$f":"IF(R_WH2,CONCATENATE(\"\", 'WH - II(2)'!J160),\"\")","v":""},false,"Y"]
["$WH1_3.5.5.WH10",{"$f":"IF(R_WH2,CONCATENATE(\"\", 'WH - II(2)'!L160),\"\")","v":""},false,"Y"]
["$WH1_3.5.5.WH11",{"$f":"IF(R_WH3,CONCATENATE(\"\", 'WH - II(3)'!D160),\"\")","v":""},false,"Y"]
["$WH1_3.5.5.WH12",{"$f":"IF(R_WH3,CONCATENATE(\"\", 'WH - II(3)'!F160),\"\")","v":""},false,"Y"]
["$WH1_3.5.5.WH13",{"$f":"IF(R_WH3,CONCATENATE(\"\", 'WH - II(3)'!H160),\"\")","v":""},false,"Y"]
["$WH1_3.5.5.WH14",{"$f":"IF(R_WH3,CONCATENATE(\"\", 'WH - II(3)'!J160),\"\")","v":""},false,"Y"]
["$WH1_3.5.5.WH15",{"$f":"IF(R_WH3,CONCATENATE(\"\", 'WH - II(3)'!L160),\"\")","v":""},false,"Y"]
["$WH1_3.5.5.C1",{"$f":"IF(R_WH1,CONCATENATE(\"\", 'WH - II(1)'!D162),\"\")","v":""},false,"Y"]
["$WH1_3.5.5.C2",{"$f":"IF(R_WH2,CONCATENATE(\"\", 'WH - II(2)'!D162),\"\")","v":""},false,"Y"]
["$WH1_3.5.5.C3",{"$f":"IF(R_WH3,CONCATENATE(\"\", 'WH - II(3)'!D162),\"\")","v":""},false,"Y"]
["$WH1_3.5.6.WH1",{"$f":"IF(R_WH1,CONCATENATE(\"\", 'WH - II(1)'!D164),\"\")","v":""},false,"Y"]
["$WH1_3.5.6.WH2",{"$f":"IF(R_WH1,CONCATENATE(\"\", 'WH - II(1)'!F164),\"\")","v":""},false,"Y"]
["$WH1_3.5.6.WH3",{"$f":"IF(R_WH1,CONCATENATE(\"\", 'WH - II(1)'!H164),\"\")","v":""},false,"Y"]
["$WH1_3.5.6.WH4",{"$f":"IF(R_WH1,CONCATENATE(\"\", 'WH - II(1)'!J164),\"\")","v":""},false,"Y"]
["$WH1_3.5.6.WH5",{"$f":"IF(R_WH1,CONCATENATE(\"\", 'WH - II(1)'!L164),\"\")","v":""},false,"Y"]
["$WH1_3.5.6.WH6",{"$f":"IF(R_WH2,CONCATENATE(\"\", 'WH - II(2)'!D164),\"\")","v":""},false,"Y"]
["$WH1_3.5.6.WH7",{"$f":"IF(R_WH2,CONCATENATE(\"\", 'WH - II(2)'!F164),\"\")","v":""},false,"Y"]
["$WH1_3.5.6.WH8",{"$f":"IF(R_WH2,CONCATENATE(\"\", 'WH - II(2)'!H164),\"\")","v":""},false,"Y"]
["$WH1_3.5.6.WH9",{"$f":"IF(R_WH2,CONCATENATE(\"\", 'WH - II(2)'!J164),\"\")","v":""},false,"Y"]
["$WH1_3.5.6.WH10",{"$f":"IF(R_WH2,CONCATENATE(\"\", 'WH - II(2)'!L164),\"\")","v":""},false,"Y"]
["$WH1_3.5.6.WH11",{"$f":"IF(R_WH3,CONCATENATE(\"\", 'WH - II(3)'!D164),\"\")","v":""},false,"Y"]
["$WH1_3.5.6.WH12",{"$f":"IF(R_WH3,CONCATENATE(\"\", 'WH - II(3)'!F164),\"\")","v":""},false,"Y"]
["$WH1_3.5.6.WH13",{"$f":"IF(R_WH3,CONCATENATE(\"\", 'WH - II(3)'!H164),\"\")","v":""},false,"Y"]
["$WH1_3.5.6.WH14",{"$f":"IF(R_WH3,CONCATENATE(\"\", 'WH - II(3)'!J164),\"\")","v":""},false,"Y"]
["$WH1_3.5.6.WH15",{"$f":"IF(R_WH3,CONCATENATE(\"\", 'WH - II(3)'!L164),\"\")","v":""},false,"Y"]
["$WH1_3.5.6.C1",{"$f":"IF(R_WH1,CONCATENATE(\"\", 'WH - II(1)'!D166),\"\")","v":""},false,"Y"]
["$WH1_3.5.6.C2",{"$f":"IF(R_WH2,CONCATENATE(\"\", 'WH - II(2)'!D166),\"\")","v":""},false,"Y"]
["$WH1_3.5.6.C3",{"$f":"IF(R_WH3,CONCATENATE(\"\", 'WH - II(3)'!D166),\"\")","v":""},false,"Y"]
["$WH1_3.5.7.WH1",{"$f":"IF(R_WH1,CONCATENATE(\"\", 'WH - II(1)'!D168),\"\")","v":""},false,"Y"]
["$WH1_3.5.7.WH2",{"$f":"IF(R_WH1,CONCATENATE(\"\", 'WH - II(1)'!F168),\"\")","v":""},false,"Y"]
["$WH1_3.5.7.WH3",{"$f":"IF(R_WH1,CONCATENATE(\"\", 'WH - II(1)'!H168),\"\")","v":""},false,"Y"]
["$WH1_3.5.7.WH4",{"$f":"IF(R_WH1,CONCATENATE(\"\", 'WH - II(1)'!J168),\"\")","v":""},false,"Y"]
["$WH1_3.5.7.WH5",{"$f":"IF(R_WH1,CONCATENATE(\"\", 'WH - II(1)'!L168),\"\")","v":""},false,"Y"]
["$WH1_3.5.7.WH6",{"$f":"IF(R_WH2,CONCATENATE(\"\", 'WH - II(2)'!D168),\"\")","v":""},false,"Y"]
["$WH1_3.5.7.WH7",{"$f":"IF(R_WH2,CONCATENATE(\"\", 'WH - II(2)'!F168),\"\")","v":""},false,"Y"]
["$WH1_3.5.7.WH8",{"$f":"IF(R_WH2,CONCATENATE(\"\", 'WH - II(2)'!H168),\"\")","v":""},false,"Y"]
["$WH1_3.5.7.WH9",{"$f":"IF(R_WH2,CONCATENATE(\"\", 'WH - II(2)'!J168),\"\")","v":""},false,"Y"]
["$WH1_3.5.7.WH10",{"$f":"IF(R_WH2,CONCATENATE(\"\", 'WH - II(2)'!L168),\"\")","v":""},false,"Y"]
["$WH1_3.5.7.WH11",{"$f":"IF(R_WH3,CONCATENATE(\"\", 'WH - II(3)'!D168),\"\")","v":""},false,"Y"]
["$WH1_3.5.7.WH12",{"$f":"IF(R_WH3,CONCATENATE(\"\", 'WH - II(3)'!F168),\"\")","v":""},false,"Y"]
["$WH1_3.5.7.WH13",{"$f":"IF(R_WH3,CONCATENATE(\"\", 'WH - II(3)'!H168),\"\")","v":""},false,"Y"]
["$WH1_3.5.7.WH14",{"$f":"IF(R_WH3,CONCATENATE(\"\", 'WH - II(3)'!J168),\"\")","v":""},false,"Y"]
["$WH1_3.5.7.WH15",{"$f":"IF(R_WH3,CONCATENATE(\"\", 'WH - II(3)'!L168),\"\")","v":""},false,"Y"]
["$WH1_3.5.7.C1",{"$f":"IF(R_WH1,CONCATENATE(\"\", 'WH - II(1)'!D170),\"\")","v":""},false,"Y"]
["$WH1_3.5.7.C2",{"$f":"IF(R_WH2,CONCATENATE(\"\", 'WH - II(2)'!D170),\"\")","v":""},false,"Y"]
["$WH1_3.5.7.C3",{"$f":"IF(R_WH3,CONCATENATE(\"\", 'WH - II(3)'!D170),\"\")","v":""},false,"Y"]
["$WH1_3.5.8.WH1",{"$f":"IF(R_WH1,CONCATENATE(\"\", 'WH - II(1)'!D172),\"\")","v":""},false,"Y"]
["$WH1_3.5.8.WH2",{"$f":"IF(R_WH1,CONCATENATE(\"\", 'WH - II(1)'!F172),\"\")","v":""},false,"Y"]
["$WH1_3.5.8.WH3",{"$f":"IF(R_WH1,CONCATENATE(\"\", 'WH - II(1)'!H172),\"\")","v":""},false,"Y"]
["$WH1_3.5.8.WH4",{"$f":"IF(R_WH1,CONCATENATE(\"\", 'WH - II(1)'!J172),\"\")","v":""},{"$f":"ISERROR(B766)","v":false},"Y"]
["$WH1_3.5.8.WH5",{"$f":"IF(R_WH1,CONCATENATE(\"\", 'WH - II(1)'!L172),\"\")","v":""},false,"Y"]
["$WH1_3.5.8.WH6",{"$f":"IF(R_WH2,CONCATENATE(\"\", 'WH - II(2)'!D172),\"\")","v":""},false,"Y"]
["$WH1_3.5.8.WH7",{"$f":"IF(R_WH2,CONCATENATE(\"\", 'WH - II(2)'!F172),\"\")","v":""},false,"Y"]
["$WH1_3.5.8.WH8",{"$f":"IF(R_WH2,CONCATENATE(\"\", 'WH - II(2)'!H172),\"\")","v":""},false,"Y"]
["$WH1_3.5.8.WH9",{"$f":"IF(R_WH2,CONCATENATE(\"\", 'WH - II(2)'!J172),\"\")","v":""},false,"Y"]
["$WH1_3.5.8.WH10",{"$f":"IF(R_WH2,CONCATENATE(\"\", 'WH - II(2)'!L172),\"\")","v":""},false,"Y"]
["$WH1_3.5.8.WH11",{"$f":"IF(R_WH3,CONCATENATE(\"\", 'WH - II(3)'!D172),\"\")","v":""},false,"Y"]
["$WH1_3.5.8.WH12",{"$f":"IF(R_WH3,CONCATENATE(\"\", 'WH - II(3)'!F172),\"\")","v":""},false,"Y"]
["$WH1_3.5.8.WH13",{"$f":"IF(R_WH3,CONCATENATE(\"\", 'WH - II(3)'!H172),\"\")","v":""},false,"Y"]
["$WH1_3.5.8.WH14",{"$f":"IF(R_WH3,CONCATENATE(\"\", 'WH - II(3)'!J172),\"\")","v":""},false,"Y"]
["$WH1_3.5.8.WH15",{"$f":"IF(R_WH3,CONCATENATE(\"\", 'WH - II(3)'!L172),\"\")","v":""},false,"Y"]
["$WH1_3.5.8.C1",{"$f":"IF(R_WH1,CONCATENATE(\"\", 'WH - II(1)'!D174),\"\")","v":""},false,"Y"]
["$WH1_3.5.8.C2",{"$f":"IF(R_WH2,CONCATENATE(\"\", 'WH - II(2)'!D174),\"\")","v":""},false,"Y"]
["$WH1_3.5.8.C3",{"$f":"IF(R_WH3,CONCATENATE(\"\", 'WH - II(3)'!D174),\"\")","v":""},false,"Y"]
["$WH1_3.5.9.WH1",{"$f":"IF(R_WH1,CONCATENATE(\"\", 'WH - II(1)'!D176),\"\")","v":""},false,"Y"]
["$WH1_3.5.9.WH2",{"$f":"IF(R_WH1,CONCATENATE(\"\", 'WH - II(1)'!F176),\"\")","v":""},false,"Y"]
["$WH1_3.5.9.WH3",{"$f":"IF(R_WH1,CONCATENATE(\"\", 'WH - II(1)'!H176),\"\")","v":""},false,"Y"]
["$WH1_3.5.9.WH4",{"$f":"IF(R_WH1,CONCATENATE(\"\", 'WH - II(1)'!J176),\"\")","v":""},false,"Y"]
["$WH1_3.5.9.WH5",{"$f":"IF(R_WH1,CONCATENATE(\"\", 'WH - II(1)'!L176),\"\")","v":""},false,"Y"]
["$WH1_3.5.9.WH6",{"$f":"IF(R_WH2,CONCATENATE(\"\", 'WH - II(2)'!D176),\"\")","v":""},false,"Y"]
["$WH1_3.5.9.WH7",{"$f":"IF(R_WH2,CONCATENATE(\"\", 'WH - II(2)'!F176),\"\")","v":""},false,"Y"]
["$WH1_3.5.9.WH8",{"$f":"IF(R_WH2,CONCATENATE(\"\", 'WH - II(2)'!H176),\"\")","v":""},false,"Y"]
["$WH1_3.5.9.WH9",{"$f":"IF(R_WH2,CONCATENATE(\"\", 'WH - II(2)'!J176),\"\")","v":""},false,"Y"]
["$WH1_3.5.9.WH10",{"$f":"IF(R_WH2,CONCATENATE(\"\", 'WH - II(2)'!L176),\"\")","v":""},false,"Y"]
["$WH1_3.5.9.WH11",{"$f":"IF(R_WH3,CONCATENATE(\"\", 'WH - II(3)'!D176),\"\")","v":""},false,"Y"]
["$WH1_3.5.9.WH12",{"$f":"IF(R_WH3,CONCATENATE(\"\", 'WH - II(3)'!F176),\"\")","v":""},false,"Y"]
["$WH1_3.5.9.WH13",{"$f":"IF(R_WH3,CONCATENATE(\"\", 'WH - II(3)'!H176),\"\")","v":""},false,"Y"]
["$WH1_3.5.9.WH14",{"$f":"IF(R_WH3,CONCATENATE(\"\", 'WH - II(3)'!J176),\"\")","v":""},false,"Y"]
["$WH1_3.5.9.WH15",{"$f":"IF(R_WH3,CONCATENATE(\"\", 'WH - II(3)'!L176),\"\")","v":""},false,"Y"]
["$WH1_3.5.9.C1",{"$f":"IF(R_WH1,CONCATENATE(\"\", 'WH - II(1)'!D178),\"\")","v":""},false,"Y"]
["$WH1_3.5.9.C2",{"$f":"IF(R_WH2,CONCATENATE(\"\", 'WH - II(2)'!D178),\"\")","v":""},false,"Y"]
["$WH1_3.5.9.C3",{"$f":"IF(R_WH3,CONCATENATE(\"\", 'WH - II(3)'!D178),\"\")","v":""},false,"Y"]
["$WH1_3.5.10.WH1",{"$f":"IF(R_WH1,CONCATENATE(\"\", 'WH - II(1)'!D180),\"\")","v":""},false,"Y"]
["$WH1_3.5.10.WH2",{"$f":"IF(R_WH1,CONCATENATE(\"\", 'WH - II(1)'!F180),\"\")","v":""},false,"Y"]
["$WH1_3.5.10.WH3",{"$f":"IF(R_WH1,CONCATENATE(\"\", 'WH - II(1)'!H180),\"\")","v":""},false,"Y"]
["$WH1_3.5.10.WH4",{"$f":"IF(R_WH1,CONCATENATE(\"\", 'WH - II(1)'!J180),\"\")","v":""},false,"Y"]
["$WH1_3.5.10.WH5",{"$f":"IF(R_WH1,CONCATENATE(\"\", 'WH - II(1)'!L180),\"\")","v":""},false,"Y"]
["$WH1_3.5.10.WH6",{"$f":"IF(R_WH2,CONCATENATE(\"\", 'WH - II(2)'!D180),\"\")","v":""},false,"Y"]
["$WH1_3.5.10.WH7",{"$f":"IF(R_WH2,CONCATENATE(\"\", 'WH - II(2)'!F180),\"\")","v":""},false,"Y"]
["$WH1_3.5.10.WH8",{"$f":"IF(R_WH2,CONCATENATE(\"\", 'WH - II(2)'!H180),\"\")","v":""},false,"Y"]
["$WH1_3.5.10.WH9",{"$f":"IF(R_WH2,CONCATENATE(\"\", 'WH - II(2)'!J180),\"\")","v":""},false,"Y"]
["$WH1_3.5.10.WH10",{"$f":"IF(R_WH2,CONCATENATE(\"\", 'WH - II(2)'!L180),\"\")","v":""},false,"Y"]
["$WH1_3.5.10.WH11",{"$f":"IF(R_WH3,CONCATENATE(\"\", 'WH - II(3)'!D180),\"\")","v":""},false,"Y"]
["$WH1_3.5.10.WH12",{"$f":"IF(R_WH3,CONCATENATE(\"\", 'WH - II(3)'!F180),\"\")","v":""},false,"Y"]
["$WH1_3.5.10.WH13",{"$f":"IF(R_WH3,CONCATENATE(\"\", 'WH - II(3)'!H180),\"\")","v":""},false,"Y"]
["$WH1_3.5.10.WH14",{"$f":"IF(R_WH3,CONCATENATE(\"\", 'WH - II(3)'!J180),\"\")","v":""},false,"Y"]
["$WH1_3.5.10.WH15",{"$f":"IF(R_WH3,CONCATENATE(\"\", 'WH - II(3)'!L180),\"\")","v":""},false,"Y"]
["$WH1_3.5.10.C1",{"$f":"IF(R_WH1,CONCATENATE(\"\", 'WH - II(1)'!D182),\"\")","v":""},false,"Y"]
["$WH1_3.5.10.C2",{"$f":"IF(R_WH2,CONCATENATE(\"\", 'WH - II(2)'!D182),\"\")","v":""},false,"Y"]
["$WH1_3.5.10.C3",{"$f":"IF(R_WH3,CONCATENATE(\"\", 'WH - II(3)'!D182),\"\")","v":""},false,"Y"]
["$WH1_3.5.11.WH1",{"$f":"IF(R_WH1,CONCATENATE(\"\", 'WH - II(1)'!D184),\"\")","v":""},false,"Y"]
["$WH1_3.5.11.WH2",{"$f":"IF(R_WH1,CONCATENATE(\"\", 'WH - II(1)'!F184),\"\")","v":""},false,"Y"]
["$WH1_3.5.11.WH3",{"$f":"IF(R_WH1,CONCATENATE(\"\", 'WH - II(1)'!H184),\"\")","v":""},false,"Y"]
["$WH1_3.5.11.WH4",{"$f":"IF(R_WH1,CONCATENATE(\"\", 'WH - II(1)'!J184),\"\")","v":""},false,"Y"]
["$WH1_3.5.11.WH5",{"$f":"IF(R_WH1,CONCATENATE(\"\", 'WH - II(1)'!L184),\"\")","v":""},false,"Y"]
["$WH1_3.5.11.WH6",{"$f":"IF(R_WH2,CONCATENATE(\"\", 'WH - II(2)'!D184),\"\")","v":""},false,"Y"]
["$WH1_3.5.11.WH7",{"$f":"IF(R_WH2,CONCATENATE(\"\", 'WH - II(2)'!F184),\"\")","v":""},false,"Y"]
["$WH1_3.5.11.WH8",{"$f":"IF(R_WH2,CONCATENATE(\"\", 'WH - II(2)'!H184),\"\")","v":""},false,"Y"]
["$WH1_3.5.11.WH9",{"$f":"IF(R_WH2,CONCATENATE(\"\", 'WH - II(2)'!J184),\"\")","v":""},false,"Y"]
["$WH1_3.5.11.WH10",{"$f":"IF(R_WH2,CONCATENATE(\"\", 'WH - II(2)'!L184),\"\")","v":""},false,"Y"]
["$WH1_3.5.11.WH11",{"$f":"IF(R_WH3,CONCATENATE(\"\", 'WH - II(3)'!D184),\"\")","v":""},false,"Y"]
["$WH1_3.5.11.WH12",{"$f":"IF(R_WH3,CONCATENATE(\"\", 'WH - II(3)'!F184),\"\")","v":""},false,"Y"]
["$WH1_3.5.11.WH13",{"$f":"IF(R_WH3,CONCATENATE(\"\", 'WH - II(3)'!H184),\"\")","v":""},false,"Y"]
["$WH1_3.5.11.WH14",{"$f":"IF(R_WH3,CONCATENATE(\"\", 'WH - II(3)'!J184),\"\")","v":""},{"$f":"ISERROR(B830)","v":false},"Y"]
["$WH1_3.5.11.WH15",{"$f":"IF(R_WH3,CONCATENATE(\"\", 'WH - II(3)'!L184),\"\")","v":""},false,"Y"]
["$WH1_3.5.11.C1",{"$f":"IF(R_WH1,CONCATENATE(\"\", 'WH - II(1)'!D186),\"\")","v":""},false,"Y"]
["$WH1_3.5.11.C2",{"$f":"IF(R_WH2,CONCATENATE(\"\", 'WH - II(2)'!D186),\"\")","v":""},false,"Y"]
["$WH1_3.5.11.C3",{"$f":"IF(R_WH3,CONCATENATE(\"\", 'WH - II(3)'!D186),\"\")","v":""},false,"Y"]
["$WH1_4.1.1",{"$f":"IF(R_WH1,CONCATENATE(\"\", 'WH - II(1)'!L191),\"\")","v":""},false,"Y"]
["$WH1_4.1.1.C",{"$f":"IF(R_WH1,CONCATENATE(\"\", 'WH - II(1)'!D193),\"\")","v":""},false,"Y"]
["$WH1_4.1.2",{"$f":"IF(R_WH1,CONCATENATE(\"\", 'WH - II(1)'!L195),\"\")","v":""},false,"Y"]
["$WH1_4.1.2.C",{"$f":"IF(R_WH1,CONCATENATE(\"\", 'WH - II(1)'!D197),\"\")","v":""},false,"Y"]
["$WH1_4.1.3.1",{"$f":"IF(R_WH1,CONCATENATE(\"\", 'WH - II(1)'!T199),\"\")","v":""},false,"Y"]
["$WH1_4.1.3.1.C",{"$f":"IF(R_WH1,CONCATENATE(\"\", 'WH - II(1)'!D200),\"\")","v":""},false,"Y"]
["$WH1_4.1.3.2",{"$f":"IF(R_WH1,CONCATENATE(\"\", 'WH - II(1)'!T201),\"\")","v":""},false,"Y"]
["$WH1_4.1.3.2.C",{"$f":"IF(R_WH1,CONCATENATE(\"\", 'WH - II(1)'!D202),\"\")","v":""},false,"Y"]
["$WH1_4.1.3.3",{"$f":"IF(R_WH1,CONCATENATE(\"\", 'WH - II(1)'!T203),\"\")","v":""},false,"Y"]
["$WH1_4.1.3.3.C",{"$f":"IF(R_WH1,CONCATENATE(\"\", 'WH - II(1)'!D204),\"\")","v":""},false,"Y"]
["$WH1_4.1.4.1",{"$f":"IF(R_WH1,CONCATENATE(\"\", 'WH - II(1)'!L206),\"\")","v":""},false,"Y"]
["$WH1_4.1.4.1.C",{"$f":"IF(R_WH1,CONCATENATE(\"\", 'WH - II(1)'!D208),\"\")","v":""},false,"Y"]
["$WH1_4.1.4.2",{"$f":"IF(R_WH1,CONCATENATE(\"\", 'WH - II(1)'!L210),\"\")","v":""},false,"Y"]
["$WH1_4.1.4.2.C",{"$f":"IF(R_WH1,CONCATENATE(\"\", 'WH - II(1)'!D212),\"\")","v":""},false,"Y"]
["$WH1_4.2.2.1.WH1",{"$f":"IF(R_WH1,CONCATENATE(\"\", 'WH - II(1)'!D221),\"\")","v":""},false,"Y"]
["$WH1_4.2.2.1.WH2",{"$f":"IF(R_WH1,CONCATENATE(\"\", 'WH - II(1)'!F221),\"\")","v":""},false,"Y"]
["$WH1_4.2.2.1.WH3",{"$f":"IF(R_WH1,CONCATENATE(\"\", 'WH - II(1)'!H221),\"\")","v":""},false,"Y"]
["$WH1_4.2.2.1.WH4",{"$f":"IF(R_WH1,CONCATENATE(\"\", 'WH - II(1)'!J221),\"\")","v":""},false,"Y"]
["$WH1_4.2.2.1.WH5",{"$f":"IF(R_WH1,CONCATENATE(\"\", 'WH - II(1)'!L221),\"\")","v":""},false,"Y"]
["$WH1_4.2.2.1.WH6",{"$f":"IF(R_WH2,CONCATENATE(\"\", 'WH - II(2)'!D221),\"\")","v":""},false,"Y"]
["$WH1_4.2.2.1.WH7",{"$f":"IF(R_WH2,CONCATENATE(\"\", 'WH - II(2)'!F221),\"\")","v":""},false,"Y"]
["$WH1_4.2.2.1.WH8",{"$f":"IF(R_WH2,CONCATENATE(\"\", 'WH - II(2)'!H221),\"\")","v":""},false,"Y"]
["$WH1_4.2.2.1.WH9",{"$f":"IF(R_WH2,CONCATENATE(\"\", 'WH - II(2)'!J221),\"\")","v":""},false,"Y"]
["$WH1_4.2.2.1.WH10",{"$f":"IF(R_WH2,CONCATENATE(\"\", 'WH - II(2)'!L221),\"\")","v":""},false,"Y"]
["$WH1_4.2.2.1.WH11",{"$f":"IF(R_WH3,CONCATENATE(\"\", 'WH - II(3)'!D221),\"\")","v":""},false,"Y"]
["$WH1_4.2.2.1.WH12",{"$f":"IF(R_WH3,CONCATENATE(\"\", 'WH - II(3)'!F221),\"\")","v":""},false,"Y"]
["$WH1_4.2.2.1.WH13",{"$f":"IF(R_WH3,CONCATENATE(\"\", 'WH - II(3)'!H221),\"\")","v":""},false,"Y"]
["$WH1_4.2.2.1.WH14",{"$f":"IF(R_WH3,CONCATENATE(\"\", 'WH - II(3)'!J221),\"\")","v":""},false,"Y"]
["$WH1_4.2.2.1.WH15",{"$f":"IF(R_WH3,CONCATENATE(\"\", 'WH - II(3)'!L221),\"\")","v":""},false,"Y"]
["$WH1_4.2.2.1.C1",{"$f":"IF(R_WH1,CONCATENATE(\"\", 'WH - II(1)'!D223),\"\")","v":""},false,"Y"]
["$WH1_4.2.2.1.C2",{"$f":"IF(R_WH2,CONCATENATE(\"\", 'WH - II(2)'!D223),\"\")","v":""},false,"Y"]
["$WH1_4.2.2.1.C3",{"$f":"IF(R_WH3,CONCATENATE(\"\", 'WH - II(3)'!D223),\"\")","v":""},false,"Y"]
["$WH1_4.2.3.1.WH1",{"$f":"IF(R_WH1,CONCATENATE(\"\", 'WH - II(1)'!D226),\"\")","v":""},false,"Y"]
["$WH1_4.2.3.1.WH2",{"$f":"IF(R_WH1,CONCATENATE(\"\", 'WH - II(1)'!F226),\"\")","v":""},false,"Y"]
["$WH1_4.2.3.1.WH3",{"$f":"IF(R_WH1,CONCATENATE(\"\", 'WH - II(1)'!H226),\"\")","v":""},false,"Y"]
["$WH1_4.2.3.1.WH4",{"$f":"IF(R_WH1,CONCATENATE(\"\", 'WH - II(1)'!J226),\"\")","v":""},false,"Y"]
["$WH1_4.2.3.1.WH5",{"$f":"IF(R_WH1,CONCATENATE(\"\", 'WH - II(1)'!L226),\"\")","v":""},false,"Y"]
["$WH1_4.2.3.1.WH6",{"$f":"IF(R_WH2,CONCATENATE(\"\", 'WH - II(2)'!D226),\"\")","v":""},false,"Y"]
["$WH1_4.2.3.1.WH7",{"$f":"IF(R_WH2,CONCATENATE(\"\", 'WH - II(2)'!F226),\"\")","v":""},false,"Y"]
["$WH1_4.2.3.1.WH8",{"$f":"IF(R_WH2,CONCATENATE(\"\", 'WH - II(2)'!H226),\"\")","v":""},false,"Y"]
["$WH1_4.2.3.1.WH9",{"$f":"IF(R_WH2,CONCATENATE(\"\", 'WH - II(2)'!J226),\"\")","v":""},false,"Y"]
["$WH1_4.2.3.1.WH10",{"$f":"IF(R_WH2,CONCATENATE(\"\", 'WH - II(2)'!L226),\"\")","v":""},false,"Y"]
["$WH1_4.2.3.1.WH11",{"$f":"IF(R_WH3,CONCATENATE(\"\", 'WH - II(3)'!D226),\"\")","v":""},false,"Y"]
["$WH1_4.2.3.1.WH12",{"$f":"IF(R_WH3,CONCATENATE(\"\", 'WH - II(3)'!F226),\"\")","v":""},false,"Y"]
["$WH1_4.2.3.1.WH13",{"$f":"IF(R_WH3,CONCATENATE(\"\", 'WH - II(3)'!H226),\"\")","v":""},false,"Y"]
["$WH1_4.2.3.1.WH14",{"$f":"IF(R_WH3,CONCATENATE(\"\", 'WH - II(3)'!J226),\"\")","v":""},false,"Y"]
["$WH1_4.2.3.1.WH15",{"$f":"IF(R_WH3,CONCATENATE(\"\", 'WH - II(3)'!L226),\"\")","v":""},false,"Y"]
["$WH1_4.2.3.1.C1",{"$f":"IF(R_WH1,CONCATENATE(\"\", 'WH - II(1)'!D228),\"\")","v":""},false,"Y"]
["$WH1_4.2.3.1.C2",{"$f":"IF(R_WH2,CONCATENATE(\"\", 'WH - II(2)'!D228),\"\")","v":""},false,"Y"]
["$WH1_4.2.3.1.C3",{"$f":"IF(R_WH3,CONCATENATE(\"\", 'WH - II(3)'!D228),\"\")","v":""},false,"Y"]
["$WH1_4.2.3.2.WH1",{"$f":"IF(R_WH1,CONCATENATE(\"\", 'WH - II(1)'!D230),\"\")","v":""},false,"Y"]
["$WH1_4.2.3.2.WH2",{"$f":"IF(R_WH1,CONCATENATE(\"\", 'WH - II(1)'!F230),\"\")","v":""},false,"Y"]
["$WH1_4.2.3.2.WH3",{"$f":"IF(R_WH1,CONCATENATE(\"\", 'WH - II(1)'!H230),\"\")","v":""},false,"Y"]
["$WH1_4.2.3.2.WH4",{"$f":"IF(R_WH1,CONCATENATE(\"\", 'WH - II(1)'!J230),\"\")","v":""},false,"Y"]
["$WH1_4.2.3.2.WH5",{"$f":"IF(R_WH1,CONCATENATE(\"\", 'WH - II(1)'!L230),\"\")","v":""},false,"Y"]
["$WH1_4.2.3.2.WH6",{"$f":"IF(R_WH2,CONCATENATE(\"\", 'WH - II(2)'!D230),\"\")","v":""},false,"Y"]
["$WH1_4.2.3.2.WH7",{"$f":"IF(R_WH2,CONCATENATE(\"\", 'WH - II(2)'!F230),\"\")","v":""},false,"Y"]
["$WH1_4.2.3.2.WH8",{"$f":"IF(R_WH2,CONCATENATE(\"\", 'WH - II(2)'!H230),\"\")","v":""},false,"Y"]
["$WH1_4.2.3.2.WH9",{"$f":"IF(R_WH2,CONCATENATE(\"\", 'WH - II(2)'!J230),\"\")","v":""},false,"Y"]
["$WH1_4.2.3.2.WH10",{"$f":"IF(R_WH2,CONCATENATE(\"\", 'WH - II(2)'!L230),\"\")","v":""},{"$f":"ISERROR(B894)","v":false},"Y"]
["$WH1_4.2.3.2.WH11",{"$f":"IF(R_WH3,CONCATENATE(\"\", 'WH - II(3)'!D230),\"\")","v":""},false,"Y"]
["$WH1_4.2.3.2.WH12",{"$f":"IF(R_WH3,CONCATENATE(\"\", 'WH - II(3)'!F230),\"\")","v":""},false,"Y"]
["$WH1_4.2.3.2.WH13",{"$f":"IF(R_WH3,CONCATENATE(\"\", 'WH - II(3)'!H230),\"\")","v":""},false,"Y"]
["$WH1_4.2.3.2.WH14",{"$f":"IF(R_WH3,CONCATENATE(\"\", 'WH - II(3)'!J230),\"\")","v":""},false,"Y"]
["$WH1_4.2.3.2.WH15",{"$f":"IF(R_WH3,CONCATENATE(\"\", 'WH - II(3)'!L230),\"\")","v":""},false,"Y"]
["$WH1_4.2.3.2.C1",{"$f":"IF(R_WH1,CONCATENATE(\"\", 'WH - II(1)'!D232),\"\")","v":""},false,"Y"]
["$WH1_4.2.3.2.C2",{"$f":"IF(R_WH2,CONCATENATE(\"\", 'WH - II(2)'!D232),\"\")","v":""},false,"Y"]
["$WH1_4.2.3.2.C3",{"$f":"IF(R_WH3,CONCATENATE(\"\", 'WH - II(3)'!D232),\"\")","v":""},false,"Y"]
["$WH1_4.2.3.3.WH1",{"$f":"IF(R_WH1,CONCATENATE(\"\", 'WH - II(1)'!D234),\"\")","v":""},false,"Y"]
["$WH1_4.2.3.3.WH2",{"$f":"IF(R_WH1,CONCATENATE(\"\", 'WH - II(1)'!F234),\"\")","v":""},false,"Y"]
["$WH1_4.2.3.3.WH3",{"$f":"IF(R_WH1,CONCATENATE(\"\", 'WH - II(1)'!H234),\"\")","v":""},false,"Y"]
["$WH1_4.2.3.3.WH4",{"$f":"IF(R_WH1,CONCATENATE(\"\", 'WH - II(1)'!J234),\"\")","v":""},false,"Y"]
["$WH1_4.2.3.3.WH5",{"$f":"IF(R_WH1,CONCATENATE(\"\", 'WH - II(1)'!L234),\"\")","v":""},false,"Y"]
["$WH1_4.2.3.3.WH6",{"$f":"IF(R_WH2,CONCATENATE(\"\", 'WH - II(2)'!D234),\"\")","v":""},false,"Y"]
["$WH1_4.2.3.3.WH7",{"$f":"IF(R_WH2,CONCATENATE(\"\", 'WH - II(2)'!F234),\"\")","v":""},false,"Y"]
["$WH1_4.2.3.3.WH8",{"$f":"IF(R_WH2,CONCATENATE(\"\", 'WH - II(2)'!H234),\"\")","v":""},false,"Y"]
["$WH1_4.2.3.3.WH9",{"$f":"IF(R_WH2,CONCATENATE(\"\", 'WH - II(2)'!J234),\"\")","v":""},false,"Y"]
["$WH1_4.2.3.3.WH10",{"$f":"IF(R_WH2,CONCATENATE(\"\", 'WH - II(2)'!L234),\"\")","v":""},false,"Y"]
["$WH1_4.2.3.3.WH11",{"$f":"IF(R_WH3,CONCATENATE(\"\", 'WH - II(3)'!D234),\"\")","v":""},false,"Y"]
["$WH1_4.2.3.3.WH12",{"$f":"IF(R_WH3,CONCATENATE(\"\", 'WH - II(3)'!F234),\"\")","v":""},false,"Y"]
["$WH1_4.2.3.3.WH13",{"$f":"IF(R_WH3,CONCATENATE(\"\", 'WH - II(3)'!H234),\"\")","v":""},false,"Y"]
["$WH1_4.2.3.3.WH14",{"$f":"IF(R_WH3,CONCATENATE(\"\", 'WH - II(3)'!J234),\"\")","v":""},false,"Y"]
["$WH1_4.2.3.3.WH15",{"$f":"IF(R_WH3,CONCATENATE(\"\", 'WH - II(3)'!L234),\"\")","v":""},false,"Y"]
["$WH1_4.2.3.3.C1",{"$f":"IF(R_WH1,CONCATENATE(\"\", 'WH - II(1)'!D236),\"\")","v":""},false,"Y"]
["$WH1_4.2.3.3.C2",{"$f":"IF(R_WH2,CONCATENATE(\"\", 'WH - II(2)'!D236),\"\")","v":""},false,"Y"]
["$WH1_4.2.3.3.C3",{"$f":"IF(R_WH3,CONCATENATE(\"\", 'WH - II(3)'!D236),\"\")","v":""},false,"Y"]
["$WH1_4.2.4.1.WH1",{"$f":"IF(R_WH1,CONCATENATE(\"\", 'WH - II(1)'!D240),\"\")","v":""},false,"Y"]
["$WH1_4.2.4.1.WH2",{"$f":"IF(R_WH1,CONCATENATE(\"\", 'WH - II(1)'!F240),\"\")","v":""},false,"Y"]
["$WH1_4.2.4.1.WH3",{"$f":"IF(R_WH1,CONCATENATE(\"\", 'WH - II(1)'!H240),\"\")","v":""},false,"Y"]
["$WH1_4.2.4.1.WH4",{"$f":"IF(R_WH1,CONCATENATE(\"\", 'WH - II(1)'!J240),\"\")","v":""},false,"Y"]
["$WH1_4.2.4.1.WH5",{"$f":"IF(R_WH1,CONCATENATE(\"\", 'WH - II(1)'!L240),\"\")","v":""},false,"Y"]
["$WH1_4.2.4.1.WH6",{"$f":"IF(R_WH2,CONCATENATE(\"\", 'WH - II(2)'!D240),\"\")","v":""},false,"Y"]
["$WH1_4.2.4.1.WH7",{"$f":"IF(R_WH2,CONCATENATE(\"\", 'WH - II(2)'!F240),\"\")","v":""},false,"Y"]
["$WH1_4.2.4.1.WH8",{"$f":"IF(R_WH2,CONCATENATE(\"\", 'WH - II(2)'!H240),\"\")","v":""},false,"Y"]
["$WH1_4.2.4.1.WH9",{"$f":"IF(R_WH2,CONCATENATE(\"\", 'WH - II(2)'!J240),\"\")","v":""},false,"Y"]
["$WH1_4.2.4.1.WH10",{"$f":"IF(R_WH2,CONCATENATE(\"\", 'WH - II(2)'!L240),\"\")","v":""},false,"Y"]
["$WH1_4.2.4.1.WH11",{"$f":"IF(R_WH3,CONCATENATE(\"\", 'WH - II(3)'!D240),\"\")","v":""},false,"Y"]
["$WH1_4.2.4.1.WH12",{"$f":"IF(R_WH3,CONCATENATE(\"\", 'WH - II(3)'!F240),\"\")","v":""},false,"Y"]
["$WH1_4.2.4.1.WH13",{"$f":"IF(R_WH3,CONCATENATE(\"\", 'WH - II(3)'!H240),\"\")","v":""},false,"Y"]
["$WH1_4.2.4.1.WH14",{"$f":"IF(R_WH3,CONCATENATE(\"\", 'WH - II(3)'!J240),\"\")","v":""},false,"Y"]
["$WH1_4.2.4.1.WH15",{"$f":"IF(R_WH3,CONCATENATE(\"\", 'WH - II(3)'!L240),\"\")","v":""},false,"Y"]
["$WH1_4.2.4.1.C1",{"$f":"IF(R_WH1,CONCATENATE(\"\", 'WH - II(1)'!D242),\"\")","v":""},false,"Y"]
["$WH1_4.2.4.1.C2",{"$f":"IF(R_WH2,CONCATENATE(\"\", 'WH - II(2)'!D242),\"\")","v":""},false,"Y"]
["$WH1_4.2.4.1.C3",{"$f":"IF(R_WH3,CONCATENATE(\"\", 'WH - II(3)'!D242),\"\")","v":""},false,"Y"]
["$WH1_4.2.4.2.WH1",{"$f":"IF(R_WH1,CONCATENATE(\"\", 'WH - II(1)'!D244),\"\")","v":""},false,"Y"]
["$WH1_4.2.4.2.WH2",{"$f":"IF(R_WH1,CONCATENATE(\"\", 'WH - II(1)'!F244),\"\")","v":""},false,"Y"]
["$WH1_4.2.4.2.WH3",{"$f":"IF(R_WH1,CONCATENATE(\"\", 'WH - II(1)'!H244),\"\")","v":""},false,"Y"]
["$WH1_4.2.4.2.WH4",{"$f":"IF(R_WH1,CONCATENATE(\"\", 'WH - II(1)'!J244),\"\")","v":""},false,"Y"]
["$WH1_4.2.4.2.WH5",{"$f":"IF(R_WH1,CONCATENATE(\"\", 'WH - II(1)'!L244),\"\")","v":""},false,"Y"]
["$WH1_4.2.4.2.WH6",{"$f":"IF(R_WH2,CONCATENATE(\"\", 'WH - II(2)'!D244),\"\")","v":""},false,"Y"]
["$WH1_4.2.4.2.WH7",{"$f":"IF(R_WH2,CONCATENATE(\"\", 'WH - II(2)'!F244),\"\")","v":""},false,"Y"]
["$WH1_4.2.4.2.WH8",{"$f":"IF(R_WH2,CONCATENATE(\"\", 'WH - II(2)'!H244),\"\")","v":""},false,"Y"]
["$WH1_4.2.4.2.WH9",{"$f":"IF(R_WH2,CONCATENATE(\"\", 'WH - II(2)'!J244),\"\")","v":""},false,"Y"]
["$WH1_4.2.4.2.WH10",{"$f":"IF(R_WH2,CONCATENATE(\"\", 'WH - II(2)'!L244),\"\")","v":""},false,"Y"]
["$WH1_4.2.4.2.WH11",{"$f":"IF(R_WH3,CONCATENATE(\"\", 'WH - II(3)'!D244),\"\")","v":""},false,"Y"]
["$WH1_4.2.4.2.WH12",{"$f":"IF(R_WH3,CONCATENATE(\"\", 'WH - II(3)'!F244),\"\")","v":""},false,"Y"]
["$WH1_4.2.4.2.WH13",{"$f":"IF(R_WH3,CONCATENATE(\"\", 'WH - II(3)'!H244),\"\")","v":""},false,"Y"]
["$WH1_4.2.4.2.WH14",{"$f":"IF(R_WH3,CONCATENATE(\"\", 'WH - II(3)'!J244),\"\")","v":""},false,"Y"]
["$WH1_4.2.4.2.WH15",{"$f":"IF(R_WH3,CONCATENATE(\"\", 'WH - II(3)'!L244),\"\")","v":""},false,"Y"]
["$WH1_4.2.4.2.C1",{"$f":"IF(R_WH1,CONCATENATE(\"\", 'WH - II(1)'!D246),\"\")","v":""},false,"Y"]
["$WH1_4.2.4.2.C2",{"$f":"IF(R_WH2,CONCATENATE(\"\", 'WH - II(2)'!D246),\"\")","v":""},false,"Y"]
["$WH1_4.2.4.2.C3",{"$f":"IF(R_WH3,CONCATENATE(\"\", 'WH - II(3)'!D246),\"\")","v":""},false,"Y"]
["$WH1_4.2.4.3.WH1",{"$f":"IF(R_WH1,CONCATENATE(\"\", 'WH - II(1)'!D248),\"\")","v":""},false,"Y"]
["$WH1_4.2.4.3.WH2",{"$f":"IF(R_WH1,CONCATENATE(\"\", 'WH - II(1)'!F248),\"\")","v":""},{"$f":"ISERROR(B958)","v":false},"Y"]
["$WH1_4.2.4.3.WH3",{"$f":"IF(R_WH1,CONCATENATE(\"\", 'WH - II(1)'!H248),\"\")","v":""},false,"Y"]
["$WH1_4.2.4.3.WH4",{"$f":"IF(R_WH1,CONCATENATE(\"\", 'WH - II(1)'!J248),\"\")","v":""},false,"Y"]
["$WH1_4.2.4.3.WH5",{"$f":"IF(R_WH1,CONCATENATE(\"\", 'WH - II(1)'!L248),\"\")","v":""},false,"Y"]
["$WH1_4.2.4.3.WH6",{"$f":"IF(R_WH2,CONCATENATE(\"\", 'WH - II(2)'!D248),\"\")","v":""},false,"Y"]
["$WH1_4.2.4.3.WH7",{"$f":"IF(R_WH2,CONCATENATE(\"\", 'WH - II(2)'!F248),\"\")","v":""},false,"Y"]
["$WH1_4.2.4.3.WH8",{"$f":"IF(R_WH2,CONCATENATE(\"\", 'WH - II(2)'!H248),\"\")","v":""},false,"Y"]
["$WH1_4.2.4.3.WH9",{"$f":"IF(R_WH2,CONCATENATE(\"\", 'WH - II(2)'!J248),\"\")","v":""},false,"Y"]
["$WH1_4.2.4.3.WH10",{"$f":"IF(R_WH2,CONCATENATE(\"\", 'WH - II(2)'!L248),\"\")","v":""},false,"Y"]
["$WH1_4.2.4.3.WH11",{"$f":"IF(R_WH3,CONCATENATE(\"\", 'WH - II(3)'!D248),\"\")","v":""},false,"Y"]
["$WH1_4.2.4.3.WH12",{"$f":"IF(R_WH3,CONCATENATE(\"\", 'WH - II(3)'!F248),\"\")","v":""},false,"Y"]
["$WH1_4.2.4.3.WH13",{"$f":"IF(R_WH3,CONCATENATE(\"\", 'WH - II(3)'!H248),\"\")","v":""},false,"Y"]
["$WH1_4.2.4.3.WH14",{"$f":"IF(R_WH3,CONCATENATE(\"\", 'WH - II(3)'!J248),\"\")","v":""},false,"Y"]
["$WH1_4.2.4.3.WH15",{"$f":"IF(R_WH3,CONCATENATE(\"\", 'WH - II(3)'!L248),\"\")","v":""},false,"Y"]
["$WH1_4.2.4.3.C1",{"$f":"IF(R_WH1,CONCATENATE(\"\", 'WH - II(1)'!D250),\"\")","v":""},false,"Y"]
["$WH1_4.2.4.3.C2",{"$f":"IF(R_WH2,CONCATENATE(\"\", 'WH - II(2)'!D250),\"\")","v":""},false,"Y"]
["$WH1_4.2.4.3.C3",{"$f":"IF(R_WH3,CONCATENATE(\"\", 'WH - II(3)'!D250),\"\")","v":""},false,"Y"]
["$WH1_4.2.4.4.WH1",{"$f":"IF(R_WH1,CONCATENATE(\"\", 'WH - II(1)'!D252),\"\")","v":""},false,"Y"]
["$WH1_4.2.4.4.WH2",{"$f":"IF(R_WH1,CONCATENATE(\"\", 'WH - II(1)'!F252),\"\")","v":""},false,"Y"]
["$WH1_4.2.4.4.WH3",{"$f":"IF(R_WH1,CONCATENATE(\"\", 'WH - II(1)'!H252),\"\")","v":""},false,"Y"]
["$WH1_4.2.4.4.WH4",{"$f":"IF(R_WH1,CONCATENATE(\"\", 'WH - II(1)'!J252),\"\")","v":""},false,"Y"]
["$WH1_4.2.4.4.WH5",{"$f":"IF(R_WH1,CONCATENATE(\"\", 'WH - II(1)'!L252),\"\")","v":""},false,"Y"]
["$WH1_4.2.4.4.WH6",{"$f":"IF(R_WH2,CONCATENATE(\"\", 'WH - II(2)'!D252),\"\")","v":""},false,"Y"]
["$WH1_4.2.4.4.WH7",{"$f":"IF(R_WH2,CONCATENATE(\"\", 'WH - II(2)'!F252),\"\")","v":""},false,"Y"]
["$WH1_4.2.4.4.WH8",{"$f":"IF(R_WH2,CONCATENATE(\"\", 'WH - II(2)'!H252),\"\")","v":""},false,"Y"]
["$WH1_4.2.4.4.WH9",{"$f":"IF(R_WH2,CONCATENATE(\"\", 'WH - II(2)'!J252),\"\")","v":""},false,"Y"]
["$WH1_4.2.4.4.WH10",{"$f":"IF(R_WH2,CONCATENATE(\"\", 'WH - II(2)'!L252),\"\")","v":""},false,"Y"]
["$WH1_4.2.4.4.WH11",{"$f":"IF(R_WH3,CONCATENATE(\"\", 'WH - II(3)'!D252),\"\")","v":""},false,"Y"]
["$WH1_4.2.4.4.WH12",{"$f":"IF(R_WH3,CONCATENATE(\"\", 'WH - II(3)'!F252),\"\")","v":""},false,"Y"]
["$WH1_4.2.4.4.WH13",{"$f":"IF(R_WH3,CONCATENATE(\"\", 'WH - II(3)'!H252),\"\")","v":""},false,"Y"]
["$WH1_4.2.4.4.WH14",{"$f":"IF(R_WH3,CONCATENATE(\"\", 'WH - II(3)'!J252),\"\")","v":""},false,"Y"]
["$WH1_4.2.4.4.WH15",{"$f":"IF(R_WH3,CONCATENATE(\"\", 'WH - II(3)'!L252),\"\")","v":""},false,"Y"]
["$WH1_4.2.4.4.C1",{"$f":"IF(R_WH1,CONCATENATE(\"\", 'WH - II(1)'!D254),\"\")","v":""},false,"Y"]
["$WH1_4.2.4.4.C2",{"$f":"IF(R_WH2,CONCATENATE(\"\", 'WH - II(2)'!D254),\"\")","v":""},false,"Y"]
["$WH1_4.2.4.4.C3",{"$f":"IF(R_WH3,CONCATENATE(\"\", 'WH - II(3)'!D254),\"\")","v":""},false,"Y"]
["$WH1_4.2.4.5.WH1",{"$f":"IF(R_WH1,CONCATENATE(\"\", 'WH - II(1)'!D256),\"\")","v":""},false,"Y"]
["$WH1_4.2.4.5.WH2",{"$f":"IF(R_WH1,CONCATENATE(\"\", 'WH - II(1)'!F256),\"\")","v":""},false,"Y"]
["$WH1_4.2.4.5.WH3",{"$f":"IF(R_WH1,CONCATENATE(\"\", 'WH - II(1)'!H256),\"\")","v":""},false,"Y"]
["$WH1_4.2.4.5.WH4",{"$f":"IF(R_WH1,CONCATENATE(\"\", 'WH - II(1)'!J256),\"\")","v":""},false,"Y"]
["$WH1_4.2.4.5.WH5",{"$f":"IF(R_WH1,CONCATENATE(\"\", 'WH - II(1)'!L256),\"\")","v":""},false,"Y"]
["$WH1_4.2.4.5.WH6",{"$f":"IF(R_WH2,CONCATENATE(\"\", 'WH - II(2)'!D256),\"\")","v":""},false,"Y"]
["$WH1_4.2.4.5.WH7",{"$f":"IF(R_WH2,CONCATENATE(\"\", 'WH - II(2)'!F256),\"\")","v":""},false,"Y"]
["$WH1_4.2.4.5.WH8",{"$f":"IF(R_WH2,CONCATENATE(\"\", 'WH - II(2)'!H256),\"\")","v":""},false,"Y"]
["$WH1_4.2.4.5.WH9",{"$f":"IF(R_WH2,CONCATENATE(\"\", 'WH - II(2)'!J256),\"\")","v":""},false,"Y"]
["$WH1_4.2.4.5.WH10",{"$f":"IF(R_WH2,CONCATENATE(\"\", 'WH - II(2)'!L256),\"\")","v":""},false,"Y"]
["$WH1_4.2.4.5.WH11",{"$f":"IF(R_WH3,CONCATENATE(\"\", 'WH - II(3)'!D256),\"\")","v":""},false,"Y"]
["$WH1_4.2.4.5.WH12",{"$f":"IF(R_WH3,CONCATENATE(\"\", 'WH - II(3)'!F256),\"\")","v":""},false,"Y"]
["$WH1_4.2.4.5.WH13",{"$f":"IF(R_WH3,CONCATENATE(\"\", 'WH - II(3)'!H256),\"\")","v":""},false,"Y"]
["$WH1_4.2.4.5.WH14",{"$f":"IF(R_WH3,CONCATENATE(\"\", 'WH - II(3)'!J256),\"\")","v":""},false,"Y"]
["$WH1_4.2.4.5.WH15",{"$f":"IF(R_WH3,CONCATENATE(\"\", 'WH - II(3)'!L256),\"\")","v":""},false,"Y"]
["$WH1_4.2.4.5.C1",{"$f":"IF(R_WH1,CONCATENATE(\"\", 'WH - II(1)'!D258),\"\")","v":""},false,"Y"]
["$WH1_4.2.4.5.C2",{"$f":"IF(R_WH2,CONCATENATE(\"\", 'WH - II(2)'!D258),\"\")","v":""},false,"Y"]
["$WH1_4.2.4.5.C3",{"$f":"IF(R_WH3,CONCATENATE(\"\", 'WH - II(3)'!D258),\"\")","v":""},false,"Y"]
["$WH1_4.2.5.1.WH1",{"$f":"IF(R_WH1,CONCATENATE(\"\", 'WH - II(1)'!D262),\"\")","v":""},false,"Y"]
["$WH1_4.2.5.1.WH2",{"$f":"IF(R_WH1,CONCATENATE(\"\", 'WH - II(1)'!F262),\"\")","v":""},false,"Y"]
["$WH1_4.2.5.1.WH3",{"$f":"IF(R_WH1,CONCATENATE(\"\", 'WH - II(1)'!H262),\"\")","v":""},false,"Y"]
["$WH1_4.2.5.1.WH4",{"$f":"IF(R_WH1,CONCATENATE(\"\", 'WH - II(1)'!J262),\"\")","v":""},false,"Y"]
["$WH1_4.2.5.1.WH5",{"$f":"IF(R_WH1,CONCATENATE(\"\", 'WH - II(1)'!L262),\"\")","v":""},false,"Y"]
["$WH1_4.2.5.1.WH6",{"$f":"IF(R_WH2,CONCATENATE(\"\", 'WH - II(2)'!D262),\"\")","v":""},false,"Y"]
["$WH1_4.2.5.1.WH7",{"$f":"IF(R_WH2,CONCATENATE(\"\", 'WH - II(2)'!F262),\"\")","v":""},false,"Y"]
["$WH1_4.2.5.1.WH8",{"$f":"IF(R_WH2,CONCATENATE(\"\", 'WH - II(2)'!H262),\"\")","v":""},false,"Y"]
["$WH1_4.2.5.1.WH9",{"$f":"IF(R_WH2,CONCATENATE(\"\", 'WH - II(2)'!J262),\"\")","v":""},false,"Y"]
["$WH1_4.2.5.1.WH10",{"$f":"IF(R_WH2,CONCATENATE(\"\", 'WH - II(2)'!L262),\"\")","v":""},false,"Y"]
["$WH1_4.2.5.1.WH11",{"$f":"IF(R_WH3,CONCATENATE(\"\", 'WH - II(3)'!D262),\"\")","v":""},false,"Y"]
["$WH1_4.2.5.1.WH12",{"$f":"IF(R_WH3,CONCATENATE(\"\", 'WH - II(3)'!F262),\"\")","v":""},{"$f":"ISERROR(B1022)","v":false},"Y"]
["$WH1_4.2.5.1.WH13",{"$f":"IF(R_WH3,CONCATENATE(\"\", 'WH - II(3)'!H262),\"\")","v":""},false,"Y"]
["$WH1_4.2.5.1.WH14",{"$f":"IF(R_WH3,CONCATENATE(\"\", 'WH - II(3)'!J262),\"\")","v":""},false,"Y"]
["$WH1_4.2.5.1.WH15",{"$f":"IF(R_WH3,CONCATENATE(\"\", 'WH - II(3)'!L262),\"\")","v":""},false,"Y"]
["$WH1_4.2.5.1.C1",{"$f":"IF(R_WH1,CONCATENATE(\"\", 'WH - II(1)'!D264),\"\")","v":""},false,"Y"]
["$WH1_4.2.5.1.C2",{"$f":"IF(R_WH2,CONCATENATE(\"\", 'WH - II(2)'!D264),\"\")","v":""},false,"Y"]
["$WH1_4.2.5.1.C3",{"$f":"IF(R_WH3,CONCATENATE(\"\", 'WH - II(3)'!D264),\"\")","v":""},false,"Y"]
["$WH1_4.2.5.2.WH1",{"$f":"IF(R_WH1,CONCATENATE(\"\", 'WH - II(1)'!D266),\"\")","v":""},false,"Y"]
["$WH1_4.2.5.2.WH2",{"$f":"IF(R_WH1,CONCATENATE(\"\", 'WH - II(1)'!F266),\"\")","v":""},false,"Y"]
["$WH1_4.2.5.2.WH3",{"$f":"IF(R_WH1,CONCATENATE(\"\", 'WH - II(1)'!H266),\"\")","v":""},false,"Y"]
["$WH1_4.2.5.2.WH4",{"$f":"IF(R_WH1,CONCATENATE(\"\", 'WH - II(1)'!J266),\"\")","v":""},false,"Y"]
["$WH1_4.2.5.2.WH5",{"$f":"IF(R_WH1,CONCATENATE(\"\", 'WH - II(1)'!L266),\"\")","v":""},false,"Y"]
["$WH1_4.2.5.2.WH6",{"$f":"IF(R_WH2,CONCATENATE(\"\", 'WH - II(2)'!D266),\"\")","v":""},false,"Y"]
["$WH1_4.2.5.2.WH7",{"$f":"IF(R_WH2,CONCATENATE(\"\", 'WH - II(2)'!F266),\"\")","v":""},false,"Y"]
["$WH1_4.2.5.2.WH8",{"$f":"IF(R_WH2,CONCATENATE(\"\", 'WH - II(2)'!H266),\"\")","v":""},false,"Y"]
["$WH1_4.2.5.2.WH9",{"$f":"IF(R_WH2,CONCATENATE(\"\", 'WH - II(2)'!J266),\"\")","v":""},false,"Y"]
["$WH1_4.2.5.2.WH10",{"$f":"IF(R_WH2,CONCATENATE(\"\", 'WH - II(2)'!L266),\"\")","v":""},false,"Y"]
["$WH1_4.2.5.2.WH11",{"$f":"IF(R_WH3,CONCATENATE(\"\", 'WH - II(3)'!D266),\"\")","v":""},false,"Y"]
["$WH1_4.2.5.2.WH12",{"$f":"IF(R_WH3,CONCATENATE(\"\", 'WH - II(3)'!F266),\"\")","v":""},false,"Y"]
["$WH1_4.2.5.2.WH13",{"$f":"IF(R_WH3,CONCATENATE(\"\", 'WH - II(3)'!H266),\"\")","v":""},false,"Y"]
["$WH1_4.2.5.2.WH14",{"$f":"IF(R_WH3,CONCATENATE(\"\", 'WH - II(3)'!J266),\"\")","v":""},false,"Y"]
["$WH1_4.2.5.2.WH15",{"$f":"IF(R_WH3,CONCATENATE(\"\", 'WH - II(3)'!L266),\"\")","v":""},false,"Y"]
["$WH1_4.2.5.2.C1",{"$f":"IF(R_WH1,CONCATENATE(\"\", 'WH - II(1)'!D268),\"\")","v":""},false,"Y"]
["$WH1_4.2.5.2.C2",{"$f":"IF(R_WH2,CONCATENATE(\"\", 'WH - II(2)'!D268),\"\")","v":""},false,"Y"]
["$WH1_4.2.5.2.C3",{"$f":"IF(R_WH3,CONCATENATE(\"\", 'WH - II(3)'!D268),\"\")","v":""},false,"Y"]
["$WH1_4.2.5.3.WH1",{"$f":"IF(R_WH1,CONCATENATE(\"\", 'WH - II(1)'!D270),\"\")","v":""},false,"Y"]
["$WH1_4.2.5.3.WH2",{"$f":"IF(R_WH1,CONCATENATE(\"\", 'WH - II(1)'!F270),\"\")","v":""},false,"Y"]
["$WH1_4.2.5.3.WH3",{"$f":"IF(R_WH1,CONCATENATE(\"\", 'WH - II(1)'!H270),\"\")","v":""},false,"Y"]
["$WH1_4.2.5.3.WH4",{"$f":"IF(R_WH1,CONCATENATE(\"\", 'WH - II(1)'!J270),\"\")","v":""},false,"Y"]
["$WH1_4.2.5.3.WH5",{"$f":"IF(R_WH1,CONCATENATE(\"\", 'WH - II(1)'!L270),\"\")","v":""},false,"Y"]
["$WH1_4.2.5.3.WH6",{"$f":"IF(R_WH2,CONCATENATE(\"\", 'WH - II(2)'!D270),\"\")","v":""},false,"Y"]
["$WH1_4.2.5.3.WH7",{"$f":"IF(R_WH2,CONCATENATE(\"\", 'WH - II(2)'!F270),\"\")","v":""},false,"Y"]
["$WH1_4.2.5.3.WH8",{"$f":"IF(R_WH2,CONCATENATE(\"\", 'WH - II(2)'!H270),\"\")","v":""},false,"Y"]
["$WH1_4.2.5.3.WH9",{"$f":"IF(R_WH2,CONCATENATE(\"\", 'WH - II(2)'!J270),\"\")","v":""},false,"Y"]
["$WH1_4.2.5.3.WH10",{"$f":"IF(R_WH2,CONCATENATE(\"\", 'WH - II(2)'!L270),\"\")","v":""},false,"Y"]
["$WH1_4.2.5.3.WH11",{"$f":"IF(R_WH3,CONCATENATE(\"\", 'WH - II(3)'!D270),\"\")","v":""},false,"Y"]
["$WH1_4.2.5.3.WH12",{"$f":"IF(R_WH3,CONCATENATE(\"\", 'WH - II(3)'!F270),\"\")","v":""},false,"Y"]
["$WH1_4.2.5.3.WH13",{"$f":"IF(R_WH3,CONCATENATE(\"\", 'WH - II(3)'!H270),\"\")","v":""},false,"Y"]
["$WH1_4.2.5.3.WH14",{"$f":"IF(R_WH3,CONCATENATE(\"\", 'WH - II(3)'!J270),\"\")","v":""},false,"Y"]
["$WH1_4.2.5.3.WH15",{"$f":"IF(R_WH3,CONCATENATE(\"\", 'WH - II(3)'!L270),\"\")","v":""},false,"Y"]
["$WH1_4.2.5.3.C1",{"$f":"IF(R_WH1,CONCATENATE(\"\", 'WH - II(1)'!D272),\"\")","v":""},false,"Y"]
["$WH1_4.2.5.3.C2",{"$f":"IF(R_WH2,CONCATENATE(\"\", 'WH - II(2)'!D272),\"\")","v":""},false,"Y"]
["$WH1_4.2.5.3.C3",{"$f":"IF(R_WH3,CONCATENATE(\"\", 'WH - II(3)'!D272),\"\")","v":""},false,"Y"]
["$WH1_4.2.5.4.WH1",{"$f":"IF(R_WH1,CONCATENATE(\"\", 'WH - II(1)'!D274),\"\")","v":""},false,"Y"]
["$WH1_4.2.5.4.WH2",{"$f":"IF(R_WH1,CONCATENATE(\"\", 'WH - II(1)'!F274),\"\")","v":""},false,"Y"]
["$WH1_4.2.5.4.WH3",{"$f":"IF(R_WH1,CONCATENATE(\"\", 'WH - II(1)'!H274),\"\")","v":""},false,"Y"]
["$WH1_4.2.5.4.WH4",{"$f":"IF(R_WH1,CONCATENATE(\"\", 'WH - II(1)'!J274),\"\")","v":""},false,"Y"]
["$WH1_4.2.5.4.WH5",{"$f":"IF(R_WH1,CONCATENATE(\"\", 'WH - II(1)'!L274),\"\")","v":""},false,"Y"]
["$WH1_4.2.5.4.WH6",{"$f":"IF(R_WH2,CONCATENATE(\"\", 'WH - II(2)'!D274),\"\")","v":""},false,"Y"]
["$WH1_4.2.5.4.WH7",{"$f":"IF(R_WH2,CONCATENATE(\"\", 'WH - II(2)'!F274),\"\")","v":""},false,"Y"]
["$WH1_4.2.5.4.WH8",{"$f":"IF(R_WH2,CONCATENATE(\"\", 'WH - II(2)'!H274),\"\")","v":""},false,"Y"]
["$WH1_4.2.5.4.WH9",{"$f":"IF(R_WH2,CONCATENATE(\"\", 'WH - II(2)'!J274),\"\")","v":""},false,"Y"]
["$WH1_4.2.5.4.WH10",{"$f":"IF(R_WH2,CONCATENATE(\"\", 'WH - II(2)'!L274),\"\")","v":""},false,"Y"]
["$WH1_4.2.5.4.WH11",{"$f":"IF(R_WH3,CONCATENATE(\"\", 'WH - II(3)'!D274),\"\")","v":""},false,"Y"]
["$WH1_4.2.5.4.WH12",{"$f":"IF(R_WH3,CONCATENATE(\"\", 'WH - II(3)'!F274),\"\")","v":""},false,"Y"]
["$WH1_4.2.5.4.WH13",{"$f":"IF(R_WH3,CONCATENATE(\"\", 'WH - II(3)'!H274),\"\")","v":""},false,"Y"]
["$WH1_4.2.5.4.WH14",{"$f":"IF(R_WH3,CONCATENATE(\"\", 'WH - II(3)'!J274),\"\")","v":""},false,"Y"]
["$WH1_4.2.5.4.WH15",{"$f":"IF(R_WH3,CONCATENATE(\"\", 'WH - II(3)'!L274),\"\")","v":""},false,"Y"]
["$WH1_4.2.5.4.C1",{"$f":"IF(R_WH1,CONCATENATE(\"\", 'WH - II(1)'!D276),\"\")","v":""},false,"Y"]
["$WH1_4.2.5.4.C2",{"$f":"IF(R_WH2,CONCATENATE(\"\", 'WH - II(2)'!D276),\"\")","v":""},false,"Y"]
["$WH1_4.2.5.4.C3",{"$f":"IF(R_WH3,CONCATENATE(\"\", 'WH - II(3)'!D276),\"\")","v":""},false,"Y"]
["$WH1_4.2.5.5.WH1",{"$f":"IF(R_WH1,CONCATENATE(\"\", 'WH - II(1)'!D278),\"\")","v":""},false,"Y"]
["$WH1_4.2.5.5.WH2",{"$f":"IF(R_WH1,CONCATENATE(\"\", 'WH - II(1)'!F278),\"\")","v":""},false,"Y"]
["$WH1_4.2.5.5.WH3",{"$f":"IF(R_WH1,CONCATENATE(\"\", 'WH - II(1)'!H278),\"\")","v":""},false,"Y"]
["$WH1_4.2.5.5.WH4",{"$f":"IF(R_WH1,CONCATENATE(\"\", 'WH - II(1)'!J278),\"\")","v":""},{"$f":"ISERROR(B1086)","v":false},"Y"]
["$WH1_4.2.5.5.WH5",{"$f":"IF(R_WH1,CONCATENATE(\"\", 'WH - II(1)'!L278),\"\")","v":""},false,"Y"]
["$WH1_4.2.5.5.WH6",{"$f":"IF(R_WH2,CONCATENATE(\"\", 'WH - II(2)'!D278),\"\")","v":""},false,"Y"]
["$WH1_4.2.5.5.WH7",{"$f":"IF(R_WH2,CONCATENATE(\"\", 'WH - II(2)'!F278),\"\")","v":""},false,"Y"]
["$WH1_4.2.5.5.WH8",{"$f":"IF(R_WH2,CONCATENATE(\"\", 'WH - II(2)'!H278),\"\")","v":""},false,"Y"]
["$WH1_4.2.5.5.WH9",{"$f":"IF(R_WH2,CONCATENATE(\"\", 'WH - II(2)'!J278),\"\")","v":""},false,"Y"]
["$WH1_4.2.5.5.WH10",{"$f":"IF(R_WH2,CONCATENATE(\"\", 'WH - II(2)'!L278),\"\")","v":""},false,"Y"]
["$WH1_4.2.5.5.WH11",{"$f":"IF(R_WH3,CONCATENATE(\"\", 'WH - II(3)'!D278),\"\")","v":""},false,"Y"]
["$WH1_4.2.5.5.WH12",{"$f":"IF(R_WH3,CONCATENATE(\"\", 'WH - II(3)'!F278),\"\")","v":""},false,"Y"]
["$WH1_4.2.5.5.WH13",{"$f":"IF(R_WH3,CONCATENATE(\"\", 'WH - II(3)'!H278),\"\")","v":""},false,"Y"]
["$WH1_4.2.5.5.WH14",{"$f":"IF(R_WH3,CONCATENATE(\"\", 'WH - II(3)'!J278),\"\")","v":""},false,"Y"]
["$WH1_4.2.5.5.WH15",{"$f":"IF(R_WH3,CONCATENATE(\"\", 'WH - II(3)'!L278),\"\")","v":""},false,"Y"]
["$WH1_4.2.5.5.C1",{"$f":"IF(R_WH1,CONCATENATE(\"\", 'WH - II(1)'!D280),\"\")","v":""},false,"Y"]
["$WH1_4.2.5.5.C2",{"$f":"IF(R_WH2,CONCATENATE(\"\", 'WH - II(2)'!D280),\"\")","v":""},false,"Y"]
["$WH1_4.2.5.5.C3",{"$f":"IF(R_WH3,CONCATENATE(\"\", 'WH - II(3)'!D280),\"\")","v":""},false,"Y"]
["$WH1_4.2.5.6.WH1",{"$f":"IF(R_WH1,CONCATENATE(\"\", 'WH - II(1)'!D282),\"\")","v":""},false,"Y"]
["$WH1_4.2.5.6.WH2",{"$f":"IF(R_WH1,CONCATENATE(\"\", 'WH - II(1)'!F282),\"\")","v":""},false,"Y"]
["$WH1_4.2.5.6.WH3",{"$f":"IF(R_WH1,CONCATENATE(\"\", 'WH - II(1)'!H282),\"\")","v":""},false,"Y"]
["$WH1_4.2.5.6.WH4",{"$f":"IF(R_WH1,CONCATENATE(\"\", 'WH - II(1)'!J282),\"\")","v":""},false,"Y"]
["$WH1_4.2.5.6.WH5",{"$f":"IF(R_WH1,CONCATENATE(\"\", 'WH - II(1)'!L282),\"\")","v":""},false,"Y"]
["$WH1_4.2.5.6.WH6",{"$f":"IF(R_WH2,CONCATENATE(\"\", 'WH - II(2)'!D282),\"\")","v":""},false,"Y"]
["$WH1_4.2.5.6.WH7",{"$f":"IF(R_WH2,CONCATENATE(\"\", 'WH - II(2)'!F282),\"\")","v":""},false,"Y"]
["$WH1_4.2.5.6.WH8",{"$f":"IF(R_WH2,CONCATENATE(\"\", 'WH - II(2)'!H282),\"\")","v":""},false,"Y"]
["$WH1_4.2.5.6.WH9",{"$f":"IF(R_WH2,CONCATENATE(\"\", 'WH - II(2)'!J282),\"\")","v":""},false,"Y"]
["$WH1_4.2.5.6.WH10",{"$f":"IF(R_WH2,CONCATENATE(\"\", 'WH - II(2)'!L282),\"\")","v":""},false,"Y"]
["$WH1_4.2.5.6.WH11",{"$f":"IF(R_WH3,CONCATENATE(\"\", 'WH - II(3)'!D282),\"\")","v":""},false,"Y"]
["$WH1_4.2.5.6.WH12",{"$f":"IF(R_WH3,CONCATENATE(\"\", 'WH - II(3)'!F282),\"\")","v":""},false,"Y"]
["$WH1_4.2.5.6.WH13",{"$f":"IF(R_WH3,CONCATENATE(\"\", 'WH - II(3)'!H282),\"\")","v":""},false,"Y"]
["$WH1_4.2.5.6.WH14",{"$f":"IF(R_WH3,CONCATENATE(\"\", 'WH - II(3)'!J282),\"\")","v":""},false,"Y"]
["$WH1_4.2.5.6.WH15",{"$f":"IF(R_WH3,CONCATENATE(\"\", 'WH - II(3)'!L282),\"\")","v":""},false,"Y"]
["$WH1_4.2.5.6.C1",{"$f":"IF(R_WH1,CONCATENATE(\"\", 'WH - II(1)'!D284),\"\")","v":""},false,"Y"]
["$WH1_4.2.5.6.C2",{"$f":"IF(R_WH2,CONCATENATE(\"\", 'WH - II(2)'!D284),\"\")","v":""},false,"Y"]
["$WH1_4.2.5.6.C3",{"$f":"IF(R_WH3,CONCATENATE(\"\", 'WH - II(3)'!D284),\"\")","v":""},false,"Y"]
["$WH1_4.2.5.7.WH1",{"$f":"IF(R_WH1,CONCATENATE(\"\", 'WH - II(1)'!D286),\"\")","v":""},false,"Y"]
["$WH1_4.2.5.7.WH2",{"$f":"IF(R_WH1,CONCATENATE(\"\", 'WH - II(1)'!F286),\"\")","v":""},false,"Y"]
["$WH1_4.2.5.7.WH3",{"$f":"IF(R_WH1,CONCATENATE(\"\", 'WH - II(1)'!H286),\"\")","v":""},false,"Y"]
["$WH1_4.2.5.7.WH4",{"$f":"IF(R_WH1,CONCATENATE(\"\", 'WH - II(1)'!J286),\"\")","v":""},false,"Y"]
["$WH1_4.2.5.7.WH5",{"$f":"IF(R_WH1,CONCATENATE(\"\", 'WH - II(1)'!L286),\"\")","v":""},false,"Y"]
["$WH1_4.2.5.7.WH6",{"$f":"IF(R_WH2,CONCATENATE(\"\", 'WH - II(2)'!D286),\"\")","v":""},false,"Y"]
["$WH1_4.2.5.7.WH7",{"$f":"IF(R_WH2,CONCATENATE(\"\", 'WH - II(2)'!F286),\"\")","v":""},false,"Y"]
["$WH1_4.2.5.7.WH8",{"$f":"IF(R_WH2,CONCATENATE(\"\", 'WH - II(2)'!H286),\"\")","v":""},false,"Y"]
["$WH1_4.2.5.7.WH9",{"$f":"IF(R_WH2,CONCATENATE(\"\", 'WH - II(2)'!J286),\"\")","v":""},false,"Y"]
["$WH1_4.2.5.7.WH10",{"$f":"IF(R_WH2,CONCATENATE(\"\", 'WH - II(2)'!L286),\"\")","v":""},false,"Y"]
["$WH1_4.2.5.7.WH11",{"$f":"IF(R_WH3,CONCATENATE(\"\", 'WH - II(3)'!D286),\"\")","v":""},false,"Y"]
["$WH1_4.2.5.7.WH12",{"$f":"IF(R_WH3,CONCATENATE(\"\", 'WH - II(3)'!F286),\"\")","v":""},false,"Y"]
["$WH1_4.2.5.7.WH13",{"$f":"IF(R_WH3,CONCATENATE(\"\", 'WH - II(3)'!H286),\"\")","v":""},false,"Y"]
["$WH1_4.2.5.7.WH14",{"$f":"IF(R_WH3,CONCATENATE(\"\", 'WH - II(3)'!J286),\"\")","v":""},false,"Y"]
["$WH1_4.2.5.7.WH15",{"$f":"IF(R_WH3,CONCATENATE(\"\", 'WH - II(3)'!L286),\"\")","v":""},false,"Y"]
["$WH1_4.2.5.7.C1",{"$f":"IF(R_WH1,CONCATENATE(\"\", 'WH - II(1)'!D288),\"\")","v":""},false,"Y"]
["$WH1_4.2.5.7.C2",{"$f":"IF(R_WH2,CONCATENATE(\"\", 'WH - II(2)'!D288),\"\")","v":""},false,"Y"]
["$WH1_4.2.5.7.C3",{"$f":"IF(R_WH3,CONCATENATE(\"\", 'WH - II(3)'!D288),\"\")","v":""},false,"Y"]
["$WH1_4.2.5.8.WH1",{"$f":"IF(R_WH1,CONCATENATE(\"\", 'WH - II(1)'!D290),\"\")","v":""},false,"Y"]
["$WH1_4.2.5.8.WH2",{"$f":"IF(R_WH1,CONCATENATE(\"\", 'WH - II(1)'!F290),\"\")","v":""},false,"Y"]
["$WH1_4.2.5.8.WH3",{"$f":"IF(R_WH1,CONCATENATE(\"\", 'WH - II(1)'!H290),\"\")","v":""},false,"Y"]
["$WH1_4.2.5.8.WH4",{"$f":"IF(R_WH1,CONCATENATE(\"\", 'WH - II(1)'!J290),\"\")","v":""},false,"Y"]
["$WH1_4.2.5.8.WH5",{"$f":"IF(R_WH1,CONCATENATE(\"\", 'WH - II(1)'!L290),\"\")","v":""},false,"Y"]
["$WH1_4.2.5.8.WH6",{"$f":"IF(R_WH2,CONCATENATE(\"\", 'WH - II(2)'!D290),\"\")","v":""},false,"Y"]
["$WH1_4.2.5.8.WH7",{"$f":"IF(R_WH2,CONCATENATE(\"\", 'WH - II(2)'!F290),\"\")","v":""},false,"Y"]
["$WH1_4.2.5.8.WH8",{"$f":"IF(R_WH2,CONCATENATE(\"\", 'WH - II(2)'!H290),\"\")","v":""},false,"Y"]
["$WH1_4.2.5.8.WH9",{"$f":"IF(R_WH2,CONCATENATE(\"\", 'WH - II(2)'!J290),\"\")","v":""},false,"Y"]
["$WH1_4.2.5.8.WH10",{"$f":"IF(R_WH2,CONCATENATE(\"\", 'WH - II(2)'!L290),\"\")","v":""},false,"Y"]
["$WH1_4.2.5.8.WH11",{"$f":"IF(R_WH3,CONCATENATE(\"\", 'WH - II(3)'!D290),\"\")","v":""},false,"Y"]
["$WH1_4.2.5.8.WH12",{"$f":"IF(R_WH3,CONCATENATE(\"\", 'WH - II(3)'!F290),\"\")","v":""},false,"Y"]
["$WH1_4.2.5.8.WH13",{"$f":"IF(R_WH3,CONCATENATE(\"\", 'WH - II(3)'!H290),\"\")","v":""},false,"Y"]
["$WH1_4.2.5.8.WH14",{"$f":"IF(R_WH3,CONCATENATE(\"\", 'WH - II(3)'!J290),\"\")","v":""},{"$f":"ISERROR(B1150)","v":false},"Y"]
["$WH1_4.2.5.8.WH15",{"$f":"IF(R_WH3,CONCATENATE(\"\", 'WH - II(3)'!L290),\"\")","v":""},false,"Y"]
["$WH1_4.2.5.8.C1",{"$f":"IF(R_WH1,CONCATENATE(\"\", 'WH - II(1)'!D292),\"\")","v":""},false,"Y"]
["$WH1_4.2.5.8.C2",{"$f":"IF(R_WH2,CONCATENATE(\"\", 'WH - II(2)'!D292),\"\")","v":""},false,"Y"]
["$WH1_4.2.5.8.C3",{"$f":"IF(R_WH3,CONCATENATE(\"\", 'WH - II(3)'!D292),\"\")","v":""},false,"Y"]
["$WH1_4.2.5.9.WH1",{"$f":"IF(R_WH1,CONCATENATE(\"\", 'WH - II(1)'!D294),\"\")","v":""},false,"Y"]
["$WH1_4.2.5.9.WH2",{"$f":"IF(R_WH1,CONCATENATE(\"\", 'WH - II(1)'!F294),\"\")","v":""},false,"Y"]
["$WH1_4.2.5.9.WH3",{"$f":"IF(R_WH1,CONCATENATE(\"\", 'WH - II(1)'!H294),\"\")","v":""},false,"Y"]
["$WH1_4.2.5.9.WH4",{"$f":"IF(R_WH1,CONCATENATE(\"\", 'WH - II(1)'!J294),\"\")","v":""},false,"Y"]
["$WH1_4.2.5.9.WH5",{"$f":"IF(R_WH1,CONCATENATE(\"\", 'WH - II(1)'!L294),\"\")","v":""},false,"Y"]
["$WH1_4.2.5.9.WH6",{"$f":"IF(R_WH2,CONCATENATE(\"\", 'WH - II(2)'!D294),\"\")","v":""},false,"Y"]
["$WH1_4.2.5.9.WH7",{"$f":"IF(R_WH2,CONCATENATE(\"\", 'WH - II(2)'!F294),\"\")","v":""},false,"Y"]
["$WH1_4.2.5.9.WH8",{"$f":"IF(R_WH2,CONCATENATE(\"\", 'WH - II(2)'!H294),\"\")","v":""},false,"Y"]
["$WH1_4.2.5.9.WH9",{"$f":"IF(R_WH2,CONCATENATE(\"\", 'WH - II(2)'!J294),\"\")","v":""},false,"Y"]
["$WH1_4.2.5.9.WH10",{"$f":"IF(R_WH2,CONCATENATE(\"\", 'WH - II(2)'!L294),\"\")","v":""},false,"Y"]
["$WH1_4.2.5.9.WH11",{"$f":"IF(R_WH3,CONCATENATE(\"\", 'WH - II(3)'!D294),\"\")","v":""},false,"Y"]
["$WH1_4.2.5.9.WH12",{"$f":"IF(R_WH3,CONCATENATE(\"\", 'WH - II(3)'!F294),\"\")","v":""},false,"Y"]
["$WH1_4.2.5.9.WH13",{"$f":"IF(R_WH3,CONCATENATE(\"\", 'WH - II(3)'!H294),\"\")","v":""},false,"Y"]
["$WH1_4.2.5.9.WH14",{"$f":"IF(R_WH3,CONCATENATE(\"\", 'WH - II(3)'!J294),\"\")","v":""},false,"Y"]
["$WH1_4.2.5.9.WH15",{"$f":"IF(R_WH3,CONCATENATE(\"\", 'WH - II(3)'!L294),\"\")","v":""},false,"Y"]
["$WH1_4.2.5.9.C1",{"$f":"IF(R_WH1,CONCATENATE(\"\", 'WH - II(1)'!D296),\"\")","v":""},false,"Y"]
["$WH1_4.2.5.9.C2",{"$f":"IF(R_WH2,CONCATENATE(\"\", 'WH - II(2)'!D296),\"\")","v":""},false,"Y"]
["$WH1_4.2.5.9.C3",{"$f":"IF(R_WH3,CONCATENATE(\"\", 'WH - II(3)'!D296),\"\")","v":""},false,"Y"]
["$WH1_4.2.5.10.WH1",{"$f":"IF(R_WH1,CONCATENATE(\"\", 'WH - II(1)'!D298),\"\")","v":""},false,"Y"]
["$WH1_4.2.5.10.WH2",{"$f":"IF(R_WH1,CONCATENATE(\"\", 'WH - II(1)'!F298),\"\")","v":""},false,"Y"]
["$WH1_4.2.5.10.WH3",{"$f":"IF(R_WH1,CONCATENATE(\"\", 'WH - II(1)'!H298),\"\")","v":""},false,"Y"]
["$WH1_4.2.5.10.WH4",{"$f":"IF(R_WH1,CONCATENATE(\"\", 'WH - II(1)'!J298),\"\")","v":""},false,"Y"]
["$WH1_4.2.5.10.WH5",{"$f":"IF(R_WH1,CONCATENATE(\"\", 'WH - II(1)'!L298),\"\")","v":""},false,"Y"]
["$WH1_4.2.5.10.WH6",{"$f":"IF(R_WH2,CONCATENATE(\"\", 'WH - II(2)'!D298),\"\")","v":""},false,"Y"]
["$WH1_4.2.5.10.WH7",{"$f":"IF(R_WH2,CONCATENATE(\"\", 'WH - II(2)'!F298),\"\")","v":""},false,"Y"]
["$WH1_4.2.5.10.WH8",{"$f":"IF(R_WH2,CONCATENATE(\"\", 'WH - II(2)'!H298),\"\")","v":""},false,"Y"]
["$WH1_4.2.5.10.WH9",{"$f":"IF(R_WH2,CONCATENATE(\"\", 'WH - II(2)'!J298),\"\")","v":""},false,"Y"]
["$WH1_4.2.5.10.WH10",{"$f":"IF(R_WH2,CONCATENATE(\"\", 'WH - II(2)'!L298),\"\")","v":""},false,"Y"]
["$WH1_4.2.5.10.WH11",{"$f":"IF(R_WH3,CONCATENATE(\"\", 'WH - II(3)'!D298),\"\")","v":""},false,"Y"]
["$WH1_4.2.5.10.WH12",{"$f":"IF(R_WH3,CONCATENATE(\"\", 'WH - II(3)'!F298),\"\")","v":""},false,"Y"]
["$WH1_4.2.5.10.WH13",{"$f":"IF(R_WH3,CONCATENATE(\"\", 'WH - II(3)'!H298),\"\")","v":""},false,"Y"]
["$WH1_4.2.5.10.WH14",{"$f":"IF(R_WH3,CONCATENATE(\"\", 'WH - II(3)'!J298),\"\")","v":""},false,"Y"]
["$WH1_4.2.5.10.WH15",{"$f":"IF(R_WH3,CONCATENATE(\"\", 'WH - II(3)'!L298),\"\")","v":""},false,"Y"]
["$WH1_4.2.5.10.C1",{"$f":"IF(R_WH1,CONCATENATE(\"\", 'WH - II(1)'!D300),\"\")","v":""},false,"Y"]
["$WH1_4.2.5.10.C2",{"$f":"IF(R_WH2,CONCATENATE(\"\", 'WH - II(2)'!D300),\"\")","v":""},false,"Y"]
["$WH1_4.2.5.10.C3",{"$f":"IF(R_WH3,CONCATENATE(\"\", 'WH - II(3)'!D300),\"\")","v":""},false,"Y"]
["$WH1_4.2.5.11.WH1",{"$f":"IF(R_WH1,CONCATENATE(\"\", 'WH - II(1)'!D302),\"\")","v":""},false,"Y"]
["$WH1_4.2.5.11.WH2",{"$f":"IF(R_WH1,CONCATENATE(\"\", 'WH - II(1)'!F302),\"\")","v":""},false,"Y"]
["$WH1_4.2.5.11.WH3",{"$f":"IF(R_WH1,CONCATENATE(\"\", 'WH - II(1)'!H302),\"\")","v":""},false,"Y"]
["$WH1_4.2.5.11.WH4",{"$f":"IF(R_WH1,CONCATENATE(\"\", 'WH - II(1)'!J302),\"\")","v":""},false,"Y"]
["$WH1_4.2.5.11.WH5",{"$f":"IF(R_WH1,CONCATENATE(\"\", 'WH - II(1)'!L302),\"\")","v":""},false,"Y"]
["$WH1_4.2.5.11.WH6",{"$f":"IF(R_WH2,CONCATENATE(\"\", 'WH - II(2)'!D302),\"\")","v":""},false,"Y"]
["$WH1_4.2.5.11.WH7",{"$f":"IF(R_WH2,CONCATENATE(\"\", 'WH - II(2)'!F302),\"\")","v":""},false,"Y"]
["$WH1_4.2.5.11.WH8",{"$f":"IF(R_WH2,CONCATENATE(\"\", 'WH - II(2)'!H302),\"\")","v":""},false,"Y"]
["$WH1_4.2.5.11.WH9",{"$f":"IF(R_WH2,CONCATENATE(\"\", 'WH - II(2)'!J302),\"\")","v":""},false,"Y"]
["$WH1_4.2.5.11.WH10",{"$f":"IF(R_WH2,CONCATENATE(\"\", 'WH - II(2)'!L302),\"\")","v":""},false,"Y"]
["$WH1_4.2.5.11.WH11",{"$f":"IF(R_WH3,CONCATENATE(\"\", 'WH - II(3)'!D302),\"\")","v":""},false,"Y"]
["$WH1_4.2.5.11.WH12",{"$f":"IF(R_WH3,CONCATENATE(\"\", 'WH - II(3)'!F302),\"\")","v":""},false,"Y"]
["$WH1_4.2.5.11.WH13",{"$f":"IF(R_WH3,CONCATENATE(\"\", 'WH - II(3)'!H302),\"\")","v":""},false,"Y"]
["$WH1_4.2.5.11.WH14",{"$f":"IF(R_WH3,CONCATENATE(\"\", 'WH - II(3)'!J302),\"\")","v":""},false,"Y"]
["$WH1_4.2.5.11.WH15",{"$f":"IF(R_WH3,CONCATENATE(\"\", 'WH - II(3)'!L302),\"\")","v":""},false,"Y"]
["$WH1_4.2.5.11.C1",{"$f":"IF(R_WH1,CONCATENATE(\"\", 'WH - II(1)'!D304),\"\")","v":""},false,"Y"]
["$WH1_4.2.5.11.C2",{"$f":"IF(R_WH2,CONCATENATE(\"\", 'WH - II(2)'!D304),\"\")","v":""},false,"Y"]
["$WH1_4.2.5.11.C3",{"$f":"IF(R_WH3,CONCATENATE(\"\", 'WH - II(3)'!D304),\"\")","v":""},false,"Y"]
["$WH1_5.1.WH1",{"$f":"IF(R_WH1,CONCATENATE(\"\", 'WH - II(1)'!D308),\"\")","v":""},false,"Y"]
["$WH1_5.1.WH2",{"$f":"IF(R_WH1,CONCATENATE(\"\", 'WH - II(1)'!F308),\"\")","v":""},false,"Y"]
["$WH1_5.1.WH3",{"$f":"IF(R_WH1,CONCATENATE(\"\", 'WH - II(1)'!H308),\"\")","v":""},false,"Y"]
["$WH1_5.1.WH4",{"$f":"IF(R_WH1,CONCATENATE(\"\", 'WH - II(1)'!J308),\"\")","v":""},false,"Y"]
["$WH1_5.1.WH5",{"$f":"IF(R_WH1,CONCATENATE(\"\", 'WH - II(1)'!L308),\"\")","v":""},false,"Y"]
["$WH1_5.1.WH6",{"$f":"IF(R_WH2,CONCATENATE(\"\", 'WH - II(2)'!D308),\"\")","v":""},{"$f":"ISERROR(B1214)","v":false},"Y"]
["$WH1_5.1.WH7",{"$f":"IF(R_WH2,CONCATENATE(\"\", 'WH - II(2)'!F308),\"\")","v":""},false,"Y"]
["$WH1_5.1.WH8",{"$f":"IF(R_WH2,CONCATENATE(\"\", 'WH - II(2)'!H308),\"\")","v":""},false,"Y"]
["$WH1_5.1.WH9",{"$f":"IF(R_WH2,CONCATENATE(\"\", 'WH - II(2)'!J308),\"\")","v":""},false,"Y"]
["$WH1_5.1.WH10",{"$f":"IF(R_WH2,CONCATENATE(\"\", 'WH - II(2)'!L308),\"\")","v":""},false,"Y"]
["$WH1_5.1.WH11",{"$f":"IF(R_WH3,CONCATENATE(\"\", 'WH - II(3)'!D308),\"\")","v":""},false,"Y"]
["$WH1_5.1.WH12",{"$f":"IF(R_WH3,CONCATENATE(\"\", 'WH - II(3)'!F308),\"\")","v":""},false,"Y"]
["$WH1_5.1.WH13",{"$f":"IF(R_WH3,CONCATENATE(\"\", 'WH - II(3)'!H308),\"\")","v":""},false,"Y"]
["$WH1_5.1.WH14",{"$f":"IF(R_WH3,CONCATENATE(\"\", 'WH - II(3)'!J308),\"\")","v":""},false,"Y"]
["$WH1_5.1.WH15",{"$f":"IF(R_WH3,CONCATENATE(\"\", 'WH - II(3)'!L308),\"\")","v":""},false,"Y"]
["$WH1_5.1.C1",{"$f":"IF(R_WH1,CONCATENATE(\"\", 'WH - II(1)'!D310),\"\")","v":""},false,"Y"]
["$WH1_5.1.C2",{"$f":"IF(R_WH2,CONCATENATE(\"\", 'WH - II(2)'!D310),\"\")","v":""},false,"Y"]
["$WH1_5.1.C3",{"$f":"IF(R_WH3,CONCATENATE(\"\", 'WH - II(3)'!D310),\"\")","v":""},false,"Y"]
["$WH1_5.2.WH1",{"$f":"IF(R_WH1,CONCATENATE(\"\", 'WH - II(1)'!D312),\"\")","v":""},false,"Y"]
["$WH1_5.2.WH2",{"$f":"IF(R_WH1,CONCATENATE(\"\", 'WH - II(1)'!F312),\"\")","v":""},false,"Y"]
["$WH1_5.2.WH3",{"$f":"IF(R_WH1,CONCATENATE(\"\", 'WH - II(1)'!H312),\"\")","v":""},false,"Y"]
["$WH1_5.2.WH4",{"$f":"IF(R_WH1,CONCATENATE(\"\", 'WH - II(1)'!J312),\"\")","v":""},false,"Y"]
["$WH1_5.2.WH5",{"$f":"IF(R_WH1,CONCATENATE(\"\", 'WH - II(1)'!L312),\"\")","v":""},false,"Y"]
["$WH1_5.2.WH6",{"$f":"IF(R_WH2,CONCATENATE(\"\", 'WH - II(2)'!D312),\"\")","v":""},false,"Y"]
["$WH1_5.2.WH7",{"$f":"IF(R_WH2,CONCATENATE(\"\", 'WH - II(2)'!F312),\"\")","v":""},false,"Y"]
["$WH1_5.2.WH8",{"$f":"IF(R_WH2,CONCATENATE(\"\", 'WH - II(2)'!H312),\"\")","v":""},false,"Y"]
["$WH1_5.2.WH9",{"$f":"IF(R_WH2,CONCATENATE(\"\", 'WH - II(2)'!J312),\"\")","v":""},false,"Y"]
["$WH1_5.2.WH10",{"$f":"IF(R_WH2,CONCATENATE(\"\", 'WH - II(2)'!L312),\"\")","v":""},false,"Y"]
["$WH1_5.2.WH11",{"$f":"IF(R_WH3,CONCATENATE(\"\", 'WH - II(3)'!D312),\"\")","v":""},false,"Y"]
["$WH1_5.2.WH12",{"$f":"IF(R_WH3,CONCATENATE(\"\", 'WH - II(3)'!F312),\"\")","v":""},false,"Y"]
["$WH1_5.2.WH13",{"$f":"IF(R_WH3,CONCATENATE(\"\", 'WH - II(3)'!H312),\"\")","v":""},false,"Y"]
["$WH1_5.2.WH14",{"$f":"IF(R_WH3,CONCATENATE(\"\", 'WH - II(3)'!J312),\"\")","v":""},false,"Y"]
["$WH1_5.2.WH15",{"$f":"IF(R_WH3,CONCATENATE(\"\", 'WH - II(3)'!L312),\"\")","v":""},false,"Y"]
["$WH1_5.2.C1",{"$f":"IF(R_WH1,CONCATENATE(\"\", 'WH - II(1)'!D314),\"\")","v":""},false,"Y"]
["$WH1_5.2.C2",{"$f":"IF(R_WH2,CONCATENATE(\"\", 'WH - II(2)'!D314),\"\")","v":""},false,"Y"]
["$WH1_5.2.C3",{"$f":"IF(R_WH3,CONCATENATE(\"\", 'WH - II(3)'!D314),\"\")","v":""},false,"Y"]
["$WH1_5.3.WH1",{"$f":"IF(R_WH1,CONCATENATE(\"\", 'WH - II(1)'!D316),\"\")","v":""},false,"Y"]
["$WH1_5.3.WH2",{"$f":"IF(R_WH1,CONCATENATE(\"\", 'WH - II(1)'!F316),\"\")","v":""},false,"Y"]
["$WH1_5.3.WH3",{"$f":"IF(R_WH1,CONCATENATE(\"\", 'WH - II(1)'!H316),\"\")","v":""},false,"Y"]
["$WH1_5.3.WH4",{"$f":"IF(R_WH1,CONCATENATE(\"\", 'WH - II(1)'!J316),\"\")","v":""},false,"Y"]
["$WH1_5.3.WH5",{"$f":"IF(R_WH1,CONCATENATE(\"\", 'WH - II(1)'!L316),\"\")","v":""},false,"Y"]
["$WH1_5.3.WH6",{"$f":"IF(R_WH2,CONCATENATE(\"\", 'WH - II(2)'!D316),\"\")","v":""},false,"Y"]
["$WH1_5.3.WH7",{"$f":"IF(R_WH2,CONCATENATE(\"\", 'WH - II(2)'!F316),\"\")","v":""},false,"Y"]
["$WH1_5.3.WH8",{"$f":"IF(R_WH2,CONCATENATE(\"\", 'WH - II(2)'!H316),\"\")","v":""},false,"Y"]
["$WH1_5.3.WH9",{"$f":"IF(R_WH2,CONCATENATE(\"\", 'WH - II(2)'!J316),\"\")","v":""},false,"Y"]
["$WH1_5.3.WH10",{"$f":"IF(R_WH2,CONCATENATE(\"\", 'WH - II(2)'!L316),\"\")","v":""},false,"Y"]
["$WH1_5.3.WH11",{"$f":"IF(R_WH3,CONCATENATE(\"\", 'WH - II(3)'!D316),\"\")","v":""},false,"Y"]
["$WH1_5.3.WH12",{"$f":"IF(R_WH3,CONCATENATE(\"\", 'WH - II(3)'!F316),\"\")","v":""},false,"Y"]
["$WH1_5.3.WH13",{"$f":"IF(R_WH3,CONCATENATE(\"\", 'WH - II(3)'!H316),\"\")","v":""},false,"Y"]
["$WH1_5.3.WH14",{"$f":"IF(R_WH3,CONCATENATE(\"\", 'WH - II(3)'!J316),\"\")","v":""},false,"Y"]
["$WH1_5.3.WH15",{"$f":"IF(R_WH3,CONCATENATE(\"\", 'WH - II(3)'!L316),\"\")","v":""},false,"Y"]
["$WH1_5.3.C1",{"$f":"IF(R_WH1,CONCATENATE(\"\", 'WH - II(1)'!D318),\"\")","v":""},false,"Y"]
["$WH1_5.3.C2",{"$f":"IF(R_WH2,CONCATENATE(\"\", 'WH - II(2)'!D318),\"\")","v":""},false,"Y"]
["$WH1_5.3.C3",{"$f":"IF(R_WH3,CONCATENATE(\"\", 'WH - II(3)'!D318),\"\")","v":""},false,"Y"]
["$WH1_5.4.WH1",{"$f":"IF(R_WH1,CONCATENATE(\"\", 'WH - II(1)'!D320),\"\")","v":""},false,"Y"]
["$WH1_5.4.WH2",{"$f":"IF(R_WH1,CONCATENATE(\"\", 'WH - II(1)'!F320),\"\")","v":""},false,"Y"]
["$WH1_5.4.WH3",{"$f":"IF(R_WH1,CONCATENATE(\"\", 'WH - II(1)'!H320),\"\")","v":""},false,"Y"]
["$WH1_5.4.WH4",{"$f":"IF(R_WH1,CONCATENATE(\"\", 'WH - II(1)'!J320),\"\")","v":""},false,"Y"]
["$WH1_5.4.WH5",{"$f":"IF(R_WH1,CONCATENATE(\"\", 'WH - II(1)'!L320),\"\")","v":""},false,"Y"]
["$WH1_5.4.WH6",{"$f":"IF(R_WH2,CONCATENATE(\"\", 'WH - II(2)'!D320),\"\")","v":""},false,"Y"]
["$WH1_5.4.WH7",{"$f":"IF(R_WH2,CONCATENATE(\"\", 'WH - II(2)'!F320),\"\")","v":""},false,"Y"]
["$WH1_5.4.WH8",{"$f":"IF(R_WH2,CONCATENATE(\"\", 'WH - II(2)'!H320),\"\")","v":""},false,"Y"]
["$WH1_5.4.WH9",{"$f":"IF(R_WH2,CONCATENATE(\"\", 'WH - II(2)'!J320),\"\")","v":""},false,"Y"]
["$WH1_5.4.WH10",{"$f":"IF(R_WH2,CONCATENATE(\"\", 'WH - II(2)'!L320),\"\")","v":""},false,"Y"]
["$WH1_5.4.WH11",{"$f":"IF(R_WH3,CONCATENATE(\"\", 'WH - II(3)'!D320),\"\")","v":""},false,"Y"]
["$WH1_5.4.WH12",{"$f":"IF(R_WH3,CONCATENATE(\"\", 'WH - II(3)'!F320),\"\")","v":""},false,"Y"]
["$WH1_5.4.WH13",{"$f":"IF(R_WH3,CONCATENATE(\"\", 'WH - II(3)'!H320),\"\")","v":""},false,"Y"]
["$WH1_5.4.WH14",{"$f":"IF(R_WH3,CONCATENATE(\"\", 'WH - II(3)'!J320),\"\")","v":""},false,"Y"]
["$WH1_5.4.WH15",{"$f":"IF(R_WH3,CONCATENATE(\"\", 'WH - II(3)'!L320),\"\")","v":""},false,"Y"]
["$WH1_5.4.C1",{"$f":"IF(R_WH1,CONCATENATE(\"\", 'WH - II(1)'!D322),\"\")","v":""},{"$f":"ISERROR(B1278)","v":false},"Y"]
["$WH1_5.4.C2",{"$f":"IF(R_WH2,CONCATENATE(\"\", 'WH - II(2)'!D322),\"\")","v":""},false,"Y"]
["$WH1_5.4.C3",{"$f":"IF(R_WH3,CONCATENATE(\"\", 'WH - II(3)'!D322),\"\")","v":""},false,"Y"]
["$WH1_6.1.1.WH1",{"$f":"IF(R_WH1,CONCATENATE(\"\", 'WH - II(1)'!D327),\"\")","v":""},false,"Y"]
["$WH1_6.1.1.WH2",{"$f":"IF(R_WH1,CONCATENATE(\"\", 'WH - II(1)'!F327),\"\")","v":""},false,"Y"]
["$WH1_6.1.1.WH3",{"$f":"IF(R_WH1,CONCATENATE(\"\", 'WH - II(1)'!H327),\"\")","v":""},false,"Y"]
["$WH1_6.1.1.WH4",{"$f":"IF(R_WH1,CONCATENATE(\"\", 'WH - II(1)'!J327),\"\")","v":""},false,"Y"]
["$WH1_6.1.1.WH5",{"$f":"IF(R_WH1,CONCATENATE(\"\", 'WH - II(1)'!L327),\"\")","v":""},false,"Y"]
["$WH1_6.1.1.WH6",{"$f":"IF(R_WH2,CONCATENATE(\"\", 'WH - II(2)'!D327),\"\")","v":""},false,"Y"]
["$WH1_6.1.1.WH7",{"$f":"IF(R_WH2,CONCATENATE(\"\", 'WH - II(2)'!F327),\"\")","v":""},false,"Y"]
["$WH1_6.1.1.WH8",{"$f":"IF(R_WH2,CONCATENATE(\"\", 'WH - II(2)'!H327),\"\")","v":""},false,"Y"]
["$WH1_6.1.1.WH9",{"$f":"IF(R_WH2,CONCATENATE(\"\", 'WH - II(2)'!J327),\"\")","v":""},false,"Y"]
["$WH1_6.1.1.WH10",{"$f":"IF(R_WH2,CONCATENATE(\"\", 'WH - II(2)'!L327),\"\")","v":""},false,"Y"]
["$WH1_6.1.1.WH11",{"$f":"IF(R_WH3,CONCATENATE(\"\", 'WH - II(3)'!D327),\"\")","v":""},false,"Y"]
["$WH1_6.1.1.WH12",{"$f":"IF(R_WH3,CONCATENATE(\"\", 'WH - II(3)'!F327),\"\")","v":""},false,"Y"]
["$WH1_6.1.1.WH13",{"$f":"IF(R_WH3,CONCATENATE(\"\", 'WH - II(3)'!H327),\"\")","v":""},false,"Y"]
["$WH1_6.1.1.WH14",{"$f":"IF(R_WH3,CONCATENATE(\"\", 'WH - II(3)'!J327),\"\")","v":""},false,"Y"]
["$WH1_6.1.1.WH15",{"$f":"IF(R_WH3,CONCATENATE(\"\", 'WH - II(3)'!L327),\"\")","v":""},false,"Y"]
["$WH1_6.1.1.C1",{"$f":"IF(R_WH1,CONCATENATE(\"\", 'WH - II(1)'!D329),\"\")","v":""},false,"Y"]
["$WH1_6.1.1.C2",{"$f":"IF(R_WH2,CONCATENATE(\"\", 'WH - II(2)'!D329),\"\")","v":""},false,"Y"]
["$WH1_6.1.1.C3",{"$f":"IF(R_WH3,CONCATENATE(\"\", 'WH - II(3)'!D329),\"\")","v":""},false,"Y"]
["$WH1_6.1.2.WH1",{"$f":"IF(R_WH1,CONCATENATE(\"\", 'WH - II(1)'!D331),\"\")","v":""},false,"Y"]
["$WH1_6.1.2.WH2",{"$f":"IF(R_WH1,CONCATENATE(\"\", 'WH - II(1)'!F331),\"\")","v":""},false,"Y"]
["$WH1_6.1.2.WH3",{"$f":"IF(R_WH1,CONCATENATE(\"\", 'WH - II(1)'!H331),\"\")","v":""},false,"Y"]
["$WH1_6.1.2.WH4",{"$f":"IF(R_WH1,CONCATENATE(\"\", 'WH - II(1)'!J331),\"\")","v":""},false,"Y"]
["$WH1_6.1.2.WH5",{"$f":"IF(R_WH1,CONCATENATE(\"\", 'WH - II(1)'!L331),\"\")","v":""},false,"Y"]
["$WH1_6.1.2.WH6",{"$f":"IF(R_WH2,CONCATENATE(\"\", 'WH - II(2)'!D331),\"\")","v":""},false,"Y"]
["$WH1_6.1.2.WH7",{"$f":"IF(R_WH2,CONCATENATE(\"\", 'WH - II(2)'!F331),\"\")","v":""},false,"Y"]
["$WH1_6.1.2.WH8",{"$f":"IF(R_WH2,CONCATENATE(\"\", 'WH - II(2)'!H331),\"\")","v":""},false,"Y"]
["$WH1_6.1.2.WH9",{"$f":"IF(R_WH2,CONCATENATE(\"\", 'WH - II(2)'!J331),\"\")","v":""},false,"Y"]
["$WH1_6.1.2.WH10",{"$f":"IF(R_WH2,CONCATENATE(\"\", 'WH - II(2)'!L331),\"\")","v":""},false,"Y"]
["$WH1_6.1.2.WH11",{"$f":"IF(R_WH3,CONCATENATE(\"\", 'WH - II(3)'!D331),\"\")","v":""},false,"Y"]
["$WH1_6.1.2.WH12",{"$f":"IF(R_WH3,CONCATENATE(\"\", 'WH - II(3)'!F331),\"\")","v":""},false,"Y"]
["$WH1_6.1.2.WH13",{"$f":"IF(R_WH3,CONCATENATE(\"\", 'WH - II(3)'!H331),\"\")","v":""},false,"Y"]
["$WH1_6.1.2.WH14",{"$f":"IF(R_WH3,CONCATENATE(\"\", 'WH - II(3)'!J331),\"\")","v":""},false,"Y"]
["$WH1_6.1.2.WH15",{"$f":"IF(R_WH3,CONCATENATE(\"\", 'WH - II(3)'!L331),\"\")","v":""},false,"Y"]
["$WH1_6.1.2.C1",{"$f":"IF(R_WH1,CONCATENATE(\"\", 'WH - II(1)'!D333),\"\")","v":""},false,"Y"]
["$WH1_6.1.2.C2",{"$f":"IF(R_WH2,CONCATENATE(\"\", 'WH - II(2)'!D333),\"\")","v":""},false,"Y"]
["$WH1_6.1.2.C3",{"$f":"IF(R_WH3,CONCATENATE(\"\", 'WH - II(3)'!D333),\"\")","v":""},false,"Y"]
["$WH1_6.1.3.WH1",{"$f":"IF(R_WH1,CONCATENATE(\"\", 'WH - II(1)'!D335),\"\")","v":""},false,"Y"]
["$WH1_6.1.3.WH2",{"$f":"IF(R_WH1,CONCATENATE(\"\", 'WH - II(1)'!F335),\"\")","v":""},false,"Y"]
["$WH1_6.1.3.WH3",{"$f":"IF(R_WH1,CONCATENATE(\"\", 'WH - II(1)'!H335),\"\")","v":""},false,"Y"]
["$WH1_6.1.3.WH4",{"$f":"IF(R_WH1,CONCATENATE(\"\", 'WH - II(1)'!J335),\"\")","v":""},false,"Y"]
["$WH1_6.1.3.WH5",{"$f":"IF(R_WH1,CONCATENATE(\"\", 'WH - II(1)'!L335),\"\")","v":""},false,"Y"]
["$WH1_6.1.3.WH6",{"$f":"IF(R_WH2,CONCATENATE(\"\", 'WH - II(2)'!D335),\"\")","v":""},false,"Y"]
["$WH1_6.1.3.WH7",{"$f":"IF(R_WH2,CONCATENATE(\"\", 'WH - II(2)'!F335),\"\")","v":""},false,"Y"]
["$WH1_6.1.3.WH8",{"$f":"IF(R_WH2,CONCATENATE(\"\", 'WH - II(2)'!H335),\"\")","v":""},false,"Y"]
["$WH1_6.1.3.WH9",{"$f":"IF(R_WH2,CONCATENATE(\"\", 'WH - II(2)'!J335),\"\")","v":""},false,"Y"]
["$WH1_6.1.3.WH10",{"$f":"IF(R_WH2,CONCATENATE(\"\", 'WH - II(2)'!L335),\"\")","v":""},false,"Y"]
["$WH1_6.1.3.WH11",{"$f":"IF(R_WH3,CONCATENATE(\"\", 'WH - II(3)'!D335),\"\")","v":""},false,"Y"]
["$WH1_6.1.3.WH12",{"$f":"IF(R_WH3,CONCATENATE(\"\", 'WH - II(3)'!F335),\"\")","v":""},false,"Y"]
["$WH1_6.1.3.WH13",{"$f":"IF(R_WH3,CONCATENATE(\"\", 'WH - II(3)'!H335),\"\")","v":""},false,"Y"]
["$WH1_6.1.3.WH14",{"$f":"IF(R_WH3,CONCATENATE(\"\", 'WH - II(3)'!J335),\"\")","v":""},false,"Y"]
["$WH1_6.1.3.WH15",{"$f":"IF(R_WH3,CONCATENATE(\"\", 'WH - II(3)'!L335),\"\")","v":""},false,"Y"]
["$WH1_6.1.3.C1",{"$f":"IF(R_WH1,CONCATENATE(\"\", 'WH - II(1)'!D337),\"\")","v":""},false,"Y"]
["$WH1_6.1.3.C2",{"$f":"IF(R_WH2,CONCATENATE(\"\", 'WH - II(2)'!D337),\"\")","v":""},false,"Y"]
["$WH1_6.1.3.C3",{"$f":"IF(R_WH3,CONCATENATE(\"\", 'WH - II(3)'!D337),\"\")","v":""},false,"Y"]
["$WH1_6.2.1.WH1",{"$f":"IF(R_WH1,CONCATENATE(\"\", 'WH - II(1)'!D342),\"\")","v":""},false,"Y"]
["$WH1_6.2.1.WH2",{"$f":"IF(R_WH1,CONCATENATE(\"\", 'WH - II(1)'!F342),\"\")","v":""},false,"Y"]
["$WH1_6.2.1.WH3",{"$f":"IF(R_WH1,CONCATENATE(\"\", 'WH - II(1)'!H342),\"\")","v":""},false,"Y"]
["$WH1_6.2.1.WH4",{"$f":"IF(R_WH1,CONCATENATE(\"\", 'WH - II(1)'!J342),\"\")","v":""},false,"Y"]
["$WH1_6.2.1.WH5",{"$f":"IF(R_WH1,CONCATENATE(\"\", 'WH - II(1)'!L342),\"\")","v":""},false,"Y"]
["$WH1_6.2.1.WH6",{"$f":"IF(R_WH2,CONCATENATE(\"\", 'WH - II(2)'!D342),\"\")","v":""},false,"Y"]
["$WH1_6.2.1.WH7",{"$f":"IF(R_WH2,CONCATENATE(\"\", 'WH - II(2)'!F342),\"\")","v":""},false,"Y"]
["$WH1_6.2.1.WH8",{"$f":"IF(R_WH2,CONCATENATE(\"\", 'WH - II(2)'!H342),\"\")","v":""},{"$f":"ISERROR(B1342)","v":false},"Y"]
["$WH1_6.2.1.WH9",{"$f":"IF(R_WH2,CONCATENATE(\"\", 'WH - II(2)'!J342),\"\")","v":""},false,"Y"]
["$WH1_6.2.1.WH10",{"$f":"IF(R_WH2,CONCATENATE(\"\", 'WH - II(2)'!L342),\"\")","v":""},false,"Y"]
["$WH1_6.2.1.WH11",{"$f":"IF(R_WH3,CONCATENATE(\"\", 'WH - II(3)'!D342),\"\")","v":""},false,"Y"]
["$WH1_6.2.1.WH12",{"$f":"IF(R_WH3,CONCATENATE(\"\", 'WH - II(3)'!F342),\"\")","v":""},false,"Y"]
["$WH1_6.2.1.WH13",{"$f":"IF(R_WH3,CONCATENATE(\"\", 'WH - II(3)'!H342),\"\")","v":""},false,"Y"]
["$WH1_6.2.1.WH14",{"$f":"IF(R_WH3,CONCATENATE(\"\", 'WH - II(3)'!J342),\"\")","v":""},false,"Y"]
["$WH1_6.2.1.WH15",{"$f":"IF(R_WH3,CONCATENATE(\"\", 'WH - II(3)'!L342),\"\")","v":""},false,"Y"]
["$WH1_6.2.1.C1",{"$f":"IF(R_WH1,CONCATENATE(\"\", 'WH - II(1)'!D344),\"\")","v":""},false,"Y"]
["$WH1_6.2.1.C2",{"$f":"IF(R_WH2,CONCATENATE(\"\", 'WH - II(2)'!D344),\"\")","v":""},false,"Y"]
["$WH1_6.2.1.C3",{"$f":"IF(R_WH3,CONCATENATE(\"\", 'WH - II(3)'!D344),\"\")","v":""},false,"Y"]
["$WH1_6.2.2.WH1",{"$f":"IF(R_WH1,CONCATENATE(\"\", 'WH - II(1)'!D346),\"\")","v":""},false,"Y"]
["$WH1_6.2.2.WH2",{"$f":"IF(R_WH1,CONCATENATE(\"\", 'WH - II(1)'!F346),\"\")","v":""},false,"Y"]
["$WH1_6.2.2.WH3",{"$f":"IF(R_WH1,CONCATENATE(\"\", 'WH - II(1)'!H346),\"\")","v":""},false,"Y"]
["$WH1_6.2.2.WH4",{"$f":"IF(R_WH1,CONCATENATE(\"\", 'WH - II(1)'!J346),\"\")","v":""},false,"Y"]
["$WH1_6.2.2.WH5",{"$f":"IF(R_WH1,CONCATENATE(\"\", 'WH - II(1)'!L346),\"\")","v":""},false,"Y"]
["$WH1_6.2.2.WH6",{"$f":"IF(R_WH2,CONCATENATE(\"\", 'WH - II(2)'!D346),\"\")","v":""},false,"Y"]
["$WH1_6.2.2.WH7",{"$f":"IF(R_WH2,CONCATENATE(\"\", 'WH - II(2)'!F346),\"\")","v":""},false,"Y"]
["$WH1_6.2.2.WH8",{"$f":"IF(R_WH2,CONCATENATE(\"\", 'WH - II(2)'!H346),\"\")","v":""},false,"Y"]
["$WH1_6.2.2.WH9",{"$f":"IF(R_WH2,CONCATENATE(\"\", 'WH - II(2)'!J346),\"\")","v":""},false,"Y"]
["$WH1_6.2.2.WH10",{"$f":"IF(R_WH2,CONCATENATE(\"\", 'WH - II(2)'!L346),\"\")","v":""},false,"Y"]
["$WH1_6.2.2.WH11",{"$f":"IF(R_WH3,CONCATENATE(\"\", 'WH - II(3)'!D346),\"\")","v":""},false,"Y"]
["$WH1_6.2.2.WH12",{"$f":"IF(R_WH3,CONCATENATE(\"\", 'WH - II(3)'!F346),\"\")","v":""},false,"Y"]
["$WH1_6.2.2.WH13",{"$f":"IF(R_WH3,CONCATENATE(\"\", 'WH - II(3)'!H346),\"\")","v":""},false,"Y"]
["$WH1_6.2.2.WH14",{"$f":"IF(R_WH3,CONCATENATE(\"\", 'WH - II(3)'!J346),\"\")","v":""},false,"Y"]
["$WH1_6.2.2.WH15",{"$f":"IF(R_WH3,CONCATENATE(\"\", 'WH - II(3)'!L346),\"\")","v":""},false,"Y"]
["$WH1_6.2.2.C1",{"$f":"IF(R_WH1,CONCATENATE(\"\", 'WH - II(1)'!D348),\"\")","v":""},false,"Y"]
["$WH1_6.2.2.C2",{"$f":"IF(R_WH2,CONCATENATE(\"\", 'WH - II(2)'!D348),\"\")","v":""},false,"Y"]
["$WH1_6.2.2.C3",{"$f":"IF(R_WH3,CONCATENATE(\"\", 'WH - II(3)'!D348),\"\")","v":""},false,"Y"]
["$WH1_6.2.3.WH1",{"$f":"IF(R_WH1,CONCATENATE(\"\", 'WH - II(1)'!D350),\"\")","v":""},false,"Y"]
["$WH1_6.2.3.WH2",{"$f":"IF(R_WH1,CONCATENATE(\"\", 'WH - II(1)'!F350),\"\")","v":""},false,"Y"]
["$WH1_6.2.3.WH3",{"$f":"IF(R_WH1,CONCATENATE(\"\", 'WH - II(1)'!H350),\"\")","v":""},false,"Y"]
["$WH1_6.2.3.WH4",{"$f":"IF(R_WH1,CONCATENATE(\"\", 'WH - II(1)'!J350),\"\")","v":""},false,"Y"]
["$WH1_6.2.3.WH5",{"$f":"IF(R_WH1,CONCATENATE(\"\", 'WH - II(1)'!L350),\"\")","v":""},false,"Y"]
["$WH1_6.2.3.WH6",{"$f":"IF(R_WH2,CONCATENATE(\"\", 'WH - II(2)'!D350),\"\")","v":""},false,"Y"]
["$WH1_6.2.3.WH7",{"$f":"IF(R_WH2,CONCATENATE(\"\", 'WH - II(2)'!F350),\"\")","v":""},false,"Y"]
["$WH1_6.2.3.WH8",{"$f":"IF(R_WH2,CONCATENATE(\"\", 'WH - II(2)'!H350),\"\")","v":""},false,"Y"]
["$WH1_6.2.3.WH9",{"$f":"IF(R_WH2,CONCATENATE(\"\", 'WH - II(2)'!J350),\"\")","v":""},false,"Y"]
["$WH1_6.2.3.WH10",{"$f":"IF(R_WH2,CONCATENATE(\"\", 'WH - II(2)'!L350),\"\")","v":""},false,"Y"]
["$WH1_6.2.3.WH11",{"$f":"IF(R_WH3,CONCATENATE(\"\", 'WH - II(3)'!D350),\"\")","v":""},false,"Y"]
["$WH1_6.2.3.WH12",{"$f":"IF(R_WH3,CONCATENATE(\"\", 'WH - II(3)'!F350),\"\")","v":""},false,"Y"]
["$WH1_6.2.3.WH13",{"$f":"IF(R_WH3,CONCATENATE(\"\", 'WH - II(3)'!H350),\"\")","v":""},false,"Y"]
["$WH1_6.2.3.WH14",{"$f":"IF(R_WH3,CONCATENATE(\"\", 'WH - II(3)'!J350),\"\")","v":""},false,"Y"]
["$WH1_6.2.3.WH15",{"$f":"IF(R_WH3,CONCATENATE(\"\", 'WH - II(3)'!L350),\"\")","v":""},false,"Y"]
["$WH1_6.2.3.C1",{"$f":"IF(R_WH1,CONCATENATE(\"\", 'WH - II(1)'!D352),\"\")","v":""},false,"Y"]
["$WH1_6.2.3.C2",{"$f":"IF(R_WH2,CONCATENATE(\"\", 'WH - II(2)'!D352),\"\")","v":""},false,"Y"]
["$WH1_6.2.3.C3",{"$f":"IF(R_WH3,CONCATENATE(\"\", 'WH - II(3)'!D352),\"\")","v":""},false,"Y"]
["$WH1_6.2.4.WH1",{"$f":"IF(R_WH1,CONCATENATE(\"\", 'WH - II(1)'!D354),\"\")","v":""},false,"Y"]
["$WH1_6.2.4.WH2",{"$f":"IF(R_WH1,CONCATENATE(\"\", 'WH - II(1)'!F354),\"\")","v":""},false,"Y"]
["$WH1_6.2.4.WH3",{"$f":"IF(R_WH1,CONCATENATE(\"\", 'WH - II(1)'!H354),\"\")","v":""},false,"Y"]
["$WH1_6.2.4.WH4",{"$f":"IF(R_WH1,CONCATENATE(\"\", 'WH - II(1)'!J354),\"\")","v":""},false,"Y"]
["$WH1_6.2.4.WH5",{"$f":"IF(R_WH1,CONCATENATE(\"\", 'WH - II(1)'!L354),\"\")","v":""},false,"Y"]
["$WH1_6.2.4.WH6",{"$f":"IF(R_WH2,CONCATENATE(\"\", 'WH - II(2)'!D354),\"\")","v":""},false,"Y"]
["$WH1_6.2.4.WH7",{"$f":"IF(R_WH2,CONCATENATE(\"\", 'WH - II(2)'!F354),\"\")","v":""},false,"Y"]
["$WH1_6.2.4.WH8",{"$f":"IF(R_WH2,CONCATENATE(\"\", 'WH - II(2)'!H354),\"\")","v":""},false,"Y"]
["$WH1_6.2.4.WH9",{"$f":"IF(R_WH2,CONCATENATE(\"\", 'WH - II(2)'!J354),\"\")","v":""},false,"Y"]
["$WH1_6.2.4.WH10",{"$f":"IF(R_WH2,CONCATENATE(\"\", 'WH - II(2)'!L354),\"\")","v":""},false,"Y"]
["$WH1_6.2.4.WH11",{"$f":"IF(R_WH3,CONCATENATE(\"\", 'WH - II(3)'!D354),\"\")","v":""},false,"Y"]
["$WH1_6.2.4.WH12",{"$f":"IF(R_WH3,CONCATENATE(\"\", 'WH - II(3)'!F354),\"\")","v":""},false,"Y"]
["$WH1_6.2.4.WH13",{"$f":"IF(R_WH3,CONCATENATE(\"\", 'WH - II(3)'!H354),\"\")","v":""},false,"Y"]
["$WH1_6.2.4.WH14",{"$f":"IF(R_WH3,CONCATENATE(\"\", 'WH - II(3)'!J354),\"\")","v":""},false,"Y"]
["$WH1_6.2.4.WH15",{"$f":"IF(R_WH3,CONCATENATE(\"\", 'WH - II(3)'!L354),\"\")","v":""},false,"Y"]
["$WH1_6.2.4.C1",{"$f":"IF(R_WH1,CONCATENATE(\"\", 'WH - II(1)'!D356),\"\")","v":""},false,"Y"]
["$WH1_6.2.4.C2",{"$f":"IF(R_WH2,CONCATENATE(\"\", 'WH - II(2)'!D356),\"\")","v":""},false,"Y"]
["$WH1_6.2.4.C3",{"$f":"IF(R_WH3,CONCATENATE(\"\", 'WH - II(3)'!D356),\"\")","v":""},{"$f":"ISERROR(B1406)","v":false},"Y"]
["$WH1_6.2.5.WH1",{"$f":"IF(R_WH1,CONCATENATE(\"\", 'WH - II(1)'!D358),\"\")","v":""},false,"Y"]
["$WH1_6.2.5.WH2",{"$f":"IF(R_WH1,CONCATENATE(\"\", 'WH - II(1)'!F358),\"\")","v":""},false,"Y"]
["$WH1_6.2.5.WH3",{"$f":"IF(R_WH1,CONCATENATE(\"\", 'WH - II(1)'!H358),\"\")","v":""},false,"Y"]
["$WH1_6.2.5.WH4",{"$f":"IF(R_WH1,CONCATENATE(\"\", 'WH - II(1)'!J358),\"\")","v":""},false,"Y"]
["$WH1_6.2.5.WH5",{"$f":"IF(R_WH1,CONCATENATE(\"\", 'WH - II(1)'!L358),\"\")","v":""},false,"Y"]
["$WH1_6.2.5.WH6",{"$f":"IF(R_WH2,CONCATENATE(\"\", 'WH - II(2)'!D358),\"\")","v":""},false,"Y"]
["$WH1_6.2.5.WH7",{"$f":"IF(R_WH2,CONCATENATE(\"\", 'WH - II(2)'!F358),\"\")","v":""},false,"Y"]
["$WH1_6.2.5.WH8",{"$f":"IF(R_WH2,CONCATENATE(\"\", 'WH - II(2)'!H358),\"\")","v":""},false,"Y"]
["$WH1_6.2.5.WH9",{"$f":"IF(R_WH2,CONCATENATE(\"\", 'WH - II(2)'!J358),\"\")","v":""},false,"Y"]
["$WH1_6.2.5.WH10",{"$f":"IF(R_WH2,CONCATENATE(\"\", 'WH - II(2)'!L358),\"\")","v":""},false,"Y"]
["$WH1_6.2.5.WH11",{"$f":"IF(R_WH3,CONCATENATE(\"\", 'WH - II(3)'!D358),\"\")","v":""},false,"Y"]
["$WH1_6.2.5.WH12",{"$f":"IF(R_WH3,CONCATENATE(\"\", 'WH - II(3)'!F358),\"\")","v":""},false,"Y"]
["$WH1_6.2.5.WH13",{"$f":"IF(R_WH3,CONCATENATE(\"\", 'WH - II(3)'!H358),\"\")","v":""},false,"Y"]
["$WH1_6.2.5.WH14",{"$f":"IF(R_WH3,CONCATENATE(\"\", 'WH - II(3)'!J358),\"\")","v":""},false,"Y"]
["$WH1_6.2.5.WH15",{"$f":"IF(R_WH3,CONCATENATE(\"\", 'WH - II(3)'!L358),\"\")","v":""},false,"Y"]
["$WH1_6.2.5.C1",{"$f":"IF(R_WH1,CONCATENATE(\"\", 'WH - II(1)'!D360),\"\")","v":""},false,"Y"]
["$WH1_6.2.5.C2",{"$f":"IF(R_WH2,CONCATENATE(\"\", 'WH - II(2)'!D360),\"\")","v":""},false,"Y"]
["$WH1_6.2.5.C3",{"$f":"IF(R_WH3,CONCATENATE(\"\", 'WH - II(3)'!D360),\"\")","v":""},false,"Y"]
["$WH1_6.3.1.WH1",{"$f":"IF(R_WH1,CONCATENATE(\"\", 'WH - II(1)'!D363),\"\")","v":""},false,"Y"]
["$WH1_6.3.1.WH2",{"$f":"IF(R_WH1,CONCATENATE(\"\", 'WH - II(1)'!F363),\"\")","v":""},false,"Y"]
["$WH1_6.3.1.WH3",{"$f":"IF(R_WH1,CONCATENATE(\"\", 'WH - II(1)'!H363),\"\")","v":""},false,"Y"]
["$WH1_6.3.1.WH4",{"$f":"IF(R_WH1,CONCATENATE(\"\", 'WH - II(1)'!J363),\"\")","v":""},false,"Y"]
["$WH1_6.3.1.WH5",{"$f":"IF(R_WH1,CONCATENATE(\"\", 'WH - II(1)'!L363),\"\")","v":""},false,"Y"]
["$WH1_6.3.1.WH6",{"$f":"IF(R_WH2,CONCATENATE(\"\", 'WH - II(2)'!D363),\"\")","v":""},false,"Y"]
["$WH1_6.3.1.WH7",{"$f":"IF(R_WH2,CONCATENATE(\"\", 'WH - II(2)'!F363),\"\")","v":""},false,"Y"]
["$WH1_6.3.1.WH8",{"$f":"IF(R_WH2,CONCATENATE(\"\", 'WH - II(2)'!H363),\"\")","v":""},false,"Y"]
["$WH1_6.3.1.WH9",{"$f":"IF(R_WH2,CONCATENATE(\"\", 'WH - II(2)'!J363),\"\")","v":""},false,"Y"]
["$WH1_6.3.1.WH10",{"$f":"IF(R_WH2,CONCATENATE(\"\", 'WH - II(2)'!L363),\"\")","v":""},false,"Y"]
["$WH1_6.3.1.WH11",{"$f":"IF(R_WH3,CONCATENATE(\"\", 'WH - II(3)'!D363),\"\")","v":""},false,"Y"]
["$WH1_6.3.1.WH12",{"$f":"IF(R_WH3,CONCATENATE(\"\", 'WH - II(3)'!F363),\"\")","v":""},false,"Y"]
["$WH1_6.3.1.WH13",{"$f":"IF(R_WH3,CONCATENATE(\"\", 'WH - II(3)'!H363),\"\")","v":""},false,"Y"]
["$WH1_6.3.1.WH14",{"$f":"IF(R_WH3,CONCATENATE(\"\", 'WH - II(3)'!J363),\"\")","v":""},false,"Y"]
["$WH1_6.3.1.WH15",{"$f":"IF(R_WH3,CONCATENATE(\"\", 'WH - II(3)'!L363),\"\")","v":""},false,"Y"]
["$WH1_6.3.1.C1",{"$f":"IF(R_WH1,CONCATENATE(\"\", 'WH - II(1)'!D365),\"\")","v":""},false,"Y"]
["$WH1_6.3.1.C2",{"$f":"IF(R_WH2,CONCATENATE(\"\", 'WH - II(2)'!D365),\"\")","v":""},false,"Y"]
["$WH1_6.3.1.C3",{"$f":"IF(R_WH3,CONCATENATE(\"\", 'WH - II(3)'!D365),\"\")","v":""},false,"Y"]
["$WH1_6.3.2.WH1",{"$f":"IF(R_WH1,CONCATENATE(\"\", 'WH - II(1)'!D367),\"\")","v":""},false,"Y"]
["$WH1_6.3.2.WH2",{"$f":"IF(R_WH1,CONCATENATE(\"\", 'WH - II(1)'!F367),\"\")","v":""},false,"Y"]
["$WH1_6.3.2.WH3",{"$f":"IF(R_WH1,CONCATENATE(\"\", 'WH - II(1)'!H367),\"\")","v":""},false,"Y"]
["$WH1_6.3.2.WH4",{"$f":"IF(R_WH1,CONCATENATE(\"\", 'WH - II(1)'!J367),\"\")","v":""},false,"Y"]
["$WH1_6.3.2.WH5",{"$f":"IF(R_WH1,CONCATENATE(\"\", 'WH - II(1)'!L367),\"\")","v":""},false,"Y"]
["$WH1_6.3.2.WH6",{"$f":"IF(R_WH2,CONCATENATE(\"\", 'WH - II(2)'!D367),\"\")","v":""},false,"Y"]
["$WH1_6.3.2.WH7",{"$f":"IF(R_WH2,CONCATENATE(\"\", 'WH - II(2)'!F367),\"\")","v":""},false,"Y"]
["$WH1_6.3.2.WH8",{"$f":"IF(R_WH2,CONCATENATE(\"\", 'WH - II(2)'!H367),\"\")","v":""},false,"Y"]
["$WH1_6.3.2.WH9",{"$f":"IF(R_WH2,CONCATENATE(\"\", 'WH - II(2)'!J367),\"\")","v":""},false,"Y"]
["$WH1_6.3.2.WH10",{"$f":"IF(R_WH2,CONCATENATE(\"\", 'WH - II(2)'!L367),\"\")","v":""},false,"Y"]
["$WH1_6.3.2.WH11",{"$f":"IF(R_WH3,CONCATENATE(\"\", 'WH - II(3)'!D367),\"\")","v":""},false,"Y"]
["$WH1_6.3.2.WH12",{"$f":"IF(R_WH3,CONCATENATE(\"\", 'WH - II(3)'!F367),\"\")","v":""},false,"Y"]
["$WH1_6.3.2.WH13",{"$f":"IF(R_WH3,CONCATENATE(\"\", 'WH - II(3)'!H367),\"\")","v":""},false,"Y"]
["$WH1_6.3.2.WH14",{"$f":"IF(R_WH3,CONCATENATE(\"\", 'WH - II(3)'!J367),\"\")","v":""},false,"Y"]
["$WH1_6.3.2.WH15",{"$f":"IF(R_WH3,CONCATENATE(\"\", 'WH - II(3)'!L367),\"\")","v":""},false,"Y"]
["$WH1_6.3.2.C1",{"$f":"IF(R_WH1,CONCATENATE(\"\", 'WH - II(1)'!D369),\"\")","v":""},false,"Y"]
["$WH1_6.3.2.C2",{"$f":"IF(R_WH2,CONCATENATE(\"\", 'WH - II(2)'!D369),\"\")","v":""},false,"Y"]
["$WH1_6.3.2.C3",{"$f":"IF(R_WH3,CONCATENATE(\"\", 'WH - II(3)'!D369),\"\")","v":""},false,"Y"]
["$WH1_6.3.3.WH1",{"$f":"IF(R_WH1,CONCATENATE(\"\", 'WH - II(1)'!D371),\"\")","v":""},false,"Y"]
["$WH1_6.3.3.WH2",{"$f":"IF(R_WH1,CONCATENATE(\"\", 'WH - II(1)'!F371),\"\")","v":""},false,"Y"]
["$WH1_6.3.3.WH3",{"$f":"IF(R_WH1,CONCATENATE(\"\", 'WH - II(1)'!H371),\"\")","v":""},false,"Y"]
["$WH1_6.3.3.WH4",{"$f":"IF(R_WH1,CONCATENATE(\"\", 'WH - II(1)'!J371),\"\")","v":""},false,"Y"]
["$WH1_6.3.3.WH5",{"$f":"IF(R_WH1,CONCATENATE(\"\", 'WH - II(1)'!L371),\"\")","v":""},false,"Y"]
["$WH1_6.3.3.WH6",{"$f":"IF(R_WH2,CONCATENATE(\"\", 'WH - II(2)'!D371),\"\")","v":""},false,"Y"]
["$WH1_6.3.3.WH7",{"$f":"IF(R_WH2,CONCATENATE(\"\", 'WH - II(2)'!F371),\"\")","v":""},false,"Y"]
["$WH1_6.3.3.WH8",{"$f":"IF(R_WH2,CONCATENATE(\"\", 'WH - II(2)'!H371),\"\")","v":""},false,"Y"]
["$WH1_6.3.3.WH9",{"$f":"IF(R_WH2,CONCATENATE(\"\", 'WH - II(2)'!J371),\"\")","v":""},false,"Y"]
["$WH1_6.3.3.WH10",{"$f":"IF(R_WH2,CONCATENATE(\"\", 'WH - II(2)'!L371),\"\")","v":""},{"$f":"ISERROR(B1470)","v":false},"Y"]
["$WH1_6.3.3.WH11",{"$f":"IF(R_WH3,CONCATENATE(\"\", 'WH - II(3)'!D371),\"\")","v":""},false,"Y"]
["$WH1_6.3.3.WH12",{"$f":"IF(R_WH3,CONCATENATE(\"\", 'WH - II(3)'!F371),\"\")","v":""},false,"Y"]
["$WH1_6.3.3.WH13",{"$f":"IF(R_WH3,CONCATENATE(\"\", 'WH - II(3)'!H371),\"\")","v":""},false,"Y"]
["$WH1_6.3.3.WH14",{"$f":"IF(R_WH3,CONCATENATE(\"\", 'WH - II(3)'!J371),\"\")","v":""},false,"Y"]
["$WH1_6.3.3.WH15",{"$f":"IF(R_WH3,CONCATENATE(\"\", 'WH - II(3)'!L371),\"\")","v":""},false,"Y"]
["$WH1_6.3.3.C1",{"$f":"IF(R_WH1,CONCATENATE(\"\", 'WH - II(1)'!D373),\"\")","v":""},false,"Y"]
["$WH1_6.3.3.C2",{"$f":"IF(R_WH2,CONCATENATE(\"\", 'WH - II(2)'!D373),\"\")","v":""},false,"Y"]
["$WH1_6.3.3.C3",{"$f":"IF(R_WH3,CONCATENATE(\"\", 'WH - II(3)'!D373),\"\")","v":""},false,"Y"]
["$WH1_6.3.4.WH1",{"$f":"IF(R_WH1,CONCATENATE(\"\", 'WH - II(1)'!D375),\"\")","v":""},false,"Y"]
["$WH1_6.3.4.WH2",{"$f":"IF(R_WH1,CONCATENATE(\"\", 'WH - II(1)'!F375),\"\")","v":""},false,"Y"]
["$WH1_6.3.4.WH3",{"$f":"IF(R_WH1,CONCATENATE(\"\", 'WH - II(1)'!H375),\"\")","v":""},false,"Y"]
["$WH1_6.3.4.WH4",{"$f":"IF(R_WH1,CONCATENATE(\"\", 'WH - II(1)'!J375),\"\")","v":""},false,"Y"]
["$WH1_6.3.4.WH5",{"$f":"IF(R_WH1,CONCATENATE(\"\", 'WH - II(1)'!L375),\"\")","v":""},false,"Y"]
["$WH1_6.3.4.WH6",{"$f":"IF(R_WH2,CONCATENATE(\"\", 'WH - II(2)'!D375),\"\")","v":""},false,"Y"]
["$WH1_6.3.4.WH7",{"$f":"IF(R_WH2,CONCATENATE(\"\", 'WH - II(2)'!F375),\"\")","v":""},false,"Y"]
["$WH1_6.3.4.WH8",{"$f":"IF(R_WH2,CONCATENATE(\"\", 'WH - II(2)'!H375),\"\")","v":""},false,"Y"]
["$WH1_6.3.4.WH9",{"$f":"IF(R_WH2,CONCATENATE(\"\", 'WH - II(2)'!J375),\"\")","v":""},false,"Y"]
["$WH1_6.3.4.WH10",{"$f":"IF(R_WH2,CONCATENATE(\"\", 'WH - II(2)'!L375),\"\")","v":""},false,"Y"]
["$WH1_6.3.4.WH11",{"$f":"IF(R_WH3,CONCATENATE(\"\", 'WH - II(3)'!D375),\"\")","v":""},false,"Y"]
["$WH1_6.3.4.WH12",{"$f":"IF(R_WH3,CONCATENATE(\"\", 'WH - II(3)'!F375),\"\")","v":""},false,"Y"]
["$WH1_6.3.4.WH13",{"$f":"IF(R_WH3,CONCATENATE(\"\", 'WH - II(3)'!H375),\"\")","v":""},false,"Y"]
["$WH1_6.3.4.WH14",{"$f":"IF(R_WH3,CONCATENATE(\"\", 'WH - II(3)'!J375),\"\")","v":""},false,"Y"]
["$WH1_6.3.4.WH15",{"$f":"IF(R_WH3,CONCATENATE(\"\", 'WH - II(3)'!L375),\"\")","v":""},false,"Y"]
["$WH1_6.3.4.C1",{"$f":"IF(R_WH1,CONCATENATE(\"\", 'WH - II(1)'!D377),\"\")","v":""},false,"Y"]
["$WH1_6.3.4.C2",{"$f":"IF(R_WH2,CONCATENATE(\"\", 'WH - II(2)'!D377),\"\")","v":""},false,"Y"]
["$WH1_6.3.4.C3",{"$f":"IF(R_WH3,CONCATENATE(\"\", 'WH - II(3)'!D377),\"\")","v":""},false,"Y"]
["$WH1_6.4.1.WH1",{"$f":"IF(R_WH1,CONCATENATE(\"\", 'WH - II(1)'!D380),\"\")","v":""},false,"Y"]
["$WH1_6.4.1.WH2",{"$f":"IF(R_WH1,CONCATENATE(\"\", 'WH - II(1)'!F380),\"\")","v":""},false,"Y"]
["$WH1_6.4.1.WH3",{"$f":"IF(R_WH1,CONCATENATE(\"\", 'WH - II(1)'!H380),\"\")","v":""},false,"Y"]
["$WH1_6.4.1.WH4",{"$f":"IF(R_WH1,CONCATENATE(\"\", 'WH - II(1)'!J380),\"\")","v":""},false,"Y"]
["$WH1_6.4.1.WH5",{"$f":"IF(R_WH1,CONCATENATE(\"\", 'WH - II(1)'!L380),\"\")","v":""},false,"Y"]
["$WH1_6.4.1.WH6",{"$f":"IF(R_WH2,CONCATENATE(\"\", 'WH - II(2)'!D380),\"\")","v":""},false,"Y"]
["$WH1_6.4.1.WH7",{"$f":"IF(R_WH2,CONCATENATE(\"\", 'WH - II(2)'!F380),\"\")","v":""},false,"Y"]
["$WH1_6.4.1.WH8",{"$f":"IF(R_WH2,CONCATENATE(\"\", 'WH - II(2)'!H380),\"\")","v":""},false,"Y"]
["$WH1_6.4.1.WH9",{"$f":"IF(R_WH2,CONCATENATE(\"\", 'WH - II(2)'!J380),\"\")","v":""},false,"Y"]
["$WH1_6.4.1.WH10",{"$f":"IF(R_WH2,CONCATENATE(\"\", 'WH - II(2)'!L380),\"\")","v":""},false,"Y"]
["$WH1_6.4.1.WH11",{"$f":"IF(R_WH3,CONCATENATE(\"\", 'WH - II(3)'!D380),\"\")","v":""},false,"Y"]
["$WH1_6.4.1.WH12",{"$f":"IF(R_WH3,CONCATENATE(\"\", 'WH - II(3)'!F380),\"\")","v":""},false,"Y"]
["$WH1_6.4.1.WH13",{"$f":"IF(R_WH3,CONCATENATE(\"\", 'WH - II(3)'!H380),\"\")","v":""},false,"Y"]
["$WH1_6.4.1.WH14",{"$f":"IF(R_WH3,CONCATENATE(\"\", 'WH - II(3)'!J380),\"\")","v":""},false,"Y"]
["$WH1_6.4.1.WH15",{"$f":"IF(R_WH3,CONCATENATE(\"\", 'WH - II(3)'!L380),\"\")","v":""},false,"Y"]
["$WH1_6.4.1.C1",{"$f":"IF(R_WH1,CONCATENATE(\"\", 'WH - II(1)'!D382),\"\")","v":""},false,"Y"]
["$WH1_6.4.1.C2",{"$f":"IF(R_WH2,CONCATENATE(\"\", 'WH - II(2)'!D382),\"\")","v":""},false,"Y"]
["$WH1_6.4.1.C3",{"$f":"IF(R_WH3,CONCATENATE(\"\", 'WH - II(3)'!D382),\"\")","v":""},false,"Y"]
["$WH1_6.4.2.WH1",{"$f":"IF(R_WH1,CONCATENATE(\"\", 'WH - II(1)'!D384),\"\")","v":""},false,"Y"]
["$WH1_6.4.2.WH2",{"$f":"IF(R_WH1,CONCATENATE(\"\", 'WH - II(1)'!F384),\"\")","v":""},false,"Y"]
["$WH1_6.4.2.WH3",{"$f":"IF(R_WH1,CONCATENATE(\"\", 'WH - II(1)'!H384),\"\")","v":""},false,"Y"]
["$WH1_6.4.2.WH4",{"$f":"IF(R_WH1,CONCATENATE(\"\", 'WH - II(1)'!J384),\"\")","v":""},false,"Y"]
["$WH1_6.4.2.WH5",{"$f":"IF(R_WH1,CONCATENATE(\"\", 'WH - II(1)'!L384),\"\")","v":""},false,"Y"]
["$WH1_6.4.2.WH6",{"$f":"IF(R_WH2,CONCATENATE(\"\", 'WH - II(2)'!D384),\"\")","v":""},false,"Y"]
["$WH1_6.4.2.WH7",{"$f":"IF(R_WH2,CONCATENATE(\"\", 'WH - II(2)'!F384),\"\")","v":""},false,"Y"]
["$WH1_6.4.2.WH8",{"$f":"IF(R_WH2,CONCATENATE(\"\", 'WH - II(2)'!H384),\"\")","v":""},false,"Y"]
["$WH1_6.4.2.WH9",{"$f":"IF(R_WH2,CONCATENATE(\"\", 'WH - II(2)'!J384),\"\")","v":""},false,"Y"]
["$WH1_6.4.2.WH10",{"$f":"IF(R_WH2,CONCATENATE(\"\", 'WH - II(2)'!L384),\"\")","v":""},false,"Y"]
["$WH1_6.4.2.WH11",{"$f":"IF(R_WH3,CONCATENATE(\"\", 'WH - II(3)'!D384),\"\")","v":""},false,"Y"]
["$WH1_6.4.2.WH12",{"$f":"IF(R_WH3,CONCATENATE(\"\", 'WH - II(3)'!F384),\"\")","v":""},false,"Y"]
["$WH1_6.4.2.WH13",{"$f":"IF(R_WH3,CONCATENATE(\"\", 'WH - II(3)'!H384),\"\")","v":""},false,"Y"]
["$WH1_6.4.2.WH14",{"$f":"IF(R_WH3,CONCATENATE(\"\", 'WH - II(3)'!J384),\"\")","v":""},false,"Y"]
["$WH1_6.4.2.WH15",{"$f":"IF(R_WH3,CONCATENATE(\"\", 'WH - II(3)'!L384),\"\")","v":""},false,"Y"]
["$WH1_6.4.2.C1",{"$f":"IF(R_WH1,CONCATENATE(\"\", 'WH - II(1)'!D386),\"\")","v":""},false,"Y"]
["$WH1_6.4.2.C2",{"$f":"IF(R_WH2,CONCATENATE(\"\", 'WH - II(2)'!D386),\"\")","v":""},false,"Y"]
["$WH1_6.4.2.C3",{"$f":"IF(R_WH3,CONCATENATE(\"\", 'WH - II(3)'!D386),\"\")","v":""},false,"Y"]
["$WH1_6.4.3.WH1",{"$f":"IF(R_WH1,CONCATENATE(\"\", 'WH - II(1)'!D388),\"\")","v":""},false,"Y"]
["$WH1_6.4.3.WH2",{"$f":"IF(R_WH1,CONCATENATE(\"\", 'WH - II(1)'!F388),\"\")","v":""},{"$f":"ISERROR(B1534)","v":false},"Y"]
["$WH1_6.4.3.WH3",{"$f":"IF(R_WH1,CONCATENATE(\"\", 'WH - II(1)'!H388),\"\")","v":""},false,"Y"]
["$WH1_6.4.3.WH4",{"$f":"IF(R_WH1,CONCATENATE(\"\", 'WH - II(1)'!J388),\"\")","v":""},false,"Y"]
["$WH1_6.4.3.WH5",{"$f":"IF(R_WH1,CONCATENATE(\"\", 'WH - II(1)'!L388),\"\")","v":""},false,"Y"]
["$WH1_6.4.3.WH6",{"$f":"IF(R_WH2,CONCATENATE(\"\", 'WH - II(2)'!D388),\"\")","v":""},false,"Y"]
["$WH1_6.4.3.WH7",{"$f":"IF(R_WH2,CONCATENATE(\"\", 'WH - II(2)'!F388),\"\")","v":""},false,"Y"]
["$WH1_6.4.3.WH8",{"$f":"IF(R_WH2,CONCATENATE(\"\", 'WH - II(2)'!H388),\"\")","v":""},false,"Y"]
["$WH1_6.4.3.WH9",{"$f":"IF(R_WH2,CONCATENATE(\"\", 'WH - II(2)'!J388),\"\")","v":""},false,"Y"]
["$WH1_6.4.3.WH10",{"$f":"IF(R_WH2,CONCATENATE(\"\", 'WH - II(2)'!L388),\"\")","v":""},false,"Y"]
["$WH1_6.4.3.WH11",{"$f":"IF(R_WH3,CONCATENATE(\"\", 'WH - II(3)'!D388),\"\")","v":""},false,"Y"]
["$WH1_6.4.3.WH12",{"$f":"IF(R_WH3,CONCATENATE(\"\", 'WH - II(3)'!F388),\"\")","v":""},false,"Y"]
["$WH1_6.4.3.WH13",{"$f":"IF(R_WH3,CONCATENATE(\"\", 'WH - II(3)'!H388),\"\")","v":""},false,"Y"]
["$WH1_6.4.3.WH14",{"$f":"IF(R_WH3,CONCATENATE(\"\", 'WH - II(3)'!J388),\"\")","v":""},false,"Y"]
["$WH1_6.4.3.WH15",{"$f":"IF(R_WH3,CONCATENATE(\"\", 'WH - II(3)'!L388),\"\")","v":""},false,"Y"]
["$WH1_6.4.3.C1",{"$f":"IF(R_WH1,CONCATENATE(\"\", 'WH - II(1)'!D390),\"\")","v":""},false,"Y"]
["$WH1_6.4.3.C2",{"$f":"IF(R_WH2,CONCATENATE(\"\", 'WH - II(2)'!D390),\"\")","v":""},false,"Y"]
["$WH1_6.4.3.C3",{"$f":"IF(R_WH3,CONCATENATE(\"\", 'WH - II(3)'!D390),\"\")","v":""},false,"Y"]
["$WH1_6.4.4.WH1",{"$f":"IF(R_WH1,CONCATENATE(\"\", 'WH - II(1)'!D392),\"\")","v":""},false,"Y"]
["$WH1_6.4.4.WH2",{"$f":"IF(R_WH1,CONCATENATE(\"\", 'WH - II(1)'!F392),\"\")","v":""},false,"Y"]
["$WH1_6.4.4.WH3",{"$f":"IF(R_WH1,CONCATENATE(\"\", 'WH - II(1)'!H392),\"\")","v":""},false,"Y"]
["$WH1_6.4.4.WH4",{"$f":"IF(R_WH1,CONCATENATE(\"\", 'WH - II(1)'!J392),\"\")","v":""},false,"Y"]
["$WH1_6.4.4.WH5",{"$f":"IF(R_WH1,CONCATENATE(\"\", 'WH - II(1)'!L392),\"\")","v":""},false,"Y"]
["$WH1_6.4.4.WH6",{"$f":"IF(R_WH2,CONCATENATE(\"\", 'WH - II(2)'!D392),\"\")","v":""},false,"Y"]
["$WH1_6.4.4.WH7",{"$f":"IF(R_WH2,CONCATENATE(\"\", 'WH - II(2)'!F392),\"\")","v":""},false,"Y"]
["$WH1_6.4.4.WH8",{"$f":"IF(R_WH2,CONCATENATE(\"\", 'WH - II(2)'!H392),\"\")","v":""},false,"Y"]
["$WH1_6.4.4.WH9",{"$f":"IF(R_WH2,CONCATENATE(\"\", 'WH - II(2)'!J392),\"\")","v":""},false,"Y"]
["$WH1_6.4.4.WH10",{"$f":"IF(R_WH2,CONCATENATE(\"\", 'WH - II(2)'!L392),\"\")","v":""},false,"Y"]
["$WH1_6.4.4.WH11",{"$f":"IF(R_WH3,CONCATENATE(\"\", 'WH - II(3)'!D392),\"\")","v":""},false,"Y"]
["$WH1_6.4.4.WH12",{"$f":"IF(R_WH3,CONCATENATE(\"\", 'WH - II(3)'!F392),\"\")","v":""},false,"Y"]
["$WH1_6.4.4.WH13",{"$f":"IF(R_WH3,CONCATENATE(\"\", 'WH - II(3)'!H392),\"\")","v":""},false,"Y"]
["$WH1_6.4.4.WH14",{"$f":"IF(R_WH3,CONCATENATE(\"\", 'WH - II(3)'!J392),\"\")","v":""},false,"Y"]
["$WH1_6.4.4.WH15",{"$f":"IF(R_WH3,CONCATENATE(\"\", 'WH - II(3)'!L392),\"\")","v":""},false,"Y"]
["$WH1_6.4.4.C1",{"$f":"IF(R_WH1,CONCATENATE(\"\", 'WH - II(1)'!D394),\"\")","v":""},false,"Y"]
["$WH1_6.4.4.C2",{"$f":"IF(R_WH2,CONCATENATE(\"\", 'WH - II(2)'!D394),\"\")","v":""},false,"Y"]
["$WH1_6.4.4.C3",{"$f":"IF(R_WH3,CONCATENATE(\"\", 'WH - II(3)'!D394),\"\")","v":""},false,"Y"]
["$WH1_6.5.1.WH1",{"$f":"IF(R_WH1,CONCATENATE(\"\", 'WH - II(1)'!D397),\"\")","v":""},false,"Y"]
["$WH1_6.5.1.WH2",{"$f":"IF(R_WH1,CONCATENATE(\"\", 'WH - II(1)'!F397),\"\")","v":""},false,"Y"]
["$WH1_6.5.1.WH3",{"$f":"IF(R_WH1,CONCATENATE(\"\", 'WH - II(1)'!H397),\"\")","v":""},false,"Y"]
["$WH1_6.5.1.WH4",{"$f":"IF(R_WH1,CONCATENATE(\"\", 'WH - II(1)'!J397),\"\")","v":""},false,"Y"]
["$WH1_6.5.1.WH5",{"$f":"IF(R_WH1,CONCATENATE(\"\", 'WH - II(1)'!L397),\"\")","v":""},false,"Y"]
["$WH1_6.5.1.WH6",{"$f":"IF(R_WH2,CONCATENATE(\"\", 'WH - II(2)'!D397),\"\")","v":""},false,"Y"]
["$WH1_6.5.1.WH7",{"$f":"IF(R_WH2,CONCATENATE(\"\", 'WH - II(2)'!F397),\"\")","v":""},false,"Y"]
["$WH1_6.5.1.WH8",{"$f":"IF(R_WH2,CONCATENATE(\"\", 'WH - II(2)'!H397),\"\")","v":""},false,"Y"]
["$WH1_6.5.1.WH9",{"$f":"IF(R_WH2,CONCATENATE(\"\", 'WH - II(2)'!J397),\"\")","v":""},false,"Y"]
["$WH1_6.5.1.WH10",{"$f":"IF(R_WH2,CONCATENATE(\"\", 'WH - II(2)'!L397),\"\")","v":""},false,"Y"]
["$WH1_6.5.1.WH11",{"$f":"IF(R_WH3,CONCATENATE(\"\", 'WH - II(3)'!D397),\"\")","v":""},false,"Y"]
["$WH1_6.5.1.WH12",{"$f":"IF(R_WH3,CONCATENATE(\"\", 'WH - II(3)'!F397),\"\")","v":""},false,"Y"]
["$WH1_6.5.1.WH13",{"$f":"IF(R_WH3,CONCATENATE(\"\", 'WH - II(3)'!H397),\"\")","v":""},false,"Y"]
["$WH1_6.5.1.WH14",{"$f":"IF(R_WH3,CONCATENATE(\"\", 'WH - II(3)'!J397),\"\")","v":""},false,"Y"]
["$WH1_6.5.1.WH15",{"$f":"IF(R_WH3,CONCATENATE(\"\", 'WH - II(3)'!L397),\"\")","v":""},false,"Y"]
["$WH1_6.5.1.C1",{"$f":"IF(R_WH1,CONCATENATE(\"\", 'WH - II(1)'!D399),\"\")","v":""},false,"Y"]
["$WH1_6.5.1.C2",{"$f":"IF(R_WH2,CONCATENATE(\"\", 'WH - II(2)'!D399),\"\")","v":""},false,"Y"]
["$WH1_6.5.1.C3",{"$f":"IF(R_WH3,CONCATENATE(\"\", 'WH - II(3)'!D399),\"\")","v":""},false,"Y"]
["$WH1_6.5.2.WH1",{"$f":"IF(R_WH1,CONCATENATE(\"\", 'WH - II(1)'!D401),\"\")","v":""},false,"Y"]
["$WH1_6.5.2.WH2",{"$f":"IF(R_WH1,CONCATENATE(\"\", 'WH - II(1)'!F401),\"\")","v":""},false,"Y"]
["$WH1_6.5.2.WH3",{"$f":"IF(R_WH1,CONCATENATE(\"\", 'WH - II(1)'!H401),\"\")","v":""},false,"Y"]
["$WH1_6.5.2.WH4",{"$f":"IF(R_WH1,CONCATENATE(\"\", 'WH - II(1)'!J401),\"\")","v":""},false,"Y"]
["$WH1_6.5.2.WH5",{"$f":"IF(R_WH1,CONCATENATE(\"\", 'WH - II(1)'!L401),\"\")","v":""},false,"Y"]
["$WH1_6.5.2.WH6",{"$f":"IF(R_WH2,CONCATENATE(\"\", 'WH - II(2)'!D401),\"\")","v":""},false,"Y"]
["$WH1_6.5.2.WH7",{"$f":"IF(R_WH2,CONCATENATE(\"\", 'WH - II(2)'!F401),\"\")","v":""},false,"Y"]
["$WH1_6.5.2.WH8",{"$f":"IF(R_WH2,CONCATENATE(\"\", 'WH - II(2)'!H401),\"\")","v":""},false,"Y"]
["$WH1_6.5.2.WH9",{"$f":"IF(R_WH2,CONCATENATE(\"\", 'WH - II(2)'!J401),\"\")","v":""},false,"Y"]
["$WH1_6.5.2.WH10",{"$f":"IF(R_WH2,CONCATENATE(\"\", 'WH - II(2)'!L401),\"\")","v":""},false,"Y"]
["$WH1_6.5.2.WH11",{"$f":"IF(R_WH3,CONCATENATE(\"\", 'WH - II(3)'!D401),\"\")","v":""},false,"Y"]
["$WH1_6.5.2.WH12",{"$f":"IF(R_WH3,CONCATENATE(\"\", 'WH - II(3)'!F401),\"\")","v":""},{"$f":"ISERROR(B1598)","v":false},"Y"]
["$WH1_6.5.2.WH13",{"$f":"IF(R_WH3,CONCATENATE(\"\", 'WH - II(3)'!H401),\"\")","v":""},false,"Y"]
["$WH1_6.5.2.WH14",{"$f":"IF(R_WH3,CONCATENATE(\"\", 'WH - II(3)'!J401),\"\")","v":""},false,"Y"]
["$WH1_6.5.2.WH15",{"$f":"IF(R_WH3,CONCATENATE(\"\", 'WH - II(3)'!L401),\"\")","v":""},false,"Y"]
["$WH1_6.5.2.C1",{"$f":"IF(R_WH1,CONCATENATE(\"\", 'WH - II(1)'!D403),\"\")","v":""},false,"Y"]
["$WH1_6.5.2.C2",{"$f":"IF(R_WH2,CONCATENATE(\"\", 'WH - II(2)'!D403),\"\")","v":""},false,"Y"]
["$WH1_6.5.2.C3",{"$f":"IF(R_WH3,CONCATENATE(\"\", 'WH - II(3)'!D403),\"\")","v":""},false,"Y"]
["$WH1_6.5.3.WH1",{"$f":"IF(R_WH1,CONCATENATE(\"\", 'WH - II(1)'!D405),\"\")","v":""},false,"Y"]
["$WH1_6.5.3.WH2",{"$f":"IF(R_WH1,CONCATENATE(\"\", 'WH - II(1)'!F405),\"\")","v":""},false,"Y"]
["$WH1_6.5.3.WH3",{"$f":"IF(R_WH1,CONCATENATE(\"\", 'WH - II(1)'!H405),\"\")","v":""},false,"Y"]
["$WH1_6.5.3.WH4",{"$f":"IF(R_WH1,CONCATENATE(\"\", 'WH - II(1)'!J405),\"\")","v":""},false,"Y"]
["$WH1_6.5.3.WH5",{"$f":"IF(R_WH1,CONCATENATE(\"\", 'WH - II(1)'!L405),\"\")","v":""},false,"Y"]
["$WH1_6.5.3.WH6",{"$f":"IF(R_WH2,CONCATENATE(\"\", 'WH - II(2)'!D405),\"\")","v":""},false,"Y"]
["$WH1_6.5.3.WH7",{"$f":"IF(R_WH2,CONCATENATE(\"\", 'WH - II(2)'!F405),\"\")","v":""},false,"Y"]
["$WH1_6.5.3.WH8",{"$f":"IF(R_WH2,CONCATENATE(\"\", 'WH - II(2)'!H405),\"\")","v":""},false,"Y"]
["$WH1_6.5.3.WH9",{"$f":"IF(R_WH2,CONCATENATE(\"\", 'WH - II(2)'!J405),\"\")","v":""},false,"Y"]
["$WH1_6.5.3.WH10",{"$f":"IF(R_WH2,CONCATENATE(\"\", 'WH - II(2)'!L405),\"\")","v":""},false,"Y"]
["$WH1_6.5.3.WH11",{"$f":"IF(R_WH3,CONCATENATE(\"\", 'WH - II(3)'!D405),\"\")","v":""},false,"Y"]
["$WH1_6.5.3.WH12",{"$f":"IF(R_WH3,CONCATENATE(\"\", 'WH - II(3)'!F405),\"\")","v":""},false,"Y"]
["$WH1_6.5.3.WH13",{"$f":"IF(R_WH3,CONCATENATE(\"\", 'WH - II(3)'!H405),\"\")","v":""},false,"Y"]
["$WH1_6.5.3.WH14",{"$f":"IF(R_WH3,CONCATENATE(\"\", 'WH - II(3)'!J405),\"\")","v":""},false,"Y"]
["$WH1_6.5.3.WH15",{"$f":"IF(R_WH3,CONCATENATE(\"\", 'WH - II(3)'!L405),\"\")","v":""},false,"Y"]
["$WH1_6.5.3.C1",{"$f":"IF(R_WH1,CONCATENATE(\"\", 'WH - II(1)'!D407),\"\")","v":""},false,"Y"]
["$WH1_6.5.3.C2",{"$f":"IF(R_WH2,CONCATENATE(\"\", 'WH - II(2)'!D407),\"\")","v":""},false,"Y"]
["$WH1_6.5.3.C3",{"$f":"IF(R_WH3,CONCATENATE(\"\", 'WH - II(3)'!D407),\"\")","v":""},false,"Y"]
["$WH1_6.5.4.WH1",{"$f":"IF(R_WH1,CONCATENATE(\"\", 'WH - II(1)'!D409),\"\")","v":""},false,"Y"]
["$WH1_6.5.4.WH2",{"$f":"IF(R_WH1,CONCATENATE(\"\", 'WH - II(1)'!F409),\"\")","v":""},false,"Y"]
["$WH1_6.5.4.WH3",{"$f":"IF(R_WH1,CONCATENATE(\"\", 'WH - II(1)'!H409),\"\")","v":""},false,"Y"]
["$WH1_6.5.4.WH4",{"$f":"IF(R_WH1,CONCATENATE(\"\", 'WH - II(1)'!J409),\"\")","v":""},false,"Y"]
["$WH1_6.5.4.WH5",{"$f":"IF(R_WH1,CONCATENATE(\"\", 'WH - II(1)'!L409),\"\")","v":""},false,"Y"]
["$WH1_6.5.4.WH6",{"$f":"IF(R_WH2,CONCATENATE(\"\", 'WH - II(2)'!D409),\"\")","v":""},false,"Y"]
["$WH1_6.5.4.WH7",{"$f":"IF(R_WH2,CONCATENATE(\"\", 'WH - II(2)'!F409),\"\")","v":""},false,"Y"]
["$WH1_6.5.4.WH8",{"$f":"IF(R_WH2,CONCATENATE(\"\", 'WH - II(2)'!H409),\"\")","v":""},false,"Y"]
["$WH1_6.5.4.WH9",{"$f":"IF(R_WH2,CONCATENATE(\"\", 'WH - II(2)'!J409),\"\")","v":""},false,"Y"]
["$WH1_6.5.4.WH10",{"$f":"IF(R_WH2,CONCATENATE(\"\", 'WH - II(2)'!L409),\"\")","v":""},false,"Y"]
["$WH1_6.5.4.WH11",{"$f":"IF(R_WH3,CONCATENATE(\"\", 'WH - II(3)'!D409),\"\")","v":""},false,"Y"]
["$WH1_6.5.4.WH12",{"$f":"IF(R_WH3,CONCATENATE(\"\", 'WH - II(3)'!F409),\"\")","v":""},false,"Y"]
["$WH1_6.5.4.WH13",{"$f":"IF(R_WH3,CONCATENATE(\"\", 'WH - II(3)'!H409),\"\")","v":""},false,"Y"]
["$WH1_6.5.4.WH14",{"$f":"IF(R_WH3,CONCATENATE(\"\", 'WH - II(3)'!J409),\"\")","v":""},false,"Y"]
["$WH1_6.5.4.WH15",{"$f":"IF(R_WH3,CONCATENATE(\"\", 'WH - II(3)'!L409),\"\")","v":""},false,"Y"]
["$WH1_6.5.4.C1",{"$f":"IF(R_WH1,CONCATENATE(\"\", 'WH - II(1)'!D411),\"\")","v":""},false,"Y"]
["$WH1_6.5.4.C2",{"$f":"IF(R_WH2,CONCATENATE(\"\", 'WH - II(2)'!D411),\"\")","v":""},false,"Y"]
["$WH1_6.5.4.C3",{"$f":"IF(R_WH3,CONCATENATE(\"\", 'WH - II(3)'!D411),\"\")","v":""},false,"Y"]
["$WH1_6.6.1.WH1",{"$f":"IF(R_WH1,CONCATENATE(\"\", 'WH - II(1)'!D414),\"\")","v":""},false,"Y"]
["$WH1_6.6.1.WH2",{"$f":"IF(R_WH1,CONCATENATE(\"\", 'WH - II(1)'!F414),\"\")","v":""},false,"Y"]
["$WH1_6.6.1.WH3",{"$f":"IF(R_WH1,CONCATENATE(\"\", 'WH - II(1)'!H414),\"\")","v":""},false,"Y"]
["$WH1_6.6.1.WH4",{"$f":"IF(R_WH1,CONCATENATE(\"\", 'WH - II(1)'!J414),\"\")","v":""},false,"Y"]
["$WH1_6.6.1.WH5",{"$f":"IF(R_WH1,CONCATENATE(\"\", 'WH - II(1)'!L414),\"\")","v":""},false,"Y"]
["$WH1_6.6.1.WH6",{"$f":"IF(R_WH2,CONCATENATE(\"\", 'WH - II(2)'!D414),\"\")","v":""},false,"Y"]
["$WH1_6.6.1.WH7",{"$f":"IF(R_WH2,CONCATENATE(\"\", 'WH - II(2)'!F414),\"\")","v":""},false,"Y"]
["$WH1_6.6.1.WH8",{"$f":"IF(R_WH2,CONCATENATE(\"\", 'WH - II(2)'!H414),\"\")","v":""},false,"Y"]
["$WH1_6.6.1.WH9",{"$f":"IF(R_WH2,CONCATENATE(\"\", 'WH - II(2)'!J414),\"\")","v":""},false,"Y"]
["$WH1_6.6.1.WH10",{"$f":"IF(R_WH2,CONCATENATE(\"\", 'WH - II(2)'!L414),\"\")","v":""},false,"Y"]
["$WH1_6.6.1.WH11",{"$f":"IF(R_WH3,CONCATENATE(\"\", 'WH - II(3)'!D414),\"\")","v":""},false,"Y"]
["$WH1_6.6.1.WH12",{"$f":"IF(R_WH3,CONCATENATE(\"\", 'WH - II(3)'!F414),\"\")","v":""},false,"Y"]
["$WH1_6.6.1.WH13",{"$f":"IF(R_WH3,CONCATENATE(\"\", 'WH - II(3)'!H414),\"\")","v":""},false,"Y"]
["$WH1_6.6.1.WH14",{"$f":"IF(R_WH3,CONCATENATE(\"\", 'WH - II(3)'!J414),\"\")","v":""},false,"Y"]
["$WH1_6.6.1.WH15",{"$f":"IF(R_WH3,CONCATENATE(\"\", 'WH - II(3)'!L414),\"\")","v":""},false,"Y"]
["$WH1_6.6.1.C1",{"$f":"IF(R_WH1,CONCATENATE(\"\", 'WH - II(1)'!D416),\"\")","v":""},false,"Y"]
["$WH1_6.6.1.C2",{"$f":"IF(R_WH2,CONCATENATE(\"\", 'WH - II(2)'!D416),\"\")","v":""},false,"Y"]
["$WH1_6.6.1.C3",{"$f":"IF(R_WH3,CONCATENATE(\"\", 'WH - II(3)'!D416),\"\")","v":""},false,"Y"]
["$WH1_6.6.2.WH1",{"$f":"IF(R_WH1,CONCATENATE(\"\", 'WH - II(1)'!D418),\"\")","v":""},false,"Y"]
["$WH1_6.6.2.WH2",{"$f":"IF(R_WH1,CONCATENATE(\"\", 'WH - II(1)'!F418),\"\")","v":""},false,"Y"]
["$WH1_6.6.2.WH3",{"$f":"IF(R_WH1,CONCATENATE(\"\", 'WH - II(1)'!H418),\"\")","v":""},false,"Y"]
["$WH1_6.6.2.WH4",{"$f":"IF(R_WH1,CONCATENATE(\"\", 'WH - II(1)'!J418),\"\")","v":""},{"$f":"ISERROR(B1662)","v":false},"Y"]
["$WH1_6.6.2.WH5",{"$f":"IF(R_WH1,CONCATENATE(\"\", 'WH - II(1)'!L418),\"\")","v":""},false,"Y"]
["$WH1_6.6.2.WH6",{"$f":"IF(R_WH2,CONCATENATE(\"\", 'WH - II(2)'!D418),\"\")","v":""},false,"Y"]
["$WH1_6.6.2.WH7",{"$f":"IF(R_WH2,CONCATENATE(\"\", 'WH - II(2)'!F418),\"\")","v":""},false,"Y"]
["$WH1_6.6.2.WH8",{"$f":"IF(R_WH2,CONCATENATE(\"\", 'WH - II(2)'!H418),\"\")","v":""},false,"Y"]
["$WH1_6.6.2.WH9",{"$f":"IF(R_WH2,CONCATENATE(\"\", 'WH - II(2)'!J418),\"\")","v":""},false,"Y"]
["$WH1_6.6.2.WH10",{"$f":"IF(R_WH2,CONCATENATE(\"\", 'WH - II(2)'!L418),\"\")","v":""},false,"Y"]
["$WH1_6.6.2.WH11",{"$f":"IF(R_WH3,CONCATENATE(\"\", 'WH - II(3)'!D418),\"\")","v":""},false,"Y"]
["$WH1_6.6.2.WH12",{"$f":"IF(R_WH3,CONCATENATE(\"\", 'WH - II(3)'!F418),\"\")","v":""},false,"Y"]
["$WH1_6.6.2.WH13",{"$f":"IF(R_WH3,CONCATENATE(\"\", 'WH - II(3)'!H418),\"\")","v":""},false,"Y"]
["$WH1_6.6.2.WH14",{"$f":"IF(R_WH3,CONCATENATE(\"\", 'WH - II(3)'!J418),\"\")","v":""},false,"Y"]
["$WH1_6.6.2.WH15",{"$f":"IF(R_WH3,CONCATENATE(\"\", 'WH - II(3)'!L418),\"\")","v":""},false,"Y"]
["$WH1_6.6.2.C1",{"$f":"IF(R_WH1,CONCATENATE(\"\", 'WH - II(1)'!D420),\"\")","v":""},false,"Y"]
["$WH1_6.6.2.C2",{"$f":"IF(R_WH2,CONCATENATE(\"\", 'WH - II(2)'!D420),\"\")","v":""},false,"Y"]
["$WH1_6.6.2.C3",{"$f":"IF(R_WH3,CONCATENATE(\"\", 'WH - II(3)'!D420),\"\")","v":""},false,"Y"]
["$WH1_6.6.3.WH1",{"$f":"IF(R_WH1,CONCATENATE(\"\", 'WH - II(1)'!D422),\"\")","v":""},false,"Y"]
["$WH1_6.6.3.WH2",{"$f":"IF(R_WH1,CONCATENATE(\"\", 'WH - II(1)'!F422),\"\")","v":""},false,"Y"]
["$WH1_6.6.3.WH3",{"$f":"IF(R_WH1,CONCATENATE(\"\", 'WH - II(1)'!H422),\"\")","v":""},false,"Y"]
["$WH1_6.6.3.WH4",{"$f":"IF(R_WH1,CONCATENATE(\"\", 'WH - II(1)'!J422),\"\")","v":""},false,"Y"]
["$WH1_6.6.3.WH5",{"$f":"IF(R_WH1,CONCATENATE(\"\", 'WH - II(1)'!L422),\"\")","v":""},false,"Y"]
["$WH1_6.6.3.WH6",{"$f":"IF(R_WH2,CONCATENATE(\"\", 'WH - II(2)'!D422),\"\")","v":""},false,"Y"]
["$WH1_6.6.3.WH7",{"$f":"IF(R_WH2,CONCATENATE(\"\", 'WH - II(2)'!F422),\"\")","v":""},false,"Y"]
["$WH1_6.6.3.WH8",{"$f":"IF(R_WH2,CONCATENATE(\"\", 'WH - II(2)'!H422),\"\")","v":""},false,"Y"]
["$WH1_6.6.3.WH9",{"$f":"IF(R_WH2,CONCATENATE(\"\", 'WH - II(2)'!J422),\"\")","v":""},false,"Y"]
["$WH1_6.6.3.WH10",{"$f":"IF(R_WH2,CONCATENATE(\"\", 'WH - II(2)'!L422),\"\")","v":""},false,"Y"]
["$WH1_6.6.3.WH11",{"$f":"IF(R_WH3,CONCATENATE(\"\", 'WH - II(3)'!D422),\"\")","v":""},false,"Y"]
["$WH1_6.6.3.WH12",{"$f":"IF(R_WH3,CONCATENATE(\"\", 'WH - II(3)'!F422),\"\")","v":""},false,"Y"]
["$WH1_6.6.3.WH13",{"$f":"IF(R_WH3,CONCATENATE(\"\", 'WH - II(3)'!H422),\"\")","v":""},false,"Y"]
["$WH1_6.6.3.WH14",{"$f":"IF(R_WH3,CONCATENATE(\"\", 'WH - II(3)'!J422),\"\")","v":""},false,"Y"]
["$WH1_6.6.3.WH15",{"$f":"IF(R_WH3,CONCATENATE(\"\", 'WH - II(3)'!L422),\"\")","v":""},false,"Y"]
["$WH1_6.6.3.C1",{"$f":"IF(R_WH1,CONCATENATE(\"\", 'WH - II(1)'!D424),\"\")","v":""},false,"Y"]
["$WH1_6.6.3.C2",{"$f":"IF(R_WH2,CONCATENATE(\"\", 'WH - II(2)'!D424),\"\")","v":""},false,"Y"]
["$WH1_6.6.3.C3",{"$f":"IF(R_WH3,CONCATENATE(\"\", 'WH - II(3)'!D424),\"\")","v":""},false,"Y"]
["$WH1_6.6.4.WH1",{"$f":"IF(R_WH1,CONCATENATE(\"\", 'WH - II(1)'!D426),\"\")","v":""},false,"Y"]
["$WH1_6.6.4.WH2",{"$f":"IF(R_WH1,CONCATENATE(\"\", 'WH - II(1)'!F426),\"\")","v":""},false,"Y"]
["$WH1_6.6.4.WH3",{"$f":"IF(R_WH1,CONCATENATE(\"\", 'WH - II(1)'!H426),\"\")","v":""},false,"Y"]
["$WH1_6.6.4.WH4",{"$f":"IF(R_WH1,CONCATENATE(\"\", 'WH - II(1)'!J426),\"\")","v":""},false,"Y"]
["$WH1_6.6.4.WH5",{"$f":"IF(R_WH1,CONCATENATE(\"\", 'WH - II(1)'!L426),\"\")","v":""},false,"Y"]
["$WH1_6.6.4.WH6",{"$f":"IF(R_WH2,CONCATENATE(\"\", 'WH - II(2)'!D426),\"\")","v":""},false,"Y"]
["$WH1_6.6.4.WH7",{"$f":"IF(R_WH2,CONCATENATE(\"\", 'WH - II(2)'!F426),\"\")","v":""},false,"Y"]
["$WH1_6.6.4.WH8",{"$f":"IF(R_WH2,CONCATENATE(\"\", 'WH - II(2)'!H426),\"\")","v":""},false,"Y"]
["$WH1_6.6.4.WH9",{"$f":"IF(R_WH2,CONCATENATE(\"\", 'WH - II(2)'!J426),\"\")","v":""},false,"Y"]
["$WH1_6.6.4.WH10",{"$f":"IF(R_WH2,CONCATENATE(\"\", 'WH - II(2)'!L426),\"\")","v":""},false,"Y"]
["$WH1_6.6.4.WH11",{"$f":"IF(R_WH3,CONCATENATE(\"\", 'WH - II(3)'!D426),\"\")","v":""},false,"Y"]
["$WH1_6.6.4.WH12",{"$f":"IF(R_WH3,CONCATENATE(\"\", 'WH - II(3)'!F426),\"\")","v":""},false,"Y"]
["$WH1_6.6.4.WH13",{"$f":"IF(R_WH3,CONCATENATE(\"\", 'WH - II(3)'!H426),\"\")","v":""},false,"Y"]
["$WH1_6.6.4.WH14",{"$f":"IF(R_WH3,CONCATENATE(\"\", 'WH - II(3)'!J426),\"\")","v":""},false,"Y"]
["$WH1_6.6.4.WH15",{"$f":"IF(R_WH3,CONCATENATE(\"\", 'WH - II(3)'!L426),\"\")","v":""},false,"Y"]
["$WH1_6.6.4.C1",{"$f":"IF(R_WH1,CONCATENATE(\"\", 'WH - II(1)'!D428),\"\")","v":""},false,"Y"]
["$WH1_6.6.4.C2",{"$f":"IF(R_WH2,CONCATENATE(\"\", 'WH - II(2)'!D428),\"\")","v":""},false,"Y"]
["$WH1_6.6.4.C3",{"$f":"IF(R_WH3,CONCATENATE(\"\", 'WH - II(3)'!D428),\"\")","v":""},false,"Y"]
["$WH1_6.6.5.WH1",{"$f":"IF(R_WH1,CONCATENATE(\"\", 'WH - II(1)'!D430),\"\")","v":""},false,"Y"]
["$WH1_6.6.5.WH2",{"$f":"IF(R_WH1,CONCATENATE(\"\", 'WH - II(1)'!F430),\"\")","v":""},false,"Y"]
["$WH1_6.6.5.WH3",{"$f":"IF(R_WH1,CONCATENATE(\"\", 'WH - II(1)'!H430),\"\")","v":""},false,"Y"]
["$WH1_6.6.5.WH4",{"$f":"IF(R_WH1,CONCATENATE(\"\", 'WH - II(1)'!J430),\"\")","v":""},false,"Y"]
["$WH1_6.6.5.WH5",{"$f":"IF(R_WH1,CONCATENATE(\"\", 'WH - II(1)'!L430),\"\")","v":""},false,"Y"]
["$WH1_6.6.5.WH6",{"$f":"IF(R_WH2,CONCATENATE(\"\", 'WH - II(2)'!D430),\"\")","v":""},false,"Y"]
["$WH1_6.6.5.WH7",{"$f":"IF(R_WH2,CONCATENATE(\"\", 'WH - II(2)'!F430),\"\")","v":""},false,"Y"]
["$WH1_6.6.5.WH8",{"$f":"IF(R_WH2,CONCATENATE(\"\", 'WH - II(2)'!H430),\"\")","v":""},false,"Y"]
["$WH1_6.6.5.WH9",{"$f":"IF(R_WH2,CONCATENATE(\"\", 'WH - II(2)'!J430),\"\")","v":""},false,"Y"]
["$WH1_6.6.5.WH10",{"$f":"IF(R_WH2,CONCATENATE(\"\", 'WH - II(2)'!L430),\"\")","v":""},false,"Y"]
["$WH1_6.6.5.WH11",{"$f":"IF(R_WH3,CONCATENATE(\"\", 'WH - II(3)'!D430),\"\")","v":""},false,"Y"]
["$WH1_6.6.5.WH12",{"$f":"IF(R_WH3,CONCATENATE(\"\", 'WH - II(3)'!F430),\"\")","v":""},false,"Y"]
["$WH1_6.6.5.WH13",{"$f":"IF(R_WH3,CONCATENATE(\"\", 'WH - II(3)'!H430),\"\")","v":""},false,"Y"]
["$WH1_6.6.5.WH14",{"$f":"IF(R_WH3,CONCATENATE(\"\", 'WH - II(3)'!J430),\"\")","v":""},{"$f":"ISERROR(B1726)","v":false},"Y"]
["$WH1_6.6.5.WH15",{"$f":"IF(R_WH3,CONCATENATE(\"\", 'WH - II(3)'!L430),\"\")","v":""},false,"Y"]
["$WH1_6.6.5.C1",{"$f":"IF(R_WH1,CONCATENATE(\"\", 'WH - II(1)'!D432),\"\")","v":""},false,"Y"]
["$WH1_6.6.5.C2",{"$f":"IF(R_WH2,CONCATENATE(\"\", 'WH - II(2)'!D432),\"\")","v":""},false,"Y"]
["$WH1_6.6.5.C3",{"$f":"IF(R_WH3,CONCATENATE(\"\", 'WH - II(3)'!D432),\"\")","v":""},false,"Y"]
["$WH1_6.7.1.WH1",{"$f":"IF(R_WH1,CONCATENATE(\"\", 'WH - II(1)'!D435),\"\")","v":""},false,"Y"]
["$WH1_6.7.1.WH2",{"$f":"IF(R_WH1,CONCATENATE(\"\", 'WH - II(1)'!F435),\"\")","v":""},false,"Y"]
["$WH1_6.7.1.WH3",{"$f":"IF(R_WH1,CONCATENATE(\"\", 'WH - II(1)'!H435),\"\")","v":""},false,"Y"]
["$WH1_6.7.1.WH4",{"$f":"IF(R_WH1,CONCATENATE(\"\", 'WH - II(1)'!J435),\"\")","v":""},false,"Y"]
["$WH1_6.7.1.WH5",{"$f":"IF(R_WH1,CONCATENATE(\"\", 'WH - II(1)'!L435),\"\")","v":""},false,"Y"]
["$WH1_6.7.1.WH6",{"$f":"IF(R_WH2,CONCATENATE(\"\", 'WH - II(2)'!D435),\"\")","v":""},false,"Y"]
["$WH1_6.7.1.WH7",{"$f":"IF(R_WH2,CONCATENATE(\"\", 'WH - II(2)'!F435),\"\")","v":""},false,"Y"]
["$WH1_6.7.1.WH8",{"$f":"IF(R_WH2,CONCATENATE(\"\", 'WH - II(2)'!H435),\"\")","v":""},false,"Y"]
["$WH1_6.7.1.WH9",{"$f":"IF(R_WH2,CONCATENATE(\"\", 'WH - II(2)'!J435),\"\")","v":""},false,"Y"]
["$WH1_6.7.1.WH10",{"$f":"IF(R_WH2,CONCATENATE(\"\", 'WH - II(2)'!L435),\"\")","v":""},false,"Y"]
["$WH1_6.7.1.WH11",{"$f":"IF(R_WH3,CONCATENATE(\"\", 'WH - II(3)'!D435),\"\")","v":""},false,"Y"]
["$WH1_6.7.1.WH12",{"$f":"IF(R_WH3,CONCATENATE(\"\", 'WH - II(3)'!F435),\"\")","v":""},false,"Y"]
["$WH1_6.7.1.WH13",{"$f":"IF(R_WH3,CONCATENATE(\"\", 'WH - II(3)'!H435),\"\")","v":""},false,"Y"]
["$WH1_6.7.1.WH14",{"$f":"IF(R_WH3,CONCATENATE(\"\", 'WH - II(3)'!J435),\"\")","v":""},false,"Y"]
["$WH1_6.7.1.WH15",{"$f":"IF(R_WH3,CONCATENATE(\"\", 'WH - II(3)'!L435),\"\")","v":""},false,"Y"]
["$WH1_6.7.1.C1",{"$f":"IF(R_WH1,CONCATENATE(\"\", 'WH - II(1)'!D437),\"\")","v":""},false,"Y"]
["$WH1_6.7.1.C2",{"$f":"IF(R_WH2,CONCATENATE(\"\", 'WH - II(2)'!D437),\"\")","v":""},false,"Y"]
["$WH1_6.7.1.C3",{"$f":"IF(R_WH3,CONCATENATE(\"\", 'WH - II(3)'!D437),\"\")","v":""},false,"Y"]
["$WH1_6.7.2.WH1",{"$f":"IF(R_WH1,CONCATENATE(\"\", 'WH - II(1)'!D439),\"\")","v":""},false,"Y"]
["$WH1_6.7.2.WH2",{"$f":"IF(R_WH1,CONCATENATE(\"\", 'WH - II(1)'!F439),\"\")","v":""},false,"Y"]
["$WH1_6.7.2.WH3",{"$f":"IF(R_WH1,CONCATENATE(\"\", 'WH - II(1)'!H439),\"\")","v":""},false,"Y"]
["$WH1_6.7.2.WH4",{"$f":"IF(R_WH1,CONCATENATE(\"\", 'WH - II(1)'!J439),\"\")","v":""},false,"Y"]
["$WH1_6.7.2.WH5",{"$f":"IF(R_WH1,CONCATENATE(\"\", 'WH - II(1)'!L439),\"\")","v":""},false,"Y"]
["$WH1_6.7.2.WH6",{"$f":"IF(R_WH2,CONCATENATE(\"\", 'WH - II(2)'!D439),\"\")","v":""},false,"Y"]
["$WH1_6.7.2.WH7",{"$f":"IF(R_WH2,CONCATENATE(\"\", 'WH - II(2)'!F439),\"\")","v":""},false,"Y"]
["$WH1_6.7.2.WH8",{"$f":"IF(R_WH2,CONCATENATE(\"\", 'WH - II(2)'!H439),\"\")","v":""},false,"Y"]
["$WH1_6.7.2.WH9",{"$f":"IF(R_WH2,CONCATENATE(\"\", 'WH - II(2)'!J439),\"\")","v":""},false,"Y"]
["$WH1_6.7.2.WH10",{"$f":"IF(R_WH2,CONCATENATE(\"\", 'WH - II(2)'!L439),\"\")","v":""},false,"Y"]
["$WH1_6.7.2.WH11",{"$f":"IF(R_WH3,CONCATENATE(\"\", 'WH - II(3)'!D439),\"\")","v":""},false,"Y"]
["$WH1_6.7.2.WH12",{"$f":"IF(R_WH3,CONCATENATE(\"\", 'WH - II(3)'!F439),\"\")","v":""},false,"Y"]
["$WH1_6.7.2.WH13",{"$f":"IF(R_WH3,CONCATENATE(\"\", 'WH - II(3)'!H439),\"\")","v":""},false,"Y"]
["$WH1_6.7.2.WH14",{"$f":"IF(R_WH3,CONCATENATE(\"\", 'WH - II(3)'!J439),\"\")","v":""},false,"Y"]
["$WH1_6.7.2.WH15",{"$f":"IF(R_WH3,CONCATENATE(\"\", 'WH - II(3)'!L439),\"\")","v":""},false,"Y"]
["$WH1_6.7.2.C1",{"$f":"IF(R_WH1,CONCATENATE(\"\", 'WH - II(1)'!D441),\"\")","v":""},false,"Y"]
["$WH1_6.7.2.C2",{"$f":"IF(R_WH2,CONCATENATE(\"\", 'WH - II(2)'!D441),\"\")","v":""},false,"Y"]
["$WH1_6.7.2.C3",{"$f":"IF(R_WH3,CONCATENATE(\"\", 'WH - II(3)'!D441),\"\")","v":""},false,"Y"]
["$WH1_6.7.3.WH1",{"$f":"IF(R_WH1,CONCATENATE(\"\", 'WH - II(1)'!D443),\"\")","v":""},false,"Y"]
["$WH1_6.7.3.WH2",{"$f":"IF(R_WH1,CONCATENATE(\"\", 'WH - II(1)'!F443),\"\")","v":""},false,"Y"]
["$WH1_6.7.3.WH3",{"$f":"IF(R_WH1,CONCATENATE(\"\", 'WH - II(1)'!H443),\"\")","v":""},false,"Y"]
["$WH1_6.7.3.WH4",{"$f":"IF(R_WH1,CONCATENATE(\"\", 'WH - II(1)'!J443),\"\")","v":""},false,"Y"]
["$WH1_6.7.3.WH5",{"$f":"IF(R_WH1,CONCATENATE(\"\", 'WH - II(1)'!L443),\"\")","v":""},false,"Y"]
["$WH1_6.7.3.WH6",{"$f":"IF(R_WH2,CONCATENATE(\"\", 'WH - II(2)'!D443),\"\")","v":""},false,"Y"]
["$WH1_6.7.3.WH7",{"$f":"IF(R_WH2,CONCATENATE(\"\", 'WH - II(2)'!F443),\"\")","v":""},false,"Y"]
["$WH1_6.7.3.WH8",{"$f":"IF(R_WH2,CONCATENATE(\"\", 'WH - II(2)'!H443),\"\")","v":""},false,"Y"]
["$WH1_6.7.3.WH9",{"$f":"IF(R_WH2,CONCATENATE(\"\", 'WH - II(2)'!J443),\"\")","v":""},false,"Y"]
["$WH1_6.7.3.WH10",{"$f":"IF(R_WH2,CONCATENATE(\"\", 'WH - II(2)'!L443),\"\")","v":""},false,"Y"]
["$WH1_6.7.3.WH11",{"$f":"IF(R_WH3,CONCATENATE(\"\", 'WH - II(3)'!D443),\"\")","v":""},false,"Y"]
["$WH1_6.7.3.WH12",{"$f":"IF(R_WH3,CONCATENATE(\"\", 'WH - II(3)'!F443),\"\")","v":""},false,"Y"]
["$WH1_6.7.3.WH13",{"$f":"IF(R_WH3,CONCATENATE(\"\", 'WH - II(3)'!H443),\"\")","v":""},false,"Y"]
["$WH1_6.7.3.WH14",{"$f":"IF(R_WH3,CONCATENATE(\"\", 'WH - II(3)'!J443),\"\")","v":""},false,"Y"]
["$WH1_6.7.3.WH15",{"$f":"IF(R_WH3,CONCATENATE(\"\", 'WH - II(3)'!L443),\"\")","v":""},false,"Y"]
["$WH1_6.7.3.C1",{"$f":"IF(R_WH1,CONCATENATE(\"\", 'WH - II(1)'!D445),\"\")","v":""},false,"Y"]
["$WH1_6.7.3.C2",{"$f":"IF(R_WH2,CONCATENATE(\"\", 'WH - II(2)'!D445),\"\")","v":""},false,"Y"]
["$WH1_6.7.3.C3",{"$f":"IF(R_WH3,CONCATENATE(\"\", 'WH - II(3)'!D445),\"\")","v":""},false,"Y"]
["$WH1_6.7.4.WH1",{"$f":"IF(R_WH1,CONCATENATE(\"\", 'WH - II(1)'!D447),\"\")","v":""},false,"Y"]
["$WH1_6.7.4.WH2",{"$f":"IF(R_WH1,CONCATENATE(\"\", 'WH - II(1)'!F447),\"\")","v":""},false,"Y"]
["$WH1_6.7.4.WH3",{"$f":"IF(R_WH1,CONCATENATE(\"\", 'WH - II(1)'!H447),\"\")","v":""},false,"Y"]
["$WH1_6.7.4.WH4",{"$f":"IF(R_WH1,CONCATENATE(\"\", 'WH - II(1)'!J447),\"\")","v":""},false,"Y"]
["$WH1_6.7.4.WH5",{"$f":"IF(R_WH1,CONCATENATE(\"\", 'WH - II(1)'!L447),\"\")","v":""},false,"Y"]
["$WH1_6.7.4.WH6",{"$f":"IF(R_WH2,CONCATENATE(\"\", 'WH - II(2)'!D447),\"\")","v":""},{"$f":"ISERROR(B1790)","v":false},"Y"]
["$WH1_6.7.4.WH7",{"$f":"IF(R_WH2,CONCATENATE(\"\", 'WH - II(2)'!F447),\"\")","v":""},false,"Y"]
["$WH1_6.7.4.WH8",{"$f":"IF(R_WH2,CONCATENATE(\"\", 'WH - II(2)'!H447),\"\")","v":""},false,"Y"]
["$WH1_6.7.4.WH9",{"$f":"IF(R_WH2,CONCATENATE(\"\", 'WH - II(2)'!J447),\"\")","v":""},false,"Y"]
["$WH1_6.7.4.WH10",{"$f":"IF(R_WH2,CONCATENATE(\"\", 'WH - II(2)'!L447),\"\")","v":""},false,"Y"]
["$WH1_6.7.4.WH11",{"$f":"IF(R_WH3,CONCATENATE(\"\", 'WH - II(3)'!D447),\"\")","v":""},false,"Y"]
["$WH1_6.7.4.WH12",{"$f":"IF(R_WH3,CONCATENATE(\"\", 'WH - II(3)'!F447),\"\")","v":""},false,"Y"]
["$WH1_6.7.4.WH13",{"$f":"IF(R_WH3,CONCATENATE(\"\", 'WH - II(3)'!H447),\"\")","v":""},false,"Y"]
["$WH1_6.7.4.WH14",{"$f":"IF(R_WH3,CONCATENATE(\"\", 'WH - II(3)'!J447),\"\")","v":""},false,"Y"]
["$WH1_6.7.4.WH15",{"$f":"IF(R_WH3,CONCATENATE(\"\", 'WH - II(3)'!L447),\"\")","v":""},false,"Y"]
["$WH1_6.7.4.C1",{"$f":"IF(R_WH1,CONCATENATE(\"\", 'WH - II(1)'!D449),\"\")","v":""},false,"Y"]
["$WH1_6.7.4.C2",{"$f":"IF(R_WH2,CONCATENATE(\"\", 'WH - II(2)'!D449),\"\")","v":""},false,"Y"]
["$WH1_6.7.4.C3",{"$f":"IF(R_WH3,CONCATENATE(\"\", 'WH - II(3)'!D449),\"\")","v":""},false,"Y"]
["$WH1_6.8.1.WH1",{"$f":"IF(R_WH1,CONCATENATE(\"\", 'WH - II(1)'!D452),\"\")","v":""},false,"Y"]
["$WH1_6.8.1.WH2",{"$f":"IF(R_WH1,CONCATENATE(\"\", 'WH - II(1)'!F452),\"\")","v":""},false,"Y"]
["$WH1_6.8.1.WH3",{"$f":"IF(R_WH1,CONCATENATE(\"\", 'WH - II(1)'!H452),\"\")","v":""},false,"Y"]
["$WH1_6.8.1.WH4",{"$f":"IF(R_WH1,CONCATENATE(\"\", 'WH - II(1)'!J452),\"\")","v":""},false,"Y"]
["$WH1_6.8.1.WH5",{"$f":"IF(R_WH1,CONCATENATE(\"\", 'WH - II(1)'!L452),\"\")","v":""},false,"Y"]
["$WH1_6.8.1.WH6",{"$f":"IF(R_WH2,CONCATENATE(\"\", 'WH - II(2)'!D452),\"\")","v":""},false,"Y"]
["$WH1_6.8.1.WH7",{"$f":"IF(R_WH2,CONCATENATE(\"\", 'WH - II(2)'!F452),\"\")","v":""},false,"Y"]
["$WH1_6.8.1.WH8",{"$f":"IF(R_WH2,CONCATENATE(\"\", 'WH - II(2)'!H452),\"\")","v":""},false,"Y"]
["$WH1_6.8.1.WH9",{"$f":"IF(R_WH2,CONCATENATE(\"\", 'WH - II(2)'!J452),\"\")","v":""},false,"Y"]
["$WH1_6.8.1.WH10",{"$f":"IF(R_WH2,CONCATENATE(\"\", 'WH - II(2)'!L452),\"\")","v":""},false,"Y"]
["$WH1_6.8.1.WH11",{"$f":"IF(R_WH3,CONCATENATE(\"\", 'WH - II(3)'!D452),\"\")","v":""},false,"Y"]
["$WH1_6.8.1.WH12",{"$f":"IF(R_WH3,CONCATENATE(\"\", 'WH - II(3)'!F452),\"\")","v":""},false,"Y"]
["$WH1_6.8.1.WH13",{"$f":"IF(R_WH3,CONCATENATE(\"\", 'WH - II(3)'!H452),\"\")","v":""},false,"Y"]
["$WH1_6.8.1.WH14",{"$f":"IF(R_WH3,CONCATENATE(\"\", 'WH - II(3)'!J452),\"\")","v":""},false,"Y"]
["$WH1_6.8.1.WH15",{"$f":"IF(R_WH3,CONCATENATE(\"\", 'WH - II(3)'!L452),\"\")","v":""},false,"Y"]
["$WH1_6.8.1.C1",{"$f":"IF(R_WH1,CONCATENATE(\"\", 'WH - II(1)'!D454),\"\")","v":""},false,"Y"]
["$WH1_6.8.1.C2",{"$f":"IF(R_WH2,CONCATENATE(\"\", 'WH - II(2)'!D454),\"\")","v":""},false,"Y"]
["$WH1_6.8.1.C3",{"$f":"IF(R_WH3,CONCATENATE(\"\", 'WH - II(3)'!D454),\"\")","v":""},false,"Y"]
["$WH1_6.8.2.WH1",{"$f":"IF(R_WH1,CONCATENATE(\"\", 'WH - II(1)'!D456),\"\")","v":""},false,"Y"]
["$WH1_6.8.2.WH2",{"$f":"IF(R_WH1,CONCATENATE(\"\", 'WH - II(1)'!F456),\"\")","v":""},false,"Y"]
["$WH1_6.8.2.WH3",{"$f":"IF(R_WH1,CONCATENATE(\"\", 'WH - II(1)'!H456),\"\")","v":""},false,"Y"]
["$WH1_6.8.2.WH4",{"$f":"IF(R_WH1,CONCATENATE(\"\", 'WH - II(1)'!J456),\"\")","v":""},false,"Y"]
["$WH1_6.8.2.WH5",{"$f":"IF(R_WH1,CONCATENATE(\"\", 'WH - II(1)'!L456),\"\")","v":""},false,"Y"]
["$WH1_6.8.2.WH6",{"$f":"IF(R_WH2,CONCATENATE(\"\", 'WH - II(2)'!D456),\"\")","v":""},false,"Y"]
["$WH1_6.8.2.WH7",{"$f":"IF(R_WH2,CONCATENATE(\"\", 'WH - II(2)'!F456),\"\")","v":""},false,"Y"]
["$WH1_6.8.2.WH8",{"$f":"IF(R_WH2,CONCATENATE(\"\", 'WH - II(2)'!H456),\"\")","v":""},false,"Y"]
["$WH1_6.8.2.WH9",{"$f":"IF(R_WH2,CONCATENATE(\"\", 'WH - II(2)'!J456),\"\")","v":""},false,"Y"]
["$WH1_6.8.2.WH10",{"$f":"IF(R_WH2,CONCATENATE(\"\", 'WH - II(2)'!L456),\"\")","v":""},false,"Y"]
["$WH1_6.8.2.WH11",{"$f":"IF(R_WH3,CONCATENATE(\"\", 'WH - II(3)'!D456),\"\")","v":""},false,"Y"]
["$WH1_6.8.2.WH12",{"$f":"IF(R_WH3,CONCATENATE(\"\", 'WH - II(3)'!F456),\"\")","v":""},false,"Y"]
["$WH1_6.8.2.WH13",{"$f":"IF(R_WH3,CONCATENATE(\"\", 'WH - II(3)'!H456),\"\")","v":""},false,"Y"]
["$WH1_6.8.2.WH14",{"$f":"IF(R_WH3,CONCATENATE(\"\", 'WH - II(3)'!J456),\"\")","v":""},false,"Y"]
["$WH1_6.8.2.WH15",{"$f":"IF(R_WH3,CONCATENATE(\"\", 'WH - II(3)'!L456),\"\")","v":""},false,"Y"]
["$WH1_6.8.2.C1",{"$f":"IF(R_WH1,CONCATENATE(\"\", 'WH - II(1)'!D458),\"\")","v":""},false,"Y"]
["$WH1_6.8.2.C2",{"$f":"IF(R_WH2,CONCATENATE(\"\", 'WH - II(2)'!D458),\"\")","v":""},false,"Y"]
["$WH1_6.8.2.C3",{"$f":"IF(R_WH3,CONCATENATE(\"\", 'WH - II(3)'!D458),\"\")","v":""},false,"Y"]
["$WH1_6.8.3.WH1",{"$f":"IF(R_WH1,CONCATENATE(\"\", 'WH - II(1)'!D460),\"\")","v":""},false,"Y"]
["$WH1_6.8.3.WH2",{"$f":"IF(R_WH1,CONCATENATE(\"\", 'WH - II(1)'!F460),\"\")","v":""},false,"Y"]
["$WH1_6.8.3.WH3",{"$f":"IF(R_WH1,CONCATENATE(\"\", 'WH - II(1)'!H460),\"\")","v":""},false,"Y"]
["$WH1_6.8.3.WH4",{"$f":"IF(R_WH1,CONCATENATE(\"\", 'WH - II(1)'!J460),\"\")","v":""},false,"Y"]
["$WH1_6.8.3.WH5",{"$f":"IF(R_WH1,CONCATENATE(\"\", 'WH - II(1)'!L460),\"\")","v":""},false,"Y"]
["$WH1_6.8.3.WH6",{"$f":"IF(R_WH2,CONCATENATE(\"\", 'WH - II(2)'!D460),\"\")","v":""},false,"Y"]
["$WH1_6.8.3.WH7",{"$f":"IF(R_WH2,CONCATENATE(\"\", 'WH - II(2)'!F460),\"\")","v":""},false,"Y"]
["$WH1_6.8.3.WH8",{"$f":"IF(R_WH2,CONCATENATE(\"\", 'WH - II(2)'!H460),\"\")","v":""},false,"Y"]
["$WH1_6.8.3.WH9",{"$f":"IF(R_WH2,CONCATENATE(\"\", 'WH - II(2)'!J460),\"\")","v":""},false,"Y"]
["$WH1_6.8.3.WH10",{"$f":"IF(R_WH2,CONCATENATE(\"\", 'WH - II(2)'!L460),\"\")","v":""},false,"Y"]
["$WH1_6.8.3.WH11",{"$f":"IF(R_WH3,CONCATENATE(\"\", 'WH - II(3)'!D460),\"\")","v":""},false,"Y"]
["$WH1_6.8.3.WH12",{"$f":"IF(R_WH3,CONCATENATE(\"\", 'WH - II(3)'!F460),\"\")","v":""},false,"Y"]
["$WH1_6.8.3.WH13",{"$f":"IF(R_WH3,CONCATENATE(\"\", 'WH - II(3)'!H460),\"\")","v":""},false,"Y"]
["$WH1_6.8.3.WH14",{"$f":"IF(R_WH3,CONCATENATE(\"\", 'WH - II(3)'!J460),\"\")","v":""},false,"Y"]
["$WH1_6.8.3.WH15",{"$f":"IF(R_WH3,CONCATENATE(\"\", 'WH - II(3)'!L460),\"\")","v":""},false,"Y"]
["$WH1_6.8.3.C1",{"$f":"IF(R_WH1,CONCATENATE(\"\", 'WH - II(1)'!D462),\"\")","v":""},{"$f":"ISERROR(B1854)","v":false},"Y"]
["$WH1_6.8.3.C2",{"$f":"IF(R_WH2,CONCATENATE(\"\", 'WH - II(2)'!D462),\"\")","v":""},false,"Y"]
["$WH1_6.8.3.C3",{"$f":"IF(R_WH3,CONCATENATE(\"\", 'WH - II(3)'!D462),\"\")","v":""},false,"Y"]
["$WH1_6.8.4.WH1",{"$f":"IF(R_WH1,CONCATENATE(\"\", 'WH - II(1)'!D464),\"\")","v":""},false,"Y"]
["$WH1_6.8.4.WH2",{"$f":"IF(R_WH1,CONCATENATE(\"\", 'WH - II(1)'!F464),\"\")","v":""},false,"Y"]
["$WH1_6.8.4.WH3",{"$f":"IF(R_WH1,CONCATENATE(\"\", 'WH - II(1)'!H464),\"\")","v":""},false,"Y"]
["$WH1_6.8.4.WH4",{"$f":"IF(R_WH1,CONCATENATE(\"\", 'WH - II(1)'!J464),\"\")","v":""},false,"Y"]
["$WH1_6.8.4.WH5",{"$f":"IF(R_WH1,CONCATENATE(\"\", 'WH - II(1)'!L464),\"\")","v":""},false,"Y"]
["$WH1_6.8.4.WH6",{"$f":"IF(R_WH2,CONCATENATE(\"\", 'WH - II(2)'!D464),\"\")","v":""},false,"Y"]
["$WH1_6.8.4.WH7",{"$f":"IF(R_WH2,CONCATENATE(\"\", 'WH - II(2)'!F464),\"\")","v":""},false,"Y"]
["$WH1_6.8.4.WH8",{"$f":"IF(R_WH2,CONCATENATE(\"\", 'WH - II(2)'!H464),\"\")","v":""},false,"Y"]
["$WH1_6.8.4.WH9",{"$f":"IF(R_WH2,CONCATENATE(\"\", 'WH - II(2)'!J464),\"\")","v":""},false,"Y"]
["$WH1_6.8.4.WH10",{"$f":"IF(R_WH2,CONCATENATE(\"\", 'WH - II(2)'!L464),\"\")","v":""},false,"Y"]
["$WH1_6.8.4.WH11",{"$f":"IF(R_WH3,CONCATENATE(\"\", 'WH - II(3)'!D464),\"\")","v":""},false,"Y"]
["$WH1_6.8.4.WH12",{"$f":"IF(R_WH3,CONCATENATE(\"\", 'WH - II(3)'!F464),\"\")","v":""},false,"Y"]
["$WH1_6.8.4.WH13",{"$f":"IF(R_WH3,CONCATENATE(\"\", 'WH - II(3)'!H464),\"\")","v":""},false,"Y"]
["$WH1_6.8.4.WH14",{"$f":"IF(R_WH3,CONCATENATE(\"\", 'WH - II(3)'!J464),\"\")","v":""},false,"Y"]
["$WH1_6.8.4.WH15",{"$f":"IF(R_WH3,CONCATENATE(\"\", 'WH - II(3)'!L464),\"\")","v":""},false,"Y"]
["$WH1_6.8.4.C1",{"$f":"IF(R_WH1,CONCATENATE(\"\", 'WH - II(1)'!D466),\"\")","v":""},false,"Y"]
["$WH1_6.8.4.C2",{"$f":"IF(R_WH2,CONCATENATE(\"\", 'WH - II(2)'!D466),\"\")","v":""},false,"Y"]
["$WH1_6.8.4.C3",{"$f":"IF(R_WH3,CONCATENATE(\"\", 'WH - II(3)'!D466),\"\")","v":""},false,"Y"]
["$WH1_6.9.WH1",{"$f":"IF(R_WH1,CONCATENATE(\"\", 'WH - II(1)'!D468),\"\")","v":""},false,"Y"]
["$WH1_6.9.WH2",{"$f":"IF(R_WH1,CONCATENATE(\"\", 'WH - II(1)'!F468),\"\")","v":""},false,"Y"]
["$WH1_6.9.WH3",{"$f":"IF(R_WH1,CONCATENATE(\"\", 'WH - II(1)'!H468),\"\")","v":""},false,"Y"]
["$WH1_6.9.WH4",{"$f":"IF(R_WH1,CONCATENATE(\"\", 'WH - II(1)'!J468),\"\")","v":""},false,"Y"]
["$WH1_6.9.WH5",{"$f":"IF(R_WH1,CONCATENATE(\"\", 'WH - II(1)'!L468),\"\")","v":""},false,"Y"]
["$WH1_6.9.WH6",{"$f":"IF(R_WH2,CONCATENATE(\"\", 'WH - II(2)'!D468),\"\")","v":""},false,"Y"]
["$WH1_6.9.WH7",{"$f":"IF(R_WH2,CONCATENATE(\"\", 'WH - II(2)'!F468),\"\")","v":""},false,"Y"]
["$WH1_6.9.WH8",{"$f":"IF(R_WH2,CONCATENATE(\"\", 'WH - II(2)'!H468),\"\")","v":""},false,"Y"]
["$WH1_6.9.WH9",{"$f":"IF(R_WH2,CONCATENATE(\"\", 'WH - II(2)'!J468),\"\")","v":""},false,"Y"]
["$WH1_6.9.WH10",{"$f":"IF(R_WH2,CONCATENATE(\"\", 'WH - II(2)'!L468),\"\")","v":""},false,"Y"]
["$WH1_6.9.WH11",{"$f":"IF(R_WH3,CONCATENATE(\"\", 'WH - II(3)'!D468),\"\")","v":""},false,"Y"]
["$WH1_6.9.WH12",{"$f":"IF(R_WH3,CONCATENATE(\"\", 'WH - II(3)'!F468),\"\")","v":""},false,"Y"]
["$WH1_6.9.WH13",{"$f":"IF(R_WH3,CONCATENATE(\"\", 'WH - II(3)'!H468),\"\")","v":""},false,"Y"]
["$WH1_6.9.WH14",{"$f":"IF(R_WH3,CONCATENATE(\"\", 'WH - II(3)'!J468),\"\")","v":""},false,"Y"]
["$WH1_6.9.WH15",{"$f":"IF(R_WH3,CONCATENATE(\"\", 'WH - II(3)'!L468),\"\")","v":""},false,"Y"]
["$WH1_6.9.C1",{"$f":"IF(R_WH1,CONCATENATE(\"\", 'WH - II(1)'!D470),\"\")","v":""},false,"Y"]
["$WH1_6.9.C2",{"$f":"IF(R_WH2,CONCATENATE(\"\", 'WH - II(2)'!D470),\"\")","v":""},false,"Y"]
["$WH1_6.9.C3",{"$f":"IF(R_WH3,CONCATENATE(\"\", 'WH - II(3)'!D470),\"\")","v":""},false,"Y"]
["$WH1_7.1.WH1",{"$f":"IF(R_WH1,CONCATENATE(\"\", 'WH - II(1)'!D474),\"\")","v":""},false,"Y"]
["$WH1_7.1.WH2",{"$f":"IF(R_WH1,CONCATENATE(\"\", 'WH - II(1)'!F474),\"\")","v":""},false,"Y"]
["$WH1_7.1.WH3",{"$f":"IF(R_WH1,CONCATENATE(\"\", 'WH - II(1)'!H474),\"\")","v":""},false,"Y"]
["$WH1_7.1.WH4",{"$f":"IF(R_WH1,CONCATENATE(\"\", 'WH - II(1)'!J474),\"\")","v":""},false,"Y"]
["$WH1_7.1.WH5",{"$f":"IF(R_WH1,CONCATENATE(\"\", 'WH - II(1)'!L474),\"\")","v":""},false,"Y"]
["$WH1_7.1.WH6",{"$f":"IF(R_WH2,CONCATENATE(\"\", 'WH - II(2)'!D474),\"\")","v":""},false,"Y"]
["$WH1_7.1.WH7",{"$f":"IF(R_WH2,CONCATENATE(\"\", 'WH - II(2)'!F474),\"\")","v":""},false,"Y"]
["$WH1_7.1.WH8",{"$f":"IF(R_WH2,CONCATENATE(\"\", 'WH - II(2)'!H474),\"\")","v":""},false,"Y"]
["$WH1_7.1.WH9",{"$f":"IF(R_WH2,CONCATENATE(\"\", 'WH - II(2)'!J474),\"\")","v":""},false,"Y"]
["$WH1_7.1.WH10",{"$f":"IF(R_WH2,CONCATENATE(\"\", 'WH - II(2)'!L474),\"\")","v":""},false,"Y"]
["$WH1_7.1.WH11",{"$f":"IF(R_WH3,CONCATENATE(\"\", 'WH - II(3)'!D474),\"\")","v":""},false,"Y"]
["$WH1_7.1.WH12",{"$f":"IF(R_WH3,CONCATENATE(\"\", 'WH - II(3)'!F474),\"\")","v":""},false,"Y"]
["$WH1_7.1.WH13",{"$f":"IF(R_WH3,CONCATENATE(\"\", 'WH - II(3)'!H474),\"\")","v":""},false,"Y"]
["$WH1_7.1.WH14",{"$f":"IF(R_WH3,CONCATENATE(\"\", 'WH - II(3)'!J474),\"\")","v":""},false,"Y"]
["$WH1_7.1.WH15",{"$f":"IF(R_WH3,CONCATENATE(\"\", 'WH - II(3)'!L474),\"\")","v":""},false,"Y"]
["$WH1_7.1.C1",{"$f":"IF(R_WH1,CONCATENATE(\"\", 'WH - II(1)'!D476),\"\")","v":""},false,"Y"]
["$WH1_7.1.C2",{"$f":"IF(R_WH2,CONCATENATE(\"\", 'WH - II(2)'!D476),\"\")","v":""},false,"Y"]
["$WH1_7.1.C3",{"$f":"IF(R_WH3,CONCATENATE(\"\", 'WH - II(3)'!D476),\"\")","v":""},false,"Y"]
["$WH1_7.2.WH1",{"$f":"IF(R_WH1,CONCATENATE(\"\", 'WH - II(1)'!D478),\"\")","v":""},false,"Y"]
["$WH1_7.2.WH2",{"$f":"IF(R_WH1,CONCATENATE(\"\", 'WH - II(1)'!F478),\"\")","v":""},false,"Y"]
["$WH1_7.2.WH3",{"$f":"IF(R_WH1,CONCATENATE(\"\", 'WH - II(1)'!H478),\"\")","v":""},false,"Y"]
["$WH1_7.2.WH4",{"$f":"IF(R_WH1,CONCATENATE(\"\", 'WH - II(1)'!J478),\"\")","v":""},false,"Y"]
["$WH1_7.2.WH5",{"$f":"IF(R_WH1,CONCATENATE(\"\", 'WH - II(1)'!L478),\"\")","v":""},false,"Y"]
["$WH1_7.2.WH6",{"$f":"IF(R_WH2,CONCATENATE(\"\", 'WH - II(2)'!D478),\"\")","v":""},false,"Y"]
["$WH1_7.2.WH7",{"$f":"IF(R_WH2,CONCATENATE(\"\", 'WH - II(2)'!F478),\"\")","v":""},false,"Y"]
["$WH1_7.2.WH8",{"$f":"IF(R_WH2,CONCATENATE(\"\", 'WH - II(2)'!H478),\"\")","v":""},{"$f":"ISERROR(B1918)","v":false},"Y"]
["$WH1_7.2.WH9",{"$f":"IF(R_WH2,CONCATENATE(\"\", 'WH - II(2)'!J478),\"\")","v":""},false,"Y"]
["$WH1_7.2.WH10",{"$f":"IF(R_WH2,CONCATENATE(\"\", 'WH - II(2)'!L478),\"\")","v":""},false,"Y"]
["$WH1_7.2.WH11",{"$f":"IF(R_WH3,CONCATENATE(\"\", 'WH - II(3)'!D478),\"\")","v":""},false,"Y"]
["$WH1_7.2.WH12",{"$f":"IF(R_WH3,CONCATENATE(\"\", 'WH - II(3)'!F478),\"\")","v":""},false,"Y"]
["$WH1_7.2.WH13",{"$f":"IF(R_WH3,CONCATENATE(\"\", 'WH - II(3)'!H478),\"\")","v":""},false,"Y"]
["$WH1_7.2.WH14",{"$f":"IF(R_WH3,CONCATENATE(\"\", 'WH - II(3)'!J478),\"\")","v":""},false,"Y"]
["$WH1_7.2.WH15",{"$f":"IF(R_WH3,CONCATENATE(\"\", 'WH - II(3)'!L478),\"\")","v":""},false,"Y"]
["$WH1_7.2.C1",{"$f":"IF(R_WH1,CONCATENATE(\"\", 'WH - II(1)'!D480),\"\")","v":""},false,"Y"]
["$WH1_7.2.C2",{"$f":"IF(R_WH2,CONCATENATE(\"\", 'WH - II(2)'!D480),\"\")","v":""},false,"Y"]
["$WH1_7.2.C3",{"$f":"IF(R_WH3,CONCATENATE(\"\", 'WH - II(3)'!D480),\"\")","v":""},false,"Y"]
["$WH1_7.3.WH1",{"$f":"IF(R_WH1,CONCATENATE(\"\", 'WH - II(1)'!D482),\"\")","v":""},false,"Y"]
["$WH1_7.3.WH2",{"$f":"IF(R_WH1,CONCATENATE(\"\", 'WH - II(1)'!F482),\"\")","v":""},false,"Y"]
["$WH1_7.3.WH3",{"$f":"IF(R_WH1,CONCATENATE(\"\", 'WH - II(1)'!H482),\"\")","v":""},false,"Y"]
["$WH1_7.3.WH4",{"$f":"IF(R_WH1,CONCATENATE(\"\", 'WH - II(1)'!J482),\"\")","v":""},false,"Y"]
["$WH1_7.3.WH5",{"$f":"IF(R_WH1,CONCATENATE(\"\", 'WH - II(1)'!L482),\"\")","v":""},false,"Y"]
["$WH1_7.3.WH6",{"$f":"IF(R_WH2,CONCATENATE(\"\", 'WH - II(2)'!D482),\"\")","v":""},false,"Y"]
["$WH1_7.3.WH7",{"$f":"IF(R_WH2,CONCATENATE(\"\", 'WH - II(2)'!F482),\"\")","v":""},false,"Y"]
["$WH1_7.3.WH8",{"$f":"IF(R_WH2,CONCATENATE(\"\", 'WH - II(2)'!H482),\"\")","v":""},false,"Y"]
["$WH1_7.3.WH9",{"$f":"IF(R_WH2,CONCATENATE(\"\", 'WH - II(2)'!J482),\"\")","v":""},false,"Y"]
["$WH1_7.3.WH10",{"$f":"IF(R_WH2,CONCATENATE(\"\", 'WH - II(2)'!L482),\"\")","v":""},false,"Y"]
["$WH1_7.3.WH11",{"$f":"IF(R_WH3,CONCATENATE(\"\", 'WH - II(3)'!D482),\"\")","v":""},false,"Y"]
["$WH1_7.3.WH12",{"$f":"IF(R_WH3,CONCATENATE(\"\", 'WH - II(3)'!F482),\"\")","v":""},false,"Y"]
["$WH1_7.3.WH13",{"$f":"IF(R_WH3,CONCATENATE(\"\", 'WH - II(3)'!H482),\"\")","v":""},false,"Y"]
["$WH1_7.3.WH14",{"$f":"IF(R_WH3,CONCATENATE(\"\", 'WH - II(3)'!J482),\"\")","v":""},false,"Y"]
["$WH1_7.3.WH15",{"$f":"IF(R_WH3,CONCATENATE(\"\", 'WH - II(3)'!L482),\"\")","v":""},false,"Y"]
["$WH1_7.3.C1",{"$f":"IF(R_WH1,CONCATENATE(\"\", 'WH - II(1)'!D484),\"\")","v":""},false,"Y"]
["$WH1_7.3.C2",{"$f":"IF(R_WH2,CONCATENATE(\"\", 'WH - II(2)'!D484),\"\")","v":""},false,"Y"]
["$WH1_7.3.C3",{"$f":"IF(R_WH3,CONCATENATE(\"\", 'WH - II(3)'!D484),\"\")","v":""},false,"Y"]
["$WH1_7.4.WH1",{"$f":"IF(R_WH1,CONCATENATE(\"\", 'WH - II(1)'!D486),\"\")","v":""},false,"Y"]
["$WH1_7.4.WH2",{"$f":"IF(R_WH1,CONCATENATE(\"\", 'WH - II(1)'!F486),\"\")","v":""},false,"Y"]
["$WH1_7.4.WH3",{"$f":"IF(R_WH1,CONCATENATE(\"\", 'WH - II(1)'!H486),\"\")","v":""},false,"Y"]
["$WH1_7.4.WH4",{"$f":"IF(R_WH1,CONCATENATE(\"\", 'WH - II(1)'!J486),\"\")","v":""},false,"Y"]
["$WH1_7.4.WH5",{"$f":"IF(R_WH1,CONCATENATE(\"\", 'WH - II(1)'!L486),\"\")","v":""},false,"Y"]
["$WH1_7.4.WH6",{"$f":"IF(R_WH2,CONCATENATE(\"\", 'WH - II(2)'!D486),\"\")","v":""},false,"Y"]
["$WH1_7.4.WH7",{"$f":"IF(R_WH2,CONCATENATE(\"\", 'WH - II(2)'!F486),\"\")","v":""},false,"Y"]
["$WH1_7.4.WH8",{"$f":"IF(R_WH2,CONCATENATE(\"\", 'WH - II(2)'!H486),\"\")","v":""},false,"Y"]
["$WH1_7.4.WH9",{"$f":"IF(R_WH2,CONCATENATE(\"\", 'WH - II(2)'!J486),\"\")","v":""},false,"Y"]
["$WH1_7.4.WH10",{"$f":"IF(R_WH2,CONCATENATE(\"\", 'WH - II(2)'!L486),\"\")","v":""},false,"Y"]
["$WH1_7.4.WH11",{"$f":"IF(R_WH3,CONCATENATE(\"\", 'WH - II(3)'!D486),\"\")","v":""},false,"Y"]
["$WH1_7.4.WH12",{"$f":"IF(R_WH3,CONCATENATE(\"\", 'WH - II(3)'!F486),\"\")","v":""},false,"Y"]
["$WH1_7.4.WH13",{"$f":"IF(R_WH3,CONCATENATE(\"\", 'WH - II(3)'!H486),\"\")","v":""},false,"Y"]
["$WH1_7.4.WH14",{"$f":"IF(R_WH3,CONCATENATE(\"\", 'WH - II(3)'!J486),\"\")","v":""},false,"Y"]
["$WH1_7.4.WH15",{"$f":"IF(R_WH3,CONCATENATE(\"\", 'WH - II(3)'!L486),\"\")","v":""},false,"Y"]
["$WH1_7.4.C1",{"$f":"IF(R_WH1,CONCATENATE(\"\", 'WH - II(1)'!D488),\"\")","v":""},false,"Y"]
["$WH1_7.4.C2",{"$f":"IF(R_WH2,CONCATENATE(\"\", 'WH - II(2)'!D488),\"\")","v":""},false,"Y"]
["$WH1_7.4.C3",{"$f":"IF(R_WH3,CONCATENATE(\"\", 'WH - II(3)'!D488),\"\")","v":""},false,"Y"]
["$WH1_7.5.WH1",{"$f":"IF(R_WH1,CONCATENATE(\"\", 'WH - II(1)'!D490),\"\")","v":""},false,"Y"]
["$WH1_7.5.WH2",{"$f":"IF(R_WH1,CONCATENATE(\"\", 'WH - II(1)'!F490),\"\")","v":""},false,"Y"]
["$WH1_7.5.WH3",{"$f":"IF(R_WH1,CONCATENATE(\"\", 'WH - II(1)'!H490),\"\")","v":""},false,"Y"]
["$WH1_7.5.WH4",{"$f":"IF(R_WH1,CONCATENATE(\"\", 'WH - II(1)'!J490),\"\")","v":""},false,"Y"]
["$WH1_7.5.WH5",{"$f":"IF(R_WH1,CONCATENATE(\"\", 'WH - II(1)'!L490),\"\")","v":""},false,"Y"]
["$WH1_7.5.WH6",{"$f":"IF(R_WH2,CONCATENATE(\"\", 'WH - II(2)'!D490),\"\")","v":""},false,"Y"]
["$WH1_7.5.WH7",{"$f":"IF(R_WH2,CONCATENATE(\"\", 'WH - II(2)'!F490),\"\")","v":""},false,"Y"]
["$WH1_7.5.WH8",{"$f":"IF(R_WH2,CONCATENATE(\"\", 'WH - II(2)'!H490),\"\")","v":""},false,"Y"]
["$WH1_7.5.WH9",{"$f":"IF(R_WH2,CONCATENATE(\"\", 'WH - II(2)'!J490),\"\")","v":""},false,"Y"]
["$WH1_7.5.WH10",{"$f":"IF(R_WH2,CONCATENATE(\"\", 'WH - II(2)'!L490),\"\")","v":""},false,"Y"]
["$WH1_7.5.WH11",{"$f":"IF(R_WH3,CONCATENATE(\"\", 'WH - II(3)'!D490),\"\")","v":""},false,"Y"]
["$WH1_7.5.WH12",{"$f":"IF(R_WH3,CONCATENATE(\"\", 'WH - II(3)'!F490),\"\")","v":""},false,"Y"]
["$WH1_7.5.WH13",{"$f":"IF(R_WH3,CONCATENATE(\"\", 'WH - II(3)'!H490),\"\")","v":""},false,"Y"]
["$WH1_7.5.WH14",{"$f":"IF(R_WH3,CONCATENATE(\"\", 'WH - II(3)'!J490),\"\")","v":""},false,"Y"]
["$WH1_7.5.WH15",{"$f":"IF(R_WH3,CONCATENATE(\"\", 'WH - II(3)'!L490),\"\")","v":""},false,"Y"]
["$WH1_7.5.C1",{"$f":"IF(R_WH1,CONCATENATE(\"\", 'WH - II(1)'!D492),\"\")","v":""},false,"Y"]
["$WH1_7.5.C2",{"$f":"IF(R_WH2,CONCATENATE(\"\", 'WH - II(2)'!D492),\"\")","v":""},false,"Y"]
["$WH1_7.5.C3",{"$f":"IF(R_WH3,CONCATENATE(\"\", 'WH - II(3)'!D492),\"\")","v":""},{"$f":"ISERROR(B1982)","v":false},"Y"]
["$WH1_8.1.1.WH1",{"$f":"IF(R_WH1,CONCATENATE(\"\", 'WH - II(1)'!D498),\"\")","v":""},false,"Y"]
["$WH1_8.1.1.WH2",{"$f":"IF(R_WH1,CONCATENATE(\"\", 'WH - II(1)'!F498),\"\")","v":""},false,"Y"]
["$WH1_8.1.1.WH3",{"$f":"IF(R_WH1,CONCATENATE(\"\", 'WH - II(1)'!H498),\"\")","v":""},false,"Y"]
["$WH1_8.1.1.WH4",{"$f":"IF(R_WH1,CONCATENATE(\"\", 'WH - II(1)'!J498),\"\")","v":""},false,"Y"]
["$WH1_8.1.1.WH5",{"$f":"IF(R_WH1,CONCATENATE(\"\", 'WH - II(1)'!L498),\"\")","v":""},false,"Y"]
["$WH1_8.1.1.WH6",{"$f":"IF(R_WH2,CONCATENATE(\"\", 'WH - II(2)'!D498),\"\")","v":""},false,"Y"]
["$WH1_8.1.1.WH7",{"$f":"IF(R_WH2,CONCATENATE(\"\", 'WH - II(2)'!F498),\"\")","v":""},false,"Y"]
["$WH1_8.1.1.WH8",{"$f":"IF(R_WH2,CONCATENATE(\"\", 'WH - II(2)'!H498),\"\")","v":""},false,"Y"]
["$WH1_8.1.1.WH9",{"$f":"IF(R_WH2,CONCATENATE(\"\", 'WH - II(2)'!J498),\"\")","v":""},false,"Y"]
["$WH1_8.1.1.WH10",{"$f":"IF(R_WH2,CONCATENATE(\"\", 'WH - II(2)'!L498),\"\")","v":""},false,"Y"]
["$WH1_8.1.1.WH11",{"$f":"IF(R_WH3,CONCATENATE(\"\", 'WH - II(3)'!D498),\"\")","v":""},false,"Y"]
["$WH1_8.1.1.WH12",{"$f":"IF(R_WH3,CONCATENATE(\"\", 'WH - II(3)'!F498),\"\")","v":""},false,"Y"]
["$WH1_8.1.1.WH13",{"$f":"IF(R_WH3,CONCATENATE(\"\", 'WH - II(3)'!H498),\"\")","v":""},false,"Y"]
["$WH1_8.1.1.WH14",{"$f":"IF(R_WH3,CONCATENATE(\"\", 'WH - II(3)'!J498),\"\")","v":""},false,"Y"]
["$WH1_8.1.1.WH15",{"$f":"IF(R_WH3,CONCATENATE(\"\", 'WH - II(3)'!L498),\"\")","v":""},false,"Y"]
["$WH1_8.1.1.C1",{"$f":"IF(R_WH1,CONCATENATE(\"\", 'WH - II(1)'!D500),\"\")","v":""},false,"Y"]
["$WH1_8.1.1.C2",{"$f":"IF(R_WH2,CONCATENATE(\"\", 'WH - II(2)'!D500),\"\")","v":""},false,"Y"]
["$WH1_8.1.1.C3",{"$f":"IF(R_WH3,CONCATENATE(\"\", 'WH - II(3)'!D500),\"\")","v":""},false,"Y"]
["$WH1_8.1.2.WH1",{"$f":"IF(R_WH1,CONCATENATE(\"\", 'WH - II(1)'!D502),\"\")","v":""},false,"Y"]
["$WH1_8.1.2.WH2",{"$f":"IF(R_WH1,CONCATENATE(\"\", 'WH - II(1)'!F502),\"\")","v":""},false,"Y"]
["$WH1_8.1.2.WH3",{"$f":"IF(R_WH1,CONCATENATE(\"\", 'WH - II(1)'!H502),\"\")","v":""},false,"Y"]
["$WH1_8.1.2.WH4",{"$f":"IF(R_WH1,CONCATENATE(\"\", 'WH - II(1)'!J502),\"\")","v":""},false,"Y"]
["$WH1_8.1.2.WH5",{"$f":"IF(R_WH1,CONCATENATE(\"\", 'WH - II(1)'!L502),\"\")","v":""},false,"Y"]
["$WH1_8.1.2.WH6",{"$f":"IF(R_WH2,CONCATENATE(\"\", 'WH - II(2)'!D502),\"\")","v":""},false,"Y"]
["$WH1_8.1.2.WH7",{"$f":"IF(R_WH2,CONCATENATE(\"\", 'WH - II(2)'!F502),\"\")","v":""},false,"Y"]
["$WH1_8.1.2.WH8",{"$f":"IF(R_WH2,CONCATENATE(\"\", 'WH - II(2)'!H502),\"\")","v":""},false,"Y"]
["$WH1_8.1.2.WH9",{"$f":"IF(R_WH2,CONCATENATE(\"\", 'WH - II(2)'!J502),\"\")","v":""},false,"Y"]
["$WH1_8.1.2.WH10",{"$f":"IF(R_WH2,CONCATENATE(\"\", 'WH - II(2)'!L502),\"\")","v":""},false,"Y"]
["$WH1_8.1.2.WH11",{"$f":"IF(R_WH3,CONCATENATE(\"\", 'WH - II(3)'!D502),\"\")","v":""},false,"Y"]
["$WH1_8.1.2.WH12",{"$f":"IF(R_WH3,CONCATENATE(\"\", 'WH - II(3)'!F502),\"\")","v":""},false,"Y"]
["$WH1_8.1.2.WH13",{"$f":"IF(R_WH3,CONCATENATE(\"\", 'WH - II(3)'!H502),\"\")","v":""},false,"Y"]
["$WH1_8.1.2.WH14",{"$f":"IF(R_WH3,CONCATENATE(\"\", 'WH - II(3)'!J502),\"\")","v":""},false,"Y"]
["$WH1_8.1.2.WH15",{"$f":"IF(R_WH3,CONCATENATE(\"\", 'WH - II(3)'!L502),\"\")","v":""},false,"Y"]
["$WH1_8.1.2.C1",{"$f":"IF(R_WH1,CONCATENATE(\"\", 'WH - II(1)'!D504),\"\")","v":""},false,"Y"]
["$WH1_8.1.2.C2",{"$f":"IF(R_WH2,CONCATENATE(\"\", 'WH - II(2)'!D504),\"\")","v":""},false,"Y"]
["$WH1_8.1.2.C3",{"$f":"IF(R_WH3,CONCATENATE(\"\", 'WH - II(3)'!D504),\"\")","v":""},false,"Y"]
["$WH1_8.1.3.WH1",{"$f":"IF(R_WH1,CONCATENATE(\"\", 'WH - II(1)'!D506),\"\")","v":""},false,"Y"]
["$WH1_8.1.3.WH2",{"$f":"IF(R_WH1,CONCATENATE(\"\", 'WH - II(1)'!F506),\"\")","v":""},false,"Y"]
["$WH1_8.1.3.WH3",{"$f":"IF(R_WH1,CONCATENATE(\"\", 'WH - II(1)'!H506),\"\")","v":""},false,"Y"]
["$WH1_8.1.3.WH4",{"$f":"IF(R_WH1,CONCATENATE(\"\", 'WH - II(1)'!J506),\"\")","v":""},false,"Y"]
["$WH1_8.1.3.WH5",{"$f":"IF(R_WH1,CONCATENATE(\"\", 'WH - II(1)'!L506),\"\")","v":""},false,"Y"]
["$WH1_8.1.3.WH6",{"$f":"IF(R_WH2,CONCATENATE(\"\", 'WH - II(2)'!D506),\"\")","v":""},false,"Y"]
["$WH1_8.1.3.WH7",{"$f":"IF(R_WH2,CONCATENATE(\"\", 'WH - II(2)'!F506),\"\")","v":""},false,"Y"]
["$WH1_8.1.3.WH8",{"$f":"IF(R_WH2,CONCATENATE(\"\", 'WH - II(2)'!H506),\"\")","v":""},false,"Y"]
["$WH1_8.1.3.WH9",{"$f":"IF(R_WH2,CONCATENATE(\"\", 'WH - II(2)'!J506),\"\")","v":""},false,"Y"]
["$WH1_8.1.3.WH10",{"$f":"IF(R_WH2,CONCATENATE(\"\", 'WH - II(2)'!L506),\"\")","v":""},false,"Y"]
["$WH1_8.1.3.WH11",{"$f":"IF(R_WH3,CONCATENATE(\"\", 'WH - II(3)'!D506),\"\")","v":""},false,"Y"]
["$WH1_8.1.3.WH12",{"$f":"IF(R_WH3,CONCATENATE(\"\", 'WH - II(3)'!F506),\"\")","v":""},false,"Y"]
["$WH1_8.1.3.WH13",{"$f":"IF(R_WH3,CONCATENATE(\"\", 'WH - II(3)'!H506),\"\")","v":""},false,"Y"]
["$WH1_8.1.3.WH14",{"$f":"IF(R_WH3,CONCATENATE(\"\", 'WH - II(3)'!J506),\"\")","v":""},false,"Y"]
["$WH1_8.1.3.WH15",{"$f":"IF(R_WH3,CONCATENATE(\"\", 'WH - II(3)'!L506),\"\")","v":""},false,"Y"]
["$WH1_8.1.3.C1",{"$f":"IF(R_WH1,CONCATENATE(\"\", 'WH - II(1)'!D508),\"\")","v":""},false,"Y"]
["$WH1_8.1.3.C2",{"$f":"IF(R_WH2,CONCATENATE(\"\", 'WH - II(2)'!D508),\"\")","v":""},false,"Y"]
["$WH1_8.1.3.C3",{"$f":"IF(R_WH3,CONCATENATE(\"\", 'WH - II(3)'!D508),\"\")","v":""},false,"Y"]
["$WH1_9.1.WH1",{"$f":"IF(R_WH1,CONCATENATE(\"\", 'WH - II(1)'!D512),\"\")","v":""},false,"Y"]
["$WH1_9.1.WH2",{"$f":"IF(R_WH1,CONCATENATE(\"\", 'WH - II(1)'!F512),\"\")","v":""},false,"Y"]
["$WH1_9.1.WH3",{"$f":"IF(R_WH1,CONCATENATE(\"\", 'WH - II(1)'!H512),\"\")","v":""},false,"Y"]
["$WH1_9.1.WH4",{"$f":"IF(R_WH1,CONCATENATE(\"\", 'WH - II(1)'!J512),\"\")","v":""},false,"Y"]
["$WH1_9.1.WH5",{"$f":"IF(R_WH1,CONCATENATE(\"\", 'WH - II(1)'!L512),\"\")","v":""},false,"Y"]
["$WH1_9.1.WH6",{"$f":"IF(R_WH2,CONCATENATE(\"\", 'WH - II(2)'!D512),\"\")","v":""},false,"Y"]
["$WH1_9.1.WH7",{"$f":"IF(R_WH2,CONCATENATE(\"\", 'WH - II(2)'!F512),\"\")","v":""},false,"Y"]
["$WH1_9.1.WH8",{"$f":"IF(R_WH2,CONCATENATE(\"\", 'WH - II(2)'!H512),\"\")","v":""},false,"Y"]
["$WH1_9.1.WH9",{"$f":"IF(R_WH2,CONCATENATE(\"\", 'WH - II(2)'!J512),\"\")","v":""},false,"Y"]
["$WH1_9.1.WH10",{"$f":"IF(R_WH2,CONCATENATE(\"\", 'WH - II(2)'!L512),\"\")","v":""},{"$f":"ISERROR(B2046)","v":false},"Y"]
["$WH1_9.1.WH11",{"$f":"IF(R_WH3,CONCATENATE(\"\", 'WH - II(3)'!D512),\"\")","v":""},false,"Y"]
["$WH1_9.1.WH12",{"$f":"IF(R_WH3,CONCATENATE(\"\", 'WH - II(3)'!F512),\"\")","v":""},false,"Y"]
["$WH1_9.1.WH13",{"$f":"IF(R_WH3,CONCATENATE(\"\", 'WH - II(3)'!H512),\"\")","v":""},false,"Y"]
["$WH1_9.1.WH14",{"$f":"IF(R_WH3,CONCATENATE(\"\", 'WH - II(3)'!J512),\"\")","v":""},false,"Y"]
["$WH1_9.1.WH15",{"$f":"IF(R_WH3,CONCATENATE(\"\", 'WH - II(3)'!L512),\"\")","v":""},false,"Y"]
["$WH1_9.1.C1",{"$f":"IF(R_WH1,CONCATENATE(\"\", 'WH - II(1)'!D514),\"\")","v":""},false,"Y"]
["$WH1_9.1.C2",{"$f":"IF(R_WH2,CONCATENATE(\"\", 'WH - II(2)'!D514),\"\")","v":""},false,"Y"]
["$WH1_9.1.C3",{"$f":"IF(R_WH3,CONCATENATE(\"\", 'WH - II(3)'!D514),\"\")","v":""},false,"Y"]
["$WH1_9.2.1.WH1",{"$f":"IF(R_WH1,CONCATENATE(\"\", 'WH - II(1)'!D517),\"\")","v":""},false,"Y"]
["$WH1_9.2.1.WH2",{"$f":"IF(R_WH1,CONCATENATE(\"\", 'WH - II(1)'!F517),\"\")","v":""},false,"Y"]
["$WH1_9.2.1.WH3",{"$f":"IF(R_WH1,CONCATENATE(\"\", 'WH - II(1)'!H517),\"\")","v":""},false,"Y"]
["$WH1_9.2.1.WH4",{"$f":"IF(R_WH1,CONCATENATE(\"\", 'WH - II(1)'!J517),\"\")","v":""},false,"Y"]
["$WH1_9.2.1.WH5",{"$f":"IF(R_WH1,CONCATENATE(\"\", 'WH - II(1)'!L517),\"\")","v":""},false,"Y"]
["$WH1_9.2.1.WH6",{"$f":"IF(R_WH2,CONCATENATE(\"\", 'WH - II(2)'!D517),\"\")","v":""},false,"Y"]
["$WH1_9.2.1.WH7",{"$f":"IF(R_WH2,CONCATENATE(\"\", 'WH - II(2)'!F517),\"\")","v":""},false,"Y"]
["$WH1_9.2.1.WH8",{"$f":"IF(R_WH2,CONCATENATE(\"\", 'WH - II(2)'!H517),\"\")","v":""},false,"Y"]
["$WH1_9.2.1.WH9",{"$f":"IF(R_WH2,CONCATENATE(\"\", 'WH - II(2)'!J517),\"\")","v":""},false,"Y"]
["$WH1_9.2.1.WH10",{"$f":"IF(R_WH2,CONCATENATE(\"\", 'WH - II(2)'!L517),\"\")","v":""},false,"Y"]
["$WH1_9.2.1.WH11",{"$f":"IF(R_WH3,CONCATENATE(\"\", 'WH - II(3)'!D517),\"\")","v":""},false,"Y"]
["$WH1_9.2.1.WH12",{"$f":"IF(R_WH3,CONCATENATE(\"\", 'WH - II(3)'!F517),\"\")","v":""},false,"Y"]
["$WH1_9.2.1.WH13",{"$f":"IF(R_WH3,CONCATENATE(\"\", 'WH - II(3)'!H517),\"\")","v":""},false,"Y"]
["$WH1_9.2.1.WH14",{"$f":"IF(R_WH3,CONCATENATE(\"\", 'WH - II(3)'!J517),\"\")","v":""},false,"Y"]
["$WH1_9.2.1.WH15",{"$f":"IF(R_WH3,CONCATENATE(\"\", 'WH - II(3)'!L517),\"\")","v":""},false,"Y"]
["$WH1_9.2.1.C1",{"$f":"IF(R_WH1,CONCATENATE(\"\", 'WH - II(1)'!D519),\"\")","v":""},false,"Y"]
["$WH1_9.2.1.C2",{"$f":"IF(R_WH2,CONCATENATE(\"\", 'WH - II(2)'!D519),\"\")","v":""},false,"Y"]
["$WH1_9.2.1.C3",{"$f":"IF(R_WH3,CONCATENATE(\"\", 'WH - II(3)'!D519),\"\")","v":""},false,"Y"]
["$WH1_9.2.2.WH1",{"$f":"IF(R_WH1,CONCATENATE(\"\", 'WH - II(1)'!D521),\"\")","v":""},false,"Y"]
["$WH1_9.2.2.WH2",{"$f":"IF(R_WH1,CONCATENATE(\"\", 'WH - II(1)'!F521),\"\")","v":""},false,"Y"]
["$WH1_9.2.2.WH3",{"$f":"IF(R_WH1,CONCATENATE(\"\", 'WH - II(1)'!H521),\"\")","v":""},false,"Y"]
["$WH1_9.2.2.WH4",{"$f":"IF(R_WH1,CONCATENATE(\"\", 'WH - II(1)'!J521),\"\")","v":""},false,"Y"]
["$WH1_9.2.2.WH5",{"$f":"IF(R_WH1,CONCATENATE(\"\", 'WH - II(1)'!L521),\"\")","v":""},false,"Y"]
["$WH1_9.2.2.WH6",{"$f":"IF(R_WH2,CONCATENATE(\"\", 'WH - II(2)'!D521),\"\")","v":""},false,"Y"]
["$WH1_9.2.2.WH7",{"$f":"IF(R_WH2,CONCATENATE(\"\", 'WH - II(2)'!F521),\"\")","v":""},false,"Y"]
["$WH1_9.2.2.WH8",{"$f":"IF(R_WH2,CONCATENATE(\"\", 'WH - II(2)'!H521),\"\")","v":""},false,"Y"]
["$WH1_9.2.2.WH9",{"$f":"IF(R_WH2,CONCATENATE(\"\", 'WH - II(2)'!J521),\"\")","v":""},false,"Y"]
["$WH1_9.2.2.WH10",{"$f":"IF(R_WH2,CONCATENATE(\"\", 'WH - II(2)'!L521),\"\")","v":""},false,"Y"]
["$WH1_9.2.2.WH11",{"$f":"IF(R_WH3,CONCATENATE(\"\", 'WH - II(3)'!D521),\"\")","v":""},false,"Y"]
["$WH1_9.2.2.WH12",{"$f":"IF(R_WH3,CONCATENATE(\"\", 'WH - II(3)'!F521),\"\")","v":""},false,"Y"]
["$WH1_9.2.2.WH13",{"$f":"IF(R_WH3,CONCATENATE(\"\", 'WH - II(3)'!H521),\"\")","v":""},false,"Y"]
["$WH1_9.2.2.WH14",{"$f":"IF(R_WH3,CONCATENATE(\"\", 'WH - II(3)'!J521),\"\")","v":""},false,"Y"]
["$WH1_9.2.2.WH15",{"$f":"IF(R_WH3,CONCATENATE(\"\", 'WH - II(3)'!L521),\"\")","v":""},false,"Y"]
["$WH1_9.2.2.C1",{"$f":"IF(R_WH1,CONCATENATE(\"\", 'WH - II(1)'!D523),\"\")","v":""},false,"Y"]
["$WH1_9.2.2.C2",{"$f":"IF(R_WH2,CONCATENATE(\"\", 'WH - II(2)'!D523),\"\")","v":""},false,"Y"]
["$WH1_9.2.2.C3",{"$f":"IF(R_WH3,CONCATENATE(\"\", 'WH - II(3)'!D523),\"\")","v":""},false,"Y"]
["$WH1_9.2.3.WH1",{"$f":"IF(R_WH1,CONCATENATE(\"\", 'WH - II(1)'!D525),\"\")","v":""},false,"Y"]
["$WH1_9.2.3.WH2",{"$f":"IF(R_WH1,CONCATENATE(\"\", 'WH - II(1)'!F525),\"\")","v":""},false,"Y"]
["$WH1_9.2.3.WH3",{"$f":"IF(R_WH1,CONCATENATE(\"\", 'WH - II(1)'!H525),\"\")","v":""},false,"Y"]
["$WH1_9.2.3.WH4",{"$f":"IF(R_WH1,CONCATENATE(\"\", 'WH - II(1)'!J525),\"\")","v":""},false,"Y"]
["$WH1_9.2.3.WH5",{"$f":"IF(R_WH1,CONCATENATE(\"\", 'WH - II(1)'!L525),\"\")","v":""},false,"Y"]
["$WH1_9.2.3.WH6",{"$f":"IF(R_WH2,CONCATENATE(\"\", 'WH - II(2)'!D525),\"\")","v":""},false,"Y"]
["$WH1_9.2.3.WH7",{"$f":"IF(R_WH2,CONCATENATE(\"\", 'WH - II(2)'!F525),\"\")","v":""},false,"Y"]
["$WH1_9.2.3.WH8",{"$f":"IF(R_WH2,CONCATENATE(\"\", 'WH - II(2)'!H525),\"\")","v":""},false,"Y"]
["$WH1_9.2.3.WH9",{"$f":"IF(R_WH2,CONCATENATE(\"\", 'WH - II(2)'!J525),\"\")","v":""},false,"Y"]
["$WH1_9.2.3.WH10",{"$f":"IF(R_WH2,CONCATENATE(\"\", 'WH - II(2)'!L525),\"\")","v":""},false,"Y"]
["$WH1_9.2.3.WH11",{"$f":"IF(R_WH3,CONCATENATE(\"\", 'WH - II(3)'!D525),\"\")","v":""},false,"Y"]
["$WH1_9.2.3.WH12",{"$f":"IF(R_WH3,CONCATENATE(\"\", 'WH - II(3)'!F525),\"\")","v":""},false,"Y"]
["$WH1_9.2.3.WH13",{"$f":"IF(R_WH3,CONCATENATE(\"\", 'WH - II(3)'!H525),\"\")","v":""},false,"Y"]
["$WH1_9.2.3.WH14",{"$f":"IF(R_WH3,CONCATENATE(\"\", 'WH - II(3)'!J525),\"\")","v":""},false,"Y"]
["$WH1_9.2.3.WH15",{"$f":"IF(R_WH3,CONCATENATE(\"\", 'WH - II(3)'!L525),\"\")","v":""},false,"Y"]
["$WH1_9.2.3.C1",{"$f":"IF(R_WH1,CONCATENATE(\"\", 'WH - II(1)'!D527),\"\")","v":""},false,"Y"]
["$WH1_9.2.3.C2",{"$f":"IF(R_WH2,CONCATENATE(\"\", 'WH - II(2)'!D527),\"\")","v":""},false,"Y"]
["$WH1_9.2.3.C3",{"$f":"IF(R_WH3,CONCATENATE(\"\", 'WH - II(3)'!D527),\"\")","v":""},false,"Y"]
["$WH1_9.2.4.WH1",{"$f":"IF(R_WH1,CONCATENATE(\"\", 'WH - II(1)'!D529),\"\")","v":""},false,"Y"]
["$WH1_9.2.4.WH2",{"$f":"IF(R_WH1,CONCATENATE(\"\", 'WH - II(1)'!F529),\"\")","v":""},{"$f":"ISERROR(B2110)","v":false},"Y"]
["$WH1_9.2.4.WH3",{"$f":"IF(R_WH1,CONCATENATE(\"\", 'WH - II(1)'!H529),\"\")","v":""},false,"Y"]
["$WH1_9.2.4.WH4",{"$f":"IF(R_WH1,CONCATENATE(\"\", 'WH - II(1)'!J529),\"\")","v":""},false,"Y"]
["$WH1_9.2.4.WH5",{"$f":"IF(R_WH1,CONCATENATE(\"\", 'WH - II(1)'!L529),\"\")","v":""},false,"Y"]
["$WH1_9.2.4.WH6",{"$f":"IF(R_WH2,CONCATENATE(\"\", 'WH - II(2)'!D529),\"\")","v":""},false,"Y"]
["$WH1_9.2.4.WH7",{"$f":"IF(R_WH2,CONCATENATE(\"\", 'WH - II(2)'!F529),\"\")","v":""},false,"Y"]
["$WH1_9.2.4.WH8",{"$f":"IF(R_WH2,CONCATENATE(\"\", 'WH - II(2)'!H529),\"\")","v":""},false,"Y"]
["$WH1_9.2.4.WH9",{"$f":"IF(R_WH2,CONCATENATE(\"\", 'WH - II(2)'!J529),\"\")","v":""},false,"Y"]
["$WH1_9.2.4.WH10",{"$f":"IF(R_WH2,CONCATENATE(\"\", 'WH - II(2)'!L529),\"\")","v":""},false,"Y"]
["$WH1_9.2.4.WH11",{"$f":"IF(R_WH3,CONCATENATE(\"\", 'WH - II(3)'!D529),\"\")","v":""},false,"Y"]
["$WH1_9.2.4.WH12",{"$f":"IF(R_WH3,CONCATENATE(\"\", 'WH - II(3)'!F529),\"\")","v":""},false,"Y"]
["$WH1_9.2.4.WH13",{"$f":"IF(R_WH3,CONCATENATE(\"\", 'WH - II(3)'!H529),\"\")","v":""},false,"Y"]
["$WH1_9.2.4.WH14",{"$f":"IF(R_WH3,CONCATENATE(\"\", 'WH - II(3)'!J529),\"\")","v":""},false,"Y"]
["$WH1_9.2.4.WH15",{"$f":"IF(R_WH3,CONCATENATE(\"\", 'WH - II(3)'!L529),\"\")","v":""},false,"Y"]
["$WH1_9.2.4.C1",{"$f":"IF(R_WH1,CONCATENATE(\"\", 'WH - II(1)'!D531),\"\")","v":""},false,"Y"]
["$WH1_9.2.4.C2",{"$f":"IF(R_WH2,CONCATENATE(\"\", 'WH - II(2)'!D531),\"\")","v":""},false,"Y"]
["$WH1_9.2.4.C3",{"$f":"IF(R_WH3,CONCATENATE(\"\", 'WH - II(3)'!D531),\"\")","v":""},false,"Y"]
["$WH1_9.3.WH1",{"$f":"IF(R_WH1,CONCATENATE(\"\", 'WH - II(1)'!D533),\"\")","v":""},false,"Y"]
["$WH1_9.3.WH2",{"$f":"IF(R_WH1,CONCATENATE(\"\", 'WH - II(1)'!F533),\"\")","v":""},false,"Y"]
["$WH1_9.3.WH3",{"$f":"IF(R_WH1,CONCATENATE(\"\", 'WH - II(1)'!H533),\"\")","v":""},false,"Y"]
["$WH1_9.3.WH4",{"$f":"IF(R_WH1,CONCATENATE(\"\", 'WH - II(1)'!J533),\"\")","v":""},false,"Y"]
["$WH1_9.3.WH5",{"$f":"IF(R_WH1,CONCATENATE(\"\", 'WH - II(1)'!L533),\"\")","v":""},false,"Y"]
["$WH1_9.3.WH6",{"$f":"IF(R_WH2,CONCATENATE(\"\", 'WH - II(2)'!D533),\"\")","v":""},false,"Y"]
["$WH1_9.3.WH7",{"$f":"IF(R_WH2,CONCATENATE(\"\", 'WH - II(2)'!F533),\"\")","v":""},false,"Y"]
["$WH1_9.3.WH8",{"$f":"IF(R_WH2,CONCATENATE(\"\", 'WH - II(2)'!H533),\"\")","v":""},false,"Y"]
["$WH1_9.3.WH9",{"$f":"IF(R_WH2,CONCATENATE(\"\", 'WH - II(2)'!J533),\"\")","v":""},false,"Y"]
["$WH1_9.3.WH10",{"$f":"IF(R_WH2,CONCATENATE(\"\", 'WH - II(2)'!L533),\"\")","v":""},false,"Y"]
["$WH1_9.3.WH11",{"$f":"IF(R_WH3,CONCATENATE(\"\", 'WH - II(3)'!D533),\"\")","v":""},false,"Y"]
["$WH1_9.3.WH12",{"$f":"IF(R_WH3,CONCATENATE(\"\", 'WH - II(3)'!F533),\"\")","v":""},false,"Y"]
["$WH1_9.3.WH13",{"$f":"IF(R_WH3,CONCATENATE(\"\", 'WH - II(3)'!H533),\"\")","v":""},false,"Y"]
["$WH1_9.3.WH14",{"$f":"IF(R_WH3,CONCATENATE(\"\", 'WH - II(3)'!J533),\"\")","v":""},false,"Y"]
["$WH1_9.3.WH15",{"$f":"IF(R_WH3,CONCATENATE(\"\", 'WH - II(3)'!L533),\"\")","v":""},false,"Y"]
["$WH1_9.3.C1",{"$f":"IF(R_WH1,CONCATENATE(\"\", 'WH - II(1)'!D535),\"\")","v":""},false,"Y"]
["$WH1_9.3.C2",{"$f":"IF(R_WH2,CONCATENATE(\"\", 'WH - II(2)'!D535),\"\")","v":""},false,"Y"]
["$WH1_9.3.C3",{"$f":"IF(R_WH3,CONCATENATE(\"\", 'WH - II(3)'!D535),\"\")","v":""},false,"Y"]
["$WH1_10.1.WH1",{"$f":"IF(R_WH1,CONCATENATE(\"\", 'WH - II(1)'!D539),\"\")","v":""},false,"Y"]
["$WH1_10.1.WH2",{"$f":"IF(R_WH1,CONCATENATE(\"\", 'WH - II(1)'!F539),\"\")","v":""},false,"Y"]
["$WH1_10.1.WH3",{"$f":"IF(R_WH1,CONCATENATE(\"\", 'WH - II(1)'!H539),\"\")","v":""},false,"Y"]
["$WH1_10.1.WH4",{"$f":"IF(R_WH1,CONCATENATE(\"\", 'WH - II(1)'!J539),\"\")","v":""},false,"Y"]
["$WH1_10.1.WH5",{"$f":"IF(R_WH1,CONCATENATE(\"\", 'WH - II(1)'!L539),\"\")","v":""},false,"Y"]
["$WH1_10.1.WH6",{"$f":"IF(R_WH2,CONCATENATE(\"\", 'WH - II(2)'!D539),\"\")","v":""},false,"Y"]
["$WH1_10.1.WH7",{"$f":"IF(R_WH2,CONCATENATE(\"\", 'WH - II(2)'!F539),\"\")","v":""},false,"Y"]
["$WH1_10.1.WH8",{"$f":"IF(R_WH2,CONCATENATE(\"\", 'WH - II(2)'!H539),\"\")","v":""},false,"Y"]
["$WH1_10.1.WH9",{"$f":"IF(R_WH2,CONCATENATE(\"\", 'WH - II(2)'!J539),\"\")","v":""},false,"Y"]
["$WH1_10.1.WH10",{"$f":"IF(R_WH2,CONCATENATE(\"\", 'WH - II(2)'!L539),\"\")","v":""},false,"Y"]
["$WH1_10.1.WH11",{"$f":"IF(R_WH3,CONCATENATE(\"\", 'WH - II(3)'!D539),\"\")","v":""},false,"Y"]
["$WH1_10.1.WH12",{"$f":"IF(R_WH3,CONCATENATE(\"\", 'WH - II(3)'!F539),\"\")","v":""},false,"Y"]
["$WH1_10.1.WH13",{"$f":"IF(R_WH3,CONCATENATE(\"\", 'WH - II(3)'!H539),\"\")","v":""},false,"Y"]
["$WH1_10.1.WH14",{"$f":"IF(R_WH3,CONCATENATE(\"\", 'WH - II(3)'!J539),\"\")","v":""},false,"Y"]
["$WH1_10.1.WH15",{"$f":"IF(R_WH3,CONCATENATE(\"\", 'WH - II(3)'!L539),\"\")","v":""},false,"Y"]
["$WH1_10.1.C1",{"$f":"IF(R_WH1,CONCATENATE(\"\", 'WH - II(1)'!D541),\"\")","v":""},false,"Y"]
["$WH1_10.1.C2",{"$f":"IF(R_WH2,CONCATENATE(\"\", 'WH - II(2)'!D541),\"\")","v":""},false,"Y"]
["$WH1_10.1.C3",{"$f":"IF(R_WH3,CONCATENATE(\"\", 'WH - II(3)'!D541),\"\")","v":""},false,"Y"]
["$WH1_10.2.1.WH1",{"$f":"IF(R_WH1,CONCATENATE(\"\", 'WH - II(1)'!D544),\"\")","v":""},false,"Y"]
["$WH1_10.2.1.WH2",{"$f":"IF(R_WH1,CONCATENATE(\"\", 'WH - II(1)'!F544),\"\")","v":""},false,"Y"]
["$WH1_10.2.1.WH3",{"$f":"IF(R_WH1,CONCATENATE(\"\", 'WH - II(1)'!H544),\"\")","v":""},false,"Y"]
["$WH1_10.2.1.WH4",{"$f":"IF(R_WH1,CONCATENATE(\"\", 'WH - II(1)'!J544),\"\")","v":""},false,"Y"]
["$WH1_10.2.1.WH5",{"$f":"IF(R_WH1,CONCATENATE(\"\", 'WH - II(1)'!L544),\"\")","v":""},false,"Y"]
["$WH1_10.2.1.WH6",{"$f":"IF(R_WH2,CONCATENATE(\"\", 'WH - II(2)'!D544),\"\")","v":""},false,"Y"]
["$WH1_10.2.1.WH7",{"$f":"IF(R_WH2,CONCATENATE(\"\", 'WH - II(2)'!F544),\"\")","v":""},false,"Y"]
["$WH1_10.2.1.WH8",{"$f":"IF(R_WH2,CONCATENATE(\"\", 'WH - II(2)'!H544),\"\")","v":""},false,"Y"]
["$WH1_10.2.1.WH9",{"$f":"IF(R_WH2,CONCATENATE(\"\", 'WH - II(2)'!J544),\"\")","v":""},false,"Y"]
["$WH1_10.2.1.WH10",{"$f":"IF(R_WH2,CONCATENATE(\"\", 'WH - II(2)'!L544),\"\")","v":""},false,"Y"]
["$WH1_10.2.1.WH11",{"$f":"IF(R_WH3,CONCATENATE(\"\", 'WH - II(3)'!D544),\"\")","v":""},false,"Y"]
["$WH1_10.2.1.WH12",{"$f":"IF(R_WH3,CONCATENATE(\"\", 'WH - II(3)'!F544),\"\")","v":""},{"$f":"ISERROR(B2174)","v":false},"Y"]
["$WH1_10.2.1.WH13",{"$f":"IF(R_WH3,CONCATENATE(\"\", 'WH - II(3)'!H544),\"\")","v":""},false,"Y"]
["$WH1_10.2.1.WH14",{"$f":"IF(R_WH3,CONCATENATE(\"\", 'WH - II(3)'!J544),\"\")","v":""},false,"Y"]
["$WH1_10.2.1.WH15",{"$f":"IF(R_WH3,CONCATENATE(\"\", 'WH - II(3)'!L544),\"\")","v":""},false,"Y"]
["$WH1_10.2.1.C1",{"$f":"IF(R_WH1,CONCATENATE(\"\", 'WH - II(1)'!D546),\"\")","v":""},false,"Y"]
["$WH1_10.2.1.C2",{"$f":"IF(R_WH2,CONCATENATE(\"\", 'WH - II(2)'!D546),\"\")","v":""},false,"Y"]
["$WH1_10.2.1.C3",{"$f":"IF(R_WH3,CONCATENATE(\"\", 'WH - II(3)'!D546),\"\")","v":""},false,"Y"]
["$WH1_10.2.2.WH1",{"$f":"IF(R_WH1,CONCATENATE(\"\", 'WH - II(1)'!D548),\"\")","v":""},false,"Y"]
["$WH1_10.2.2.WH2",{"$f":"IF(R_WH1,CONCATENATE(\"\", 'WH - II(1)'!F548),\"\")","v":""},false,"Y"]
["$WH1_10.2.2.WH3",{"$f":"IF(R_WH1,CONCATENATE(\"\", 'WH - II(1)'!H548),\"\")","v":""},false,"Y"]
["$WH1_10.2.2.WH4",{"$f":"IF(R_WH1,CONCATENATE(\"\", 'WH - II(1)'!J548),\"\")","v":""},false,"Y"]
["$WH1_10.2.2.WH5",{"$f":"IF(R_WH1,CONCATENATE(\"\", 'WH - II(1)'!L548),\"\")","v":""},false,"Y"]
["$WH1_10.2.2.WH6",{"$f":"IF(R_WH2,CONCATENATE(\"\", 'WH - II(2)'!D548),\"\")","v":""},false,"Y"]
["$WH1_10.2.2.WH7",{"$f":"IF(R_WH2,CONCATENATE(\"\", 'WH - II(2)'!F548),\"\")","v":""},false,"Y"]
["$WH1_10.2.2.WH8",{"$f":"IF(R_WH2,CONCATENATE(\"\", 'WH - II(2)'!H548),\"\")","v":""},false,"Y"]
["$WH1_10.2.2.WH9",{"$f":"IF(R_WH2,CONCATENATE(\"\", 'WH - II(2)'!J548),\"\")","v":""},false,"Y"]
["$WH1_10.2.2.WH10",{"$f":"IF(R_WH2,CONCATENATE(\"\", 'WH - II(2)'!L548),\"\")","v":""},false,"Y"]
["$WH1_10.2.2.WH11",{"$f":"IF(R_WH3,CONCATENATE(\"\", 'WH - II(3)'!D548),\"\")","v":""},false,"Y"]
["$WH1_10.2.2.WH12",{"$f":"IF(R_WH3,CONCATENATE(\"\", 'WH - II(3)'!F548),\"\")","v":""},false,"Y"]
["$WH1_10.2.2.WH13",{"$f":"IF(R_WH3,CONCATENATE(\"\", 'WH - II(3)'!H548),\"\")","v":""},false,"Y"]
["$WH1_10.2.2.WH14",{"$f":"IF(R_WH3,CONCATENATE(\"\", 'WH - II(3)'!J548),\"\")","v":""},false,"Y"]
["$WH1_10.2.2.WH15",{"$f":"IF(R_WH3,CONCATENATE(\"\", 'WH - II(3)'!L548),\"\")","v":""},false,"Y"]
["$WH1_10.2.2.C1",{"$f":"IF(R_WH1,CONCATENATE(\"\", 'WH - II(1)'!D550),\"\")","v":""},false,"Y"]
["$WH1_10.2.2.C2",{"$f":"IF(R_WH2,CONCATENATE(\"\", 'WH - II(2)'!D550),\"\")","v":""},false,"Y"]
["$WH1_10.2.2.C3",{"$f":"IF(R_WH3,CONCATENATE(\"\", 'WH - II(3)'!D550),\"\")","v":""},false,"Y"]
["$WH1_10.2.3.WH1",{"$f":"IF(R_WH1,CONCATENATE(\"\", 'WH - II(1)'!D552),\"\")","v":""},false,"Y"]
["$WH1_10.2.3.WH2",{"$f":"IF(R_WH1,CONCATENATE(\"\", 'WH - II(1)'!F552),\"\")","v":""},false,"Y"]
["$WH1_10.2.3.WH3",{"$f":"IF(R_WH1,CONCATENATE(\"\", 'WH - II(1)'!H552),\"\")","v":""},false,"Y"]
["$WH1_10.2.3.WH4",{"$f":"IF(R_WH1,CONCATENATE(\"\", 'WH - II(1)'!J552),\"\")","v":""},false,"Y"]
["$WH1_10.2.3.WH5",{"$f":"IF(R_WH1,CONCATENATE(\"\", 'WH - II(1)'!L552),\"\")","v":""},false,"Y"]
["$WH1_10.2.3.WH6",{"$f":"IF(R_WH2,CONCATENATE(\"\", 'WH - II(2)'!D552),\"\")","v":""},false,"Y"]
["$WH1_10.2.3.WH7",{"$f":"IF(R_WH2,CONCATENATE(\"\", 'WH - II(2)'!F552),\"\")","v":""},false,"Y"]
["$WH1_10.2.3.WH8",{"$f":"IF(R_WH2,CONCATENATE(\"\", 'WH - II(2)'!H552),\"\")","v":""},false,"Y"]
["$WH1_10.2.3.WH9",{"$f":"IF(R_WH2,CONCATENATE(\"\", 'WH - II(2)'!J552),\"\")","v":""},false,"Y"]
["$WH1_10.2.3.WH10",{"$f":"IF(R_WH2,CONCATENATE(\"\", 'WH - II(2)'!L552),\"\")","v":""},false,"Y"]
["$WH1_10.2.3.WH11",{"$f":"IF(R_WH3,CONCATENATE(\"\", 'WH - II(3)'!D552),\"\")","v":""},false,"Y"]
["$WH1_10.2.3.WH12",{"$f":"IF(R_WH3,CONCATENATE(\"\", 'WH - II(3)'!F552),\"\")","v":""},false,"Y"]
["$WH1_10.2.3.WH13",{"$f":"IF(R_WH3,CONCATENATE(\"\", 'WH - II(3)'!H552),\"\")","v":""},false,"Y"]
["$WH1_10.2.3.WH14",{"$f":"IF(R_WH3,CONCATENATE(\"\", 'WH - II(3)'!J552),\"\")","v":""},false,"Y"]
["$WH1_10.2.3.WH15",{"$f":"IF(R_WH3,CONCATENATE(\"\", 'WH - II(3)'!L552),\"\")","v":""},false,"Y"]
["$WH1_10.2.3.C1",{"$f":"IF(R_WH1,CONCATENATE(\"\", 'WH - II(1)'!D554),\"\")","v":""},false,"Y"]
["$WH1_10.2.3.C2",{"$f":"IF(R_WH2,CONCATENATE(\"\", 'WH - II(2)'!D554),\"\")","v":""},false,"Y"]
["$WH1_10.2.3.C3",{"$f":"IF(R_WH3,CONCATENATE(\"\", 'WH - II(3)'!D554),\"\")","v":""},false,"Y"]
["$WH1_10.2.4.WH1",{"$f":"IF(R_WH1,CONCATENATE(\"\", 'WH - II(1)'!D556),\"\")","v":""},false,"Y"]
["$WH1_10.2.4.WH2",{"$f":"IF(R_WH1,CONCATENATE(\"\", 'WH - II(1)'!F556),\"\")","v":""},false,"Y"]
["$WH1_10.2.4.WH3",{"$f":"IF(R_WH1,CONCATENATE(\"\", 'WH - II(1)'!H556),\"\")","v":""},false,"Y"]
["$WH1_10.2.4.WH4",{"$f":"IF(R_WH1,CONCATENATE(\"\", 'WH - II(1)'!J556),\"\")","v":""},false,"Y"]
["$WH1_10.2.4.WH5",{"$f":"IF(R_WH1,CONCATENATE(\"\", 'WH - II(1)'!L556),\"\")","v":""},false,"Y"]
["$WH1_10.2.4.WH6",{"$f":"IF(R_WH2,CONCATENATE(\"\", 'WH - II(2)'!D556),\"\")","v":""},false,"Y"]
["$WH1_10.2.4.WH7",{"$f":"IF(R_WH2,CONCATENATE(\"\", 'WH - II(2)'!F556),\"\")","v":""},false,"Y"]
["$WH1_10.2.4.WH8",{"$f":"IF(R_WH2,CONCATENATE(\"\", 'WH - II(2)'!H556),\"\")","v":""},false,"Y"]
["$WH1_10.2.4.WH9",{"$f":"IF(R_WH2,CONCATENATE(\"\", 'WH - II(2)'!J556),\"\")","v":""},false,"Y"]
["$WH1_10.2.4.WH10",{"$f":"IF(R_WH2,CONCATENATE(\"\", 'WH - II(2)'!L556),\"\")","v":""},false,"Y"]
["$WH1_10.2.4.WH11",{"$f":"IF(R_WH3,CONCATENATE(\"\", 'WH - II(3)'!D556),\"\")","v":""},false,"Y"]
["$WH1_10.2.4.WH12",{"$f":"IF(R_WH3,CONCATENATE(\"\", 'WH - II(3)'!F556),\"\")","v":""},false,"Y"]
["$WH1_10.2.4.WH13",{"$f":"IF(R_WH3,CONCATENATE(\"\", 'WH - II(3)'!H556),\"\")","v":""},false,"Y"]
["$WH1_10.2.4.WH14",{"$f":"IF(R_WH3,CONCATENATE(\"\", 'WH - II(3)'!J556),\"\")","v":""},false,"Y"]
["$WH1_10.2.4.WH15",{"$f":"IF(R_WH3,CONCATENATE(\"\", 'WH - II(3)'!L556),\"\")","v":""},false,"Y"]
["$WH1_10.2.4.C1",{"$f":"IF(R_WH1,CONCATENATE(\"\", 'WH - II(1)'!D558),\"\")","v":""},false,"Y"]
["$WH1_10.2.4.C2",{"$f":"IF(R_WH2,CONCATENATE(\"\", 'WH - II(2)'!D558),\"\")","v":""},false,"Y"]
["$WH1_10.2.4.C3",{"$f":"IF(R_WH3,CONCATENATE(\"\", 'WH - II(3)'!D558),\"\")","v":""},false,"Y"]
["$WH1_10.3.WH1",{"$f":"IF(R_WH1,CONCATENATE(\"\", 'WH - II(1)'!D560),\"\")","v":""},false,"Y"]
["$WH1_10.3.WH2",{"$f":"IF(R_WH1,CONCATENATE(\"\", 'WH - II(1)'!F560),\"\")","v":""},false,"Y"]
["$WH1_10.3.WH3",{"$f":"IF(R_WH1,CONCATENATE(\"\", 'WH - II(1)'!H560),\"\")","v":""},false,"Y"]
["$WH1_10.3.WH4",{"$f":"IF(R_WH1,CONCATENATE(\"\", 'WH - II(1)'!J560),\"\")","v":""},{"$f":"ISERROR(B2238)","v":false},"Y"]
["$WH1_10.3.WH5",{"$f":"IF(R_WH1,CONCATENATE(\"\", 'WH - II(1)'!L560),\"\")","v":""},false,"Y"]
["$WH1_10.3.WH6",{"$f":"IF(R_WH2,CONCATENATE(\"\", 'WH - II(2)'!D560),\"\")","v":""},false,"Y"]
["$WH1_10.3.WH7",{"$f":"IF(R_WH2,CONCATENATE(\"\", 'WH - II(2)'!F560),\"\")","v":""},false,"Y"]
["$WH1_10.3.WH8",{"$f":"IF(R_WH2,CONCATENATE(\"\", 'WH - II(2)'!H560),\"\")","v":""},false,"Y"]
["$WH1_10.3.WH9",{"$f":"IF(R_WH2,CONCATENATE(\"\", 'WH - II(2)'!J560),\"\")","v":""},false,"Y"]
["$WH1_10.3.WH10",{"$f":"IF(R_WH2,CONCATENATE(\"\", 'WH - II(2)'!L560),\"\")","v":""},false,"Y"]
["$WH1_10.3.WH11",{"$f":"IF(R_WH3,CONCATENATE(\"\", 'WH - II(3)'!D560),\"\")","v":""},false,"Y"]
["$WH1_10.3.WH12",{"$f":"IF(R_WH3,CONCATENATE(\"\", 'WH - II(3)'!F560),\"\")","v":""},false,"Y"]
["$WH1_10.3.WH13",{"$f":"IF(R_WH3,CONCATENATE(\"\", 'WH - II(3)'!H560),\"\")","v":""},false,"Y"]
["$WH1_10.3.WH14",{"$f":"IF(R_WH3,CONCATENATE(\"\", 'WH - II(3)'!J560),\"\")","v":""},false,"Y"]
["$WH1_10.3.WH15",{"$f":"IF(R_WH3,CONCATENATE(\"\", 'WH - II(3)'!L560),\"\")","v":""},false,"Y"]
["$WH1_10.3.C1",{"$f":"IF(R_WH1,CONCATENATE(\"\", 'WH - II(1)'!D562),\"\")","v":""},false,"Y"]
["$WH1_10.3.C2",{"$f":"IF(R_WH2,CONCATENATE(\"\", 'WH - II(2)'!D562),\"\")","v":""},false,"Y"]
["$WH1_10.3.C3",{"$f":"IF(R_WH3,CONCATENATE(\"\", 'WH - II(3)'!D562),\"\")","v":""},false,"Y"]
["$WH1_11.1.WH1",{"$f":"IF(R_WH1,CONCATENATE(\"\", 'WH - II(1)'!D566),\"\")","v":""},false,"Y"]
["$WH1_11.1.WH2",{"$f":"IF(R_WH1,CONCATENATE(\"\", 'WH - II(1)'!F566),\"\")","v":""},false,"Y"]
["$WH1_11.1.WH3",{"$f":"IF(R_WH1,CONCATENATE(\"\", 'WH - II(1)'!H566),\"\")","v":""},false,"Y"]
["$WH1_11.1.WH4",{"$f":"IF(R_WH1,CONCATENATE(\"\", 'WH - II(1)'!J566),\"\")","v":""},false,"Y"]
["$WH1_11.1.WH5",{"$f":"IF(R_WH1,CONCATENATE(\"\", 'WH - II(1)'!L566),\"\")","v":""},false,"Y"]
["$WH1_11.1.WH6",{"$f":"IF(R_WH2,CONCATENATE(\"\", 'WH - II(2)'!D566),\"\")","v":""},false,"Y"]
["$WH1_11.1.WH7",{"$f":"IF(R_WH2,CONCATENATE(\"\", 'WH - II(2)'!F566),\"\")","v":""},false,"Y"]
["$WH1_11.1.WH8",{"$f":"IF(R_WH2,CONCATENATE(\"\", 'WH - II(2)'!H566),\"\")","v":""},false,"Y"]
["$WH1_11.1.WH9",{"$f":"IF(R_WH2,CONCATENATE(\"\", 'WH - II(2)'!J566),\"\")","v":""},false,"Y"]
["$WH1_11.1.WH10",{"$f":"IF(R_WH2,CONCATENATE(\"\", 'WH - II(2)'!L566),\"\")","v":""},false,"Y"]
["$WH1_11.1.WH11",{"$f":"IF(R_WH3,CONCATENATE(\"\", 'WH - II(3)'!D566),\"\")","v":""},false,"Y"]
["$WH1_11.1.WH12",{"$f":"IF(R_WH3,CONCATENATE(\"\", 'WH - II(3)'!F566),\"\")","v":""},false,"Y"]
["$WH1_11.1.WH13",{"$f":"IF(R_WH3,CONCATENATE(\"\", 'WH - II(3)'!H566),\"\")","v":""},false,"Y"]
["$WH1_11.1.WH14",{"$f":"IF(R_WH3,CONCATENATE(\"\", 'WH - II(3)'!J566),\"\")","v":""},false,"Y"]
["$WH1_11.1.WH15",{"$f":"IF(R_WH3,CONCATENATE(\"\", 'WH - II(3)'!L566),\"\")","v":""},false,"Y"]
["$WH1_11.1.C1",{"$f":"IF(R_WH1,CONCATENATE(\"\", 'WH - II(1)'!D568),\"\")","v":""},false,"Y"]
["$WH1_11.1.C2",{"$f":"IF(R_WH2,CONCATENATE(\"\", 'WH - II(2)'!D568),\"\")","v":""},false,"Y"]
["$WH1_11.1.C3",{"$f":"IF(R_WH3,CONCATENATE(\"\", 'WH - II(3)'!D568),\"\")","v":""},false,"Y"]
["$WH1_11.2.WH1",{"$f":"IF(R_WH1,CONCATENATE(\"\", 'WH - II(1)'!D570),\"\")","v":""},false,"Y"]
["$WH1_11.2.WH2",{"$f":"IF(R_WH1,CONCATENATE(\"\", 'WH - II(1)'!F570),\"\")","v":""},false,"Y"]
["$WH1_11.2.WH3",{"$f":"IF(R_WH1,CONCATENATE(\"\", 'WH - II(1)'!H570),\"\")","v":""},false,"Y"]
["$WH1_11.2.WH4",{"$f":"IF(R_WH1,CONCATENATE(\"\", 'WH - II(1)'!J570),\"\")","v":""},false,"Y"]
["$WH1_11.2.WH5",{"$f":"IF(R_WH1,CONCATENATE(\"\", 'WH - II(1)'!L570),\"\")","v":""},false,"Y"]
["$WH1_11.2.WH6",{"$f":"IF(R_WH2,CONCATENATE(\"\", 'WH - II(2)'!D570),\"\")","v":""},false,"Y"]
["$WH1_11.2.WH7",{"$f":"IF(R_WH2,CONCATENATE(\"\", 'WH - II(2)'!F570),\"\")","v":""},false,"Y"]
["$WH1_11.2.WH8",{"$f":"IF(R_WH2,CONCATENATE(\"\", 'WH - II(2)'!H570),\"\")","v":""},false,"Y"]
["$WH1_11.2.WH9",{"$f":"IF(R_WH2,CONCATENATE(\"\", 'WH - II(2)'!J570),\"\")","v":""},false,"Y"]
["$WH1_11.2.WH10",{"$f":"IF(R_WH2,CONCATENATE(\"\", 'WH - II(2)'!L570),\"\")","v":""},false,"Y"]
["$WH1_11.2.WH11",{"$f":"IF(R_WH3,CONCATENATE(\"\", 'WH - II(3)'!D570),\"\")","v":""},false,"Y"]
["$WH1_11.2.WH12",{"$f":"IF(R_WH3,CONCATENATE(\"\", 'WH - II(3)'!F570),\"\")","v":""},false,"Y"]
["$WH1_11.2.WH13",{"$f":"IF(R_WH3,CONCATENATE(\"\", 'WH - II(3)'!H570),\"\")","v":""},false,"Y"]
["$WH1_11.2.WH14",{"$f":"IF(R_WH3,CONCATENATE(\"\", 'WH - II(3)'!J570),\"\")","v":""},false,"Y"]
["$WH1_11.2.WH15",{"$f":"IF(R_WH3,CONCATENATE(\"\", 'WH - II(3)'!L570),\"\")","v":""},false,"Y"]
["$WH1_11.2.C1",{"$f":"IF(R_WH1,CONCATENATE(\"\", 'WH - II(1)'!D572),\"\")","v":""},false,"Y"]
["$WH1_11.2.C2",{"$f":"IF(R_WH2,CONCATENATE(\"\", 'WH - II(2)'!D572),\"\")","v":""},false,"Y"]
["$WH1_11.2.C3",{"$f":"IF(R_WH3,CONCATENATE(\"\", 'WH - II(3)'!D572),\"\")","v":""},false,"Y"]
["$WH1_11.3.WH1",{"$f":"IF(R_WH1,CONCATENATE(\"\", 'WH - II(1)'!D574),\"\")","v":""},false,"Y"]
["$WH1_11.3.WH2",{"$f":"IF(R_WH1,CONCATENATE(\"\", 'WH - II(1)'!F574),\"\")","v":""},false,"Y"]
["$WH1_11.3.WH3",{"$f":"IF(R_WH1,CONCATENATE(\"\", 'WH - II(1)'!H574),\"\")","v":""},false,"Y"]
["$WH1_11.3.WH4",{"$f":"IF(R_WH1,CONCATENATE(\"\", 'WH - II(1)'!J574),\"\")","v":""},false,"Y"]
["$WH1_11.3.WH5",{"$f":"IF(R_WH1,CONCATENATE(\"\", 'WH - II(1)'!L574),\"\")","v":""},false,"Y"]
["$WH1_11.3.WH6",{"$f":"IF(R_WH2,CONCATENATE(\"\", 'WH - II(2)'!D574),\"\")","v":""},false,"Y"]
["$WH1_11.3.WH7",{"$f":"IF(R_WH2,CONCATENATE(\"\", 'WH - II(2)'!F574),\"\")","v":""},false,"Y"]
["$WH1_11.3.WH8",{"$f":"IF(R_WH2,CONCATENATE(\"\", 'WH - II(2)'!H574),\"\")","v":""},false,"Y"]
["$WH1_11.3.WH9",{"$f":"IF(R_WH2,CONCATENATE(\"\", 'WH - II(2)'!J574),\"\")","v":""},false,"Y"]
["$WH1_11.3.WH10",{"$f":"IF(R_WH2,CONCATENATE(\"\", 'WH - II(2)'!L574),\"\")","v":""},false,"Y"]
["$WH1_11.3.WH11",{"$f":"IF(R_WH3,CONCATENATE(\"\", 'WH - II(3)'!D574),\"\")","v":""},false,"Y"]
["$WH1_11.3.WH12",{"$f":"IF(R_WH3,CONCATENATE(\"\", 'WH - II(3)'!F574),\"\")","v":""},false,"Y"]
["$WH1_11.3.WH13",{"$f":"IF(R_WH3,CONCATENATE(\"\", 'WH - II(3)'!H574),\"\")","v":""},false,"Y"]
["$WH1_11.3.WH14",{"$f":"IF(R_WH3,CONCATENATE(\"\", 'WH - II(3)'!J574),\"\")","v":""},{"$f":"ISERROR(B2302)","v":false},"Y"]
["$WH1_11.3.WH15",{"$f":"IF(R_WH3,CONCATENATE(\"\", 'WH - II(3)'!L574),\"\")","v":""},false,"Y"]
["$WH1_11.3.C1",{"$f":"IF(R_WH1,CONCATENATE(\"\", 'WH - II(1)'!D576),\"\")","v":""},false,"Y"]
["$WH1_11.3.C2",{"$f":"IF(R_WH2,CONCATENATE(\"\", 'WH - II(2)'!D576),\"\")","v":""},false,"Y"]
["$WH1_11.3.C3",{"$f":"IF(R_WH3,CONCATENATE(\"\", 'WH - II(3)'!D576),\"\")","v":""},false,"Y"]
["$WH1_11.4.WH1",{"$f":"IF(R_WH1,CONCATENATE(\"\", 'WH - II(1)'!D578),\"\")","v":""},false,"Y"]
["$WH1_11.4.WH2",{"$f":"IF(R_WH1,CONCATENATE(\"\", 'WH - II(1)'!F578),\"\")","v":""},false,"Y"]
["$WH1_11.4.WH3",{"$f":"IF(R_WH1,CONCATENATE(\"\", 'WH - II(1)'!H578),\"\")","v":""},false,"Y"]
["$WH1_11.4.WH4",{"$f":"IF(R_WH1,CONCATENATE(\"\", 'WH - II(1)'!J578),\"\")","v":""},false,"Y"]
["$WH1_11.4.WH5",{"$f":"IF(R_WH1,CONCATENATE(\"\", 'WH - II(1)'!L578),\"\")","v":""},false,"Y"]
["$WH1_11.4.WH6",{"$f":"IF(R_WH2,CONCATENATE(\"\", 'WH - II(2)'!D578),\"\")","v":""},false,"Y"]
["$WH1_11.4.WH7",{"$f":"IF(R_WH2,CONCATENATE(\"\", 'WH - II(2)'!F578),\"\")","v":""},false,"Y"]
["$WH1_11.4.WH8",{"$f":"IF(R_WH2,CONCATENATE(\"\", 'WH - II(2)'!H578),\"\")","v":""},false,"Y"]
["$WH1_11.4.WH9",{"$f":"IF(R_WH2,CONCATENATE(\"\", 'WH - II(2)'!J578),\"\")","v":""},false,"Y"]
["$WH1_11.4.WH10",{"$f":"IF(R_WH2,CONCATENATE(\"\", 'WH - II(2)'!L578),\"\")","v":""},false,"Y"]
["$WH1_11.4.WH11",{"$f":"IF(R_WH3,CONCATENATE(\"\", 'WH - II(3)'!D578),\"\")","v":""},false,"Y"]
["$WH1_11.4.WH12",{"$f":"IF(R_WH3,CONCATENATE(\"\", 'WH - II(3)'!F578),\"\")","v":""},false,"Y"]
["$WH1_11.4.WH13",{"$f":"IF(R_WH3,CONCATENATE(\"\", 'WH - II(3)'!H578),\"\")","v":""},false,"Y"]
["$WH1_11.4.WH14",{"$f":"IF(R_WH3,CONCATENATE(\"\", 'WH - II(3)'!J578),\"\")","v":""},false,"Y"]
["$WH1_11.4.WH15",{"$f":"IF(R_WH3,CONCATENATE(\"\", 'WH - II(3)'!L578),\"\")","v":""},false,"Y"]
["$WH1_11.4.C1",{"$f":"IF(R_WH1,CONCATENATE(\"\", 'WH - II(1)'!D580),\"\")","v":""},false,"Y"]
["$WH1_11.4.C2",{"$f":"IF(R_WH2,CONCATENATE(\"\", 'WH - II(2)'!D580),\"\")","v":""},false,"Y"]
["$WH1_11.4.C3",{"$f":"IF(R_WH3,CONCATENATE(\"\", 'WH - II(3)'!D580),\"\")","v":""},false,"Y"]
["$WH1_4.2.1.ROW1COL1",{"$f":"IF(R_WHFCI,CONCATENATE(\"\", 'WH - FCI'!A18),\"\")","v":""},false,"Y"]
["$WH1_4.2.1.ROW1COL2",{"$f":"IF(R_WHFCI,CONCATENATE(\"\", 'WH - FCI'!B18),\"\")","v":""},false,"Y"]
["$WH1_4.2.1.ROW1COL3",{"$f":"IF(R_WHFCI,CONCATENATE(\"\", 'WH - FCI'!C18),\"\")","v":""},false,"Y"]
["$WH1_4.2.1.ROW1COL4",{"$f":"IF(R_WHFCI,CONCATENATE(\"\", 'WH - FCI'!D18),\"\")","v":""},false,"Y"]
["$WH1_4.2.1.ROW1COL5",{"$f":"IF(R_WHFCI,CONCATENATE(\"\", 'WH - FCI'!E18),\"\")","v":""},false,"Y"]
["$WH1_4.2.1.ROW1COL6",{"$f":"IF(R_WHFCI,CONCATENATE(\"\", 'WH - FCI'!F18),\"\")","v":""},false,"Y"]
["$WH1_4.2.1.ROW1COL7",{"$f":"IF(R_WHFCI,CONCATENATE(\"\", 'WH - FCI'!G18),\"\")","v":""},false,"Y"]
["$WH1_4.2.1.ROW1COL8",{"$f":"IF(R_WHFCI,CONCATENATE(\"\", 'WH - FCI'!H18),\"\")","v":""},false,"Y"]
["$WH1_4.2.1.ROW1COL9",{"$f":"IF(R_WHFCI,CONCATENATE(\"\", 'WH - FCI'!I18),\"\")","v":""},false,"Y"]
["$WH1_4.2.1.ROW1COL10",{"$f":"IF(R_WHFCI,CONCATENATE(\"\", 'WH - FCI'!J18),\"\")","v":""},false,"Y"]
["$WH1_4.2.1.ROW1COL11",{"$f":"IF(R_WHFCI,CONCATENATE(\"\", 'WH - FCI'!K18),\"\")","v":""},false,"Y"]
["$WH1_4.2.1.ROW2COL1",{"$f":"IF(R_WHFCI,CONCATENATE(\"\", 'WH - FCI'!A19),\"\")","v":""},false,"Y"]
["$WH1_4.2.1.ROW2COL2",{"$f":"IF(R_WHFCI,CONCATENATE(\"\", 'WH - FCI'!B19),\"\")","v":""},false,"Y"]
["$WH1_4.2.1.ROW2COL3",{"$f":"IF(R_WHFCI,CONCATENATE(\"\", 'WH - FCI'!C19),\"\")","v":""},false,"Y"]
["$WH1_4.2.1.ROW2COL4",{"$f":"IF(R_WHFCI,CONCATENATE(\"\", 'WH - FCI'!D19),\"\")","v":""},false,"Y"]
["$WH1_4.2.1.ROW2COL5",{"$f":"IF(R_WHFCI,CONCATENATE(\"\", 'WH - FCI'!E19),\"\")","v":""},false,"Y"]
["$WH1_4.2.1.ROW2COL6",{"$f":"IF(R_WHFCI,CONCATENATE(\"\", 'WH - FCI'!F19),\"\")","v":""},false,"Y"]
["$WH1_4.2.1.ROW2COL7",{"$f":"IF(R_WHFCI,CONCATENATE(\"\", 'WH - FCI'!G19),\"\")","v":""},false,"Y"]
["$WH1_4.2.1.ROW2COL8",{"$f":"IF(R_WHFCI,CONCATENATE(\"\", 'WH - FCI'!H19),\"\")","v":""},false,"Y"]
["$WH1_4.2.1.ROW2COL9",{"$f":"IF(R_WHFCI,CONCATENATE(\"\", 'WH - FCI'!I19),\"\")","v":""},false,"Y"]
["$WH1_4.2.1.ROW2COL10",{"$f":"IF(R_WHFCI,CONCATENATE(\"\", 'WH - FCI'!J19),\"\")","v":""},false,"Y"]
["$WH1_4.2.1.ROW2COL11",{"$f":"IF(R_WHFCI,CONCATENATE(\"\", 'WH - FCI'!K19),\"\")","v":""},false,"Y"]
["$WH1_4.2.1.ROW3COL1",{"$f":"IF(R_WHFCI,CONCATENATE(\"\", 'WH - FCI'!A20),\"\")","v":""},false,"Y"]
["$WH1_4.2.1.ROW3COL2",{"$f":"IF(R_WHFCI,CONCATENATE(\"\", 'WH - FCI'!B20),\"\")","v":""},false,"Y"]
["$WH1_4.2.1.ROW3COL3",{"$f":"IF(R_WHFCI,CONCATENATE(\"\", 'WH - FCI'!C20),\"\")","v":""},false,"Y"]
["$WH1_4.2.1.ROW3COL4",{"$f":"IF(R_WHFCI,CONCATENATE(\"\", 'WH - FCI'!D20),\"\")","v":""},false,"Y"]
["$WH1_4.2.1.ROW3COL5",{"$f":"IF(R_WHFCI,CONCATENATE(\"\", 'WH - FCI'!E20),\"\")","v":""},false,"Y"]
["$WH1_4.2.1.ROW3COL6",{"$f":"IF(R_WHFCI,CONCATENATE(\"\", 'WH - FCI'!F20),\"\")","v":""},false,"Y"]
["$WH1_4.2.1.ROW3COL7",{"$f":"IF(R_WHFCI,CONCATENATE(\"\", 'WH - FCI'!G20),\"\")","v":""},false,"Y"]
["$WH1_4.2.1.ROW3COL8",{"$f":"IF(R_WHFCI,CONCATENATE(\"\", 'WH - FCI'!H20),\"\")","v":""},false,"Y"]
["$WH1_4.2.1.ROW3COL9",{"$f":"IF(R_WHFCI,CONCATENATE(\"\", 'WH - FCI'!I20),\"\")","v":""},false,"Y"]
["$WH1_4.2.1.ROW3COL10",{"$f":"IF(R_WHFCI,CONCATENATE(\"\", 'WH - FCI'!J20),\"\")","v":""},false,"Y"]
["$WH1_4.2.1.ROW3COL11",{"$f":"IF(R_WHFCI,CONCATENATE(\"\", 'WH - FCI'!K20),\"\")","v":""},false,"Y"]
["$WH1_4.2.1.ROW4COL1",{"$f":"IF(R_WHFCI,CONCATENATE(\"\", 'WH - FCI'!A21),\"\")","v":""},false,"Y"]
["$WH1_4.2.1.ROW4COL2",{"$f":"IF(R_WHFCI,CONCATENATE(\"\", 'WH - FCI'!B21),\"\")","v":""},false,"Y"]
["$WH1_4.2.1.ROW4COL3",{"$f":"IF(R_WHFCI,CONCATENATE(\"\", 'WH - FCI'!C21),\"\")","v":""},false,"Y"]
["$WH1_4.2.1.ROW4COL4",{"$f":"IF(R_WHFCI,CONCATENATE(\"\", 'WH - FCI'!D21),\"\")","v":""},false,"Y"]
["$WH1_4.2.1.ROW4COL5",{"$f":"IF(R_WHFCI,CONCATENATE(\"\", 'WH - FCI'!E21),\"\")","v":""},false,"Y"]
["$WH1_4.2.1.ROW4COL6",{"$f":"IF(R_WHFCI,CONCATENATE(\"\", 'WH - FCI'!F21),\"\")","v":""},false,"Y"]
["$WH1_4.2.1.ROW4COL7",{"$f":"IF(R_WHFCI,CONCATENATE(\"\", 'WH - FCI'!G21),\"\")","v":""},false,"Y"]
["$WH1_4.2.1.ROW4COL8",{"$f":"IF(R_WHFCI,CONCATENATE(\"\", 'WH - FCI'!H21),\"\")","v":""},false,"Y"]
["$WH1_4.2.1.ROW4COL9",{"$f":"IF(R_WHFCI,CONCATENATE(\"\", 'WH - FCI'!I21),\"\")","v":""},{"$f":"ISERROR(B2366)","v":false},"Y"]
["$WH1_4.2.1.ROW4COL10",{"$f":"IF(R_WHFCI,CONCATENATE(\"\", 'WH - FCI'!J21),\"\")","v":""},false,"Y"]
["$WH1_4.2.1.ROW4COL11",{"$f":"IF(R_WHFCI,CONCATENATE(\"\", 'WH - FCI'!K21),\"\")","v":""},false,"Y"]
["$WH1_4.2.1.ROW5COL1",{"$f":"IF(R_WHFCI,CONCATENATE(\"\", 'WH - FCI'!A22),\"\")","v":""},false,"Y"]
["$WH1_4.2.1.ROW5COL2",{"$f":"IF(R_WHFCI,CONCATENATE(\"\", 'WH - FCI'!B22),\"\")","v":""},false,"Y"]
["$WH1_4.2.1.ROW5COL3",{"$f":"IF(R_WHFCI,CONCATENATE(\"\", 'WH - FCI'!C22),\"\")","v":""},false,"Y"]
["$WH1_4.2.1.ROW5COL4",{"$f":"IF(R_WHFCI,CONCATENATE(\"\", 'WH - FCI'!D22),\"\")","v":""},false,"Y"]
["$WH1_4.2.1.ROW5COL5",{"$f":"IF(R_WHFCI,CONCATENATE(\"\", 'WH - FCI'!E22),\"\")","v":""},false,"Y"]
["$WH1_4.2.1.ROW5COL6",{"$f":"IF(R_WHFCI,CONCATENATE(\"\", 'WH - FCI'!F22),\"\")","v":""},false,"Y"]
["$WH1_4.2.1.ROW5COL7",{"$f":"IF(R_WHFCI,CONCATENATE(\"\", 'WH - FCI'!G22),\"\")","v":""},false,"Y"]
["$WH1_4.2.1.ROW5COL8",{"$f":"IF(R_WHFCI,CONCATENATE(\"\", 'WH - FCI'!H22),\"\")","v":""},false,"Y"]
["$WH1_4.2.1.ROW5COL9",{"$f":"IF(R_WHFCI,CONCATENATE(\"\", 'WH - FCI'!I22),\"\")","v":""},false,"Y"]
["$WH1_4.2.1.ROW5COL10",{"$f":"IF(R_WHFCI,CONCATENATE(\"\", 'WH - FCI'!J22),\"\")","v":""},false,"Y"]
["$WH1_4.2.1.ROW5COL11",{"$f":"IF(R_WHFCI,CONCATENATE(\"\", 'WH - FCI'!K22),\"\")","v":""},false,"Y"]
["$WH1_4.2.1.ROW6COL1",{"$f":"IF(R_WHFCI,CONCATENATE(\"\", 'WH - FCI'!A23),\"\")","v":""},false,"Y"]
["$WH1_4.2.1.ROW6COL2",{"$f":"IF(R_WHFCI,CONCATENATE(\"\", 'WH - FCI'!B23),\"\")","v":""},false,"Y"]
["$WH1_4.2.1.ROW6COL3",{"$f":"IF(R_WHFCI,CONCATENATE(\"\", 'WH - FCI'!C23),\"\")","v":""},false,"Y"]
["$WH1_4.2.1.ROW6COL4",{"$f":"IF(R_WHFCI,CONCATENATE(\"\", 'WH - FCI'!D23),\"\")","v":""},false,"Y"]
["$WH1_4.2.1.ROW6COL5",{"$f":"IF(R_WHFCI,CONCATENATE(\"\", 'WH - FCI'!E23),\"\")","v":""},false,"Y"]
["$WH1_4.2.1.ROW6COL6",{"$f":"IF(R_WHFCI,CONCATENATE(\"\", 'WH - FCI'!F23),\"\")","v":""},false,"Y"]
["$WH1_4.2.1.ROW6COL7",{"$f":"IF(R_WHFCI,CONCATENATE(\"\", 'WH - FCI'!G23),\"\")","v":""},false,"Y"]
["$WH1_4.2.1.ROW6COL8",{"$f":"IF(R_WHFCI,CONCATENATE(\"\", 'WH - FCI'!H23),\"\")","v":""},false,"Y"]
["$WH1_4.2.1.ROW6COL9",{"$f":"IF(R_WHFCI,CONCATENATE(\"\", 'WH - FCI'!I23),\"\")","v":""},false,"Y"]
["$WH1_4.2.1.ROW6COL10",{"$f":"IF(R_WHFCI,CONCATENATE(\"\", 'WH - FCI'!J23),\"\")","v":""},false,"Y"]
["$WH1_4.2.1.ROW6COL11",{"$f":"IF(R_WHFCI,CONCATENATE(\"\", 'WH - FCI'!K23),\"\")","v":""},false,"Y"]
["$WH1_4.2.1.ROW7COL1",{"$f":"IF(R_WHFCI,CONCATENATE(\"\", 'WH - FCI'!A24),\"\")","v":""},false,"Y"]
["$WH1_4.2.1.ROW7COL2",{"$f":"IF(R_WHFCI,CONCATENATE(\"\", 'WH - FCI'!B24),\"\")","v":""},false,"Y"]
["$WH1_4.2.1.ROW7COL3",{"$f":"IF(R_WHFCI,CONCATENATE(\"\", 'WH - FCI'!C24),\"\")","v":""},false,"Y"]
["$WH1_4.2.1.ROW7COL4",{"$f":"IF(R_WHFCI,CONCATENATE(\"\", 'WH - FCI'!D24),\"\")","v":""},false,"Y"]
["$WH1_4.2.1.ROW7COL5",{"$f":"IF(R_WHFCI,CONCATENATE(\"\", 'WH - FCI'!E24),\"\")","v":""},false,"Y"]
["$WH1_4.2.1.ROW7COL6",{"$f":"IF(R_WHFCI,CONCATENATE(\"\", 'WH - FCI'!F24),\"\")","v":""},false,"Y"]
["$WH1_4.2.1.ROW7COL7",{"$f":"IF(R_WHFCI,CONCATENATE(\"\", 'WH - FCI'!G24),\"\")","v":""},false,"Y"]
["$WH1_4.2.1.ROW7COL8",{"$f":"IF(R_WHFCI,CONCATENATE(\"\", 'WH - FCI'!H24),\"\")","v":""},false,"Y"]
["$WH1_4.2.1.ROW7COL9",{"$f":"IF(R_WHFCI,CONCATENATE(\"\", 'WH - FCI'!I24),\"\")","v":""},false,"Y"]
["$WH1_4.2.1.ROW7COL10",{"$f":"IF(R_WHFCI,CONCATENATE(\"\", 'WH - FCI'!J24),\"\")","v":""},false,"Y"]
["$WH1_4.2.1.ROW7COL11",{"$f":"IF(R_WHFCI,CONCATENATE(\"\", 'WH - FCI'!K24),\"\")","v":""},false,"Y"]
["$WH1_4.2.1.ROW8COL1",{"$f":"IF(R_WHFCI,CONCATENATE(\"\", 'WH - FCI'!A25),\"\")","v":""},false,"Y"]
["$WH1_4.2.1.ROW8COL2",{"$f":"IF(R_WHFCI,CONCATENATE(\"\", 'WH - FCI'!B25),\"\")","v":""},false,"Y"]
["$WH1_4.2.1.ROW8COL3",{"$f":"IF(R_WHFCI,CONCATENATE(\"\", 'WH - FCI'!C25),\"\")","v":""},false,"Y"]
["$WH1_4.2.1.ROW8COL4",{"$f":"IF(R_WHFCI,CONCATENATE(\"\", 'WH - FCI'!D25),\"\")","v":""},false,"Y"]
["$WH1_4.2.1.ROW8COL5",{"$f":"IF(R_WHFCI,CONCATENATE(\"\", 'WH - FCI'!E25),\"\")","v":""},false,"Y"]
["$WH1_4.2.1.ROW8COL6",{"$f":"IF(R_WHFCI,CONCATENATE(\"\", 'WH - FCI'!F25),\"\")","v":""},false,"Y"]
["$WH1_4.2.1.ROW8COL7",{"$f":"IF(R_WHFCI,CONCATENATE(\"\", 'WH - FCI'!G25),\"\")","v":""},false,"Y"]
["$WH1_4.2.1.ROW8COL8",{"$f":"IF(R_WHFCI,CONCATENATE(\"\", 'WH - FCI'!H25),\"\")","v":""},false,"Y"]
["$WH1_4.2.1.ROW8COL9",{"$f":"IF(R_WHFCI,CONCATENATE(\"\", 'WH - FCI'!I25),\"\")","v":""},false,"Y"]
["$WH1_4.2.1.ROW8COL10",{"$f":"IF(R_WHFCI,CONCATENATE(\"\", 'WH - FCI'!J25),\"\")","v":""},false,"Y"]
["$WH1_4.2.1.ROW8COL11",{"$f":"IF(R_WHFCI,CONCATENATE(\"\", 'WH - FCI'!K25),\"\")","v":""},false,"Y"]
["$WH1_4.2.1.ROW9COL1",{"$f":"IF(R_WHFCI,CONCATENATE(\"\", 'WH - FCI'!A26),\"\")","v":""},false,"Y"]
["$WH1_4.2.1.ROW9COL2",{"$f":"IF(R_WHFCI,CONCATENATE(\"\", 'WH - FCI'!B26),\"\")","v":""},false,"Y"]
["$WH1_4.2.1.ROW9COL3",{"$f":"IF(R_WHFCI,CONCATENATE(\"\", 'WH - FCI'!C26),\"\")","v":""},false,"Y"]
["$WH1_4.2.1.ROW9COL4",{"$f":"IF(R_WHFCI,CONCATENATE(\"\", 'WH - FCI'!D26),\"\")","v":""},false,"Y"]
["$WH1_4.2.1.ROW9COL5",{"$f":"IF(R_WHFCI,CONCATENATE(\"\", 'WH - FCI'!E26),\"\")","v":""},false,"Y"]
["$WH1_4.2.1.ROW9COL6",{"$f":"IF(R_WHFCI,CONCATENATE(\"\", 'WH - FCI'!F26),\"\")","v":""},false,"Y"]
["$WH1_4.2.1.ROW9COL7",{"$f":"IF(R_WHFCI,CONCATENATE(\"\", 'WH - FCI'!G26),\"\")","v":""},false,"Y"]
["$WH1_4.2.1.ROW9COL8",{"$f":"IF(R_WHFCI,CONCATENATE(\"\", 'WH - FCI'!H26),\"\")","v":""},false,"Y"]
["$WH1_4.2.1.ROW9COL9",{"$f":"IF(R_WHFCI,CONCATENATE(\"\", 'WH - FCI'!I26),\"\")","v":""},false,"Y"]
["$WH1_4.2.1.ROW9COL10",{"$f":"IF(R_WHFCI,CONCATENATE(\"\", 'WH - FCI'!J26),\"\")","v":""},false,"Y"]
["$WH1_4.2.1.ROW9COL11",{"$f":"IF(R_WHFCI,CONCATENATE(\"\", 'WH - FCI'!K26),\"\")","v":""},false,"Y"]
["$WH1_4.2.1.ROW10COL1",{"$f":"IF(R_WHFCI,CONCATENATE(\"\", 'WH - FCI'!A27),\"\")","v":""},false,"Y"]
["$WH1_4.2.1.ROW10COL2",{"$f":"IF(R_WHFCI,CONCATENATE(\"\", 'WH - FCI'!B27),\"\")","v":""},false,"Y"]
["$WH1_4.2.1.ROW10COL3",{"$f":"IF(R_WHFCI,CONCATENATE(\"\", 'WH - FCI'!C27),\"\")","v":""},false,"Y"]
["$WH1_4.2.1.ROW10COL4",{"$f":"IF(R_WHFCI,CONCATENATE(\"\", 'WH - FCI'!D27),\"\")","v":""},false,"Y"]
["$WH1_4.2.1.ROW10COL5",{"$f":"IF(R_WHFCI,CONCATENATE(\"\", 'WH - FCI'!E27),\"\")","v":""},false,"Y"]
["$WH1_4.2.1.ROW10COL6",{"$f":"IF(R_WHFCI,CONCATENATE(\"\", 'WH - FCI'!F27),\"\")","v":""},false,"Y"]
["$WH1_4.2.1.ROW10COL7",{"$f":"IF(R_WHFCI,CONCATENATE(\"\", 'WH - FCI'!G27),\"\")","v":""},{"$f":"ISERROR(B2430)","v":false},"Y"]
["$WH1_4.2.1.ROW10COL8",{"$f":"IF(R_WHFCI,CONCATENATE(\"\", 'WH - FCI'!H27),\"\")","v":""},false,"Y"]
["$WH1_4.2.1.ROW10COL9",{"$f":"IF(R_WHFCI,CONCATENATE(\"\", 'WH - FCI'!I27),\"\")","v":""},false,"Y"]
["$WH1_4.2.1.ROW10COL10",{"$f":"IF(R_WHFCI,CONCATENATE(\"\", 'WH - FCI'!J27),\"\")","v":""},false,"Y"]
["$WH1_4.2.1.ROW10COL11",{"$f":"IF(R_WHFCI,CONCATENATE(\"\", 'WH - FCI'!K27),\"\")","v":""},false,"Y"]
["$WH1_4.2.1.ROW11COL1",{"$f":"IF(R_WHFCI,CONCATENATE(\"\", 'WH - FCI'!A28),\"\")","v":""},false,"Y"]
["$WH1_4.2.1.ROW11COL2",{"$f":"IF(R_WHFCI,CONCATENATE(\"\", 'WH - FCI'!B28),\"\")","v":""},false,"Y"]
["$WH1_4.2.1.ROW11COL3",{"$f":"IF(R_WHFCI,CONCATENATE(\"\", 'WH - FCI'!C28),\"\")","v":""},false,"Y"]
["$WH1_4.2.1.ROW11COL4",{"$f":"IF(R_WHFCI,CONCATENATE(\"\", 'WH - FCI'!D28),\"\")","v":""},false,"Y"]
["$WH1_4.2.1.ROW11COL5",{"$f":"IF(R_WHFCI,CONCATENATE(\"\", 'WH - FCI'!E28),\"\")","v":""},false,"Y"]
["$WH1_4.2.1.ROW11COL6",{"$f":"IF(R_WHFCI,CONCATENATE(\"\", 'WH - FCI'!F28),\"\")","v":""},false,"Y"]
["$WH1_4.2.1.ROW11COL7",{"$f":"IF(R_WHFCI,CONCATENATE(\"\", 'WH - FCI'!G28),\"\")","v":""},false,"Y"]
["$WH1_4.2.1.ROW11COL8",{"$f":"IF(R_WHFCI,CONCATENATE(\"\", 'WH - FCI'!H28),\"\")","v":""},false,"Y"]
["$WH1_4.2.1.ROW11COL9",{"$f":"IF(R_WHFCI,CONCATENATE(\"\", 'WH - FCI'!I28),\"\")","v":""},false,"Y"]
["$WH1_4.2.1.ROW11COL10",{"$f":"IF(R_WHFCI,CONCATENATE(\"\", 'WH - FCI'!J28),\"\")","v":""},false,"Y"]
["$WH1_4.2.1.ROW11COL11",{"$f":"IF(R_WHFCI,CONCATENATE(\"\", 'WH - FCI'!K28),\"\")","v":""},false,"Y"]
["$WH1_4.2.1.ROW12COL1",{"$f":"IF(R_WHFCI,CONCATENATE(\"\", 'WH - FCI'!A29),\"\")","v":""},false,"Y"]
["$WH1_4.2.1.ROW12COL2",{"$f":"IF(R_WHFCI,CONCATENATE(\"\", 'WH - FCI'!B29),\"\")","v":""},false,"Y"]
["$WH1_4.2.1.ROW12COL3",{"$f":"IF(R_WHFCI,CONCATENATE(\"\", 'WH - FCI'!C29),\"\")","v":""},false,"Y"]
["$WH1_4.2.1.ROW12COL4",{"$f":"IF(R_WHFCI,CONCATENATE(\"\", 'WH - FCI'!D29),\"\")","v":""},false,"Y"]
["$WH1_4.2.1.ROW12COL5",{"$f":"IF(R_WHFCI,CONCATENATE(\"\", 'WH - FCI'!E29),\"\")","v":""},false,"Y"]
["$WH1_4.2.1.ROW12COL6",{"$f":"IF(R_WHFCI,CONCATENATE(\"\", 'WH - FCI'!F29),\"\")","v":""},false,"Y"]
["$WH1_4.2.1.ROW12COL7",{"$f":"IF(R_WHFCI,CONCATENATE(\"\", 'WH - FCI'!G29),\"\")","v":""},false,"Y"]
["$WH1_4.2.1.ROW12COL8",{"$f":"IF(R_WHFCI,CONCATENATE(\"\", 'WH - FCI'!H29),\"\")","v":""},false,"Y"]
["$WH1_4.2.1.ROW12COL9",{"$f":"IF(R_WHFCI,CONCATENATE(\"\", 'WH - FCI'!I29),\"\")","v":""},false,"Y"]
["$WH1_4.2.1.ROW12COL10",{"$f":"IF(R_WHFCI,CONCATENATE(\"\", 'WH - FCI'!J29),\"\")","v":""},false,"Y"]
["$WH1_4.2.1.ROW12COL11",{"$f":"IF(R_WHFCI,CONCATENATE(\"\", 'WH - FCI'!K29),\"\")","v":""},false,"Y"]
["$WH1_4.2.1.ROW13COL1",{"$f":"IF(R_WHFCI,CONCATENATE(\"\", 'WH - FCI'!A30),\"\")","v":""},false,"Y"]
["$WH1_4.2.1.ROW13COL2",{"$f":"IF(R_WHFCI,CONCATENATE(\"\", 'WH - FCI'!B30),\"\")","v":""},false,"Y"]
["$WH1_4.2.1.ROW13COL3",{"$f":"IF(R_WHFCI,CONCATENATE(\"\", 'WH - FCI'!C30),\"\")","v":""},false,"Y"]
["$WH1_4.2.1.ROW13COL4",{"$f":"IF(R_WHFCI,CONCATENATE(\"\", 'WH - FCI'!D30),\"\")","v":""},false,"Y"]
["$WH1_4.2.1.ROW13COL5",{"$f":"IF(R_WHFCI,CONCATENATE(\"\", 'WH - FCI'!E30),\"\")","v":""},false,"Y"]
["$WH1_4.2.1.ROW13COL6",{"$f":"IF(R_WHFCI,CONCATENATE(\"\", 'WH - FCI'!F30),\"\")","v":""},false,"Y"]
["$WH1_4.2.1.ROW13COL7",{"$f":"IF(R_WHFCI,CONCATENATE(\"\", 'WH - FCI'!G30),\"\")","v":""},false,"Y"]
["$WH1_4.2.1.ROW13COL8",{"$f":"IF(R_WHFCI,CONCATENATE(\"\", 'WH - FCI'!H30),\"\")","v":""},false,"Y"]
["$WH1_4.2.1.ROW13COL9",{"$f":"IF(R_WHFCI,CONCATENATE(\"\", 'WH - FCI'!I30),\"\")","v":""},false,"Y"]
["$WH1_4.2.1.ROW13COL10",{"$f":"IF(R_WHFCI,CONCATENATE(\"\", 'WH - FCI'!J30),\"\")","v":""},false,"Y"]
["$WH1_4.2.1.ROW13COL11",{"$f":"IF(R_WHFCI,CONCATENATE(\"\", 'WH - FCI'!K30),\"\")","v":""},false,"Y"]
["$WH1_4.2.1.ROW14COL1",{"$f":"IF(R_WHFCI,CONCATENATE(\"\", 'WH - FCI'!A31),\"\")","v":""},false,"Y"]
["$WH1_4.2.1.ROW14COL2",{"$f":"IF(R_WHFCI,CONCATENATE(\"\", 'WH - FCI'!B31),\"\")","v":""},false,"Y"]
["$WH1_4.2.1.ROW14COL3",{"$f":"IF(R_WHFCI,CONCATENATE(\"\", 'WH - FCI'!C31),\"\")","v":""},false,"Y"]
["$WH1_4.2.1.ROW14COL4",{"$f":"IF(R_WHFCI,CONCATENATE(\"\", 'WH - FCI'!D31),\"\")","v":""},false,"Y"]
["$WH1_4.2.1.ROW14COL5",{"$f":"IF(R_WHFCI,CONCATENATE(\"\", 'WH - FCI'!E31),\"\")","v":""},false,"Y"]
["$WH1_4.2.1.ROW14COL6",{"$f":"IF(R_WHFCI,CONCATENATE(\"\", 'WH - FCI'!F31),\"\")","v":""},false,"Y"]
["$WH1_4.2.1.ROW14COL7",{"$f":"IF(R_WHFCI,CONCATENATE(\"\", 'WH - FCI'!G31),\"\")","v":""},false,"Y"]
["$WH1_4.2.1.ROW14COL8",{"$f":"IF(R_WHFCI,CONCATENATE(\"\", 'WH - FCI'!H31),\"\")","v":""},false,"Y"]
["$WH1_4.2.1.ROW14COL9",{"$f":"IF(R_WHFCI,CONCATENATE(\"\", 'WH - FCI'!I31),\"\")","v":""},false,"Y"]
["$WH1_4.2.1.ROW14COL10",{"$f":"IF(R_WHFCI,CONCATENATE(\"\", 'WH - FCI'!J31),\"\")","v":""},false,"Y"]
["$WH1_4.2.1.ROW14COL11",{"$f":"IF(R_WHFCI,CONCATENATE(\"\", 'WH - FCI'!K31),\"\")","v":""},false,"Y"]
["$WH1_4.2.1.ROW15COL1",{"$f":"IF(R_WHFCI,CONCATENATE(\"\", 'WH - FCI'!A32),\"\")","v":""},false,"Y"]
["$WH1_4.2.1.ROW15COL2",{"$f":"IF(R_WHFCI,CONCATENATE(\"\", 'WH - FCI'!B32),\"\")","v":""},false,"Y"]
["$WH1_4.2.1.ROW15COL3",{"$f":"IF(R_WHFCI,CONCATENATE(\"\", 'WH - FCI'!C32),\"\")","v":""},false,"Y"]
["$WH1_4.2.1.ROW15COL4",{"$f":"IF(R_WHFCI,CONCATENATE(\"\", 'WH - FCI'!D32),\"\")","v":""},false,"Y"]
["$WH1_4.2.1.ROW15COL5",{"$f":"IF(R_WHFCI,CONCATENATE(\"\", 'WH - FCI'!E32),\"\")","v":""},false,"Y"]
["$WH1_4.2.1.ROW15COL6",{"$f":"IF(R_WHFCI,CONCATENATE(\"\", 'WH - FCI'!F32),\"\")","v":""},false,"Y"]
["$WH1_4.2.1.ROW15COL7",{"$f":"IF(R_WHFCI,CONCATENATE(\"\", 'WH - FCI'!G32),\"\")","v":""},false,"Y"]
["$WH1_4.2.1.ROW15COL8",{"$f":"IF(R_WHFCI,CONCATENATE(\"\", 'WH - FCI'!H32),\"\")","v":""},false,"Y"]
["$WH1_4.2.1.ROW15COL9",{"$f":"IF(R_WHFCI,CONCATENATE(\"\", 'WH - FCI'!I32),\"\")","v":""},false,"Y"]
["$WH1_4.2.1.ROW15COL10",{"$f":"IF(R_WHFCI,CONCATENATE(\"\", 'WH - FCI'!J32),\"\")","v":""},false,"Y"]
["$WH1_4.2.1.ROW15COL11",{"$f":"IF(R_WHFCI,CONCATENATE(\"\", 'WH - FCI'!K32),\"\")","v":""},false,"Y"]
["$WH1_4.2.1.ROW16COL1",{"$f":"IF(R_WHFCI,CONCATENATE(\"\", 'WH - FCI'!A33),\"\")","v":""},false,"Y"]
["$WH1_4.2.1.ROW16COL2",{"$f":"IF(R_WHFCI,CONCATENATE(\"\", 'WH - FCI'!B33),\"\")","v":""},false,"Y"]
["$WH1_4.2.1.ROW16COL3",{"$f":"IF(R_WHFCI,CONCATENATE(\"\", 'WH - FCI'!C33),\"\")","v":""},false,"Y"]
["$WH1_4.2.1.ROW16COL4",{"$f":"IF(R_WHFCI,CONCATENATE(\"\", 'WH - FCI'!D33),\"\")","v":""},false,"Y"]
["$WH1_4.2.1.ROW16COL5",{"$f":"IF(R_WHFCI,CONCATENATE(\"\", 'WH - FCI'!E33),\"\")","v":""},{"$f":"ISERROR(B2494)","v":false},"Y"]
["$WH1_4.2.1.ROW16COL6",{"$f":"IF(R_WHFCI,CONCATENATE(\"\", 'WH - FCI'!F33),\"\")","v":""},false,"Y"]
["$WH1_4.2.1.ROW16COL7",{"$f":"IF(R_WHFCI,CONCATENATE(\"\", 'WH - FCI'!G33),\"\")","v":""},false,"Y"]
["$WH1_4.2.1.ROW16COL8",{"$f":"IF(R_WHFCI,CONCATENATE(\"\", 'WH - FCI'!H33),\"\")","v":""},false,"Y"]
["$WH1_4.2.1.ROW16COL9",{"$f":"IF(R_WHFCI,CONCATENATE(\"\", 'WH - FCI'!I33),\"\")","v":""},false,"Y"]
["$WH1_4.2.1.ROW16COL10",{"$f":"IF(R_WHFCI,CONCATENATE(\"\", 'WH - FCI'!J33),\"\")","v":""},false,"Y"]
["$WH1_4.2.1.ROW16COL11",{"$f":"IF(R_WHFCI,CONCATENATE(\"\", 'WH - FCI'!K33),\"\")","v":""},false,"Y"]
["$WH1_4.2.1.ROW17COL1",{"$f":"IF(R_WHFCI,CONCATENATE(\"\", 'WH - FCI'!A34),\"\")","v":""},false,"Y"]
["$WH1_4.2.1.ROW17COL2",{"$f":"IF(R_WHFCI,CONCATENATE(\"\", 'WH - FCI'!B34),\"\")","v":""},false,"Y"]
["$WH1_4.2.1.ROW17COL3",{"$f":"IF(R_WHFCI,CONCATENATE(\"\", 'WH - FCI'!C34),\"\")","v":""},false,"Y"]
["$WH1_4.2.1.ROW17COL4",{"$f":"IF(R_WHFCI,CONCATENATE(\"\", 'WH - FCI'!D34),\"\")","v":""},false,"Y"]
["$WH1_4.2.1.ROW17COL5",{"$f":"IF(R_WHFCI,CONCATENATE(\"\", 'WH - FCI'!E34),\"\")","v":""},false,"Y"]
["$WH1_4.2.1.ROW17COL6",{"$f":"IF(R_WHFCI,CONCATENATE(\"\", 'WH - FCI'!F34),\"\")","v":""},false,"Y"]
["$WH1_4.2.1.ROW17COL7",{"$f":"IF(R_WHFCI,CONCATENATE(\"\", 'WH - FCI'!G34),\"\")","v":""},false,"Y"]
["$WH1_4.2.1.ROW17COL8",{"$f":"IF(R_WHFCI,CONCATENATE(\"\", 'WH - FCI'!H34),\"\")","v":""},false,"Y"]
["$WH1_4.2.1.ROW17COL9",{"$f":"IF(R_WHFCI,CONCATENATE(\"\", 'WH - FCI'!I34),\"\")","v":""},false,"Y"]
["$WH1_4.2.1.ROW17COL10",{"$f":"IF(R_WHFCI,CONCATENATE(\"\", 'WH - FCI'!J34),\"\")","v":""},false,"Y"]
["$WH1_4.2.1.ROW17COL11",{"$f":"IF(R_WHFCI,CONCATENATE(\"\", 'WH - FCI'!K34),\"\")","v":""},false,"Y"]
["$WH1_4.2.1.ROW18COL1",{"$f":"IF(R_WHFCI,CONCATENATE(\"\", 'WH - FCI'!A35),\"\")","v":""},false,"Y"]
["$WH1_4.2.1.ROW18COL2",{"$f":"IF(R_WHFCI,CONCATENATE(\"\", 'WH - FCI'!B35),\"\")","v":""},false,"Y"]
["$WH1_4.2.1.ROW18COL3",{"$f":"IF(R_WHFCI,CONCATENATE(\"\", 'WH - FCI'!C35),\"\")","v":""},false,"Y"]
["$WH1_4.2.1.ROW18COL4",{"$f":"IF(R_WHFCI,CONCATENATE(\"\", 'WH - FCI'!D35),\"\")","v":""},false,"Y"]
["$WH1_4.2.1.ROW18COL5",{"$f":"IF(R_WHFCI,CONCATENATE(\"\", 'WH - FCI'!E35),\"\")","v":""},false,"Y"]
["$WH1_4.2.1.ROW18COL6",{"$f":"IF(R_WHFCI,CONCATENATE(\"\", 'WH - FCI'!F35),\"\")","v":""},false,"Y"]
["$WH1_4.2.1.ROW18COL7",{"$f":"IF(R_WHFCI,CONCATENATE(\"\", 'WH - FCI'!G35),\"\")","v":""},false,"Y"]
["$WH1_4.2.1.ROW18COL8",{"$f":"IF(R_WHFCI,CONCATENATE(\"\", 'WH - FCI'!H35),\"\")","v":""},false,"Y"]
["$WH1_4.2.1.ROW18COL9",{"$f":"IF(R_WHFCI,CONCATENATE(\"\", 'WH - FCI'!I35),\"\")","v":""},false,"Y"]
["$WH1_4.2.1.ROW18COL10",{"$f":"IF(R_WHFCI,CONCATENATE(\"\", 'WH - FCI'!J35),\"\")","v":""},false,"Y"]
["$WH1_4.2.1.ROW18COL11",{"$f":"IF(R_WHFCI,CONCATENATE(\"\", 'WH - FCI'!K35),\"\")","v":""},false,"Y"]
["$WH1_4.2.1.ROW19COL1",{"$f":"IF(R_WHFCI,CONCATENATE(\"\", 'WH - FCI'!A36),\"\")","v":""},false,"Y"]
["$WH1_4.2.1.ROW19COL2",{"$f":"IF(R_WHFCI,CONCATENATE(\"\", 'WH - FCI'!B36),\"\")","v":""},false,"Y"]
["$WH1_4.2.1.ROW19COL3",{"$f":"IF(R_WHFCI,CONCATENATE(\"\", 'WH - FCI'!C36),\"\")","v":""},false,"Y"]
["$WH1_4.2.1.ROW19COL4",{"$f":"IF(R_WHFCI,CONCATENATE(\"\", 'WH - FCI'!D36),\"\")","v":""},false,"Y"]
["$WH1_4.2.1.ROW19COL5",{"$f":"IF(R_WHFCI,CONCATENATE(\"\", 'WH - FCI'!E36),\"\")","v":""},false,"Y"]
["$WH1_4.2.1.ROW19COL6",{"$f":"IF(R_WHFCI,CONCATENATE(\"\", 'WH - FCI'!F36),\"\")","v":""},false,"Y"]
["$WH1_4.2.1.ROW19COL7",{"$f":"IF(R_WHFCI,CONCATENATE(\"\", 'WH - FCI'!G36),\"\")","v":""},false,"Y"]
["$WH1_4.2.1.ROW19COL8",{"$f":"IF(R_WHFCI,CONCATENATE(\"\", 'WH - FCI'!H36),\"\")","v":""},false,"Y"]
["$WH1_4.2.1.ROW19COL9",{"$f":"IF(R_WHFCI,CONCATENATE(\"\", 'WH - FCI'!I36),\"\")","v":""},false,"Y"]
["$WH1_4.2.1.ROW19COL10",{"$f":"IF(R_WHFCI,CONCATENATE(\"\", 'WH - FCI'!J36),\"\")","v":""},false,"Y"]
["$WH1_4.2.1.ROW19COL11",{"$f":"IF(R_WHFCI,CONCATENATE(\"\", 'WH - FCI'!K36),\"\")","v":""},false,"Y"]
["$WH1_4.2.1.ROW20COL1",{"$f":"IF(R_WHFCI,CONCATENATE(\"\", 'WH - FCI'!A37),\"\")","v":""},false,"Y"]
["$WH1_4.2.1.ROW20COL2",{"$f":"IF(R_WHFCI,CONCATENATE(\"\", 'WH - FCI'!B37),\"\")","v":""},false,"Y"]
["$WH1_4.2.1.ROW20COL3",{"$f":"IF(R_WHFCI,CONCATENATE(\"\", 'WH - FCI'!C37),\"\")","v":""},false,"Y"]
["$WH1_4.2.1.ROW20COL4",{"$f":"IF(R_WHFCI,CONCATENATE(\"\", 'WH - FCI'!D37),\"\")","v":""},false,"Y"]
["$WH1_4.2.1.ROW20COL5",{"$f":"IF(R_WHFCI,CONCATENATE(\"\", 'WH - FCI'!E37),\"\")","v":""},false,"Y"]
["$WH1_4.2.1.ROW20COL6",{"$f":"IF(R_WHFCI,CONCATENATE(\"\", 'WH - FCI'!F37),\"\")","v":""},false,"Y"]
["$WH1_4.2.1.ROW20COL7",{"$f":"IF(R_WHFCI,CONCATENATE(\"\", 'WH - FCI'!G37),\"\")","v":""},false,"Y"]
["$WH1_4.2.1.ROW20COL8",{"$f":"IF(R_WHFCI,CONCATENATE(\"\", 'WH - FCI'!H37),\"\")","v":""},false,"Y"]
["$WH1_4.2.1.ROW20COL9",{"$f":"IF(R_WHFCI,CONCATENATE(\"\", 'WH - FCI'!I37),\"\")","v":""},false,"Y"]
["$WH1_4.2.1.ROW20COL10",{"$f":"IF(R_WHFCI,CONCATENATE(\"\", 'WH - FCI'!J37),\"\")","v":""},false,"Y"]
["$WH1_4.2.1.ROW20COL11",{"$f":"IF(R_WHFCI,CONCATENATE(\"\", 'WH - FCI'!K37),\"\")","v":""},false,"Y"]
["$WH1_4.2.1.ROW21COL1",{"$f":"IF(R_WHFCI,CONCATENATE(\"\", 'WH - FCI'!A38),\"\")","v":""},false,"Y"]
["$WH1_4.2.1.ROW21COL2",{"$f":"IF(R_WHFCI,CONCATENATE(\"\", 'WH - FCI'!B38),\"\")","v":""},false,"Y"]
["$WH1_4.2.1.ROW21COL3",{"$f":"IF(R_WHFCI,CONCATENATE(\"\", 'WH - FCI'!C38),\"\")","v":""},false,"Y"]
["$WH1_4.2.1.ROW21COL4",{"$f":"IF(R_WHFCI,CONCATENATE(\"\", 'WH - FCI'!D38),\"\")","v":""},false,"Y"]
["$WH1_4.2.1.ROW21COL5",{"$f":"IF(R_WHFCI,CONCATENATE(\"\", 'WH - FCI'!E38),\"\")","v":""},false,"Y"]
["$WH1_4.2.1.ROW21COL6",{"$f":"IF(R_WHFCI,CONCATENATE(\"\", 'WH - FCI'!F38),\"\")","v":""},false,"Y"]
["$WH1_4.2.1.ROW21COL7",{"$f":"IF(R_WHFCI,CONCATENATE(\"\", 'WH - FCI'!G38),\"\")","v":""},false,"Y"]
["$WH1_4.2.1.ROW21COL8",{"$f":"IF(R_WHFCI,CONCATENATE(\"\", 'WH - FCI'!H38),\"\")","v":""},false,"Y"]
["$WH1_4.2.1.ROW21COL9",{"$f":"IF(R_WHFCI,CONCATENATE(\"\", 'WH - FCI'!I38),\"\")","v":""},false,"Y"]
["$WH1_4.2.1.ROW21COL10",{"$f":"IF(R_WHFCI,CONCATENATE(\"\", 'WH - FCI'!J38),\"\")","v":""},false,"Y"]
["$WH1_4.2.1.ROW21COL11",{"$f":"IF(R_WHFCI,CONCATENATE(\"\", 'WH - FCI'!K38),\"\")","v":""},false,"Y"]
["$WH1_4.2.1.ROW22COL1",{"$f":"IF(R_WHFCI,CONCATENATE(\"\", 'WH - FCI'!A39),\"\")","v":""},false,"Y"]
["$WH1_4.2.1.ROW22COL2",{"$f":"IF(R_WHFCI,CONCATENATE(\"\", 'WH - FCI'!B39),\"\")","v":""},false,"Y"]
["$WH1_4.2.1.ROW22COL3",{"$f":"IF(R_WHFCI,CONCATENATE(\"\", 'WH - FCI'!C39),\"\")","v":""},{"$f":"ISERROR(B2558)","v":false},"Y"]
["$WH1_4.2.1.ROW22COL4",{"$f":"IF(R_WHFCI,CONCATENATE(\"\", 'WH - FCI'!D39),\"\")","v":""},false,"Y"]
["$WH1_4.2.1.ROW22COL5",{"$f":"IF(R_WHFCI,CONCATENATE(\"\", 'WH - FCI'!E39),\"\")","v":""},false,"Y"]
["$WH1_4.2.1.ROW22COL6",{"$f":"IF(R_WHFCI,CONCATENATE(\"\", 'WH - FCI'!F39),\"\")","v":""},false,"Y"]
["$WH1_4.2.1.ROW22COL7",{"$f":"IF(R_WHFCI,CONCATENATE(\"\", 'WH - FCI'!G39),\"\")","v":""},false,"Y"]
["$WH1_4.2.1.ROW22COL8",{"$f":"IF(R_WHFCI,CONCATENATE(\"\", 'WH - FCI'!H39),\"\")","v":""},false,"Y"]
["$WH1_4.2.1.ROW22COL9",{"$f":"IF(R_WHFCI,CONCATENATE(\"\", 'WH - FCI'!I39),\"\")","v":""},false,"Y"]
["$WH1_4.2.1.ROW22COL10",{"$f":"IF(R_WHFCI,CONCATENATE(\"\", 'WH - FCI'!J39),\"\")","v":""},false,"Y"]
["$WH1_4.2.1.ROW22COL11",{"$f":"IF(R_WHFCI,CONCATENATE(\"\", 'WH - FCI'!K39),\"\")","v":""},false,"Y"]
["$WH1_4.2.1.ROW23COL1",{"$f":"IF(R_WHFCI,CONCATENATE(\"\", 'WH - FCI'!A40),\"\")","v":""},false,"Y"]
["$WH1_4.2.1.ROW23COL2",{"$f":"IF(R_WHFCI,CONCATENATE(\"\", 'WH - FCI'!B40),\"\")","v":""},false,"Y"]
["$WH1_4.2.1.ROW23COL3",{"$f":"IF(R_WHFCI,CONCATENATE(\"\", 'WH - FCI'!C40),\"\")","v":""},false,"Y"]
["$WH1_4.2.1.ROW23COL4",{"$f":"IF(R_WHFCI,CONCATENATE(\"\", 'WH - FCI'!D40),\"\")","v":""},false,"Y"]
["$WH1_4.2.1.ROW23COL5",{"$f":"IF(R_WHFCI,CONCATENATE(\"\", 'WH - FCI'!E40),\"\")","v":""},false,"Y"]
["$WH1_4.2.1.ROW23COL6",{"$f":"IF(R_WHFCI,CONCATENATE(\"\", 'WH - FCI'!F40),\"\")","v":""},false,"Y"]
["$WH1_4.2.1.ROW23COL7",{"$f":"IF(R_WHFCI,CONCATENATE(\"\", 'WH - FCI'!G40),\"\")","v":""},false,"Y"]
["$WH1_4.2.1.ROW23COL8",{"$f":"IF(R_WHFCI,CONCATENATE(\"\", 'WH - FCI'!H40),\"\")","v":""},false,"Y"]
["$WH1_4.2.1.ROW23COL9",{"$f":"IF(R_WHFCI,CONCATENATE(\"\", 'WH - FCI'!I40),\"\")","v":""},false,"Y"]
["$WH1_4.2.1.ROW23COL10",{"$f":"IF(R_WHFCI,CONCATENATE(\"\", 'WH - FCI'!J40),\"\")","v":""},false,"Y"]
["$WH1_4.2.1.ROW23COL11",{"$f":"IF(R_WHFCI,CONCATENATE(\"\", 'WH - FCI'!K40),\"\")","v":""},false,"Y"]
["$WH1_4.2.1.ROW24COL1",{"$f":"IF(R_WHFCI,CONCATENATE(\"\", 'WH - FCI'!A41),\"\")","v":""},false,"Y"]
["$WH1_4.2.1.ROW24COL2",{"$f":"IF(R_WHFCI,CONCATENATE(\"\", 'WH - FCI'!B41),\"\")","v":""},false,"Y"]
["$WH1_4.2.1.ROW24COL3",{"$f":"IF(R_WHFCI,CONCATENATE(\"\", 'WH - FCI'!C41),\"\")","v":""},false,"Y"]
["$WH1_4.2.1.ROW24COL4",{"$f":"IF(R_WHFCI,CONCATENATE(\"\", 'WH - FCI'!D41),\"\")","v":""},false,"Y"]
["$WH1_4.2.1.ROW24COL5",{"$f":"IF(R_WHFCI,CONCATENATE(\"\", 'WH - FCI'!E41),\"\")","v":""},false,"Y"]
["$WH1_4.2.1.ROW24COL6",{"$f":"IF(R_WHFCI,CONCATENATE(\"\", 'WH - FCI'!F41),\"\")","v":""},false,"Y"]
["$WH1_4.2.1.ROW24COL7",{"$f":"IF(R_WHFCI,CONCATENATE(\"\", 'WH - FCI'!G41),\"\")","v":""},false,"Y"]
["$WH1_4.2.1.ROW24COL8",{"$f":"IF(R_WHFCI,CONCATENATE(\"\", 'WH - FCI'!H41),\"\")","v":""},false,"Y"]
["$WH1_4.2.1.ROW24COL9",{"$f":"IF(R_WHFCI,CONCATENATE(\"\", 'WH - FCI'!I41),\"\")","v":""},false,"Y"]
["$WH1_4.2.1.ROW24COL10",{"$f":"IF(R_WHFCI,CONCATENATE(\"\", 'WH - FCI'!J41),\"\")","v":""},false,"Y"]
["$WH1_4.2.1.ROW24COL11",{"$f":"IF(R_WHFCI,CONCATENATE(\"\", 'WH - FCI'!K41),\"\")","v":""},false,"Y"]
["$WH1_4.2.1.ROW25COL1",{"$f":"IF(R_WHFCI,CONCATENATE(\"\", 'WH - FCI'!A42),\"\")","v":""},false,"Y"]
["$WH1_4.2.1.ROW25COL2",{"$f":"IF(R_WHFCI,CONCATENATE(\"\", 'WH - FCI'!B42),\"\")","v":""},false,"Y"]
["$WH1_4.2.1.ROW25COL3",{"$f":"IF(R_WHFCI,CONCATENATE(\"\", 'WH - FCI'!C42),\"\")","v":""},false,"Y"]
["$WH1_4.2.1.ROW25COL4",{"$f":"IF(R_WHFCI,CONCATENATE(\"\", 'WH - FCI'!D42),\"\")","v":""},false,"Y"]
["$WH1_4.2.1.ROW25COL5",{"$f":"IF(R_WHFCI,CONCATENATE(\"\", 'WH - FCI'!E42),\"\")","v":""},false,"Y"]
["$WH1_4.2.1.ROW25COL6",{"$f":"IF(R_WHFCI,CONCATENATE(\"\", 'WH - FCI'!F42),\"\")","v":""},false,"Y"]
["$WH1_4.2.1.ROW25COL7",{"$f":"IF(R_WHFCI,CONCATENATE(\"\", 'WH - FCI'!G42),\"\")","v":""},false,"Y"]
["$WH1_4.2.1.ROW25COL8",{"$f":"IF(R_WHFCI,CONCATENATE(\"\", 'WH - FCI'!H42),\"\")","v":""},false,"Y"]
["$WH1_4.2.1.ROW25COL9",{"$f":"IF(R_WHFCI,CONCATENATE(\"\", 'WH - FCI'!I42),\"\")","v":""},false,"Y"]
["$WH1_4.2.1.ROW25COL10",{"$f":"IF(R_WHFCI,CONCATENATE(\"\", 'WH - FCI'!J42),\"\")","v":""},false,"Y"]
["$WH1_4.2.1.ROW25COL11",{"$f":"IF(R_WHFCI,CONCATENATE(\"\", 'WH - FCI'!K42),\"\")","v":""},false,"Y"]
["$WH1_4.2.1.ROW26COL1",{"$f":"IF(R_WHFCI,CONCATENATE(\"\", 'WH - FCI'!A43),\"\")","v":""},false,"Y"]
["$WH1_4.2.1.ROW26COL2",{"$f":"IF(R_WHFCI,CONCATENATE(\"\", 'WH - FCI'!B43),\"\")","v":""},false,"Y"]
["$WH1_4.2.1.ROW26COL3",{"$f":"IF(R_WHFCI,CONCATENATE(\"\", 'WH - FCI'!C43),\"\")","v":""},false,"Y"]
["$WH1_4.2.1.ROW26COL4",{"$f":"IF(R_WHFCI,CONCATENATE(\"\", 'WH - FCI'!D43),\"\")","v":""},false,"Y"]
["$WH1_4.2.1.ROW26COL5",{"$f":"IF(R_WHFCI,CONCATENATE(\"\", 'WH - FCI'!E43),\"\")","v":""},false,"Y"]
["$WH1_4.2.1.ROW26COL6",{"$f":"IF(R_WHFCI,CONCATENATE(\"\", 'WH - FCI'!F43),\"\")","v":""},false,"Y"]
["$WH1_4.2.1.ROW26COL7",{"$f":"IF(R_WHFCI,CONCATENATE(\"\", 'WH - FCI'!G43),\"\")","v":""},false,"Y"]
["$WH1_4.2.1.ROW26COL8",{"$f":"IF(R_WHFCI,CONCATENATE(\"\", 'WH - FCI'!H43),\"\")","v":""},false,"Y"]
["$WH1_4.2.1.ROW26COL9",{"$f":"IF(R_WHFCI,CONCATENATE(\"\", 'WH - FCI'!I43),\"\")","v":""},false,"Y"]
["$WH1_4.2.1.ROW26COL10",{"$f":"IF(R_WHFCI,CONCATENATE(\"\", 'WH - FCI'!J43),\"\")","v":""},false,"Y"]
["$WH1_4.2.1.ROW26COL11",{"$f":"IF(R_WHFCI,CONCATENATE(\"\", 'WH - FCI'!K43),\"\")","v":""},false,"Y"]
["$WH1_4.2.1.ROW27COL1",{"$f":"IF(R_WHFCI,CONCATENATE(\"\", 'WH - FCI'!A44),\"\")","v":""},false,"Y"]
["$WH1_4.2.1.ROW27COL2",{"$f":"IF(R_WHFCI,CONCATENATE(\"\", 'WH - FCI'!B44),\"\")","v":""},false,"Y"]
["$WH1_4.2.1.ROW27COL3",{"$f":"IF(R_WHFCI,CONCATENATE(\"\", 'WH - FCI'!C44),\"\")","v":""},false,"Y"]
["$WH1_4.2.1.ROW27COL4",{"$f":"IF(R_WHFCI,CONCATENATE(\"\", 'WH - FCI'!D44),\"\")","v":""},false,"Y"]
["$WH1_4.2.1.ROW27COL5",{"$f":"IF(R_WHFCI,CONCATENATE(\"\", 'WH - FCI'!E44),\"\")","v":""},false,"Y"]
["$WH1_4.2.1.ROW27COL6",{"$f":"IF(R_WHFCI,CONCATENATE(\"\", 'WH - FCI'!F44),\"\")","v":""},false,"Y"]
["$WH1_4.2.1.ROW27COL7",{"$f":"IF(R_WHFCI,CONCATENATE(\"\", 'WH - FCI'!G44),\"\")","v":""},false,"Y"]
["$WH1_4.2.1.ROW27COL8",{"$f":"IF(R_WHFCI,CONCATENATE(\"\", 'WH - FCI'!H44),\"\")","v":""},false,"Y"]
["$WH1_4.2.1.ROW27COL9",{"$f":"IF(R_WHFCI,CONCATENATE(\"\", 'WH - FCI'!I44),\"\")","v":""},false,"Y"]
["$WH1_4.2.1.ROW27COL10",{"$f":"IF(R_WHFCI,CONCATENATE(\"\", 'WH - FCI'!J44),\"\")","v":""},false,"Y"]
["$WH1_4.2.1.ROW27COL11",{"$f":"IF(R_WHFCI,CONCATENATE(\"\", 'WH - FCI'!K44),\"\")","v":""},false,"Y"]
["$WH1_4.2.1.ROW28COL1",{"$f":"IF(R_WHFCI,CONCATENATE(\"\", 'WH - FCI'!A45),\"\")","v":""},{"$f":"ISERROR(B2622)","v":false},"Y"]
["$WH1_4.2.1.ROW28COL2",{"$f":"IF(R_WHFCI,CONCATENATE(\"\", 'WH - FCI'!B45),\"\")","v":""},false,"Y"]
["$WH1_4.2.1.ROW28COL3",{"$f":"IF(R_WHFCI,CONCATENATE(\"\", 'WH - FCI'!C45),\"\")","v":""},false,"Y"]
["$WH1_4.2.1.ROW28COL4",{"$f":"IF(R_WHFCI,CONCATENATE(\"\", 'WH - FCI'!D45),\"\")","v":""},false,"Y"]
["$WH1_4.2.1.ROW28COL5",{"$f":"IF(R_WHFCI,CONCATENATE(\"\", 'WH - FCI'!E45),\"\")","v":""},false,"Y"]
["$WH1_4.2.1.ROW28COL6",{"$f":"IF(R_WHFCI,CONCATENATE(\"\", 'WH - FCI'!F45),\"\")","v":""},false,"Y"]
["$WH1_4.2.1.ROW28COL7",{"$f":"IF(R_WHFCI,CONCATENATE(\"\", 'WH - FCI'!G45),\"\")","v":""},false,"Y"]
["$WH1_4.2.1.ROW28COL8",{"$f":"IF(R_WHFCI,CONCATENATE(\"\", 'WH - FCI'!H45),\"\")","v":""},false,"Y"]
["$WH1_4.2.1.ROW28COL9",{"$f":"IF(R_WHFCI,CONCATENATE(\"\", 'WH - FCI'!I45),\"\")","v":""},false,"Y"]
["$WH1_4.2.1.ROW28COL10",{"$f":"IF(R_WHFCI,CONCATENATE(\"\", 'WH - FCI'!J45),\"\")","v":""},false,"Y"]
["$WH1_4.2.1.ROW28COL11",{"$f":"IF(R_WHFCI,CONCATENATE(\"\", 'WH - FCI'!K45),\"\")","v":""},false,"Y"]
["$WH1_4.2.1.ROW29COL1",{"$f":"IF(R_WHFCI,CONCATENATE(\"\", 'WH - FCI'!A46),\"\")","v":""},false,"Y"]
["$WH1_4.2.1.ROW29COL2",{"$f":"IF(R_WHFCI,CONCATENATE(\"\", 'WH - FCI'!B46),\"\")","v":""},false,"Y"]
["$WH1_4.2.1.ROW29COL3",{"$f":"IF(R_WHFCI,CONCATENATE(\"\", 'WH - FCI'!C46),\"\")","v":""},false,"Y"]
["$WH1_4.2.1.ROW29COL4",{"$f":"IF(R_WHFCI,CONCATENATE(\"\", 'WH - FCI'!D46),\"\")","v":""},false,"Y"]
["$WH1_4.2.1.ROW29COL5",{"$f":"IF(R_WHFCI,CONCATENATE(\"\", 'WH - FCI'!E46),\"\")","v":""},false,"Y"]
["$WH1_4.2.1.ROW29COL6",{"$f":"IF(R_WHFCI,CONCATENATE(\"\", 'WH - FCI'!F46),\"\")","v":""},false,"Y"]
["$WH1_4.2.1.ROW29COL7",{"$f":"IF(R_WHFCI,CONCATENATE(\"\", 'WH - FCI'!G46),\"\")","v":""},false,"Y"]
["$WH1_4.2.1.ROW29COL8",{"$f":"IF(R_WHFCI,CONCATENATE(\"\", 'WH - FCI'!H46),\"\")","v":""},false,"Y"]
["$WH1_4.2.1.ROW29COL9",{"$f":"IF(R_WHFCI,CONCATENATE(\"\", 'WH - FCI'!I46),\"\")","v":""},false,"Y"]
["$WH1_4.2.1.ROW29COL10",{"$f":"IF(R_WHFCI,CONCATENATE(\"\", 'WH - FCI'!J46),\"\")","v":""},false,"Y"]
["$WH1_4.2.1.ROW29COL11",{"$f":"IF(R_WHFCI,CONCATENATE(\"\", 'WH - FCI'!K46),\"\")","v":""},false,"Y"]
["$WH1_4.2.1.ROW30COL1",{"$f":"IF(R_WHFCI,CONCATENATE(\"\", 'WH - FCI'!A47),\"\")","v":""},false,"Y"]
["$WH1_4.2.1.ROW30COL2",{"$f":"IF(R_WHFCI,CONCATENATE(\"\", 'WH - FCI'!B47),\"\")","v":""},false,"Y"]
["$WH1_4.2.1.ROW30COL3",{"$f":"IF(R_WHFCI,CONCATENATE(\"\", 'WH - FCI'!C47),\"\")","v":""},false,"Y"]
["$WH1_4.2.1.ROW30COL4",{"$f":"IF(R_WHFCI,CONCATENATE(\"\", 'WH - FCI'!D47),\"\")","v":""},false,"Y"]
["$WH1_4.2.1.ROW30COL5",{"$f":"IF(R_WHFCI,CONCATENATE(\"\", 'WH - FCI'!E47),\"\")","v":""},false,"Y"]
["$WH1_4.2.1.ROW30COL6",{"$f":"IF(R_WHFCI,CONCATENATE(\"\", 'WH - FCI'!F47),\"\")","v":""},false,"Y"]
["$WH1_4.2.1.ROW30COL7",{"$f":"IF(R_WHFCI,CONCATENATE(\"\", 'WH - FCI'!G47),\"\")","v":""},false,"Y"]
["$WH1_4.2.1.ROW30COL8",{"$f":"IF(R_WHFCI,CONCATENATE(\"\", 'WH - FCI'!H47),\"\")","v":""},false,"Y"]
["$WH1_4.2.1.ROW30COL9",{"$f":"IF(R_WHFCI,CONCATENATE(\"\", 'WH - FCI'!I47),\"\")","v":""},false,"Y"]
["$WH1_4.2.1.ROW30COL10",{"$f":"IF(R_WHFCI,CONCATENATE(\"\", 'WH - FCI'!J47),\"\")","v":""},false,"Y"]
["$WH1_4.2.1.ROW30COL11",{"$f":"IF(R_WHFCI,CONCATENATE(\"\", 'WH - FCI'!K47),\"\")","v":""},false,"Y"]
["$WH1_4.2.1.ROW31COL1",{"$f":"IF(R_WHFCI,CONCATENATE(\"\", 'WH - FCI'!A48),\"\")","v":""},false,"Y"]
["$WH1_4.2.1.ROW31COL2",{"$f":"IF(R_WHFCI,CONCATENATE(\"\", 'WH - FCI'!B48),\"\")","v":""},false,"Y"]
["$WH1_4.2.1.ROW31COL3",{"$f":"IF(R_WHFCI,CONCATENATE(\"\", 'WH - FCI'!C48),\"\")","v":""},false,"Y"]
["$WH1_4.2.1.ROW31COL4",{"$f":"IF(R_WHFCI,CONCATENATE(\"\", 'WH - FCI'!D48),\"\")","v":""},false,"Y"]
["$WH1_4.2.1.ROW31COL5",{"$f":"IF(R_WHFCI,CONCATENATE(\"\", 'WH - FCI'!E48),\"\")","v":""},false,"Y"]
["$WH1_4.2.1.ROW31COL6",{"$f":"IF(R_WHFCI,CONCATENATE(\"\", 'WH - FCI'!F48),\"\")","v":""},false,"Y"]
["$WH1_4.2.1.ROW31COL7",{"$f":"IF(R_WHFCI,CONCATENATE(\"\", 'WH - FCI'!G48),\"\")","v":""},false,"Y"]
["$WH1_4.2.1.ROW31COL8",{"$f":"IF(R_WHFCI,CONCATENATE(\"\", 'WH - FCI'!H48),\"\")","v":""},false,"Y"]
["$WH1_4.2.1.ROW31COL9",{"$f":"IF(R_WHFCI,CONCATENATE(\"\", 'WH - FCI'!I48),\"\")","v":""},false,"Y"]
["$WH1_4.2.1.ROW31COL10",{"$f":"IF(R_WHFCI,CONCATENATE(\"\", 'WH - FCI'!J48),\"\")","v":""},false,"Y"]
["$WH1_4.2.1.ROW31COL11",{"$f":"IF(R_WHFCI,CONCATENATE(\"\", 'WH - FCI'!K48),\"\")","v":""},false,"Y"]
["$WH1_4.2.1.ROW32COL1",{"$f":"IF(R_WHFCI,CONCATENATE(\"\", 'WH - FCI'!A49),\"\")","v":""},false,"Y"]
["$WH1_4.2.1.ROW32COL2",{"$f":"IF(R_WHFCI,CONCATENATE(\"\", 'WH - FCI'!B49),\"\")","v":""},false,"Y"]
["$WH1_4.2.1.ROW32COL3",{"$f":"IF(R_WHFCI,CONCATENATE(\"\", 'WH - FCI'!C49),\"\")","v":""},false,"Y"]
["$WH1_4.2.1.ROW32COL4",{"$f":"IF(R_WHFCI,CONCATENATE(\"\", 'WH - FCI'!D49),\"\")","v":""},false,"Y"]
["$WH1_4.2.1.ROW32COL5",{"$f":"IF(R_WHFCI,CONCATENATE(\"\", 'WH - FCI'!E49),\"\")","v":""},false,"Y"]
["$WH1_4.2.1.ROW32COL6",{"$f":"IF(R_WHFCI,CONCATENATE(\"\", 'WH - FCI'!F49),\"\")","v":""},false,"Y"]
["$WH1_4.2.1.ROW32COL7",{"$f":"IF(R_WHFCI,CONCATENATE(\"\", 'WH - FCI'!G49),\"\")","v":""},false,"Y"]
["$WH1_4.2.1.ROW32COL8",{"$f":"IF(R_WHFCI,CONCATENATE(\"\", 'WH - FCI'!H49),\"\")","v":""},false,"Y"]
["$WH1_4.2.1.ROW32COL9",{"$f":"IF(R_WHFCI,CONCATENATE(\"\", 'WH - FCI'!I49),\"\")","v":""},false,"Y"]
["$WH1_4.2.1.ROW32COL10",{"$f":"IF(R_WHFCI,CONCATENATE(\"\", 'WH - FCI'!J49),\"\")","v":""},false,"Y"]
["$WH1_4.2.1.ROW32COL11",{"$f":"IF(R_WHFCI,CONCATENATE(\"\", 'WH - FCI'!K49),\"\")","v":""},false,"Y"]
["$WH1_4.2.1.ROW33COL1",{"$f":"IF(R_WHFCI,CONCATENATE(\"\", 'WH - FCI'!A50),\"\")","v":""},false,"Y"]
["$WH1_4.2.1.ROW33COL2",{"$f":"IF(R_WHFCI,CONCATENATE(\"\", 'WH - FCI'!B50),\"\")","v":""},false,"Y"]
["$WH1_4.2.1.ROW33COL3",{"$f":"IF(R_WHFCI,CONCATENATE(\"\", 'WH - FCI'!C50),\"\")","v":""},false,"Y"]
["$WH1_4.2.1.ROW33COL4",{"$f":"IF(R_WHFCI,CONCATENATE(\"\", 'WH - FCI'!D50),\"\")","v":""},false,"Y"]
["$WH1_4.2.1.ROW33COL5",{"$f":"IF(R_WHFCI,CONCATENATE(\"\", 'WH - FCI'!E50),\"\")","v":""},false,"Y"]
["$WH1_4.2.1.ROW33COL6",{"$f":"IF(R_WHFCI,CONCATENATE(\"\", 'WH - FCI'!F50),\"\")","v":""},false,"Y"]
["$WH1_4.2.1.ROW33COL7",{"$f":"IF(R_WHFCI,CONCATENATE(\"\", 'WH - FCI'!G50),\"\")","v":""},false,"Y"]
["$WH1_4.2.1.ROW33COL8",{"$f":"IF(R_WHFCI,CONCATENATE(\"\", 'WH - FCI'!H50),\"\")","v":""},false,"Y"]
["$WH1_4.2.1.ROW33COL9",{"$f":"IF(R_WHFCI,CONCATENATE(\"\", 'WH - FCI'!I50),\"\")","v":""},false,"Y"]
["$WH1_4.2.1.ROW33COL10",{"$f":"IF(R_WHFCI,CONCATENATE(\"\", 'WH - FCI'!J50),\"\")","v":""},{"$f":"ISERROR(B2686)","v":false},"Y"]
["$WH1_4.2.1.ROW33COL11",{"$f":"IF(R_WHFCI,CONCATENATE(\"\", 'WH - FCI'!K50),\"\")","v":""},false,"Y"]
["$WH1_4.2.1.ROW34COL1",{"$f":"IF(R_WHFCI,CONCATENATE(\"\", 'WH - FCI'!A51),\"\")","v":""},false,"Y"]
["$WH1_4.2.1.ROW34COL2",{"$f":"IF(R_WHFCI,CONCATENATE(\"\", 'WH - FCI'!B51),\"\")","v":""},false,"Y"]
["$WH1_4.2.1.ROW34COL3",{"$f":"IF(R_WHFCI,CONCATENATE(\"\", 'WH - FCI'!C51),\"\")","v":""},false,"Y"]
["$WH1_4.2.1.ROW34COL4",{"$f":"IF(R_WHFCI,CONCATENATE(\"\", 'WH - FCI'!D51),\"\")","v":""},false,"Y"]
["$WH1_4.2.1.ROW34COL5",{"$f":"IF(R_WHFCI,CONCATENATE(\"\", 'WH - FCI'!E51),\"\")","v":""},false,"Y"]
["$WH1_4.2.1.ROW34COL6",{"$f":"IF(R_WHFCI,CONCATENATE(\"\", 'WH - FCI'!F51),\"\")","v":""},false,"Y"]
["$WH1_4.2.1.ROW34COL7",{"$f":"IF(R_WHFCI,CONCATENATE(\"\", 'WH - FCI'!G51),\"\")","v":""},false,"Y"]
["$WH1_4.2.1.ROW34COL8",{"$f":"IF(R_WHFCI,CONCATENATE(\"\", 'WH - FCI'!H51),\"\")","v":""},false,"Y"]
["$WH1_4.2.1.ROW34COL9",{"$f":"IF(R_WHFCI,CONCATENATE(\"\", 'WH - FCI'!I51),\"\")","v":""},false,"Y"]
["$WH1_4.2.1.ROW34COL10",{"$f":"IF(R_WHFCI,CONCATENATE(\"\", 'WH - FCI'!J51),\"\")","v":""},false,"Y"]
["$WH1_4.2.1.ROW34COL11",{"$f":"IF(R_WHFCI,CONCATENATE(\"\", 'WH - FCI'!K51),\"\")","v":""},false,"Y"]
["$WH1_4.2.1.ROW35COL1",{"$f":"IF(R_WHFCI,CONCATENATE(\"\", 'WH - FCI'!A52),\"\")","v":""},false,"Y"]
["$WH1_4.2.1.ROW35COL2",{"$f":"IF(R_WHFCI,CONCATENATE(\"\", 'WH - FCI'!B52),\"\")","v":""},false,"Y"]
["$WH1_4.2.1.ROW35COL3",{"$f":"IF(R_WHFCI,CONCATENATE(\"\", 'WH - FCI'!C52),\"\")","v":""},false,"Y"]
["$WH1_4.2.1.ROW35COL4",{"$f":"IF(R_WHFCI,CONCATENATE(\"\", 'WH - FCI'!D52),\"\")","v":""},false,"Y"]
["$WH1_4.2.1.ROW35COL5",{"$f":"IF(R_WHFCI,CONCATENATE(\"\", 'WH - FCI'!E52),\"\")","v":""},false,"Y"]
["$WH1_4.2.1.ROW35COL6",{"$f":"IF(R_WHFCI,CONCATENATE(\"\", 'WH - FCI'!F52),\"\")","v":""},false,"Y"]
["$WH1_4.2.1.ROW35COL7",{"$f":"IF(R_WHFCI,CONCATENATE(\"\", 'WH - FCI'!G52),\"\")","v":""},false,"Y"]
["$WH1_4.2.1.ROW35COL8",{"$f":"IF(R_WHFCI,CONCATENATE(\"\", 'WH - FCI'!H52),\"\")","v":""},false,"Y"]
["$WH1_4.2.1.ROW35COL9",{"$f":"IF(R_WHFCI,CONCATENATE(\"\", 'WH - FCI'!I52),\"\")","v":""},false,"Y"]
["$WH1_4.2.1.ROW35COL10",{"$f":"IF(R_WHFCI,CONCATENATE(\"\", 'WH - FCI'!J52),\"\")","v":""},false,"Y"]
["$WH1_4.2.1.ROW35COL11",{"$f":"IF(R_WHFCI,CONCATENATE(\"\", 'WH - FCI'!K52),\"\")","v":""},false,"Y"]
["$WH1_4.2.1.ROW36COL1",{"$f":"IF(R_WHFCI,CONCATENATE(\"\", 'WH - FCI'!A53),\"\")","v":""},false,"Y"]
["$WH1_4.2.1.ROW36COL2",{"$f":"IF(R_WHFCI,CONCATENATE(\"\", 'WH - FCI'!B53),\"\")","v":""},false,"Y"]
["$WH1_4.2.1.ROW36COL3",{"$f":"IF(R_WHFCI,CONCATENATE(\"\", 'WH - FCI'!C53),\"\")","v":""},false,"Y"]
["$WH1_4.2.1.ROW36COL4",{"$f":"IF(R_WHFCI,CONCATENATE(\"\", 'WH - FCI'!D53),\"\")","v":""},false,"Y"]
["$WH1_4.2.1.ROW36COL5",{"$f":"IF(R_WHFCI,CONCATENATE(\"\", 'WH - FCI'!E53),\"\")","v":""},false,"Y"]
["$WH1_4.2.1.ROW36COL6",{"$f":"IF(R_WHFCI,CONCATENATE(\"\", 'WH - FCI'!F53),\"\")","v":""},false,"Y"]
["$WH1_4.2.1.ROW36COL7",{"$f":"IF(R_WHFCI,CONCATENATE(\"\", 'WH - FCI'!G53),\"\")","v":""},false,"Y"]
["$WH1_4.2.1.ROW36COL8",{"$f":"IF(R_WHFCI,CONCATENATE(\"\", 'WH - FCI'!H53),\"\")","v":""},false,"Y"]
["$WH1_4.2.1.ROW36COL9",{"$f":"IF(R_WHFCI,CONCATENATE(\"\", 'WH - FCI'!I53),\"\")","v":""},false,"Y"]
["$WH1_4.2.1.ROW36COL10",{"$f":"IF(R_WHFCI,CONCATENATE(\"\", 'WH - FCI'!J53),\"\")","v":""},false,"Y"]
["$WH1_4.2.1.ROW36COL11",{"$f":"IF(R_WHFCI,CONCATENATE(\"\", 'WH - FCI'!K53),\"\")","v":""},false,"Y"]
["$WH1_4.2.1.ROW37COL1",{"$f":"IF(R_WHFCI,CONCATENATE(\"\", 'WH - FCI'!A54),\"\")","v":""},false,"Y"]
["$WH1_4.2.1.ROW37COL2",{"$f":"IF(R_WHFCI,CONCATENATE(\"\", 'WH - FCI'!B54),\"\")","v":""},false,"Y"]
["$WH1_4.2.1.ROW37COL3",{"$f":"IF(R_WHFCI,CONCATENATE(\"\", 'WH - FCI'!C54),\"\")","v":""},false,"Y"]
["$WH1_4.2.1.ROW37COL4",{"$f":"IF(R_WHFCI,CONCATENATE(\"\", 'WH - FCI'!D54),\"\")","v":""},false,"Y"]
["$WH1_4.2.1.ROW37COL5",{"$f":"IF(R_WHFCI,CONCATENATE(\"\", 'WH - FCI'!E54),\"\")","v":""},false,"Y"]
["$WH1_4.2.1.ROW37COL6",{"$f":"IF(R_WHFCI,CONCATENATE(\"\", 'WH - FCI'!F54),\"\")","v":""},false,"Y"]
["$WH1_4.2.1.ROW37COL7",{"$f":"IF(R_WHFCI,CONCATENATE(\"\", 'WH - FCI'!G54),\"\")","v":""},false,"Y"]
["$WH1_4.2.1.ROW37COL8",{"$f":"IF(R_WHFCI,CONCATENATE(\"\", 'WH - FCI'!H54),\"\")","v":""},false,"Y"]
["$WH1_4.2.1.ROW37COL9",{"$f":"IF(R_WHFCI,CONCATENATE(\"\", 'WH - FCI'!I54),\"\")","v":""},false,"Y"]
["$WH1_4.2.1.ROW37COL10",{"$f":"IF(R_WHFCI,CONCATENATE(\"\", 'WH - FCI'!J54),\"\")","v":""},false,"Y"]
["$WH1_4.2.1.ROW37COL11",{"$f":"IF(R_WHFCI,CONCATENATE(\"\", 'WH - FCI'!K54),\"\")","v":""},false,"Y"]
["$WH1_4.2.1.ROW38COL1",{"$f":"IF(R_WHFCI,CONCATENATE(\"\", 'WH - FCI'!A55),\"\")","v":""},false,"Y"]
["$WH1_4.2.1.ROW38COL2",{"$f":"IF(R_WHFCI,CONCATENATE(\"\", 'WH - FCI'!B55),\"\")","v":""},false,"Y"]
["$WH1_4.2.1.ROW38COL3",{"$f":"IF(R_WHFCI,CONCATENATE(\"\", 'WH - FCI'!C55),\"\")","v":""},false,"Y"]
["$WH1_4.2.1.ROW38COL4",{"$f":"IF(R_WHFCI,CONCATENATE(\"\", 'WH - FCI'!D55),\"\")","v":""},false,"Y"]
["$WH1_4.2.1.ROW38COL5",{"$f":"IF(R_WHFCI,CONCATENATE(\"\", 'WH - FCI'!E55),\"\")","v":""},false,"Y"]
["$WH1_4.2.1.ROW38COL6",{"$f":"IF(R_WHFCI,CONCATENATE(\"\", 'WH - FCI'!F55),\"\")","v":""},false,"Y"]
["$WH1_4.2.1.ROW38COL7",{"$f":"IF(R_WHFCI,CONCATENATE(\"\", 'WH - FCI'!G55),\"\")","v":""},false,"Y"]
["$WH1_4.2.1.ROW38COL8",{"$f":"IF(R_WHFCI,CONCATENATE(\"\", 'WH - FCI'!H55),\"\")","v":""},false,"Y"]
["$WH1_4.2.1.ROW38COL9",{"$f":"IF(R_WHFCI,CONCATENATE(\"\", 'WH - FCI'!I55),\"\")","v":""},false,"Y"]
["$WH1_4.2.1.ROW38COL10",{"$f":"IF(R_WHFCI,CONCATENATE(\"\", 'WH - FCI'!J55),\"\")","v":""},false,"Y"]
["$WH1_4.2.1.ROW38COL11",{"$f":"IF(R_WHFCI,CONCATENATE(\"\", 'WH - FCI'!K55),\"\")","v":""},false,"Y"]
["$WH1_4.2.1.ROW39COL1",{"$f":"IF(R_WHFCI,CONCATENATE(\"\", 'WH - FCI'!A56),\"\")","v":""},false,"Y"]
["$WH1_4.2.1.ROW39COL2",{"$f":"IF(R_WHFCI,CONCATENATE(\"\", 'WH - FCI'!B56),\"\")","v":""},false,"Y"]
["$WH1_4.2.1.ROW39COL3",{"$f":"IF(R_WHFCI,CONCATENATE(\"\", 'WH - FCI'!C56),\"\")","v":""},false,"Y"]
["$WH1_4.2.1.ROW39COL4",{"$f":"IF(R_WHFCI,CONCATENATE(\"\", 'WH - FCI'!D56),\"\")","v":""},false,"Y"]
["$WH1_4.2.1.ROW39COL5",{"$f":"IF(R_WHFCI,CONCATENATE(\"\", 'WH - FCI'!E56),\"\")","v":""},false,"Y"]
["$WH1_4.2.1.ROW39COL6",{"$f":"IF(R_WHFCI,CONCATENATE(\"\", 'WH - FCI'!F56),\"\")","v":""},false,"Y"]
["$WH1_4.2.1.ROW39COL7",{"$f":"IF(R_WHFCI,CONCATENATE(\"\", 'WH - FCI'!G56),\"\")","v":""},false,"Y"]
["$WH1_4.2.1.ROW39COL8",{"$f":"IF(R_WHFCI,CONCATENATE(\"\", 'WH - FCI'!H56),\"\")","v":""},{"$f":"ISERROR(B2750)","v":false},"Y"]
["$WH1_4.2.1.ROW39COL9",{"$f":"IF(R_WHFCI,CONCATENATE(\"\", 'WH - FCI'!I56),\"\")","v":""},false,"Y"]
["$WH1_4.2.1.ROW39COL10",{"$f":"IF(R_WHFCI,CONCATENATE(\"\", 'WH - FCI'!J56),\"\")","v":""},false,"Y"]
["$WH1_4.2.1.ROW39COL11",{"$f":"IF(R_WHFCI,CONCATENATE(\"\", 'WH - FCI'!K56),\"\")","v":""},false,"Y"]
["$WH1_4.2.1.ROW40COL1",{"$f":"IF(R_WHFCI,CONCATENATE(\"\", 'WH - FCI'!A57),\"\")","v":""},false,"Y"]
["$WH1_4.2.1.ROW40COL2",{"$f":"IF(R_WHFCI,CONCATENATE(\"\", 'WH - FCI'!B57),\"\")","v":""},false,"Y"]
["$WH1_4.2.1.ROW40COL3",{"$f":"IF(R_WHFCI,CONCATENATE(\"\", 'WH - FCI'!C57),\"\")","v":""},false,"Y"]
["$WH1_4.2.1.ROW40COL4",{"$f":"IF(R_WHFCI,CONCATENATE(\"\", 'WH - FCI'!D57),\"\")","v":""},false,"Y"]
["$WH1_4.2.1.ROW40COL5",{"$f":"IF(R_WHFCI,CONCATENATE(\"\", 'WH - FCI'!E57),\"\")","v":""},false,"Y"]
["$WH1_4.2.1.ROW40COL6",{"$f":"IF(R_WHFCI,CONCATENATE(\"\", 'WH - FCI'!F57),\"\")","v":""},false,"Y"]
["$WH1_4.2.1.ROW40COL7",{"$f":"IF(R_WHFCI,CONCATENATE(\"\", 'WH - FCI'!G57),\"\")","v":""},false,"Y"]
["$WH1_4.2.1.ROW40COL8",{"$f":"IF(R_WHFCI,CONCATENATE(\"\", 'WH - FCI'!H57),\"\")","v":""},false,"Y"]
["$WH1_4.2.1.ROW40COL9",{"$f":"IF(R_WHFCI,CONCATENATE(\"\", 'WH - FCI'!I57),\"\")","v":""},false,"Y"]
["$WH1_4.2.1.ROW40COL10",{"$f":"IF(R_WHFCI,CONCATENATE(\"\", 'WH - FCI'!J57),\"\")","v":""},false,"Y"]
["$WH1_4.2.1.ROW40COL11",{"$f":"IF(R_WHFCI,CONCATENATE(\"\", 'WH - FCI'!K57),\"\")","v":""},false,"Y"]
["$WH1_4.2.1.ROW41COL1",{"$f":"IF(R_WHFCI,CONCATENATE(\"\", 'WH - FCI'!A58),\"\")","v":""},false,"Y"]
["$WH1_4.2.1.ROW41COL2",{"$f":"IF(R_WHFCI,CONCATENATE(\"\", 'WH - FCI'!B58),\"\")","v":""},false,"Y"]
["$WH1_4.2.1.ROW41COL3",{"$f":"IF(R_WHFCI,CONCATENATE(\"\", 'WH - FCI'!C58),\"\")","v":""},false,"Y"]
["$WH1_4.2.1.ROW41COL4",{"$f":"IF(R_WHFCI,CONCATENATE(\"\", 'WH - FCI'!D58),\"\")","v":""},false,"Y"]
["$WH1_4.2.1.ROW41COL5",{"$f":"IF(R_WHFCI,CONCATENATE(\"\", 'WH - FCI'!E58),\"\")","v":""},false,"Y"]
["$WH1_4.2.1.ROW41COL6",{"$f":"IF(R_WHFCI,CONCATENATE(\"\", 'WH - FCI'!F58),\"\")","v":""},false,"Y"]
["$WH1_4.2.1.ROW41COL7",{"$f":"IF(R_WHFCI,CONCATENATE(\"\", 'WH - FCI'!G58),\"\")","v":""},false,"Y"]
["$WH1_4.2.1.ROW41COL8",{"$f":"IF(R_WHFCI,CONCATENATE(\"\", 'WH - FCI'!H58),\"\")","v":""},false,"Y"]
["$WH1_4.2.1.ROW41COL9",{"$f":"IF(R_WHFCI,CONCATENATE(\"\", 'WH - FCI'!I58),\"\")","v":""},false,"Y"]
["$WH1_4.2.1.ROW41COL10",{"$f":"IF(R_WHFCI,CONCATENATE(\"\", 'WH - FCI'!J58),\"\")","v":""},false,"Y"]
["$WH1_4.2.1.ROW41COL11",{"$f":"IF(R_WHFCI,CONCATENATE(\"\", 'WH - FCI'!K58),\"\")","v":""},false,"Y"]
["$WH1_4.2.1.ROW42COL1",{"$f":"IF(R_WHFCI,CONCATENATE(\"\", 'WH - FCI'!A59),\"\")","v":""},false,"Y"]
["$WH1_4.2.1.ROW42COL2",{"$f":"IF(R_WHFCI,CONCATENATE(\"\", 'WH - FCI'!B59),\"\")","v":""},false,"Y"]
["$WH1_4.2.1.ROW42COL3",{"$f":"IF(R_WHFCI,CONCATENATE(\"\", 'WH - FCI'!C59),\"\")","v":""},false,"Y"]
["$WH1_4.2.1.ROW42COL4",{"$f":"IF(R_WHFCI,CONCATENATE(\"\", 'WH - FCI'!D59),\"\")","v":""},false,"Y"]
["$WH1_4.2.1.ROW42COL5",{"$f":"IF(R_WHFCI,CONCATENATE(\"\", 'WH - FCI'!E59),\"\")","v":""},false,"Y"]
["$WH1_4.2.1.ROW42COL6",{"$f":"IF(R_WHFCI,CONCATENATE(\"\", 'WH - FCI'!F59),\"\")","v":""},false,"Y"]
["$WH1_4.2.1.ROW42COL7",{"$f":"IF(R_WHFCI,CONCATENATE(\"\", 'WH - FCI'!G59),\"\")","v":""},false,"Y"]
["$WH1_4.2.1.ROW42COL8",{"$f":"IF(R_WHFCI,CONCATENATE(\"\", 'WH - FCI'!H59),\"\")","v":""},false,"Y"]
["$WH1_4.2.1.ROW42COL9",{"$f":"IF(R_WHFCI,CONCATENATE(\"\", 'WH - FCI'!I59),\"\")","v":""},false,"Y"]
["$WH1_4.2.1.ROW42COL10",{"$f":"IF(R_WHFCI,CONCATENATE(\"\", 'WH - FCI'!J59),\"\")","v":""},false,"Y"]
["$WH1_4.2.1.ROW42COL11",{"$f":"IF(R_WHFCI,CONCATENATE(\"\", 'WH - FCI'!K59),\"\")","v":""},false,"Y"]
["$WH1_4.2.1.ROW43COL1",{"$f":"IF(R_WHFCI,CONCATENATE(\"\", 'WH - FCI'!A60),\"\")","v":""},false,"Y"]
["$WH1_4.2.1.ROW43COL2",{"$f":"IF(R_WHFCI,CONCATENATE(\"\", 'WH - FCI'!B60),\"\")","v":""},false,"Y"]
["$WH1_4.2.1.ROW43COL3",{"$f":"IF(R_WHFCI,CONCATENATE(\"\", 'WH - FCI'!C60),\"\")","v":""},false,"Y"]
["$WH1_4.2.1.ROW43COL4",{"$f":"IF(R_WHFCI,CONCATENATE(\"\", 'WH - FCI'!D60),\"\")","v":""},false,"Y"]
["$WH1_4.2.1.ROW43COL5",{"$f":"IF(R_WHFCI,CONCATENATE(\"\", 'WH - FCI'!E60),\"\")","v":""},false,"Y"]
["$WH1_4.2.1.ROW43COL6",{"$f":"IF(R_WHFCI,CONCATENATE(\"\", 'WH - FCI'!F60),\"\")","v":""},false,"Y"]
["$WH1_4.2.1.ROW43COL7",{"$f":"IF(R_WHFCI,CONCATENATE(\"\", 'WH - FCI'!G60),\"\")","v":""},false,"Y"]
["$WH1_4.2.1.ROW43COL8",{"$f":"IF(R_WHFCI,CONCATENATE(\"\", 'WH - FCI'!H60),\"\")","v":""},false,"Y"]
["$WH1_4.2.1.ROW43COL9",{"$f":"IF(R_WHFCI,CONCATENATE(\"\", 'WH - FCI'!I60),\"\")","v":""},false,"Y"]
["$WH1_4.2.1.ROW43COL10",{"$f":"IF(R_WHFCI,CONCATENATE(\"\", 'WH - FCI'!J60),\"\")","v":""},false,"Y"]
["$WH1_4.2.1.ROW43COL11",{"$f":"IF(R_WHFCI,CONCATENATE(\"\", 'WH - FCI'!K60),\"\")","v":""},false,"Y"]
["$WH1_4.2.1.ROW44COL1",{"$f":"IF(R_WHFCI,CONCATENATE(\"\", 'WH - FCI'!A61),\"\")","v":""},false,"Y"]
["$WH1_4.2.1.ROW44COL2",{"$f":"IF(R_WHFCI,CONCATENATE(\"\", 'WH - FCI'!B61),\"\")","v":""},false,"Y"]
["$WH1_4.2.1.ROW44COL3",{"$f":"IF(R_WHFCI,CONCATENATE(\"\", 'WH - FCI'!C61),\"\")","v":""},false,"Y"]
["$WH1_4.2.1.ROW44COL4",{"$f":"IF(R_WHFCI,CONCATENATE(\"\", 'WH - FCI'!D61),\"\")","v":""},false,"Y"]
["$WH1_4.2.1.ROW44COL5",{"$f":"IF(R_WHFCI,CONCATENATE(\"\", 'WH - FCI'!E61),\"\")","v":""},false,"Y"]
["$WH1_4.2.1.ROW44COL6",{"$f":"IF(R_WHFCI,CONCATENATE(\"\", 'WH - FCI'!F61),\"\")","v":""},false,"Y"]
["$WH1_4.2.1.ROW44COL7",{"$f":"IF(R_WHFCI,CONCATENATE(\"\", 'WH - FCI'!G61),\"\")","v":""},false,"Y"]
["$WH1_4.2.1.ROW44COL8",{"$f":"IF(R_WHFCI,CONCATENATE(\"\", 'WH - FCI'!H61),\"\")","v":""},false,"Y"]
["$WH1_4.2.1.ROW44COL9",{"$f":"IF(R_WHFCI,CONCATENATE(\"\", 'WH - FCI'!I61),\"\")","v":""},false,"Y"]
["$WH1_4.2.1.ROW44COL10",{"$f":"IF(R_WHFCI,CONCATENATE(\"\", 'WH - FCI'!J61),\"\")","v":""},false,"Y"]
["$WH1_4.2.1.ROW44COL11",{"$f":"IF(R_WHFCI,CONCATENATE(\"\", 'WH - FCI'!K61),\"\")","v":""},false,"Y"]
["$WH1_4.2.1.ROW45COL1",{"$f":"IF(R_WHFCI,CONCATENATE(\"\", 'WH - FCI'!A62),\"\")","v":""},false,"Y"]
["$WH1_4.2.1.ROW45COL2",{"$f":"IF(R_WHFCI,CONCATENATE(\"\", 'WH - FCI'!B62),\"\")","v":""},false,"Y"]
["$WH1_4.2.1.ROW45COL3",{"$f":"IF(R_WHFCI,CONCATENATE(\"\", 'WH - FCI'!C62),\"\")","v":""},false,"Y"]
["$WH1_4.2.1.ROW45COL4",{"$f":"IF(R_WHFCI,CONCATENATE(\"\", 'WH - FCI'!D62),\"\")","v":""},false,"Y"]
["$WH1_4.2.1.ROW45COL5",{"$f":"IF(R_WHFCI,CONCATENATE(\"\", 'WH - FCI'!E62),\"\")","v":""},false,"Y"]
["$WH1_4.2.1.ROW45COL6",{"$f":"IF(R_WHFCI,CONCATENATE(\"\", 'WH - FCI'!F62),\"\")","v":""},{"$f":"ISERROR(B2814)","v":false},"Y"]
["$WH1_4.2.1.ROW45COL7",{"$f":"IF(R_WHFCI,CONCATENATE(\"\", 'WH - FCI'!G62),\"\")","v":""},false,"Y"]
["$WH1_4.2.1.ROW45COL8",{"$f":"IF(R_WHFCI,CONCATENATE(\"\", 'WH - FCI'!H62),\"\")","v":""},false,"Y"]
["$WH1_4.2.1.ROW45COL9",{"$f":"IF(R_WHFCI,CONCATENATE(\"\", 'WH - FCI'!I62),\"\")","v":""},false,"Y"]
["$WH1_4.2.1.ROW45COL10",{"$f":"IF(R_WHFCI,CONCATENATE(\"\", 'WH - FCI'!J62),\"\")","v":""},false,"Y"]
["$WH1_4.2.1.ROW45COL11",{"$f":"IF(R_WHFCI,CONCATENATE(\"\", 'WH - FCI'!K62),\"\")","v":""},false,"Y"]
["$WH1_4.2.1.ROW46COL1",{"$f":"IF(R_WHFCI,CONCATENATE(\"\", 'WH - FCI'!A63),\"\")","v":""},false,"Y"]
["$WH1_4.2.1.ROW46COL2",{"$f":"IF(R_WHFCI,CONCATENATE(\"\", 'WH - FCI'!B63),\"\")","v":""},false,"Y"]
["$WH1_4.2.1.ROW46COL3",{"$f":"IF(R_WHFCI,CONCATENATE(\"\", 'WH - FCI'!C63),\"\")","v":""},false,"Y"]
["$WH1_4.2.1.ROW46COL4",{"$f":"IF(R_WHFCI,CONCATENATE(\"\", 'WH - FCI'!D63),\"\")","v":""},false,"Y"]
["$WH1_4.2.1.ROW46COL5",{"$f":"IF(R_WHFCI,CONCATENATE(\"\", 'WH - FCI'!E63),\"\")","v":""},false,"Y"]
["$WH1_4.2.1.ROW46COL6",{"$f":"IF(R_WHFCI,CONCATENATE(\"\", 'WH - FCI'!F63),\"\")","v":""},false,"Y"]
["$WH1_4.2.1.ROW46COL7",{"$f":"IF(R_WHFCI,CONCATENATE(\"\", 'WH - FCI'!G63),\"\")","v":""},false,"Y"]
["$WH1_4.2.1.ROW46COL8",{"$f":"IF(R_WHFCI,CONCATENATE(\"\", 'WH - FCI'!H63),\"\")","v":""},false,"Y"]
["$WH1_4.2.1.ROW46COL9",{"$f":"IF(R_WHFCI,CONCATENATE(\"\", 'WH - FCI'!I63),\"\")","v":""},false,"Y"]
["$WH1_4.2.1.ROW46COL10",{"$f":"IF(R_WHFCI,CONCATENATE(\"\", 'WH - FCI'!J63),\"\")","v":""},false,"Y"]
["$WH1_4.2.1.ROW46COL11",{"$f":"IF(R_WHFCI,CONCATENATE(\"\", 'WH - FCI'!K63),\"\")","v":""},false,"Y"]
["$WH1_4.2.1.ROW47COL1",{"$f":"IF(R_WHFCI,CONCATENATE(\"\", 'WH - FCI'!A64),\"\")","v":""},false,"Y"]
["$WH1_4.2.1.ROW47COL2",{"$f":"IF(R_WHFCI,CONCATENATE(\"\", 'WH - FCI'!B64),\"\")","v":""},false,"Y"]
["$WH1_4.2.1.ROW47COL3",{"$f":"IF(R_WHFCI,CONCATENATE(\"\", 'WH - FCI'!C64),\"\")","v":""},false,"Y"]
["$WH1_4.2.1.ROW47COL4",{"$f":"IF(R_WHFCI,CONCATENATE(\"\", 'WH - FCI'!D64),\"\")","v":""},false,"Y"]
["$WH1_4.2.1.ROW47COL5",{"$f":"IF(R_WHFCI,CONCATENATE(\"\", 'WH - FCI'!E64),\"\")","v":""},false,"Y"]
["$WH1_4.2.1.ROW47COL6",{"$f":"IF(R_WHFCI,CONCATENATE(\"\", 'WH - FCI'!F64),\"\")","v":""},false,"Y"]
["$WH1_4.2.1.ROW47COL7",{"$f":"IF(R_WHFCI,CONCATENATE(\"\", 'WH - FCI'!G64),\"\")","v":""},false,"Y"]
["$WH1_4.2.1.ROW47COL8",{"$f":"IF(R_WHFCI,CONCATENATE(\"\", 'WH - FCI'!H64),\"\")","v":""},false,"Y"]
["$WH1_4.2.1.ROW47COL9",{"$f":"IF(R_WHFCI,CONCATENATE(\"\", 'WH - FCI'!I64),\"\")","v":""},false,"Y"]
["$WH1_4.2.1.ROW47COL10",{"$f":"IF(R_WHFCI,CONCATENATE(\"\", 'WH - FCI'!J64),\"\")","v":""},false,"Y"]
["$WH1_4.2.1.ROW47COL11",{"$f":"IF(R_WHFCI,CONCATENATE(\"\", 'WH - FCI'!K64),\"\")","v":""},false,"Y"]
["$WH1_4.2.1.ROW48COL1",{"$f":"IF(R_WHFCI,CONCATENATE(\"\", 'WH - FCI'!A65),\"\")","v":""},false,"Y"]
["$WH1_4.2.1.ROW48COL2",{"$f":"IF(R_WHFCI,CONCATENATE(\"\", 'WH - FCI'!B65),\"\")","v":""},false,"Y"]
["$WH1_4.2.1.ROW48COL3",{"$f":"IF(R_WHFCI,CONCATENATE(\"\", 'WH - FCI'!C65),\"\")","v":""},false,"Y"]
["$WH1_4.2.1.ROW48COL4",{"$f":"IF(R_WHFCI,CONCATENATE(\"\", 'WH - FCI'!D65),\"\")","v":""},false,"Y"]
["$WH1_4.2.1.ROW48COL5",{"$f":"IF(R_WHFCI,CONCATENATE(\"\", 'WH - FCI'!E65),\"\")","v":""},false,"Y"]
["$WH1_4.2.1.ROW48COL6",{"$f":"IF(R_WHFCI,CONCATENATE(\"\", 'WH - FCI'!F65),\"\")","v":""},false,"Y"]
["$WH1_4.2.1.ROW48COL7",{"$f":"IF(R_WHFCI,CONCATENATE(\"\", 'WH - FCI'!G65),\"\")","v":""},false,"Y"]
["$WH1_4.2.1.ROW48COL8",{"$f":"IF(R_WHFCI,CONCATENATE(\"\", 'WH - FCI'!H65),\"\")","v":""},false,"Y"]
["$WH1_4.2.1.ROW48COL9",{"$f":"IF(R_WHFCI,CONCATENATE(\"\", 'WH - FCI'!I65),\"\")","v":""},false,"Y"]
["$WH1_4.2.1.ROW48COL10",{"$f":"IF(R_WHFCI,CONCATENATE(\"\", 'WH - FCI'!J65),\"\")","v":""},false,"Y"]
["$WH1_4.2.1.ROW48COL11",{"$f":"IF(R_WHFCI,CONCATENATE(\"\", 'WH - FCI'!K65),\"\")","v":""},false,"Y"]
["$WH1_4.2.1.ROW49COL1",{"$f":"IF(R_WHFCI,CONCATENATE(\"\", 'WH - FCI'!A66),\"\")","v":""},false,"Y"]
["$WH1_4.2.1.ROW49COL2",{"$f":"IF(R_WHFCI,CONCATENATE(\"\", 'WH - FCI'!B66),\"\")","v":""},false,"Y"]
["$WH1_4.2.1.ROW49COL3",{"$f":"IF(R_WHFCI,CONCATENATE(\"\", 'WH - FCI'!C66),\"\")","v":""},false,"Y"]
["$WH1_4.2.1.ROW49COL4",{"$f":"IF(R_WHFCI,CONCATENATE(\"\", 'WH - FCI'!D66),\"\")","v":""},false,"Y"]
["$WH1_4.2.1.ROW49COL5",{"$f":"IF(R_WHFCI,CONCATENATE(\"\", 'WH - FCI'!E66),\"\")","v":""},false,"Y"]
["$WH1_4.2.1.ROW49COL6",{"$f":"IF(R_WHFCI,CONCATENATE(\"\", 'WH - FCI'!F66),\"\")","v":""},false,"Y"]
["$WH1_4.2.1.ROW49COL7",{"$f":"IF(R_WHFCI,CONCATENATE(\"\", 'WH - FCI'!G66),\"\")","v":""},false,"Y"]
["$WH1_4.2.1.ROW49COL8",{"$f":"IF(R_WHFCI,CONCATENATE(\"\", 'WH - FCI'!H66),\"\")","v":""},false,"Y"]
["$WH1_4.2.1.ROW49COL9",{"$f":"IF(R_WHFCI,CONCATENATE(\"\", 'WH - FCI'!I66),\"\")","v":""},false,"Y"]
["$WH1_4.2.1.ROW49COL10",{"$f":"IF(R_WHFCI,CONCATENATE(\"\", 'WH - FCI'!J66),\"\")","v":""},false,"Y"]
["$WH1_4.2.1.ROW49COL11",{"$f":"IF(R_WHFCI,CONCATENATE(\"\", 'WH - FCI'!K66),\"\")","v":""},false,"Y"]
["$WH1_4.2.1.ROW50COL1",{"$f":"IF(R_WHFCI,CONCATENATE(\"\", 'WH - FCI'!A67),\"\")","v":""},false,"Y"]
["$WH1_4.2.1.ROW50COL2",{"$f":"IF(R_WHFCI,CONCATENATE(\"\", 'WH - FCI'!B67),\"\")","v":""},false,"Y"]
["$WH1_4.2.1.ROW50COL3",{"$f":"IF(R_WHFCI,CONCATENATE(\"\", 'WH - FCI'!C67),\"\")","v":""},false,"Y"]
["$WH1_4.2.1.ROW50COL4",{"$f":"IF(R_WHFCI,CONCATENATE(\"\", 'WH - FCI'!D67),\"\")","v":""},false,"Y"]
["$WH1_4.2.1.ROW50COL5",{"$f":"IF(R_WHFCI,CONCATENATE(\"\", 'WH - FCI'!E67),\"\")","v":""},false,"Y"]
["$WH1_4.2.1.ROW50COL6",{"$f":"IF(R_WHFCI,CONCATENATE(\"\", 'WH - FCI'!F67),\"\")","v":""},false,"Y"]
["$WH1_4.2.1.ROW50COL7",{"$f":"IF(R_WHFCI,CONCATENATE(\"\", 'WH - FCI'!G67),\"\")","v":""},false,"Y"]
["$WH1_4.2.1.ROW50COL8",{"$f":"IF(R_WHFCI,CONCATENATE(\"\", 'WH - FCI'!H67),\"\")","v":""},false,"Y"]
["$WH1_4.2.1.ROW50COL9",{"$f":"IF(R_WHFCI,CONCATENATE(\"\", 'WH - FCI'!I67),\"\")","v":""},false,"Y"]
["$WH1_4.2.1.ROW50COL10",{"$f":"IF(R_WHFCI,CONCATENATE(\"\", 'WH - FCI'!J67),\"\")","v":""},false,"Y"]
["$WH1_4.2.1.ROW50COL11",{"$f":"IF(R_WHFCI,CONCATENATE(\"\", 'WH - FCI'!K67),\"\")","v":""},false,"Y"]
["$WH1_4.2.1.ROW51COL1",{"$f":"IF(R_WHFCI,CONCATENATE(\"\", 'WH - FCI'!A68),\"\")","v":""},false,"Y"]
["$WH1_4.2.1.ROW51COL2",{"$f":"IF(R_WHFCI,CONCATENATE(\"\", 'WH - FCI'!B68),\"\")","v":""},false,"Y"]
["$WH1_4.2.1.ROW51COL3",{"$f":"IF(R_WHFCI,CONCATENATE(\"\", 'WH - FCI'!C68),\"\")","v":""},false,"Y"]
["$WH1_4.2.1.ROW51COL4",{"$f":"IF(R_WHFCI,CONCATENATE(\"\", 'WH - FCI'!D68),\"\")","v":""},{"$f":"ISERROR(B2878)","v":false},"Y"]
["$WH1_4.2.1.ROW51COL5",{"$f":"IF(R_WHFCI,CONCATENATE(\"\", 'WH - FCI'!E68),\"\")","v":""},false,"Y"]
["$WH1_4.2.1.ROW51COL6",{"$f":"IF(R_WHFCI,CONCATENATE(\"\", 'WH - FCI'!F68),\"\")","v":""},false,"Y"]
["$WH1_4.2.1.ROW51COL7",{"$f":"IF(R_WHFCI,CONCATENATE(\"\", 'WH - FCI'!G68),\"\")","v":""},false,"Y"]
["$WH1_4.2.1.ROW51COL8",{"$f":"IF(R_WHFCI,CONCATENATE(\"\", 'WH - FCI'!H68),\"\")","v":""},false,"Y"]
["$WH1_4.2.1.ROW51COL9",{"$f":"IF(R_WHFCI,CONCATENATE(\"\", 'WH - FCI'!I68),\"\")","v":""},false,"Y"]
["$WH1_4.2.1.ROW51COL10",{"$f":"IF(R_WHFCI,CONCATENATE(\"\", 'WH - FCI'!J68),\"\")","v":""},false,"Y"]
["$WH1_4.2.1.ROW51COL11",{"$f":"IF(R_WHFCI,CONCATENATE(\"\", 'WH - FCI'!K68),\"\")","v":""},false,"Y"]
["$WH1_4.2.1.ROW52COL1",{"$f":"IF(R_WHFCI,CONCATENATE(\"\", 'WH - FCI'!A69),\"\")","v":""},false,"Y"]
["$WH1_4.2.1.ROW52COL2",{"$f":"IF(R_WHFCI,CONCATENATE(\"\", 'WH - FCI'!B69),\"\")","v":""},false,"Y"]
["$WH1_4.2.1.ROW52COL3",{"$f":"IF(R_WHFCI,CONCATENATE(\"\", 'WH - FCI'!C69),\"\")","v":""},false,"Y"]
["$WH1_4.2.1.ROW52COL4",{"$f":"IF(R_WHFCI,CONCATENATE(\"\", 'WH - FCI'!D69),\"\")","v":""},false,"Y"]
["$WH1_4.2.1.ROW52COL5",{"$f":"IF(R_WHFCI,CONCATENATE(\"\", 'WH - FCI'!E69),\"\")","v":""},false,"Y"]
["$WH1_4.2.1.ROW52COL6",{"$f":"IF(R_WHFCI,CONCATENATE(\"\", 'WH - FCI'!F69),\"\")","v":""},false,"Y"]
["$WH1_4.2.1.ROW52COL7",{"$f":"IF(R_WHFCI,CONCATENATE(\"\", 'WH - FCI'!G69),\"\")","v":""},false,"Y"]
["$WH1_4.2.1.ROW52COL8",{"$f":"IF(R_WHFCI,CONCATENATE(\"\", 'WH - FCI'!H69),\"\")","v":""},false,"Y"]
["$WH1_4.2.1.ROW52COL9",{"$f":"IF(R_WHFCI,CONCATENATE(\"\", 'WH - FCI'!I69),\"\")","v":""},false,"Y"]
["$WH1_4.2.1.ROW52COL10",{"$f":"IF(R_WHFCI,CONCATENATE(\"\", 'WH - FCI'!J69),\"\")","v":""},false,"Y"]
["$WH1_4.2.1.ROW52COL11",{"$f":"IF(R_WHFCI,CONCATENATE(\"\", 'WH - FCI'!K69),\"\")","v":""},false,"Y"]
["$WH1_4.2.1.ROW53COL1",{"$f":"IF(R_WHFCI,CONCATENATE(\"\", 'WH - FCI'!A70),\"\")","v":""},false,"Y"]
["$WH1_4.2.1.ROW53COL2",{"$f":"IF(R_WHFCI,CONCATENATE(\"\", 'WH - FCI'!B70),\"\")","v":""},false,"Y"]
["$WH1_4.2.1.ROW53COL3",{"$f":"IF(R_WHFCI,CONCATENATE(\"\", 'WH - FCI'!C70),\"\")","v":""},false,"Y"]
["$WH1_4.2.1.ROW53COL4",{"$f":"IF(R_WHFCI,CONCATENATE(\"\", 'WH - FCI'!D70),\"\")","v":""},false,"Y"]
["$WH1_4.2.1.ROW53COL5",{"$f":"IF(R_WHFCI,CONCATENATE(\"\", 'WH - FCI'!E70),\"\")","v":""},false,"Y"]
["$WH1_4.2.1.ROW53COL6",{"$f":"IF(R_WHFCI,CONCATENATE(\"\", 'WH - FCI'!F70),\"\")","v":""},false,"Y"]
["$WH1_4.2.1.ROW53COL7",{"$f":"IF(R_WHFCI,CONCATENATE(\"\", 'WH - FCI'!G70),\"\")","v":""},false,"Y"]
["$WH1_4.2.1.ROW53COL8",{"$f":"IF(R_WHFCI,CONCATENATE(\"\", 'WH - FCI'!H70),\"\")","v":""},false,"Y"]
["$WH1_4.2.1.ROW53COL9",{"$f":"IF(R_WHFCI,CONCATENATE(\"\", 'WH - FCI'!I70),\"\")","v":""},false,"Y"]
["$WH1_4.2.1.ROW53COL10",{"$f":"IF(R_WHFCI,CONCATENATE(\"\", 'WH - FCI'!J70),\"\")","v":""},false,"Y"]
["$WH1_4.2.1.ROW53COL11",{"$f":"IF(R_WHFCI,CONCATENATE(\"\", 'WH - FCI'!K70),\"\")","v":""},false,"Y"]
["$WH1_4.2.1.ROW54COL1",{"$f":"IF(R_WHFCI,CONCATENATE(\"\", 'WH - FCI'!A71),\"\")","v":""},false,"Y"]
["$WH1_4.2.1.ROW54COL2",{"$f":"IF(R_WHFCI,CONCATENATE(\"\", 'WH - FCI'!B71),\"\")","v":""},false,"Y"]
["$WH1_4.2.1.ROW54COL3",{"$f":"IF(R_WHFCI,CONCATENATE(\"\", 'WH - FCI'!C71),\"\")","v":""},false,"Y"]
["$WH1_4.2.1.ROW54COL4",{"$f":"IF(R_WHFCI,CONCATENATE(\"\", 'WH - FCI'!D71),\"\")","v":""},false,"Y"]
["$WH1_4.2.1.ROW54COL5",{"$f":"IF(R_WHFCI,CONCATENATE(\"\", 'WH - FCI'!E71),\"\")","v":""},false,"Y"]
["$WH1_4.2.1.ROW54COL6",{"$f":"IF(R_WHFCI,CONCATENATE(\"\", 'WH - FCI'!F71),\"\")","v":""},false,"Y"]
["$WH1_4.2.1.ROW54COL7",{"$f":"IF(R_WHFCI,CONCATENATE(\"\", 'WH - FCI'!G71),\"\")","v":""},false,"Y"]
["$WH1_4.2.1.ROW54COL8",{"$f":"IF(R_WHFCI,CONCATENATE(\"\", 'WH - FCI'!H71),\"\")","v":""},false,"Y"]
["$WH1_4.2.1.ROW54COL9",{"$f":"IF(R_WHFCI,CONCATENATE(\"\", 'WH - FCI'!I71),\"\")","v":""},false,"Y"]
["$WH1_4.2.1.ROW54COL10",{"$f":"IF(R_WHFCI,CONCATENATE(\"\", 'WH - FCI'!J71),\"\")","v":""},false,"Y"]
["$WH1_4.2.1.ROW54COL11",{"$f":"IF(R_WHFCI,CONCATENATE(\"\", 'WH - FCI'!K71),\"\")","v":""},false,"Y"]
["$WH1_4.2.1.ROW55COL1",{"$f":"IF(R_WHFCI,CONCATENATE(\"\", 'WH - FCI'!A72),\"\")","v":""},false,"Y"]
["$WH1_4.2.1.ROW55COL2",{"$f":"IF(R_WHFCI,CONCATENATE(\"\", 'WH - FCI'!B72),\"\")","v":""},false,"Y"]
["$WH1_4.2.1.ROW55COL3",{"$f":"IF(R_WHFCI,CONCATENATE(\"\", 'WH - FCI'!C72),\"\")","v":""},false,"Y"]
["$WH1_4.2.1.ROW55COL4",{"$f":"IF(R_WHFCI,CONCATENATE(\"\", 'WH - FCI'!D72),\"\")","v":""},false,"Y"]
["$WH1_4.2.1.ROW55COL5",{"$f":"IF(R_WHFCI,CONCATENATE(\"\", 'WH - FCI'!E72),\"\")","v":""},false,"Y"]
["$WH1_4.2.1.ROW55COL6",{"$f":"IF(R_WHFCI,CONCATENATE(\"\", 'WH - FCI'!F72),\"\")","v":""},false,"Y"]
["$WH1_4.2.1.ROW55COL7",{"$f":"IF(R_WHFCI,CONCATENATE(\"\", 'WH - FCI'!G72),\"\")","v":""},false,"Y"]
["$WH1_4.2.1.ROW55COL8",{"$f":"IF(R_WHFCI,CONCATENATE(\"\", 'WH - FCI'!H72),\"\")","v":""},false,"Y"]
["$WH1_4.2.1.ROW55COL9",{"$f":"IF(R_WHFCI,CONCATENATE(\"\", 'WH - FCI'!I72),\"\")","v":""},false,"Y"]
["$WH1_4.2.1.ROW55COL10",{"$f":"IF(R_WHFCI,CONCATENATE(\"\", 'WH - FCI'!J72),\"\")","v":""},false,"Y"]
["$WH1_4.2.1.ROW55COL11",{"$f":"IF(R_WHFCI,CONCATENATE(\"\", 'WH - FCI'!K72),\"\")","v":""},false,"Y"]
["$WH1_4.2.1.ROW56COL1",{"$f":"IF(R_WHFCI,CONCATENATE(\"\", 'WH - FCI'!A73),\"\")","v":""},false,"Y"]
["$WH1_4.2.1.ROW56COL2",{"$f":"IF(R_WHFCI,CONCATENATE(\"\", 'WH - FCI'!B73),\"\")","v":""},false,"Y"]
["$WH1_4.2.1.ROW56COL3",{"$f":"IF(R_WHFCI,CONCATENATE(\"\", 'WH - FCI'!C73),\"\")","v":""},false,"Y"]
["$WH1_4.2.1.ROW56COL4",{"$f":"IF(R_WHFCI,CONCATENATE(\"\", 'WH - FCI'!D73),\"\")","v":""},false,"Y"]
["$WH1_4.2.1.ROW56COL5",{"$f":"IF(R_WHFCI,CONCATENATE(\"\", 'WH - FCI'!E73),\"\")","v":""},false,"Y"]
["$WH1_4.2.1.ROW56COL6",{"$f":"IF(R_WHFCI,CONCATENATE(\"\", 'WH - FCI'!F73),\"\")","v":""},false,"Y"]
["$WH1_4.2.1.ROW56COL7",{"$f":"IF(R_WHFCI,CONCATENATE(\"\", 'WH - FCI'!G73),\"\")","v":""},false,"Y"]
["$WH1_4.2.1.ROW56COL8",{"$f":"IF(R_WHFCI,CONCATENATE(\"\", 'WH - FCI'!H73),\"\")","v":""},false,"Y"]
["$WH1_4.2.1.ROW56COL9",{"$f":"IF(R_WHFCI,CONCATENATE(\"\", 'WH - FCI'!I73),\"\")","v":""},false,"Y"]
["$WH1_4.2.1.ROW56COL10",{"$f":"IF(R_WHFCI,CONCATENATE(\"\", 'WH - FCI'!J73),\"\")","v":""},false,"Y"]
["$WH1_4.2.1.ROW56COL11",{"$f":"IF(R_WHFCI,CONCATENATE(\"\", 'WH - FCI'!K73),\"\")","v":""},false,"Y"]
["$WH1_4.2.1.ROW57COL1",{"$f":"IF(R_WHFCI,CONCATENATE(\"\", 'WH - FCI'!A74),\"\")","v":""},false,"Y"]
["$WH1_4.2.1.ROW57COL2",{"$f":"IF(R_WHFCI,CONCATENATE(\"\", 'WH - FCI'!B74),\"\")","v":""},{"$f":"ISERROR(B2942)","v":false},"Y"]
["$WH1_4.2.1.ROW57COL3",{"$f":"IF(R_WHFCI,CONCATENATE(\"\", 'WH - FCI'!C74),\"\")","v":""},false,"Y"]
["$WH1_4.2.1.ROW57COL4",{"$f":"IF(R_WHFCI,CONCATENATE(\"\", 'WH - FCI'!D74),\"\")","v":""},false,"Y"]
["$WH1_4.2.1.ROW57COL5",{"$f":"IF(R_WHFCI,CONCATENATE(\"\", 'WH - FCI'!E74),\"\")","v":""},false,"Y"]
["$WH1_4.2.1.ROW57COL6",{"$f":"IF(R_WHFCI,CONCATENATE(\"\", 'WH - FCI'!F74),\"\")","v":""},false,"Y"]
["$WH1_4.2.1.ROW57COL7",{"$f":"IF(R_WHFCI,CONCATENATE(\"\", 'WH - FCI'!G74),\"\")","v":""},false,"Y"]
["$WH1_4.2.1.ROW57COL8",{"$f":"IF(R_WHFCI,CONCATENATE(\"\", 'WH - FCI'!H74),\"\")","v":""},false,"Y"]
["$WH1_4.2.1.ROW57COL9",{"$f":"IF(R_WHFCI,CONCATENATE(\"\", 'WH - FCI'!I74),\"\")","v":""},false,"Y"]
["$WH1_4.2.1.ROW57COL10",{"$f":"IF(R_WHFCI,CONCATENATE(\"\", 'WH - FCI'!J74),\"\")","v":""},false,"Y"]
["$WH1_4.2.1.ROW57COL11",{"$f":"IF(R_WHFCI,CONCATENATE(\"\", 'WH - FCI'!K74),\"\")","v":""},false,"Y"]
["$WH1_4.2.1.ROW58COL1",{"$f":"IF(R_WHFCI,CONCATENATE(\"\", 'WH - FCI'!A75),\"\")","v":""},false,"Y"]
["$WH1_4.2.1.ROW58COL2",{"$f":"IF(R_WHFCI,CONCATENATE(\"\", 'WH - FCI'!B75),\"\")","v":""},false,"Y"]
["$WH1_4.2.1.ROW58COL3",{"$f":"IF(R_WHFCI,CONCATENATE(\"\", 'WH - FCI'!C75),\"\")","v":""},false,"Y"]
["$WH1_4.2.1.ROW58COL4",{"$f":"IF(R_WHFCI,CONCATENATE(\"\", 'WH - FCI'!D75),\"\")","v":""},false,"Y"]
["$WH1_4.2.1.ROW58COL5",{"$f":"IF(R_WHFCI,CONCATENATE(\"\", 'WH - FCI'!E75),\"\")","v":""},false,"Y"]
["$WH1_4.2.1.ROW58COL6",{"$f":"IF(R_WHFCI,CONCATENATE(\"\", 'WH - FCI'!F75),\"\")","v":""},false,"Y"]
["$WH1_4.2.1.ROW58COL7",{"$f":"IF(R_WHFCI,CONCATENATE(\"\", 'WH - FCI'!G75),\"\")","v":""},false,"Y"]
["$WH1_4.2.1.ROW58COL8",{"$f":"IF(R_WHFCI,CONCATENATE(\"\", 'WH - FCI'!H75),\"\")","v":""},false,"Y"]
["$WH1_4.2.1.ROW58COL9",{"$f":"IF(R_WHFCI,CONCATENATE(\"\", 'WH - FCI'!I75),\"\")","v":""},false,"Y"]
["$WH1_4.2.1.ROW58COL10",{"$f":"IF(R_WHFCI,CONCATENATE(\"\", 'WH - FCI'!J75),\"\")","v":""},false,"Y"]
["$WH1_4.2.1.ROW58COL11",{"$f":"IF(R_WHFCI,CONCATENATE(\"\", 'WH - FCI'!K75),\"\")","v":""},false,"Y"]
["$WH1_4.2.1.ROW59COL1",{"$f":"IF(R_WHFCI,CONCATENATE(\"\", 'WH - FCI'!A76),\"\")","v":""},false,"Y"]
["$WH1_4.2.1.ROW59COL2",{"$f":"IF(R_WHFCI,CONCATENATE(\"\", 'WH - FCI'!B76),\"\")","v":""},false,"Y"]
["$WH1_4.2.1.ROW59COL3",{"$f":"IF(R_WHFCI,CONCATENATE(\"\", 'WH - FCI'!C76),\"\")","v":""},false,"Y"]
["$WH1_4.2.1.ROW59COL4",{"$f":"IF(R_WHFCI,CONCATENATE(\"\", 'WH - FCI'!D76),\"\")","v":""},false,"Y"]
["$WH1_4.2.1.ROW59COL5",{"$f":"IF(R_WHFCI,CONCATENATE(\"\", 'WH - FCI'!E76),\"\")","v":""},false,"Y"]
["$WH1_4.2.1.ROW59COL6",{"$f":"IF(R_WHFCI,CONCATENATE(\"\", 'WH - FCI'!F76),\"\")","v":""},false,"Y"]
["$WH1_4.2.1.ROW59COL7",{"$f":"IF(R_WHFCI,CONCATENATE(\"\", 'WH - FCI'!G76),\"\")","v":""},false,"Y"]
["$WH1_4.2.1.ROW59COL8",{"$f":"IF(R_WHFCI,CONCATENATE(\"\", 'WH - FCI'!H76),\"\")","v":""},false,"Y"]
["$WH1_4.2.1.ROW59COL9",{"$f":"IF(R_WHFCI,CONCATENATE(\"\", 'WH - FCI'!I76),\"\")","v":""},false,"Y"]
["$WH1_4.2.1.ROW59COL10",{"$f":"IF(R_WHFCI,CONCATENATE(\"\", 'WH - FCI'!J76),\"\")","v":""},false,"Y"]
["$WH1_4.2.1.ROW59COL11",{"$f":"IF(R_WHFCI,CONCATENATE(\"\", 'WH - FCI'!K76),\"\")","v":""},false,"Y"]
["$WH1_4.2.1.ROW60COL1",{"$f":"IF(R_WHFCI,CONCATENATE(\"\", 'WH - FCI'!A77),\"\")","v":""},false,"Y"]
["$WH1_4.2.1.ROW60COL2",{"$f":"IF(R_WHFCI,CONCATENATE(\"\", 'WH - FCI'!B77),\"\")","v":""},false,"Y"]
["$WH1_4.2.1.ROW60COL3",{"$f":"IF(R_WHFCI,CONCATENATE(\"\", 'WH - FCI'!C77),\"\")","v":""},false,"Y"]
["$WH1_4.2.1.ROW60COL4",{"$f":"IF(R_WHFCI,CONCATENATE(\"\", 'WH - FCI'!D77),\"\")","v":""},false,"Y"]
["$WH1_4.2.1.ROW60COL5",{"$f":"IF(R_WHFCI,CONCATENATE(\"\", 'WH - FCI'!E77),\"\")","v":""},false,"Y"]
["$WH1_4.2.1.ROW60COL6",{"$f":"IF(R_WHFCI,CONCATENATE(\"\", 'WH - FCI'!F77),\"\")","v":""},false,"Y"]
["$WH1_4.2.1.ROW60COL7",{"$f":"IF(R_WHFCI,CONCATENATE(\"\", 'WH - FCI'!G77),\"\")","v":""},false,"Y"]
["$WH1_4.2.1.ROW60COL8",{"$f":"IF(R_WHFCI,CONCATENATE(\"\", 'WH - FCI'!H77),\"\")","v":""},false,"Y"]
["$WH1_4.2.1.ROW60COL9",{"$f":"IF(R_WHFCI,CONCATENATE(\"\", 'WH - FCI'!I77),\"\")","v":""},false,"Y"]
["$WH1_4.2.1.ROW60COL10",{"$f":"IF(R_WHFCI,CONCATENATE(\"\", 'WH - FCI'!J77),\"\")","v":""},false,"Y"]
["$WH1_4.2.1.ROW60COL11",{"$f":"IF(R_WHFCI,CONCATENATE(\"\", 'WH - FCI'!K77),\"\")","v":""},false,"Y"]
["$WH1_4.2.1.ROW61COL1",{"$f":"IF(R_WHFCI,CONCATENATE(\"\", 'WH - FCI'!A78),\"\")","v":""},false,"Y"]
["$WH1_4.2.1.ROW61COL2",{"$f":"IF(R_WHFCI,CONCATENATE(\"\", 'WH - FCI'!B78),\"\")","v":""},false,"Y"]
["$WH1_4.2.1.ROW61COL3",{"$f":"IF(R_WHFCI,CONCATENATE(\"\", 'WH - FCI'!C78),\"\")","v":""},false,"Y"]
["$WH1_4.2.1.ROW61COL4",{"$f":"IF(R_WHFCI,CONCATENATE(\"\", 'WH - FCI'!D78),\"\")","v":""},false,"Y"]
["$WH1_4.2.1.ROW61COL5",{"$f":"IF(R_WHFCI,CONCATENATE(\"\", 'WH - FCI'!E78),\"\")","v":""},false,"Y"]
["$WH1_4.2.1.ROW61COL6",{"$f":"IF(R_WHFCI,CONCATENATE(\"\", 'WH - FCI'!F78),\"\")","v":""},false,"Y"]
["$WH1_4.2.1.ROW61COL7",{"$f":"IF(R_WHFCI,CONCATENATE(\"\", 'WH - FCI'!G78),\"\")","v":""},false,"Y"]
["$WH1_4.2.1.ROW61COL8",{"$f":"IF(R_WHFCI,CONCATENATE(\"\", 'WH - FCI'!H78),\"\")","v":""},false,"Y"]
["$WH1_4.2.1.ROW61COL9",{"$f":"IF(R_WHFCI,CONCATENATE(\"\", 'WH - FCI'!I78),\"\")","v":""},false,"Y"]
["$WH1_4.2.1.ROW61COL10",{"$f":"IF(R_WHFCI,CONCATENATE(\"\", 'WH - FCI'!J78),\"\")","v":""},false,"Y"]
["$WH1_4.2.1.ROW61COL11",{"$f":"IF(R_WHFCI,CONCATENATE(\"\", 'WH - FCI'!K78),\"\")","v":""},false,"Y"]
["$WH1_4.2.1.ROW62COL1",{"$f":"IF(R_WHFCI,CONCATENATE(\"\", 'WH - FCI'!A79),\"\")","v":""},false,"Y"]
["$WH1_4.2.1.ROW62COL2",{"$f":"IF(R_WHFCI,CONCATENATE(\"\", 'WH - FCI'!B79),\"\")","v":""},false,"Y"]
["$WH1_4.2.1.ROW62COL3",{"$f":"IF(R_WHFCI,CONCATENATE(\"\", 'WH - FCI'!C79),\"\")","v":""},false,"Y"]
["$WH1_4.2.1.ROW62COL4",{"$f":"IF(R_WHFCI,CONCATENATE(\"\", 'WH - FCI'!D79),\"\")","v":""},false,"Y"]
["$WH1_4.2.1.ROW62COL5",{"$f":"IF(R_WHFCI,CONCATENATE(\"\", 'WH - FCI'!E79),\"\")","v":""},false,"Y"]
["$WH1_4.2.1.ROW62COL6",{"$f":"IF(R_WHFCI,CONCATENATE(\"\", 'WH - FCI'!F79),\"\")","v":""},false,"Y"]
["$WH1_4.2.1.ROW62COL7",{"$f":"IF(R_WHFCI,CONCATENATE(\"\", 'WH - FCI'!G79),\"\")","v":""},false,"Y"]
["$WH1_4.2.1.ROW62COL8",{"$f":"IF(R_WHFCI,CONCATENATE(\"\", 'WH - FCI'!H79),\"\")","v":""},false,"Y"]
["$WH1_4.2.1.ROW62COL9",{"$f":"IF(R_WHFCI,CONCATENATE(\"\", 'WH - FCI'!I79),\"\")","v":""},false,"Y"]
["$WH1_4.2.1.ROW62COL10",{"$f":"IF(R_WHFCI,CONCATENATE(\"\", 'WH - FCI'!J79),\"\")","v":""},false,"Y"]
["$WH1_4.2.1.ROW62COL11",{"$f":"IF(R_WHFCI,CONCATENATE(\"\", 'WH - FCI'!K79),\"\")","v":""},{"$f":"ISERROR(B3006)","v":false},"Y"]
["$WH1_4.2.1.ROW63COL1",{"$f":"IF(R_WHFCI,CONCATENATE(\"\", 'WH - FCI'!A80),\"\")","v":""},false,"Y"]
["$WH1_4.2.1.ROW63COL2",{"$f":"IF(R_WHFCI,CONCATENATE(\"\", 'WH - FCI'!B80),\"\")","v":""},false,"Y"]
["$WH1_4.2.1.ROW63COL3",{"$f":"IF(R_WHFCI,CONCATENATE(\"\", 'WH - FCI'!C80),\"\")","v":""},false,"Y"]
["$WH1_4.2.1.ROW63COL4",{"$f":"IF(R_WHFCI,CONCATENATE(\"\", 'WH - FCI'!D80),\"\")","v":""},false,"Y"]
["$WH1_4.2.1.ROW63COL5",{"$f":"IF(R_WHFCI,CONCATENATE(\"\", 'WH - FCI'!E80),\"\")","v":""},false,"Y"]
["$WH1_4.2.1.ROW63COL6",{"$f":"IF(R_WHFCI,CONCATENATE(\"\", 'WH - FCI'!F80),\"\")","v":""},false,"Y"]
["$WH1_4.2.1.ROW63COL7",{"$f":"IF(R_WHFCI,CONCATENATE(\"\", 'WH - FCI'!G80),\"\")","v":""},false,"Y"]
["$WH1_4.2.1.ROW63COL8",{"$f":"IF(R_WHFCI,CONCATENATE(\"\", 'WH - FCI'!H80),\"\")","v":""},false,"Y"]
["$WH1_4.2.1.ROW63COL9",{"$f":"IF(R_WHFCI,CONCATENATE(\"\", 'WH - FCI'!I80),\"\")","v":""},false,"Y"]
["$WH1_4.2.1.ROW63COL10",{"$f":"IF(R_WHFCI,CONCATENATE(\"\", 'WH - FCI'!J80),\"\")","v":""},false,"Y"]
["$WH1_4.2.1.ROW63COL11",{"$f":"IF(R_WHFCI,CONCATENATE(\"\", 'WH - FCI'!K80),\"\")","v":""},false,"Y"]
["$WH1_4.2.1.ROW64COL1",{"$f":"IF(R_WHFCI,CONCATENATE(\"\", 'WH - FCI'!A81),\"\")","v":""},false,"Y"]
["$WH1_4.2.1.ROW64COL2",{"$f":"IF(R_WHFCI,CONCATENATE(\"\", 'WH - FCI'!B81),\"\")","v":""},false,"Y"]
["$WH1_4.2.1.ROW64COL3",{"$f":"IF(R_WHFCI,CONCATENATE(\"\", 'WH - FCI'!C81),\"\")","v":""},false,"Y"]
["$WH1_4.2.1.ROW64COL4",{"$f":"IF(R_WHFCI,CONCATENATE(\"\", 'WH - FCI'!D81),\"\")","v":""},false,"Y"]
["$WH1_4.2.1.ROW64COL5",{"$f":"IF(R_WHFCI,CONCATENATE(\"\", 'WH - FCI'!E81),\"\")","v":""},false,"Y"]
["$WH1_4.2.1.ROW64COL6",{"$f":"IF(R_WHFCI,CONCATENATE(\"\", 'WH - FCI'!F81),\"\")","v":""},false,"Y"]
["$WH1_4.2.1.ROW64COL7",{"$f":"IF(R_WHFCI,CONCATENATE(\"\", 'WH - FCI'!G81),\"\")","v":""},false,"Y"]
["$WH1_4.2.1.ROW64COL8",{"$f":"IF(R_WHFCI,CONCATENATE(\"\", 'WH - FCI'!H81),\"\")","v":""},false,"Y"]
["$WH1_4.2.1.ROW64COL9",{"$f":"IF(R_WHFCI,CONCATENATE(\"\", 'WH - FCI'!I81),\"\")","v":""},false,"Y"]
["$WH1_4.2.1.ROW64COL10",{"$f":"IF(R_WHFCI,CONCATENATE(\"\", 'WH - FCI'!J81),\"\")","v":""},false,"Y"]
["$WH1_4.2.1.ROW64COL11",{"$f":"IF(R_WHFCI,CONCATENATE(\"\", 'WH - FCI'!K81),\"\")","v":""},false,"Y"]
["$WH1_4.2.1.ROW65COL1",{"$f":"IF(R_WHFCI,CONCATENATE(\"\", 'WH - FCI'!A82),\"\")","v":""},false,"Y"]
["$WH1_4.2.1.ROW65COL2",{"$f":"IF(R_WHFCI,CONCATENATE(\"\", 'WH - FCI'!B82),\"\")","v":""},false,"Y"]
["$WH1_4.2.1.ROW65COL3",{"$f":"IF(R_WHFCI,CONCATENATE(\"\", 'WH - FCI'!C82),\"\")","v":""},false,"Y"]
["$WH1_4.2.1.ROW65COL4",{"$f":"IF(R_WHFCI,CONCATENATE(\"\", 'WH - FCI'!D82),\"\")","v":""},false,"Y"]
["$WH1_4.2.1.ROW65COL5",{"$f":"IF(R_WHFCI,CONCATENATE(\"\", 'WH - FCI'!E82),\"\")","v":""},false,"Y"]
["$WH1_4.2.1.ROW65COL6",{"$f":"IF(R_WHFCI,CONCATENATE(\"\", 'WH - FCI'!F82),\"\")","v":""},false,"Y"]
["$WH1_4.2.1.ROW65COL7",{"$f":"IF(R_WHFCI,CONCATENATE(\"\", 'WH - FCI'!G82),\"\")","v":""},false,"Y"]
["$WH1_4.2.1.ROW65COL8",{"$f":"IF(R_WHFCI,CONCATENATE(\"\", 'WH - FCI'!H82),\"\")","v":""},false,"Y"]
["$WH1_4.2.1.ROW65COL9",{"$f":"IF(R_WHFCI,CONCATENATE(\"\", 'WH - FCI'!I82),\"\")","v":""},false,"Y"]
["$WH1_4.2.1.ROW65COL10",{"$f":"IF(R_WHFCI,CONCATENATE(\"\", 'WH - FCI'!J82),\"\")","v":""},false,"Y"]
["$WH1_4.2.1.ROW65COL11",{"$f":"IF(R_WHFCI,CONCATENATE(\"\", 'WH - FCI'!K82),\"\")","v":""},false,"Y"]
["$WH1_4.2.1.ROW66COL1",{"$f":"IF(R_WHFCI,CONCATENATE(\"\", 'WH - FCI'!A83),\"\")","v":""},false,"Y"]
["$WH1_4.2.1.ROW66COL2",{"$f":"IF(R_WHFCI,CONCATENATE(\"\", 'WH - FCI'!B83),\"\")","v":""},false,"Y"]
["$WH1_4.2.1.ROW66COL3",{"$f":"IF(R_WHFCI,CONCATENATE(\"\", 'WH - FCI'!C83),\"\")","v":""},false,"Y"]
["$WH1_4.2.1.ROW66COL4",{"$f":"IF(R_WHFCI,CONCATENATE(\"\", 'WH - FCI'!D83),\"\")","v":""},false,"Y"]
["$WH1_4.2.1.ROW66COL5",{"$f":"IF(R_WHFCI,CONCATENATE(\"\", 'WH - FCI'!E83),\"\")","v":""},false,"Y"]
["$WH1_4.2.1.ROW66COL6",{"$f":"IF(R_WHFCI,CONCATENATE(\"\", 'WH - FCI'!F83),\"\")","v":""},false,"Y"]
["$WH1_4.2.1.ROW66COL7",{"$f":"IF(R_WHFCI,CONCATENATE(\"\", 'WH - FCI'!G83),\"\")","v":""},false,"Y"]
["$WH1_4.2.1.ROW66COL8",{"$f":"IF(R_WHFCI,CONCATENATE(\"\", 'WH - FCI'!H83),\"\")","v":""},false,"Y"]
["$WH1_4.2.1.ROW66COL9",{"$f":"IF(R_WHFCI,CONCATENATE(\"\", 'WH - FCI'!I83),\"\")","v":""},false,"Y"]
["$WH1_4.2.1.ROW66COL10",{"$f":"IF(R_WHFCI,CONCATENATE(\"\", 'WH - FCI'!J83),\"\")","v":""},false,"Y"]
["$WH1_4.2.1.ROW66COL11",{"$f":"IF(R_WHFCI,CONCATENATE(\"\", 'WH - FCI'!K83),\"\")","v":""},false,"Y"]
["$WH1_4.2.1.ROW67COL1",{"$f":"IF(R_WHFCI,CONCATENATE(\"\", 'WH - FCI'!A84),\"\")","v":""},false,"Y"]
["$WH1_4.2.1.ROW67COL2",{"$f":"IF(R_WHFCI,CONCATENATE(\"\", 'WH - FCI'!B84),\"\")","v":""},false,"Y"]
["$WH1_4.2.1.ROW67COL3",{"$f":"IF(R_WHFCI,CONCATENATE(\"\", 'WH - FCI'!C84),\"\")","v":""},false,"Y"]
["$WH1_4.2.1.ROW67COL4",{"$f":"IF(R_WHFCI,CONCATENATE(\"\", 'WH - FCI'!D84),\"\")","v":""},false,"Y"]
["$WH1_4.2.1.ROW67COL5",{"$f":"IF(R_WHFCI,CONCATENATE(\"\", 'WH - FCI'!E84),\"\")","v":""},false,"Y"]
["$WH1_4.2.1.ROW67COL6",{"$f":"IF(R_WHFCI,CONCATENATE(\"\", 'WH - FCI'!F84),\"\")","v":""},false,"Y"]
["$WH1_4.2.1.ROW67COL7",{"$f":"IF(R_WHFCI,CONCATENATE(\"\", 'WH - FCI'!G84),\"\")","v":""},false,"Y"]
["$WH1_4.2.1.ROW67COL8",{"$f":"IF(R_WHFCI,CONCATENATE(\"\", 'WH - FCI'!H84),\"\")","v":""},false,"Y"]
["$WH1_4.2.1.ROW67COL9",{"$f":"IF(R_WHFCI,CONCATENATE(\"\", 'WH - FCI'!I84),\"\")","v":""},false,"Y"]
["$WH1_4.2.1.ROW67COL10",{"$f":"IF(R_WHFCI,CONCATENATE(\"\", 'WH - FCI'!J84),\"\")","v":""},false,"Y"]
["$WH1_4.2.1.ROW67COL11",{"$f":"IF(R_WHFCI,CONCATENATE(\"\", 'WH - FCI'!K84),\"\")","v":""},false,"Y"]
["$WH1_4.2.1.ROW68COL1",{"$f":"IF(R_WHFCI,CONCATENATE(\"\", 'WH - FCI'!A85),\"\")","v":""},false,"Y"]
["$WH1_4.2.1.ROW68COL2",{"$f":"IF(R_WHFCI,CONCATENATE(\"\", 'WH - FCI'!B85),\"\")","v":""},false,"Y"]
["$WH1_4.2.1.ROW68COL3",{"$f":"IF(R_WHFCI,CONCATENATE(\"\", 'WH - FCI'!C85),\"\")","v":""},false,"Y"]
["$WH1_4.2.1.ROW68COL4",{"$f":"IF(R_WHFCI,CONCATENATE(\"\", 'WH - FCI'!D85),\"\")","v":""},false,"Y"]
["$WH1_4.2.1.ROW68COL5",{"$f":"IF(R_WHFCI,CONCATENATE(\"\", 'WH - FCI'!E85),\"\")","v":""},false,"Y"]
["$WH1_4.2.1.ROW68COL6",{"$f":"IF(R_WHFCI,CONCATENATE(\"\", 'WH - FCI'!F85),\"\")","v":""},false,"Y"]
["$WH1_4.2.1.ROW68COL7",{"$f":"IF(R_WHFCI,CONCATENATE(\"\", 'WH - FCI'!G85),\"\")","v":""},false,"Y"]
["$WH1_4.2.1.ROW68COL8",{"$f":"IF(R_WHFCI,CONCATENATE(\"\", 'WH - FCI'!H85),\"\")","v":""},false,"Y"]
["$WH1_4.2.1.ROW68COL9",{"$f":"IF(R_WHFCI,CONCATENATE(\"\", 'WH - FCI'!I85),\"\")","v":""},{"$f":"ISERROR(B3070)","v":false},"Y"]
["$WH1_4.2.1.ROW68COL10",{"$f":"IF(R_WHFCI,CONCATENATE(\"\", 'WH - FCI'!J85),\"\")","v":""},false,"Y"]
["$WH1_4.2.1.ROW68COL11",{"$f":"IF(R_WHFCI,CONCATENATE(\"\", 'WH - FCI'!K85),\"\")","v":""},false,"Y"]
["$WH1_4.2.1.ROW69COL1",{"$f":"IF(R_WHFCI,CONCATENATE(\"\", 'WH - FCI'!A86),\"\")","v":""},false,"Y"]
["$WH1_4.2.1.ROW69COL2",{"$f":"IF(R_WHFCI,CONCATENATE(\"\", 'WH - FCI'!B86),\"\")","v":""},false,"Y"]
["$WH1_4.2.1.ROW69COL3",{"$f":"IF(R_WHFCI,CONCATENATE(\"\", 'WH - FCI'!C86),\"\")","v":""},false,"Y"]
["$WH1_4.2.1.ROW69COL4",{"$f":"IF(R_WHFCI,CONCATENATE(\"\", 'WH - FCI'!D86),\"\")","v":""},false,"Y"]
["$WH1_4.2.1.ROW69COL5",{"$f":"IF(R_WHFCI,CONCATENATE(\"\", 'WH - FCI'!E86),\"\")","v":""},false,"Y"]
["$WH1_4.2.1.ROW69COL6",{"$f":"IF(R_WHFCI,CONCATENATE(\"\", 'WH - FCI'!F86),\"\")","v":""},false,"Y"]
["$WH1_4.2.1.ROW69COL7",{"$f":"IF(R_WHFCI,CONCATENATE(\"\", 'WH - FCI'!G86),\"\")","v":""},false,"Y"]
["$WH1_4.2.1.ROW69COL8",{"$f":"IF(R_WHFCI,CONCATENATE(\"\", 'WH - FCI'!H86),\"\")","v":""},false,"Y"]
["$WH1_4.2.1.ROW69COL9",{"$f":"IF(R_WHFCI,CONCATENATE(\"\", 'WH - FCI'!I86),\"\")","v":""},false,"Y"]
["$WH1_4.2.1.ROW69COL10",{"$f":"IF(R_WHFCI,CONCATENATE(\"\", 'WH - FCI'!J86),\"\")","v":""},false,"Y"]
["$WH1_4.2.1.ROW69COL11",{"$f":"IF(R_WHFCI,CONCATENATE(\"\", 'WH - FCI'!K86),\"\")","v":""},false,"Y"]
["$WH1_4.2.1.ROW70COL1",{"$f":"IF(R_WHFCI,CONCATENATE(\"\", 'WH - FCI'!A87),\"\")","v":""},false,"Y"]
["$WH1_4.2.1.ROW70COL2",{"$f":"IF(R_WHFCI,CONCATENATE(\"\", 'WH - FCI'!B87),\"\")","v":""},false,"Y"]
["$WH1_4.2.1.ROW70COL3",{"$f":"IF(R_WHFCI,CONCATENATE(\"\", 'WH - FCI'!C87),\"\")","v":""},false,"Y"]
["$WH1_4.2.1.ROW70COL4",{"$f":"IF(R_WHFCI,CONCATENATE(\"\", 'WH - FCI'!D87),\"\")","v":""},false,"Y"]
["$WH1_4.2.1.ROW70COL5",{"$f":"IF(R_WHFCI,CONCATENATE(\"\", 'WH - FCI'!E87),\"\")","v":""},false,"Y"]
["$WH1_4.2.1.ROW70COL6",{"$f":"IF(R_WHFCI,CONCATENATE(\"\", 'WH - FCI'!F87),\"\")","v":""},false,"Y"]
["$WH1_4.2.1.ROW70COL7",{"$f":"IF(R_WHFCI,CONCATENATE(\"\", 'WH - FCI'!G87),\"\")","v":""},false,"Y"]
["$WH1_4.2.1.ROW70COL8",{"$f":"IF(R_WHFCI,CONCATENATE(\"\", 'WH - FCI'!H87),\"\")","v":""},false,"Y"]
["$WH1_4.2.1.ROW70COL9",{"$f":"IF(R_WHFCI,CONCATENATE(\"\", 'WH - FCI'!I87),\"\")","v":""},false,"Y"]
["$WH1_4.2.1.ROW70COL10",{"$f":"IF(R_WHFCI,CONCATENATE(\"\", 'WH - FCI'!J87),\"\")","v":""},false,"Y"]
["$WH1_4.2.1.ROW70COL11",{"$f":"IF(R_WHFCI,CONCATENATE(\"\", 'WH - FCI'!K87),\"\")","v":""},false,"Y"]
["$WH1_4.2.1.ROW71COL1",{"$f":"IF(R_WHFCI,CONCATENATE(\"\", 'WH - FCI'!A88),\"\")","v":""},false,"Y"]
["$WH1_4.2.1.ROW71COL2",{"$f":"IF(R_WHFCI,CONCATENATE(\"\", 'WH - FCI'!B88),\"\")","v":""},false,"Y"]
["$WH1_4.2.1.ROW71COL3",{"$f":"IF(R_WHFCI,CONCATENATE(\"\", 'WH - FCI'!C88),\"\")","v":""},false,"Y"]
["$WH1_4.2.1.ROW71COL4",{"$f":"IF(R_WHFCI,CONCATENATE(\"\", 'WH - FCI'!D88),\"\")","v":""},false,"Y"]
["$WH1_4.2.1.ROW71COL5",{"$f":"IF(R_WHFCI,CONCATENATE(\"\", 'WH - FCI'!E88),\"\")","v":""},false,"Y"]
["$WH1_4.2.1.ROW71COL6",{"$f":"IF(R_WHFCI,CONCATENATE(\"\", 'WH - FCI'!F88),\"\")","v":""},false,"Y"]
["$WH1_4.2.1.ROW71COL7",{"$f":"IF(R_WHFCI,CONCATENATE(\"\", 'WH - FCI'!G88),\"\")","v":""},false,"Y"]
["$WH1_4.2.1.ROW71COL8",{"$f":"IF(R_WHFCI,CONCATENATE(\"\", 'WH - FCI'!H88),\"\")","v":""},false,"Y"]
["$WH1_4.2.1.ROW71COL9",{"$f":"IF(R_WHFCI,CONCATENATE(\"\", 'WH - FCI'!I88),\"\")","v":""},false,"Y"]
["$WH1_4.2.1.ROW71COL10",{"$f":"IF(R_WHFCI,CONCATENATE(\"\", 'WH - FCI'!J88),\"\")","v":""},false,"Y"]
["$WH1_4.2.1.ROW71COL11",{"$f":"IF(R_WHFCI,CONCATENATE(\"\", 'WH - FCI'!K88),\"\")","v":""},false,"Y"]
["$WH1_4.2.1.ROW72COL1",{"$f":"IF(R_WHFCI,CONCATENATE(\"\", 'WH - FCI'!A89),\"\")","v":""},false,"Y"]
["$WH1_4.2.1.ROW72COL2",{"$f":"IF(R_WHFCI,CONCATENATE(\"\", 'WH - FCI'!B89),\"\")","v":""},false,"Y"]
["$WH1_4.2.1.ROW72COL3",{"$f":"IF(R_WHFCI,CONCATENATE(\"\", 'WH - FCI'!C89),\"\")","v":""},false,"Y"]
["$WH1_4.2.1.ROW72COL4",{"$f":"IF(R_WHFCI,CONCATENATE(\"\", 'WH - FCI'!D89),\"\")","v":""},false,"Y"]
["$WH1_4.2.1.ROW72COL5",{"$f":"IF(R_WHFCI,CONCATENATE(\"\", 'WH - FCI'!E89),\"\")","v":""},false,"Y"]
["$WH1_4.2.1.ROW72COL6",{"$f":"IF(R_WHFCI,CONCATENATE(\"\", 'WH - FCI'!F89),\"\")","v":""},false,"Y"]
["$WH1_4.2.1.ROW72COL7",{"$f":"IF(R_WHFCI,CONCATENATE(\"\", 'WH - FCI'!G89),\"\")","v":""},false,"Y"]
["$WH1_4.2.1.ROW72COL8",{"$f":"IF(R_WHFCI,CONCATENATE(\"\", 'WH - FCI'!H89),\"\")","v":""},false,"Y"]
["$WH1_4.2.1.ROW72COL9",{"$f":"IF(R_WHFCI,CONCATENATE(\"\", 'WH - FCI'!I89),\"\")","v":""},false,"Y"]
["$WH1_4.2.1.ROW72COL10",{"$f":"IF(R_WHFCI,CONCATENATE(\"\", 'WH - FCI'!J89),\"\")","v":""},false,"Y"]
["$WH1_4.2.1.ROW72COL11",{"$f":"IF(R_WHFCI,CONCATENATE(\"\", 'WH - FCI'!K89),\"\")","v":""},false,"Y"]
["$WH1_4.2.1.ROW73COL1",{"$f":"IF(R_WHFCI,CONCATENATE(\"\", 'WH - FCI'!A90),\"\")","v":""},false,"Y"]
["$WH1_4.2.1.ROW73COL2",{"$f":"IF(R_WHFCI,CONCATENATE(\"\", 'WH - FCI'!B90),\"\")","v":""},false,"Y"]
["$WH1_4.2.1.ROW73COL3",{"$f":"IF(R_WHFCI,CONCATENATE(\"\", 'WH - FCI'!C90),\"\")","v":""},false,"Y"]
["$WH1_4.2.1.ROW73COL4",{"$f":"IF(R_WHFCI,CONCATENATE(\"\", 'WH - FCI'!D90),\"\")","v":""},false,"Y"]
["$WH1_4.2.1.ROW73COL5",{"$f":"IF(R_WHFCI,CONCATENATE(\"\", 'WH - FCI'!E90),\"\")","v":""},false,"Y"]
["$WH1_4.2.1.ROW73COL6",{"$f":"IF(R_WHFCI,CONCATENATE(\"\", 'WH - FCI'!F90),\"\")","v":""},false,"Y"]
["$WH1_4.2.1.ROW73COL7",{"$f":"IF(R_WHFCI,CONCATENATE(\"\", 'WH - FCI'!G90),\"\")","v":""},false,"Y"]
["$WH1_4.2.1.ROW73COL8",{"$f":"IF(R_WHFCI,CONCATENATE(\"\", 'WH - FCI'!H90),\"\")","v":""},false,"Y"]
["$WH1_4.2.1.ROW73COL9",{"$f":"IF(R_WHFCI,CONCATENATE(\"\", 'WH - FCI'!I90),\"\")","v":""},false,"Y"]
["$WH1_4.2.1.ROW73COL10",{"$f":"IF(R_WHFCI,CONCATENATE(\"\", 'WH - FCI'!J90),\"\")","v":""},false,"Y"]
["$WH1_4.2.1.ROW73COL11",{"$f":"IF(R_WHFCI,CONCATENATE(\"\", 'WH - FCI'!K90),\"\")","v":""},false,"Y"]
["$WH1_4.2.1.ROW74COL1",{"$f":"IF(R_WHFCI,CONCATENATE(\"\", 'WH - FCI'!A91),\"\")","v":""},false,"Y"]
["$WH1_4.2.1.ROW74COL2",{"$f":"IF(R_WHFCI,CONCATENATE(\"\", 'WH - FCI'!B91),\"\")","v":""},false,"Y"]
["$WH1_4.2.1.ROW74COL3",{"$f":"IF(R_WHFCI,CONCATENATE(\"\", 'WH - FCI'!C91),\"\")","v":""},false,"Y"]
["$WH1_4.2.1.ROW74COL4",{"$f":"IF(R_WHFCI,CONCATENATE(\"\", 'WH - FCI'!D91),\"\")","v":""},false,"Y"]
["$WH1_4.2.1.ROW74COL5",{"$f":"IF(R_WHFCI,CONCATENATE(\"\", 'WH - FCI'!E91),\"\")","v":""},false,"Y"]
["$WH1_4.2.1.ROW74COL6",{"$f":"IF(R_WHFCI,CONCATENATE(\"\", 'WH - FCI'!F91),\"\")","v":""},false,"Y"]
["$WH1_4.2.1.ROW74COL7",{"$f":"IF(R_WHFCI,CONCATENATE(\"\", 'WH - FCI'!G91),\"\")","v":""},{"$f":"ISERROR(B3134)","v":false},"Y"]
["$WH1_4.2.1.ROW74COL8",{"$f":"IF(R_WHFCI,CONCATENATE(\"\", 'WH - FCI'!H91),\"\")","v":""},false,"Y"]
["$WH1_4.2.1.ROW74COL9",{"$f":"IF(R_WHFCI,CONCATENATE(\"\", 'WH - FCI'!I91),\"\")","v":""},false,"Y"]
["$WH1_4.2.1.ROW74COL10",{"$f":"IF(R_WHFCI,CONCATENATE(\"\", 'WH - FCI'!J91),\"\")","v":""},false,"Y"]
["$WH1_4.2.1.ROW74COL11",{"$f":"IF(R_WHFCI,CONCATENATE(\"\", 'WH - FCI'!K91),\"\")","v":""},false,"Y"]
["$WH1_4.2.1.ROW75COL1",{"$f":"IF(R_WHFCI,CONCATENATE(\"\", 'WH - FCI'!A92),\"\")","v":""},false,"Y"]
["$WH1_4.2.1.ROW75COL2",{"$f":"IF(R_WHFCI,CONCATENATE(\"\", 'WH - FCI'!B92),\"\")","v":""},false,"Y"]
["$WH1_4.2.1.ROW75COL3",{"$f":"IF(R_WHFCI,CONCATENATE(\"\", 'WH - FCI'!C92),\"\")","v":""},false,"Y"]
["$WH1_4.2.1.ROW75COL4",{"$f":"IF(R_WHFCI,CONCATENATE(\"\", 'WH - FCI'!D92),\"\")","v":""},false,"Y"]
["$WH1_4.2.1.ROW75COL5",{"$f":"IF(R_WHFCI,CONCATENATE(\"\", 'WH - FCI'!E92),\"\")","v":""},false,"Y"]
["$WH1_4.2.1.ROW75COL6",{"$f":"IF(R_WHFCI,CONCATENATE(\"\", 'WH - FCI'!F92),\"\")","v":""},false,"Y"]
["$WH1_4.2.1.ROW75COL7",{"$f":"IF(R_WHFCI,CONCATENATE(\"\", 'WH - FCI'!G92),\"\")","v":""},false,"Y"]
["$WH1_4.2.1.ROW75COL8",{"$f":"IF(R_WHFCI,CONCATENATE(\"\", 'WH - FCI'!H92),\"\")","v":""},false,"Y"]
["$WH1_4.2.1.ROW75COL9",{"$f":"IF(R_WHFCI,CONCATENATE(\"\", 'WH - FCI'!I92),\"\")","v":""},false,"Y"]
["$WH1_4.2.1.ROW75COL10",{"$f":"IF(R_WHFCI,CONCATENATE(\"\", 'WH - FCI'!J92),\"\")","v":""},false,"Y"]
["$WH1_4.2.1.ROW75COL11",{"$f":"IF(R_WHFCI,CONCATENATE(\"\", 'WH - FCI'!K92),\"\")","v":""},false,"Y"]
["$WH1_4.2.1.ROW76COL1",{"$f":"IF(R_WHFCI,CONCATENATE(\"\", 'WH - FCI'!A93),\"\")","v":""},false,"Y"]
["$WH1_4.2.1.ROW76COL2",{"$f":"IF(R_WHFCI,CONCATENATE(\"\", 'WH - FCI'!B93),\"\")","v":""},false,"Y"]
["$WH1_4.2.1.ROW76COL3",{"$f":"IF(R_WHFCI,CONCATENATE(\"\", 'WH - FCI'!C93),\"\")","v":""},false,"Y"]
["$WH1_4.2.1.ROW76COL4",{"$f":"IF(R_WHFCI,CONCATENATE(\"\", 'WH - FCI'!D93),\"\")","v":""},false,"Y"]
["$WH1_4.2.1.ROW76COL5",{"$f":"IF(R_WHFCI,CONCATENATE(\"\", 'WH - FCI'!E93),\"\")","v":""},false,"Y"]
["$WH1_4.2.1.ROW76COL6",{"$f":"IF(R_WHFCI,CONCATENATE(\"\", 'WH - FCI'!F93),\"\")","v":""},false,"Y"]
["$WH1_4.2.1.ROW76COL7",{"$f":"IF(R_WHFCI,CONCATENATE(\"\", 'WH - FCI'!G93),\"\")","v":""},false,"Y"]
["$WH1_4.2.1.ROW76COL8",{"$f":"IF(R_WHFCI,CONCATENATE(\"\", 'WH - FCI'!H93),\"\")","v":""},false,"Y"]
["$WH1_4.2.1.ROW76COL9",{"$f":"IF(R_WHFCI,CONCATENATE(\"\", 'WH - FCI'!I93),\"\")","v":""},false,"Y"]
["$WH1_4.2.1.ROW76COL10",{"$f":"IF(R_WHFCI,CONCATENATE(\"\", 'WH - FCI'!J93),\"\")","v":""},false,"Y"]
["$WH1_4.2.1.ROW76COL11",{"$f":"IF(R_WHFCI,CONCATENATE(\"\", 'WH - FCI'!K93),\"\")","v":""},false,"Y"]
["$WH1_4.2.1.ROW77COL1",{"$f":"IF(R_WHFCI,CONCATENATE(\"\", 'WH - FCI'!A94),\"\")","v":""},false,"Y"]
["$WH1_4.2.1.ROW77COL2",{"$f":"IF(R_WHFCI,CONCATENATE(\"\", 'WH - FCI'!B94),\"\")","v":""},false,"Y"]
["$WH1_4.2.1.ROW77COL3",{"$f":"IF(R_WHFCI,CONCATENATE(\"\", 'WH - FCI'!C94),\"\")","v":""},false,"Y"]
["$WH1_4.2.1.ROW77COL4",{"$f":"IF(R_WHFCI,CONCATENATE(\"\", 'WH - FCI'!D94),\"\")","v":""},false,"Y"]
["$WH1_4.2.1.ROW77COL5",{"$f":"IF(R_WHFCI,CONCATENATE(\"\", 'WH - FCI'!E94),\"\")","v":""},false,"Y"]
["$WH1_4.2.1.ROW77COL6",{"$f":"IF(R_WHFCI,CONCATENATE(\"\", 'WH - FCI'!F94),\"\")","v":""},false,"Y"]
["$WH1_4.2.1.ROW77COL7",{"$f":"IF(R_WHFCI,CONCATENATE(\"\", 'WH - FCI'!G94),\"\")","v":""},false,"Y"]
["$WH1_4.2.1.ROW77COL8",{"$f":"IF(R_WHFCI,CONCATENATE(\"\", 'WH - FCI'!H94),\"\")","v":""},false,"Y"]
["$WH1_4.2.1.ROW77COL9",{"$f":"IF(R_WHFCI,CONCATENATE(\"\", 'WH - FCI'!I94),\"\")","v":""},false,"Y"]
["$WH1_4.2.1.ROW77COL10",{"$f":"IF(R_WHFCI,CONCATENATE(\"\", 'WH - FCI'!J94),\"\")","v":""},false,"Y"]
["$WH1_4.2.1.ROW77COL11",{"$f":"IF(R_WHFCI,CONCATENATE(\"\", 'WH - FCI'!K94),\"\")","v":""},false,"Y"]
["$WH1_4.2.1.ROW78COL1",{"$f":"IF(R_WHFCI,CONCATENATE(\"\", 'WH - FCI'!A95),\"\")","v":""},false,"Y"]
["$WH1_4.2.1.ROW78COL2",{"$f":"IF(R_WHFCI,CONCATENATE(\"\", 'WH - FCI'!B95),\"\")","v":""},false,"Y"]
["$WH1_4.2.1.ROW78COL3",{"$f":"IF(R_WHFCI,CONCATENATE(\"\", 'WH - FCI'!C95),\"\")","v":""},false,"Y"]
["$WH1_4.2.1.ROW78COL4",{"$f":"IF(R_WHFCI,CONCATENATE(\"\", 'WH - FCI'!D95),\"\")","v":""},false,"Y"]
["$WH1_4.2.1.ROW78COL5",{"$f":"IF(R_WHFCI,CONCATENATE(\"\", 'WH - FCI'!E95),\"\")","v":""},false,"Y"]
["$WH1_4.2.1.ROW78COL6",{"$f":"IF(R_WHFCI,CONCATENATE(\"\", 'WH - FCI'!F95),\"\")","v":""},false,"Y"]
["$WH1_4.2.1.ROW78COL7",{"$f":"IF(R_WHFCI,CONCATENATE(\"\", 'WH - FCI'!G95),\"\")","v":""},false,"Y"]
["$WH1_4.2.1.ROW78COL8",{"$f":"IF(R_WHFCI,CONCATENATE(\"\", 'WH - FCI'!H95),\"\")","v":""},false,"Y"]
["$WH1_4.2.1.ROW78COL9",{"$f":"IF(R_WHFCI,CONCATENATE(\"\", 'WH - FCI'!I95),\"\")","v":""},false,"Y"]
["$WH1_4.2.1.ROW78COL10",{"$f":"IF(R_WHFCI,CONCATENATE(\"\", 'WH - FCI'!J95),\"\")","v":""},false,"Y"]
["$WH1_4.2.1.ROW78COL11",{"$f":"IF(R_WHFCI,CONCATENATE(\"\", 'WH - FCI'!K95),\"\")","v":""},false,"Y"]
["$WH1_4.2.1.ROW79COL1",{"$f":"IF(R_WHFCI,CONCATENATE(\"\", 'WH - FCI'!A96),\"\")","v":""},false,"Y"]
["$WH1_4.2.1.ROW79COL2",{"$f":"IF(R_WHFCI,CONCATENATE(\"\", 'WH - FCI'!B96),\"\")","v":""},false,"Y"]
["$WH1_4.2.1.ROW79COL3",{"$f":"IF(R_WHFCI,CONCATENATE(\"\", 'WH - FCI'!C96),\"\")","v":""},false,"Y"]
["$WH1_4.2.1.ROW79COL4",{"$f":"IF(R_WHFCI,CONCATENATE(\"\", 'WH - FCI'!D96),\"\")","v":""},false,"Y"]
["$WH1_4.2.1.ROW79COL5",{"$f":"IF(R_WHFCI,CONCATENATE(\"\", 'WH - FCI'!E96),\"\")","v":""},false,"Y"]
["$WH1_4.2.1.ROW79COL6",{"$f":"IF(R_WHFCI,CONCATENATE(\"\", 'WH - FCI'!F96),\"\")","v":""},false,"Y"]
["$WH1_4.2.1.ROW79COL7",{"$f":"IF(R_WHFCI,CONCATENATE(\"\", 'WH - FCI'!G96),\"\")","v":""},false,"Y"]
["$WH1_4.2.1.ROW79COL8",{"$f":"IF(R_WHFCI,CONCATENATE(\"\", 'WH - FCI'!H96),\"\")","v":""},false,"Y"]
["$WH1_4.2.1.ROW79COL9",{"$f":"IF(R_WHFCI,CONCATENATE(\"\", 'WH - FCI'!I96),\"\")","v":""},false,"Y"]
["$WH1_4.2.1.ROW79COL10",{"$f":"IF(R_WHFCI,CONCATENATE(\"\", 'WH - FCI'!J96),\"\")","v":""},false,"Y"]
["$WH1_4.2.1.ROW79COL11",{"$f":"IF(R_WHFCI,CONCATENATE(\"\", 'WH - FCI'!K96),\"\")","v":""},false,"Y"]
["$WH1_4.2.1.ROW80COL1",{"$f":"IF(R_WHFCI,CONCATENATE(\"\", 'WH - FCI'!A97),\"\")","v":""},false,"Y"]
["$WH1_4.2.1.ROW80COL2",{"$f":"IF(R_WHFCI,CONCATENATE(\"\", 'WH - FCI'!B97),\"\")","v":""},false,"Y"]
["$WH1_4.2.1.ROW80COL3",{"$f":"IF(R_WHFCI,CONCATENATE(\"\", 'WH - FCI'!C97),\"\")","v":""},false,"Y"]
["$WH1_4.2.1.ROW80COL4",{"$f":"IF(R_WHFCI,CONCATENATE(\"\", 'WH - FCI'!D97),\"\")","v":""},false,"Y"]
["$WH1_4.2.1.ROW80COL5",{"$f":"IF(R_WHFCI,CONCATENATE(\"\", 'WH - FCI'!E97),\"\")","v":""},{"$f":"ISERROR(B3198)","v":false},"Y"]
["$WH1_4.2.1.ROW80COL6",{"$f":"IF(R_WHFCI,CONCATENATE(\"\", 'WH - FCI'!F97),\"\")","v":""},false,"Y"]
["$WH1_4.2.1.ROW80COL7",{"$f":"IF(R_WHFCI,CONCATENATE(\"\", 'WH - FCI'!G97),\"\")","v":""},false,"Y"]
["$WH1_4.2.1.ROW80COL8",{"$f":"IF(R_WHFCI,CONCATENATE(\"\", 'WH - FCI'!H97),\"\")","v":""},false,"Y"]
["$WH1_4.2.1.ROW80COL9",{"$f":"IF(R_WHFCI,CONCATENATE(\"\", 'WH - FCI'!I97),\"\")","v":""},false,"Y"]
["$WH1_4.2.1.ROW80COL10",{"$f":"IF(R_WHFCI,CONCATENATE(\"\", 'WH - FCI'!J97),\"\")","v":""},false,"Y"]
["$WH1_4.2.1.ROW80COL11",{"$f":"IF(R_WHFCI,CONCATENATE(\"\", 'WH - FCI'!K97),\"\")","v":""},false,"Y"]
["$WH1_4.2.1.ROW81COL1",{"$f":"IF(R_WHFCI,CONCATENATE(\"\", 'WH - FCI'!A98),\"\")","v":""},false,"Y"]
["$WH1_4.2.1.ROW81COL2",{"$f":"IF(R_WHFCI,CONCATENATE(\"\", 'WH - FCI'!B98),\"\")","v":""},false,"Y"]
["$WH1_4.2.1.ROW81COL3",{"$f":"IF(R_WHFCI,CONCATENATE(\"\", 'WH - FCI'!C98),\"\")","v":""},false,"Y"]
["$WH1_4.2.1.ROW81COL4",{"$f":"IF(R_WHFCI,CONCATENATE(\"\", 'WH - FCI'!D98),\"\")","v":""},false,"Y"]
["$WH1_4.2.1.ROW81COL5",{"$f":"IF(R_WHFCI,CONCATENATE(\"\", 'WH - FCI'!E98),\"\")","v":""},false,"Y"]
["$WH1_4.2.1.ROW81COL6",{"$f":"IF(R_WHFCI,CONCATENATE(\"\", 'WH - FCI'!F98),\"\")","v":""},false,"Y"]
["$WH1_4.2.1.ROW81COL7",{"$f":"IF(R_WHFCI,CONCATENATE(\"\", 'WH - FCI'!G98),\"\")","v":""},false,"Y"]
["$WH1_4.2.1.ROW81COL8",{"$f":"IF(R_WHFCI,CONCATENATE(\"\", 'WH - FCI'!H98),\"\")","v":""},false,"Y"]
["$WH1_4.2.1.ROW81COL9",{"$f":"IF(R_WHFCI,CONCATENATE(\"\", 'WH - FCI'!I98),\"\")","v":""},false,"Y"]
["$WH1_4.2.1.ROW81COL10",{"$f":"IF(R_WHFCI,CONCATENATE(\"\", 'WH - FCI'!J98),\"\")","v":""},false,"Y"]
["$WH1_4.2.1.ROW81COL11",{"$f":"IF(R_WHFCI,CONCATENATE(\"\", 'WH - FCI'!K98),\"\")","v":""},false,"Y"]
["$WH1_4.2.1.ROW82COL1",{"$f":"IF(R_WHFCI,CONCATENATE(\"\", 'WH - FCI'!A99),\"\")","v":""},false,"Y"]
["$WH1_4.2.1.ROW82COL2",{"$f":"IF(R_WHFCI,CONCATENATE(\"\", 'WH - FCI'!B99),\"\")","v":""},false,"Y"]
["$WH1_4.2.1.ROW82COL3",{"$f":"IF(R_WHFCI,CONCATENATE(\"\", 'WH - FCI'!C99),\"\")","v":""},false,"Y"]
["$WH1_4.2.1.ROW82COL4",{"$f":"IF(R_WHFCI,CONCATENATE(\"\", 'WH - FCI'!D99),\"\")","v":""},false,"Y"]
["$WH1_4.2.1.ROW82COL5",{"$f":"IF(R_WHFCI,CONCATENATE(\"\", 'WH - FCI'!E99),\"\")","v":""},false,"Y"]
["$WH1_4.2.1.ROW82COL6",{"$f":"IF(R_WHFCI,CONCATENATE(\"\", 'WH - FCI'!F99),\"\")","v":""},false,"Y"]
["$WH1_4.2.1.ROW82COL7",{"$f":"IF(R_WHFCI,CONCATENATE(\"\", 'WH - FCI'!G99),\"\")","v":""},false,"Y"]
["$WH1_4.2.1.ROW82COL8",{"$f":"IF(R_WHFCI,CONCATENATE(\"\", 'WH - FCI'!H99),\"\")","v":""},false,"Y"]
["$WH1_4.2.1.ROW82COL9",{"$f":"IF(R_WHFCI,CONCATENATE(\"\", 'WH - FCI'!I99),\"\")","v":""},false,"Y"]
["$WH1_4.2.1.ROW82COL10",{"$f":"IF(R_WHFCI,CONCATENATE(\"\", 'WH - FCI'!J99),\"\")","v":""},false,"Y"]
["$WH1_4.2.1.ROW82COL11",{"$f":"IF(R_WHFCI,CONCATENATE(\"\", 'WH - FCI'!K99),\"\")","v":""},false,"Y"]
["$WH1_4.2.1.ROW83COL1",{"$f":"IF(R_WHFCI,CONCATENATE(\"\", 'WH - FCI'!A100),\"\")","v":""},false,"Y"]
["$WH1_4.2.1.ROW83COL2",{"$f":"IF(R_WHFCI,CONCATENATE(\"\", 'WH - FCI'!B100),\"\")","v":""},false,"Y"]
["$WH1_4.2.1.ROW83COL3",{"$f":"IF(R_WHFCI,CONCATENATE(\"\", 'WH - FCI'!C100),\"\")","v":""},false,"Y"]
["$WH1_4.2.1.ROW83COL4",{"$f":"IF(R_WHFCI,CONCATENATE(\"\", 'WH - FCI'!D100),\"\")","v":""},false,"Y"]
["$WH1_4.2.1.ROW83COL5",{"$f":"IF(R_WHFCI,CONCATENATE(\"\", 'WH - FCI'!E100),\"\")","v":""},false,"Y"]
["$WH1_4.2.1.ROW83COL6",{"$f":"IF(R_WHFCI,CONCATENATE(\"\", 'WH - FCI'!F100),\"\")","v":""},false,"Y"]
["$WH1_4.2.1.ROW83COL7",{"$f":"IF(R_WHFCI,CONCATENATE(\"\", 'WH - FCI'!G100),\"\")","v":""},false,"Y"]
["$WH1_4.2.1.ROW83COL8",{"$f":"IF(R_WHFCI,CONCATENATE(\"\", 'WH - FCI'!H100),\"\")","v":""},false,"Y"]
["$WH1_4.2.1.ROW83COL9",{"$f":"IF(R_WHFCI,CONCATENATE(\"\", 'WH - FCI'!I100),\"\")","v":""},false,"Y"]
["$WH1_4.2.1.ROW83COL10",{"$f":"IF(R_WHFCI,CONCATENATE(\"\", 'WH - FCI'!J100),\"\")","v":""},false,"Y"]
["$WH1_4.2.1.ROW83COL11",{"$f":"IF(R_WHFCI,CONCATENATE(\"\", 'WH - FCI'!K100),\"\")","v":""},false,"Y"]
["$WH1_4.2.1.ROW84COL1",{"$f":"IF(R_WHFCI,CONCATENATE(\"\", 'WH - FCI'!A101),\"\")","v":""},false,"Y"]
["$WH1_4.2.1.ROW84COL2",{"$f":"IF(R_WHFCI,CONCATENATE(\"\", 'WH - FCI'!B101),\"\")","v":""},false,"Y"]
["$WH1_4.2.1.ROW84COL3",{"$f":"IF(R_WHFCI,CONCATENATE(\"\", 'WH - FCI'!C101),\"\")","v":""},false,"Y"]
["$WH1_4.2.1.ROW84COL4",{"$f":"IF(R_WHFCI,CONCATENATE(\"\", 'WH - FCI'!D101),\"\")","v":""},false,"Y"]
["$WH1_4.2.1.ROW84COL5",{"$f":"IF(R_WHFCI,CONCATENATE(\"\", 'WH - FCI'!E101),\"\")","v":""},false,"Y"]
["$WH1_4.2.1.ROW84COL6",{"$f":"IF(R_WHFCI,CONCATENATE(\"\", 'WH - FCI'!F101),\"\")","v":""},false,"Y"]
["$WH1_4.2.1.ROW84COL7",{"$f":"IF(R_WHFCI,CONCATENATE(\"\", 'WH - FCI'!G101),\"\")","v":""},false,"Y"]
["$WH1_4.2.1.ROW84COL8",{"$f":"IF(R_WHFCI,CONCATENATE(\"\", 'WH - FCI'!H101),\"\")","v":""},false,"Y"]
["$WH1_4.2.1.ROW84COL9",{"$f":"IF(R_WHFCI,CONCATENATE(\"\", 'WH - FCI'!I101),\"\")","v":""},false,"Y"]
["$WH1_4.2.1.ROW84COL10",{"$f":"IF(R_WHFCI,CONCATENATE(\"\", 'WH - FCI'!J101),\"\")","v":""},false,"Y"]
["$WH1_4.2.1.ROW84COL11",{"$f":"IF(R_WHFCI,CONCATENATE(\"\", 'WH - FCI'!K101),\"\")","v":""},false,"Y"]
["$WH1_4.2.1.ROW85COL1",{"$f":"IF(R_WHFCI,CONCATENATE(\"\", 'WH - FCI'!A102),\"\")","v":""},false,"Y"]
["$WH1_4.2.1.ROW85COL2",{"$f":"IF(R_WHFCI,CONCATENATE(\"\", 'WH - FCI'!B102),\"\")","v":""},false,"Y"]
["$WH1_4.2.1.ROW85COL3",{"$f":"IF(R_WHFCI,CONCATENATE(\"\", 'WH - FCI'!C102),\"\")","v":""},false,"Y"]
["$WH1_4.2.1.ROW85COL4",{"$f":"IF(R_WHFCI,CONCATENATE(\"\", 'WH - FCI'!D102),\"\")","v":""},false,"Y"]
["$WH1_4.2.1.ROW85COL5",{"$f":"IF(R_WHFCI,CONCATENATE(\"\", 'WH - FCI'!E102),\"\")","v":""},false,"Y"]
["$WH1_4.2.1.ROW85COL6",{"$f":"IF(R_WHFCI,CONCATENATE(\"\", 'WH - FCI'!F102),\"\")","v":""},false,"Y"]
["$WH1_4.2.1.ROW85COL7",{"$f":"IF(R_WHFCI,CONCATENATE(\"\", 'WH - FCI'!G102),\"\")","v":""},false,"Y"]
["$WH1_4.2.1.ROW85COL8",{"$f":"IF(R_WHFCI,CONCATENATE(\"\", 'WH - FCI'!H102),\"\")","v":""},false,"Y"]
["$WH1_4.2.1.ROW85COL9",{"$f":"IF(R_WHFCI,CONCATENATE(\"\", 'WH - FCI'!I102),\"\")","v":""},false,"Y"]
["$WH1_4.2.1.ROW85COL10",{"$f":"IF(R_WHFCI,CONCATENATE(\"\", 'WH - FCI'!J102),\"\")","v":""},false,"Y"]
["$WH1_4.2.1.ROW85COL11",{"$f":"IF(R_WHFCI,CONCATENATE(\"\", 'WH - FCI'!K102),\"\")","v":""},false,"Y"]
["$WH1_4.2.1.ROW86COL1",{"$f":"IF(R_WHFCI,CONCATENATE(\"\", 'WH - FCI'!A103),\"\")","v":""},false,"Y"]
["$WH1_4.2.1.ROW86COL2",{"$f":"IF(R_WHFCI,CONCATENATE(\"\", 'WH - FCI'!B103),\"\")","v":""},false,"Y"]
["$WH1_4.2.1.ROW86COL3",{"$f":"IF(R_WHFCI,CONCATENATE(\"\", 'WH - FCI'!C103),\"\")","v":""},{"$f":"ISERROR(B3262)","v":false},"Y"]
["$WH1_4.2.1.ROW86COL4",{"$f":"IF(R_WHFCI,CONCATENATE(\"\", 'WH - FCI'!D103),\"\")","v":""},false,"Y"]
["$WH1_4.2.1.ROW86COL5",{"$f":"IF(R_WHFCI,CONCATENATE(\"\", 'WH - FCI'!E103),\"\")","v":""},false,"Y"]
["$WH1_4.2.1.ROW86COL6",{"$f":"IF(R_WHFCI,CONCATENATE(\"\", 'WH - FCI'!F103),\"\")","v":""},false,"Y"]
["$WH1_4.2.1.ROW86COL7",{"$f":"IF(R_WHFCI,CONCATENATE(\"\", 'WH - FCI'!G103),\"\")","v":""},false,"Y"]
["$WH1_4.2.1.ROW86COL8",{"$f":"IF(R_WHFCI,CONCATENATE(\"\", 'WH - FCI'!H103),\"\")","v":""},false,"Y"]
["$WH1_4.2.1.ROW86COL9",{"$f":"IF(R_WHFCI,CONCATENATE(\"\", 'WH - FCI'!I103),\"\")","v":""},false,"Y"]
["$WH1_4.2.1.ROW86COL10",{"$f":"IF(R_WHFCI,CONCATENATE(\"\", 'WH - FCI'!J103),\"\")","v":""},false,"Y"]
["$WH1_4.2.1.ROW86COL11",{"$f":"IF(R_WHFCI,CONCATENATE(\"\", 'WH - FCI'!K103),\"\")","v":""},false,"Y"]
["$WH1_4.2.1.ROW87COL1",{"$f":"IF(R_WHFCI,CONCATENATE(\"\", 'WH - FCI'!A104),\"\")","v":""},false,"Y"]
["$WH1_4.2.1.ROW87COL2",{"$f":"IF(R_WHFCI,CONCATENATE(\"\", 'WH - FCI'!B104),\"\")","v":""},false,"Y"]
["$WH1_4.2.1.ROW87COL3",{"$f":"IF(R_WHFCI,CONCATENATE(\"\", 'WH - FCI'!C104),\"\")","v":""},false,"Y"]
["$WH1_4.2.1.ROW87COL4",{"$f":"IF(R_WHFCI,CONCATENATE(\"\", 'WH - FCI'!D104),\"\")","v":""},false,"Y"]
["$WH1_4.2.1.ROW87COL5",{"$f":"IF(R_WHFCI,CONCATENATE(\"\", 'WH - FCI'!E104),\"\")","v":""},false,"Y"]
["$WH1_4.2.1.ROW87COL6",{"$f":"IF(R_WHFCI,CONCATENATE(\"\", 'WH - FCI'!F104),\"\")","v":""},false,"Y"]
["$WH1_4.2.1.ROW87COL7",{"$f":"IF(R_WHFCI,CONCATENATE(\"\", 'WH - FCI'!G104),\"\")","v":""},false,"Y"]
["$WH1_4.2.1.ROW87COL8",{"$f":"IF(R_WHFCI,CONCATENATE(\"\", 'WH - FCI'!H104),\"\")","v":""},false,"Y"]
["$WH1_4.2.1.ROW87COL9",{"$f":"IF(R_WHFCI,CONCATENATE(\"\", 'WH - FCI'!I104),\"\")","v":""},false,"Y"]
["$WH1_4.2.1.ROW87COL10",{"$f":"IF(R_WHFCI,CONCATENATE(\"\", 'WH - FCI'!J104),\"\")","v":""},false,"Y"]
["$WH1_4.2.1.ROW87COL11",{"$f":"IF(R_WHFCI,CONCATENATE(\"\", 'WH - FCI'!K104),\"\")","v":""},false,"Y"]
["$WH1_4.2.1.ROW88COL1",{"$f":"IF(R_WHFCI,CONCATENATE(\"\", 'WH - FCI'!A105),\"\")","v":""},false,"Y"]
["$WH1_4.2.1.ROW88COL2",{"$f":"IF(R_WHFCI,CONCATENATE(\"\", 'WH - FCI'!B105),\"\")","v":""},false,"Y"]
["$WH1_4.2.1.ROW88COL3",{"$f":"IF(R_WHFCI,CONCATENATE(\"\", 'WH - FCI'!C105),\"\")","v":""},false,"Y"]
["$WH1_4.2.1.ROW88COL4",{"$f":"IF(R_WHFCI,CONCATENATE(\"\", 'WH - FCI'!D105),\"\")","v":""},false,"Y"]
["$WH1_4.2.1.ROW88COL5",{"$f":"IF(R_WHFCI,CONCATENATE(\"\", 'WH - FCI'!E105),\"\")","v":""},false,"Y"]
["$WH1_4.2.1.ROW88COL6",{"$f":"IF(R_WHFCI,CONCATENATE(\"\", 'WH - FCI'!F105),\"\")","v":""},false,"Y"]
["$WH1_4.2.1.ROW88COL7",{"$f":"IF(R_WHFCI,CONCATENATE(\"\", 'WH - FCI'!G105),\"\")","v":""},false,"Y"]
["$WH1_4.2.1.ROW88COL8",{"$f":"IF(R_WHFCI,CONCATENATE(\"\", 'WH - FCI'!H105),\"\")","v":""},false,"Y"]
["$WH1_4.2.1.ROW88COL9",{"$f":"IF(R_WHFCI,CONCATENATE(\"\", 'WH - FCI'!I105),\"\")","v":""},false,"Y"]
["$WH1_4.2.1.ROW88COL10",{"$f":"IF(R_WHFCI,CONCATENATE(\"\", 'WH - FCI'!J105),\"\")","v":""},false,"Y"]
["$WH1_4.2.1.ROW88COL11",{"$f":"IF(R_WHFCI,CONCATENATE(\"\", 'WH - FCI'!K105),\"\")","v":""},false,"Y"]
["$WH1_4.2.1.ROW89COL1",{"$f":"IF(R_WHFCI,CONCATENATE(\"\", 'WH - FCI'!A106),\"\")","v":""},false,"Y"]
["$WH1_4.2.1.ROW89COL2",{"$f":"IF(R_WHFCI,CONCATENATE(\"\", 'WH - FCI'!B106),\"\")","v":""},false,"Y"]
["$WH1_4.2.1.ROW89COL3",{"$f":"IF(R_WHFCI,CONCATENATE(\"\", 'WH - FCI'!C106),\"\")","v":""},false,"Y"]
["$WH1_4.2.1.ROW89COL4",{"$f":"IF(R_WHFCI,CONCATENATE(\"\", 'WH - FCI'!D106),\"\")","v":""},false,"Y"]
["$WH1_4.2.1.ROW89COL5",{"$f":"IF(R_WHFCI,CONCATENATE(\"\", 'WH - FCI'!E106),\"\")","v":""},false,"Y"]
["$WH1_4.2.1.ROW89COL6",{"$f":"IF(R_WHFCI,CONCATENATE(\"\", 'WH - FCI'!F106),\"\")","v":""},false,"Y"]
["$WH1_4.2.1.ROW89COL7",{"$f":"IF(R_WHFCI,CONCATENATE(\"\", 'WH - FCI'!G106),\"\")","v":""},false,"Y"]
["$WH1_4.2.1.ROW89COL8",{"$f":"IF(R_WHFCI,CONCATENATE(\"\", 'WH - FCI'!H106),\"\")","v":""},false,"Y"]
["$WH1_4.2.1.ROW89COL9",{"$f":"IF(R_WHFCI,CONCATENATE(\"\", 'WH - FCI'!I106),\"\")","v":""},false,"Y"]
["$WH1_4.2.1.ROW89COL10",{"$f":"IF(R_WHFCI,CONCATENATE(\"\", 'WH - FCI'!J106),\"\")","v":""},false,"Y"]
["$WH1_4.2.1.ROW89COL11",{"$f":"IF(R_WHFCI,CONCATENATE(\"\", 'WH - FCI'!K106),\"\")","v":""},false,"Y"]
["$WH1_4.2.1.ROW90COL1",{"$f":"IF(R_WHFCI,CONCATENATE(\"\", 'WH - FCI'!A107),\"\")","v":""},false,"Y"]
["$WH1_4.2.1.ROW90COL2",{"$f":"IF(R_WHFCI,CONCATENATE(\"\", 'WH - FCI'!B107),\"\")","v":""},false,"Y"]
["$WH1_4.2.1.ROW90COL3",{"$f":"IF(R_WHFCI,CONCATENATE(\"\", 'WH - FCI'!C107),\"\")","v":""},false,"Y"]
["$WH1_4.2.1.ROW90COL4",{"$f":"IF(R_WHFCI,CONCATENATE(\"\", 'WH - FCI'!D107),\"\")","v":""},false,"Y"]
["$WH1_4.2.1.ROW90COL5",{"$f":"IF(R_WHFCI,CONCATENATE(\"\", 'WH - FCI'!E107),\"\")","v":""},false,"Y"]
["$WH1_4.2.1.ROW90COL6",{"$f":"IF(R_WHFCI,CONCATENATE(\"\", 'WH - FCI'!F107),\"\")","v":""},false,"Y"]
["$WH1_4.2.1.ROW90COL7",{"$f":"IF(R_WHFCI,CONCATENATE(\"\", 'WH - FCI'!G107),\"\")","v":""},false,"Y"]
["$WH1_4.2.1.ROW90COL8",{"$f":"IF(R_WHFCI,CONCATENATE(\"\", 'WH - FCI'!H107),\"\")","v":""},false,"Y"]
["$WH1_4.2.1.ROW90COL9",{"$f":"IF(R_WHFCI,CONCATENATE(\"\", 'WH - FCI'!I107),\"\")","v":""},false,"Y"]
["$WH1_4.2.1.ROW90COL10",{"$f":"IF(R_WHFCI,CONCATENATE(\"\", 'WH - FCI'!J107),\"\")","v":""},false,"Y"]
["$WH1_4.2.1.ROW90COL11",{"$f":"IF(R_WHFCI,CONCATENATE(\"\", 'WH - FCI'!K107),\"\")","v":""},false,"Y"]
["$WH1_4.2.1.ROW91COL1",{"$f":"IF(R_WHFCI,CONCATENATE(\"\", 'WH - FCI'!A108),\"\")","v":""},false,"Y"]
["$WH1_4.2.1.ROW91COL2",{"$f":"IF(R_WHFCI,CONCATENATE(\"\", 'WH - FCI'!B108),\"\")","v":""},false,"Y"]
["$WH1_4.2.1.ROW91COL3",{"$f":"IF(R_WHFCI,CONCATENATE(\"\", 'WH - FCI'!C108),\"\")","v":""},false,"Y"]
["$WH1_4.2.1.ROW91COL4",{"$f":"IF(R_WHFCI,CONCATENATE(\"\", 'WH - FCI'!D108),\"\")","v":""},false,"Y"]
["$WH1_4.2.1.ROW91COL5",{"$f":"IF(R_WHFCI,CONCATENATE(\"\", 'WH - FCI'!E108),\"\")","v":""},false,"Y"]
["$WH1_4.2.1.ROW91COL6",{"$f":"IF(R_WHFCI,CONCATENATE(\"\", 'WH - FCI'!F108),\"\")","v":""},false,"Y"]
["$WH1_4.2.1.ROW91COL7",{"$f":"IF(R_WHFCI,CONCATENATE(\"\", 'WH - FCI'!G108),\"\")","v":""},false,"Y"]
["$WH1_4.2.1.ROW91COL8",{"$f":"IF(R_WHFCI,CONCATENATE(\"\", 'WH - FCI'!H108),\"\")","v":""},false,"Y"]
["$WH1_4.2.1.ROW91COL9",{"$f":"IF(R_WHFCI,CONCATENATE(\"\", 'WH - FCI'!I108),\"\")","v":""},false,"Y"]
["$WH1_4.2.1.ROW91COL10",{"$f":"IF(R_WHFCI,CONCATENATE(\"\", 'WH - FCI'!J108),\"\")","v":""},false,"Y"]
["$WH1_4.2.1.ROW91COL11",{"$f":"IF(R_WHFCI,CONCATENATE(\"\", 'WH - FCI'!K108),\"\")","v":""},false,"Y"]
["$WH1_4.2.1.ROW92COL1",{"$f":"IF(R_WHFCI,CONCATENATE(\"\", 'WH - FCI'!A109),\"\")","v":""},{"$f":"ISERROR(B3326)","v":false},"Y"]
["$WH1_4.2.1.ROW92COL2",{"$f":"IF(R_WHFCI,CONCATENATE(\"\", 'WH - FCI'!B109),\"\")","v":""},false,"Y"]
["$WH1_4.2.1.ROW92COL3",{"$f":"IF(R_WHFCI,CONCATENATE(\"\", 'WH - FCI'!C109),\"\")","v":""},false,"Y"]
["$WH1_4.2.1.ROW92COL4",{"$f":"IF(R_WHFCI,CONCATENATE(\"\", 'WH - FCI'!D109),\"\")","v":""},false,"Y"]
["$WH1_4.2.1.ROW92COL5",{"$f":"IF(R_WHFCI,CONCATENATE(\"\", 'WH - FCI'!E109),\"\")","v":""},false,"Y"]
["$WH1_4.2.1.ROW92COL6",{"$f":"IF(R_WHFCI,CONCATENATE(\"\", 'WH - FCI'!F109),\"\")","v":""},false,"Y"]
["$WH1_4.2.1.ROW92COL7",{"$f":"IF(R_WHFCI,CONCATENATE(\"\", 'WH - FCI'!G109),\"\")","v":""},false,"Y"]
["$WH1_4.2.1.ROW92COL8",{"$f":"IF(R_WHFCI,CONCATENATE(\"\", 'WH - FCI'!H109),\"\")","v":""},false,"Y"]
["$WH1_4.2.1.ROW92COL9",{"$f":"IF(R_WHFCI,CONCATENATE(\"\", 'WH - FCI'!I109),\"\")","v":""},false,"Y"]
["$WH1_4.2.1.ROW92COL10",{"$f":"IF(R_WHFCI,CONCATENATE(\"\", 'WH - FCI'!J109),\"\")","v":""},false,"Y"]
["$WH1_4.2.1.ROW92COL11",{"$f":"IF(R_WHFCI,CONCATENATE(\"\", 'WH - FCI'!K109),\"\")","v":""},false,"Y"]
["$WH1_4.2.1.ROW93COL1",{"$f":"IF(R_WHFCI,CONCATENATE(\"\", 'WH - FCI'!A110),\"\")","v":""},false,"Y"]
["$WH1_4.2.1.ROW93COL2",{"$f":"IF(R_WHFCI,CONCATENATE(\"\", 'WH - FCI'!B110),\"\")","v":""},false,"Y"]
["$WH1_4.2.1.ROW93COL3",{"$f":"IF(R_WHFCI,CONCATENATE(\"\", 'WH - FCI'!C110),\"\")","v":""},false,"Y"]
["$WH1_4.2.1.ROW93COL4",{"$f":"IF(R_WHFCI,CONCATENATE(\"\", 'WH - FCI'!D110),\"\")","v":""},false,"Y"]
["$WH1_4.2.1.ROW93COL5",{"$f":"IF(R_WHFCI,CONCATENATE(\"\", 'WH - FCI'!E110),\"\")","v":""},false,"Y"]
["$WH1_4.2.1.ROW93COL6",{"$f":"IF(R_WHFCI,CONCATENATE(\"\", 'WH - FCI'!F110),\"\")","v":""},false,"Y"]
["$WH1_4.2.1.ROW93COL7",{"$f":"IF(R_WHFCI,CONCATENATE(\"\", 'WH - FCI'!G110),\"\")","v":""},false,"Y"]
["$WH1_4.2.1.ROW93COL8",{"$f":"IF(R_WHFCI,CONCATENATE(\"\", 'WH - FCI'!H110),\"\")","v":""},false,"Y"]
["$WH1_4.2.1.ROW93COL9",{"$f":"IF(R_WHFCI,CONCATENATE(\"\", 'WH - FCI'!I110),\"\")","v":""},false,"Y"]
["$WH1_4.2.1.ROW93COL10",{"$f":"IF(R_WHFCI,CONCATENATE(\"\", 'WH - FCI'!J110),\"\")","v":""},false,"Y"]
["$WH1_4.2.1.ROW93COL11",{"$f":"IF(R_WHFCI,CONCATENATE(\"\", 'WH - FCI'!K110),\"\")","v":""},false,"Y"]
["$WH1_4.2.1.ROW94COL1",{"$f":"IF(R_WHFCI,CONCATENATE(\"\", 'WH - FCI'!A111),\"\")","v":""},false,"Y"]
["$WH1_4.2.1.ROW94COL2",{"$f":"IF(R_WHFCI,CONCATENATE(\"\", 'WH - FCI'!B111),\"\")","v":""},false,"Y"]
["$WH1_4.2.1.ROW94COL3",{"$f":"IF(R_WHFCI,CONCATENATE(\"\", 'WH - FCI'!C111),\"\")","v":""},false,"Y"]
["$WH1_4.2.1.ROW94COL4",{"$f":"IF(R_WHFCI,CONCATENATE(\"\", 'WH - FCI'!D111),\"\")","v":""},false,"Y"]
["$WH1_4.2.1.ROW94COL5",{"$f":"IF(R_WHFCI,CONCATENATE(\"\", 'WH - FCI'!E111),\"\")","v":""},false,"Y"]
["$WH1_4.2.1.ROW94COL6",{"$f":"IF(R_WHFCI,CONCATENATE(\"\", 'WH - FCI'!F111),\"\")","v":""},false,"Y"]
["$WH1_4.2.1.ROW94COL7",{"$f":"IF(R_WHFCI,CONCATENATE(\"\", 'WH - FCI'!G111),\"\")","v":""},false,"Y"]
["$WH1_4.2.1.ROW94COL8",{"$f":"IF(R_WHFCI,CONCATENATE(\"\", 'WH - FCI'!H111),\"\")","v":""},false,"Y"]
["$WH1_4.2.1.ROW94COL9",{"$f":"IF(R_WHFCI,CONCATENATE(\"\", 'WH - FCI'!I111),\"\")","v":""},false,"Y"]
["$WH1_4.2.1.ROW94COL10",{"$f":"IF(R_WHFCI,CONCATENATE(\"\", 'WH - FCI'!J111),\"\")","v":""},false,"Y"]
["$WH1_4.2.1.ROW94COL11",{"$f":"IF(R_WHFCI,CONCATENATE(\"\", 'WH - FCI'!K111),\"\")","v":""},false,"Y"]
["$WH1_4.2.1.ROW95COL1",{"$f":"IF(R_WHFCI,CONCATENATE(\"\", 'WH - FCI'!A112),\"\")","v":""},false,"Y"]
["$WH1_4.2.1.ROW95COL2",{"$f":"IF(R_WHFCI,CONCATENATE(\"\", 'WH - FCI'!B112),\"\")","v":""},false,"Y"]
["$WH1_4.2.1.ROW95COL3",{"$f":"IF(R_WHFCI,CONCATENATE(\"\", 'WH - FCI'!C112),\"\")","v":""},false,"Y"]
["$WH1_4.2.1.ROW95COL4",{"$f":"IF(R_WHFCI,CONCATENATE(\"\", 'WH - FCI'!D112),\"\")","v":""},false,"Y"]
["$WH1_4.2.1.ROW95COL5",{"$f":"IF(R_WHFCI,CONCATENATE(\"\", 'WH - FCI'!E112),\"\")","v":""},false,"Y"]
["$WH1_4.2.1.ROW95COL6",{"$f":"IF(R_WHFCI,CONCATENATE(\"\", 'WH - FCI'!F112),\"\")","v":""},false,"Y"]
["$WH1_4.2.1.ROW95COL7",{"$f":"IF(R_WHFCI,CONCATENATE(\"\", 'WH - FCI'!G112),\"\")","v":""},false,"Y"]
["$WH1_4.2.1.ROW95COL8",{"$f":"IF(R_WHFCI,CONCATENATE(\"\", 'WH - FCI'!H112),\"\")","v":""},false,"Y"]
["$WH1_4.2.1.ROW95COL9",{"$f":"IF(R_WHFCI,CONCATENATE(\"\", 'WH - FCI'!I112),\"\")","v":""},false,"Y"]
["$WH1_4.2.1.ROW95COL10",{"$f":"IF(R_WHFCI,CONCATENATE(\"\", 'WH - FCI'!J112),\"\")","v":""},false,"Y"]
["$WH1_4.2.1.ROW95COL11",{"$f":"IF(R_WHFCI,CONCATENATE(\"\", 'WH - FCI'!K112),\"\")","v":""},false,"Y"]
["$WH1_4.2.1.ROW96COL1",{"$f":"IF(R_WHFCI,CONCATENATE(\"\", 'WH - FCI'!A113),\"\")","v":""},false,"Y"]
["$WH1_4.2.1.ROW96COL2",{"$f":"IF(R_WHFCI,CONCATENATE(\"\", 'WH - FCI'!B113),\"\")","v":""},false,"Y"]
["$WH1_4.2.1.ROW96COL3",{"$f":"IF(R_WHFCI,CONCATENATE(\"\", 'WH - FCI'!C113),\"\")","v":""},false,"Y"]
["$WH1_4.2.1.ROW96COL4",{"$f":"IF(R_WHFCI,CONCATENATE(\"\", 'WH - FCI'!D113),\"\")","v":""},false,"Y"]
["$WH1_4.2.1.ROW96COL5",{"$f":"IF(R_WHFCI,CONCATENATE(\"\", 'WH - FCI'!E113),\"\")","v":""},false,"Y"]
["$WH1_4.2.1.ROW96COL6",{"$f":"IF(R_WHFCI,CONCATENATE(\"\", 'WH - FCI'!F113),\"\")","v":""},false,"Y"]
["$WH1_4.2.1.ROW96COL7",{"$f":"IF(R_WHFCI,CONCATENATE(\"\", 'WH - FCI'!G113),\"\")","v":""},false,"Y"]
["$WH1_4.2.1.ROW96COL8",{"$f":"IF(R_WHFCI,CONCATENATE(\"\", 'WH - FCI'!H113),\"\")","v":""},false,"Y"]
["$WH1_4.2.1.ROW96COL9",{"$f":"IF(R_WHFCI,CONCATENATE(\"\", 'WH - FCI'!I113),\"\")","v":""},false,"Y"]
["$WH1_4.2.1.ROW96COL10",{"$f":"IF(R_WHFCI,CONCATENATE(\"\", 'WH - FCI'!J113),\"\")","v":""},false,"Y"]
["$WH1_4.2.1.ROW96COL11",{"$f":"IF(R_WHFCI,CONCATENATE(\"\", 'WH - FCI'!K113),\"\")","v":""},false,"Y"]
["$WH1_4.2.1.ROW97COL1",{"$f":"IF(R_WHFCI,CONCATENATE(\"\", 'WH - FCI'!A114),\"\")","v":""},false,"Y"]
["$WH1_4.2.1.ROW97COL2",{"$f":"IF(R_WHFCI,CONCATENATE(\"\", 'WH - FCI'!B114),\"\")","v":""},false,"Y"]
["$WH1_4.2.1.ROW97COL3",{"$f":"IF(R_WHFCI,CONCATENATE(\"\", 'WH - FCI'!C114),\"\")","v":""},false,"Y"]
["$WH1_4.2.1.ROW97COL4",{"$f":"IF(R_WHFCI,CONCATENATE(\"\", 'WH - FCI'!D114),\"\")","v":""},false,"Y"]
["$WH1_4.2.1.ROW97COL5",{"$f":"IF(R_WHFCI,CONCATENATE(\"\", 'WH - FCI'!E114),\"\")","v":""},false,"Y"]
["$WH1_4.2.1.ROW97COL6",{"$f":"IF(R_WHFCI,CONCATENATE(\"\", 'WH - FCI'!F114),\"\")","v":""},false,"Y"]
["$WH1_4.2.1.ROW97COL7",{"$f":"IF(R_WHFCI,CONCATENATE(\"\", 'WH - FCI'!G114),\"\")","v":""},false,"Y"]
["$WH1_4.2.1.ROW97COL8",{"$f":"IF(R_WHFCI,CONCATENATE(\"\", 'WH - FCI'!H114),\"\")","v":""},false,"Y"]
["$WH1_4.2.1.ROW97COL9",{"$f":"IF(R_WHFCI,CONCATENATE(\"\", 'WH - FCI'!I114),\"\")","v":""},false,"Y"]
["$WH1_4.2.1.ROW97COL10",{"$f":"IF(R_WHFCI,CONCATENATE(\"\", 'WH - FCI'!J114),\"\")","v":""},{"$f":"ISERROR(B3390)","v":false},"Y"]
["$WH1_4.2.1.ROW97COL11",{"$f":"IF(R_WHFCI,CONCATENATE(\"\", 'WH - FCI'!K114),\"\")","v":""},false,"Y"]
["$WH1_4.2.1.ROW98COL1",{"$f":"IF(R_WHFCI,CONCATENATE(\"\", 'WH - FCI'!A115),\"\")","v":""},false,"Y"]
["$WH1_4.2.1.ROW98COL2",{"$f":"IF(R_WHFCI,CONCATENATE(\"\", 'WH - FCI'!B115),\"\")","v":""},false,"Y"]
["$WH1_4.2.1.ROW98COL3",{"$f":"IF(R_WHFCI,CONCATENATE(\"\", 'WH - FCI'!C115),\"\")","v":""},false,"Y"]
["$WH1_4.2.1.ROW98COL4",{"$f":"IF(R_WHFCI,CONCATENATE(\"\", 'WH - FCI'!D115),\"\")","v":""},false,"Y"]
["$WH1_4.2.1.ROW98COL5",{"$f":"IF(R_WHFCI,CONCATENATE(\"\", 'WH - FCI'!E115),\"\")","v":""},false,"Y"]
["$WH1_4.2.1.ROW98COL6",{"$f":"IF(R_WHFCI,CONCATENATE(\"\", 'WH - FCI'!F115),\"\")","v":""},false,"Y"]
["$WH1_4.2.1.ROW98COL7",{"$f":"IF(R_WHFCI,CONCATENATE(\"\", 'WH - FCI'!G115),\"\")","v":""},false,"Y"]
["$WH1_4.2.1.ROW98COL8",{"$f":"IF(R_WHFCI,CONCATENATE(\"\", 'WH - FCI'!H115),\"\")","v":""},false,"Y"]
["$WH1_4.2.1.ROW98COL9",{"$f":"IF(R_WHFCI,CONCATENATE(\"\", 'WH - FCI'!I115),\"\")","v":""},false,"Y"]
["$WH1_4.2.1.ROW98COL10",{"$f":"IF(R_WHFCI,CONCATENATE(\"\", 'WH - FCI'!J115),\"\")","v":""},false,"Y"]
["$WH1_4.2.1.ROW98COL11",{"$f":"IF(R_WHFCI,CONCATENATE(\"\", 'WH - FCI'!K115),\"\")","v":""},false,"Y"]
["$WH1_4.2.1.ROW99COL1",{"$f":"IF(R_WHFCI,CONCATENATE(\"\", 'WH - FCI'!A116),\"\")","v":""},false,"Y"]
["$WH1_4.2.1.ROW99COL2",{"$f":"IF(R_WHFCI,CONCATENATE(\"\", 'WH - FCI'!B116),\"\")","v":""},false,"Y"]
["$WH1_4.2.1.ROW99COL3",{"$f":"IF(R_WHFCI,CONCATENATE(\"\", 'WH - FCI'!C116),\"\")","v":""},false,"Y"]
["$WH1_4.2.1.ROW99COL4",{"$f":"IF(R_WHFCI,CONCATENATE(\"\", 'WH - FCI'!D116),\"\")","v":""},false,"Y"]
["$WH1_4.2.1.ROW99COL5",{"$f":"IF(R_WHFCI,CONCATENATE(\"\", 'WH - FCI'!E116),\"\")","v":""},false,"Y"]
["$WH1_4.2.1.ROW99COL6",{"$f":"IF(R_WHFCI,CONCATENATE(\"\", 'WH - FCI'!F116),\"\")","v":""},false,"Y"]
["$WH1_4.2.1.ROW99COL7",{"$f":"IF(R_WHFCI,CONCATENATE(\"\", 'WH - FCI'!G116),\"\")","v":""},false,"Y"]
["$WH1_4.2.1.ROW99COL8",{"$f":"IF(R_WHFCI,CONCATENATE(\"\", 'WH - FCI'!H116),\"\")","v":""},false,"Y"]
["$WH1_4.2.1.ROW99COL9",{"$f":"IF(R_WHFCI,CONCATENATE(\"\", 'WH - FCI'!I116),\"\")","v":""},false,"Y"]
["$WH1_4.2.1.ROW99COL10",{"$f":"IF(R_WHFCI,CONCATENATE(\"\", 'WH - FCI'!J116),\"\")","v":""},false,"Y"]
["$WH1_4.2.1.ROW99COL11",{"$f":"IF(R_WHFCI,CONCATENATE(\"\", 'WH - FCI'!K116),\"\")","v":""},false,"Y"]
["$WH1_4.2.1.ROW100COL1",{"$f":"IF(R_WHFCI,CONCATENATE(\"\", 'WH - FCI'!A117),\"\")","v":""},false,"Y"]
["$WH1_4.2.1.ROW100COL2",{"$f":"IF(R_WHFCI,CONCATENATE(\"\", 'WH - FCI'!B117),\"\")","v":""},false,"Y"]
["$WH1_4.2.1.ROW100COL3",{"$f":"IF(R_WHFCI,CONCATENATE(\"\", 'WH - FCI'!C117),\"\")","v":""},false,"Y"]
["$WH1_4.2.1.ROW100COL4",{"$f":"IF(R_WHFCI,CONCATENATE(\"\", 'WH - FCI'!D117),\"\")","v":""},false,"Y"]
["$WH1_4.2.1.ROW100COL5",{"$f":"IF(R_WHFCI,CONCATENATE(\"\", 'WH - FCI'!E117),\"\")","v":""},false,"Y"]
["$WH1_4.2.1.ROW100COL6",{"$f":"IF(R_WHFCI,CONCATENATE(\"\", 'WH - FCI'!F117),\"\")","v":""},false,"Y"]
["$WH1_4.2.1.ROW100COL7",{"$f":"IF(R_WHFCI,CONCATENATE(\"\", 'WH - FCI'!G117),\"\")","v":""},false,"Y"]
["$WH1_4.2.1.ROW100COL8",{"$f":"IF(R_WHFCI,CONCATENATE(\"\", 'WH - FCI'!H117),\"\")","v":""},false,"Y"]
["$WH1_4.2.1.ROW100COL9",{"$f":"IF(R_WHFCI,CONCATENATE(\"\", 'WH - FCI'!I117),\"\")","v":""},false,"Y"]
["$WH1_4.2.1.ROW100COL10",{"$f":"IF(R_WHFCI,CONCATENATE(\"\", 'WH - FCI'!J117),\"\")","v":""},false,"Y"]
["$WH1_4.2.1.ROW100COL11",{"$f":"IF(R_WHFCI,CONCATENATE(\"\", 'WH - FCI'!K117),\"\")","v":""},false,"Y"]
["$WH1_4.2.1.ROW101COL1",{"$f":"IF(R_WHFCI,CONCATENATE(\"\", 'WH - FCI'!A118),\"\")","v":""},false,"Y"]
["$WH1_4.2.1.ROW101COL2",{"$f":"IF(R_WHFCI,CONCATENATE(\"\", 'WH - FCI'!B118),\"\")","v":""},false,"Y"]
["$WH1_4.2.1.ROW101COL3",{"$f":"IF(R_WHFCI,CONCATENATE(\"\", 'WH - FCI'!C118),\"\")","v":""},false,"Y"]
["$WH1_4.2.1.ROW101COL4",{"$f":"IF(R_WHFCI,CONCATENATE(\"\", 'WH - FCI'!D118),\"\")","v":""},false,"Y"]
["$WH1_4.2.1.ROW101COL5",{"$f":"IF(R_WHFCI,CONCATENATE(\"\", 'WH - FCI'!E118),\"\")","v":""},false,"Y"]
["$WH1_4.2.1.ROW101COL6",{"$f":"IF(R_WHFCI,CONCATENATE(\"\", 'WH - FCI'!F118),\"\")","v":""},false,"Y"]
["$WH1_4.2.1.ROW101COL7",{"$f":"IF(R_WHFCI,CONCATENATE(\"\", 'WH - FCI'!G118),\"\")","v":""},false,"Y"]
["$WH1_4.2.1.ROW101COL8",{"$f":"IF(R_WHFCI,CONCATENATE(\"\", 'WH - FCI'!H118),\"\")","v":""},false,"Y"]
["$WH1_4.2.1.ROW101COL9",{"$f":"IF(R_WHFCI,CONCATENATE(\"\", 'WH - FCI'!I118),\"\")","v":""},false,"Y"]
["$WH1_4.2.1.ROW101COL10",{"$f":"IF(R_WHFCI,CONCATENATE(\"\", 'WH - FCI'!J118),\"\")","v":""},false,"Y"]
["$WH1_4.2.1.ROW101COL11",{"$f":"IF(R_WHFCI,CONCATENATE(\"\", 'WH - FCI'!K118),\"\")","v":""},false,"Y"]
["$WH1_4.2.1.ROW102COL1",{"$f":"IF(R_WHFCI,CONCATENATE(\"\", 'WH - FCI'!A119),\"\")","v":""},false,"Y"]
["$WH1_4.2.1.ROW102COL2",{"$f":"IF(R_WHFCI,CONCATENATE(\"\", 'WH - FCI'!B119),\"\")","v":""},false,"Y"]
["$WH1_4.2.1.ROW102COL3",{"$f":"IF(R_WHFCI,CONCATENATE(\"\", 'WH - FCI'!C119),\"\")","v":""},false,"Y"]
["$WH1_4.2.1.ROW102COL4",{"$f":"IF(R_WHFCI,CONCATENATE(\"\", 'WH - FCI'!D119),\"\")","v":""},false,"Y"]
["$WH1_4.2.1.ROW102COL5",{"$f":"IF(R_WHFCI,CONCATENATE(\"\", 'WH - FCI'!E119),\"\")","v":""},false,"Y"]
["$WH1_4.2.1.ROW102COL6",{"$f":"IF(R_WHFCI,CONCATENATE(\"\", 'WH - FCI'!F119),\"\")","v":""},false,"Y"]
["$WH1_4.2.1.ROW102COL7",{"$f":"IF(R_WHFCI,CONCATENATE(\"\", 'WH - FCI'!G119),\"\")","v":""},false,"Y"]
["$WH1_4.2.1.ROW102COL8",{"$f":"IF(R_WHFCI,CONCATENATE(\"\", 'WH - FCI'!H119),\"\")","v":""},false,"Y"]
["$WH1_4.2.1.ROW102COL9",{"$f":"IF(R_WHFCI,CONCATENATE(\"\", 'WH - FCI'!I119),\"\")","v":""},false,"Y"]
["$WH1_4.2.1.ROW102COL10",{"$f":"IF(R_WHFCI,CONCATENATE(\"\", 'WH - FCI'!J119),\"\")","v":""},false,"Y"]
["$WH1_4.2.1.ROW102COL11",{"$f":"IF(R_WHFCI,CONCATENATE(\"\", 'WH - FCI'!K119),\"\")","v":""},false,"Y"]
["$WH1_4.2.1.ROW103COL1",{"$f":"IF(R_WHFCI,CONCATENATE(\"\", 'WH - FCI'!A120),\"\")","v":""},false,"Y"]
["$WH1_4.2.1.ROW103COL2",{"$f":"IF(R_WHFCI,CONCATENATE(\"\", 'WH - FCI'!B120),\"\")","v":""},false,"Y"]
["$WH1_4.2.1.ROW103COL3",{"$f":"IF(R_WHFCI,CONCATENATE(\"\", 'WH - FCI'!C120),\"\")","v":""},false,"Y"]
["$WH1_4.2.1.ROW103COL4",{"$f":"IF(R_WHFCI,CONCATENATE(\"\", 'WH - FCI'!D120),\"\")","v":""},false,"Y"]
["$WH1_4.2.1.ROW103COL5",{"$f":"IF(R_WHFCI,CONCATENATE(\"\", 'WH - FCI'!E120),\"\")","v":""},false,"Y"]
["$WH1_4.2.1.ROW103COL6",{"$f":"IF(R_WHFCI,CONCATENATE(\"\", 'WH - FCI'!F120),\"\")","v":""},false,"Y"]
["$WH1_4.2.1.ROW103COL7",{"$f":"IF(R_WHFCI,CONCATENATE(\"\", 'WH - FCI'!G120),\"\")","v":""},false,"Y"]
["$WH1_4.2.1.ROW103COL8",{"$f":"IF(R_WHFCI,CONCATENATE(\"\", 'WH - FCI'!H120),\"\")","v":""},{"$f":"ISERROR(B3454)","v":false},"Y"]
["$WH1_4.2.1.ROW103COL9",{"$f":"IF(R_WHFCI,CONCATENATE(\"\", 'WH - FCI'!I120),\"\")","v":""},false,"Y"]
["$WH1_4.2.1.ROW103COL10",{"$f":"IF(R_WHFCI,CONCATENATE(\"\", 'WH - FCI'!J120),\"\")","v":""},false,"Y"]
["$WH1_4.2.1.ROW103COL11",{"$f":"IF(R_WHFCI,CONCATENATE(\"\", 'WH - FCI'!K120),\"\")","v":""},false,"Y"]
["$WH1_4.2.1.ROW104COL1",{"$f":"IF(R_WHFCI,CONCATENATE(\"\", 'WH - FCI'!A121),\"\")","v":""},false,"Y"]
["$WH1_4.2.1.ROW104COL2",{"$f":"IF(R_WHFCI,CONCATENATE(\"\", 'WH - FCI'!B121),\"\")","v":""},false,"Y"]
["$WH1_4.2.1.ROW104COL3",{"$f":"IF(R_WHFCI,CONCATENATE(\"\", 'WH - FCI'!C121),\"\")","v":""},false,"Y"]
["$WH1_4.2.1.ROW104COL4",{"$f":"IF(R_WHFCI,CONCATENATE(\"\", 'WH - FCI'!D121),\"\")","v":""},false,"Y"]
["$WH1_4.2.1.ROW104COL5",{"$f":"IF(R_WHFCI,CONCATENATE(\"\", 'WH - FCI'!E121),\"\")","v":""},false,"Y"]
["$WH1_4.2.1.ROW104COL6",{"$f":"IF(R_WHFCI,CONCATENATE(\"\", 'WH - FCI'!F121),\"\")","v":""},false,"Y"]
["$WH1_4.2.1.ROW104COL7",{"$f":"IF(R_WHFCI,CONCATENATE(\"\", 'WH - FCI'!G121),\"\")","v":""},false,"Y"]
["$WH1_4.2.1.ROW104COL8",{"$f":"IF(R_WHFCI,CONCATENATE(\"\", 'WH - FCI'!H121),\"\")","v":""},false,"Y"]
["$WH1_4.2.1.ROW104COL9",{"$f":"IF(R_WHFCI,CONCATENATE(\"\", 'WH - FCI'!I121),\"\")","v":""},false,"Y"]
["$WH1_4.2.1.ROW104COL10",{"$f":"IF(R_WHFCI,CONCATENATE(\"\", 'WH - FCI'!J121),\"\")","v":""},false,"Y"]
["$WH1_4.2.1.ROW104COL11",{"$f":"IF(R_WHFCI,CONCATENATE(\"\", 'WH - FCI'!K121),\"\")","v":""},false,"Y"]
["$WH1_4.2.1.ROW105COL1",{"$f":"IF(R_WHFCI,CONCATENATE(\"\", 'WH - FCI'!A122),\"\")","v":""},false,"Y"]
["$WH1_4.2.1.ROW105COL2",{"$f":"IF(R_WHFCI,CONCATENATE(\"\", 'WH - FCI'!B122),\"\")","v":""},false,"Y"]
["$WH1_4.2.1.ROW105COL3",{"$f":"IF(R_WHFCI,CONCATENATE(\"\", 'WH - FCI'!C122),\"\")","v":""},false,"Y"]
["$WH1_4.2.1.ROW105COL4",{"$f":"IF(R_WHFCI,CONCATENATE(\"\", 'WH - FCI'!D122),\"\")","v":""},false,"Y"]
["$WH1_4.2.1.ROW105COL5",{"$f":"IF(R_WHFCI,CONCATENATE(\"\", 'WH - FCI'!E122),\"\")","v":""},false,"Y"]
["$WH1_4.2.1.ROW105COL6",{"$f":"IF(R_WHFCI,CONCATENATE(\"\", 'WH - FCI'!F122),\"\")","v":""},false,"Y"]
["$WH1_4.2.1.ROW105COL7",{"$f":"IF(R_WHFCI,CONCATENATE(\"\", 'WH - FCI'!G122),\"\")","v":""},false,"Y"]
["$WH1_4.2.1.ROW105COL8",{"$f":"IF(R_WHFCI,CONCATENATE(\"\", 'WH - FCI'!H122),\"\")","v":""},false,"Y"]
["$WH1_4.2.1.ROW105COL9",{"$f":"IF(R_WHFCI,CONCATENATE(\"\", 'WH - FCI'!I122),\"\")","v":""},false,"Y"]
["$WH1_4.2.1.ROW105COL10",{"$f":"IF(R_WHFCI,CONCATENATE(\"\", 'WH - FCI'!J122),\"\")","v":""},false,"Y"]
["$WH1_4.2.1.ROW105COL11",{"$f":"IF(R_WHFCI,CONCATENATE(\"\", 'WH - FCI'!K122),\"\")","v":""},false,"Y"]
["$WH1_4.2.1.ROW106COL1",{"$f":"IF(R_WHFCI,CONCATENATE(\"\", 'WH - FCI'!A123),\"\")","v":""},false,"Y"]
["$WH1_4.2.1.ROW106COL2",{"$f":"IF(R_WHFCI,CONCATENATE(\"\", 'WH - FCI'!B123),\"\")","v":""},false,"Y"]
["$WH1_4.2.1.ROW106COL3",{"$f":"IF(R_WHFCI,CONCATENATE(\"\", 'WH - FCI'!C123),\"\")","v":""},false,"Y"]
["$WH1_4.2.1.ROW106COL4",{"$f":"IF(R_WHFCI,CONCATENATE(\"\", 'WH - FCI'!D123),\"\")","v":""},false,"Y"]
["$WH1_4.2.1.ROW106COL5",{"$f":"IF(R_WHFCI,CONCATENATE(\"\", 'WH - FCI'!E123),\"\")","v":""},false,"Y"]
["$WH1_4.2.1.ROW106COL6",{"$f":"IF(R_WHFCI,CONCATENATE(\"\", 'WH - FCI'!F123),\"\")","v":""},false,"Y"]
["$WH1_4.2.1.ROW106COL7",{"$f":"IF(R_WHFCI,CONCATENATE(\"\", 'WH - FCI'!G123),\"\")","v":""},false,"Y"]
["$WH1_4.2.1.ROW106COL8",{"$f":"IF(R_WHFCI,CONCATENATE(\"\", 'WH - FCI'!H123),\"\")","v":""},false,"Y"]
["$WH1_4.2.1.ROW106COL9",{"$f":"IF(R_WHFCI,CONCATENATE(\"\", 'WH - FCI'!I123),\"\")","v":""},false,"Y"]
["$WH1_4.2.1.ROW106COL10",{"$f":"IF(R_WHFCI,CONCATENATE(\"\", 'WH - FCI'!J123),\"\")","v":""},false,"Y"]
["$WH1_4.2.1.ROW106COL11",{"$f":"IF(R_WHFCI,CONCATENATE(\"\", 'WH - FCI'!K123),\"\")","v":""},false,"Y"]
["$WH1_4.2.1.ROW107COL1",{"$f":"IF(R_WHFCI,CONCATENATE(\"\", 'WH - FCI'!A124),\"\")","v":""},false,"Y"]
["$WH1_4.2.1.ROW107COL2",{"$f":"IF(R_WHFCI,CONCATENATE(\"\", 'WH - FCI'!B124),\"\")","v":""},false,"Y"]
["$WH1_4.2.1.ROW107COL3",{"$f":"IF(R_WHFCI,CONCATENATE(\"\", 'WH - FCI'!C124),\"\")","v":""},false,"Y"]
["$WH1_4.2.1.ROW107COL4",{"$f":"IF(R_WHFCI,CONCATENATE(\"\", 'WH - FCI'!D124),\"\")","v":""},false,"Y"]
["$WH1_4.2.1.ROW107COL5",{"$f":"IF(R_WHFCI,CONCATENATE(\"\", 'WH - FCI'!E124),\"\")","v":""},false,"Y"]
["$WH1_4.2.1.ROW107COL6",{"$f":"IF(R_WHFCI,CONCATENATE(\"\", 'WH - FCI'!F124),\"\")","v":""},false,"Y"]
["$WH1_4.2.1.ROW107COL7",{"$f":"IF(R_WHFCI,CONCATENATE(\"\", 'WH - FCI'!G124),\"\")","v":""},false,"Y"]
["$WH1_4.2.1.ROW107COL8",{"$f":"IF(R_WHFCI,CONCATENATE(\"\", 'WH - FCI'!H124),\"\")","v":""},false,"Y"]
["$WH1_4.2.1.ROW107COL9",{"$f":"IF(R_WHFCI,CONCATENATE(\"\", 'WH - FCI'!I124),\"\")","v":""},false,"Y"]
["$WH1_4.2.1.ROW107COL10",{"$f":"IF(R_WHFCI,CONCATENATE(\"\", 'WH - FCI'!J124),\"\")","v":""},false,"Y"]
["$WH1_4.2.1.ROW107COL11",{"$f":"IF(R_WHFCI,CONCATENATE(\"\", 'WH - FCI'!K124),\"\")","v":""},false,"Y"]
["$WH1_4.2.1.ROW108COL1",{"$f":"IF(R_WHFCI,CONCATENATE(\"\", 'WH - FCI'!A125),\"\")","v":""},false,"Y"]
["$WH1_4.2.1.ROW108COL2",{"$f":"IF(R_WHFCI,CONCATENATE(\"\", 'WH - FCI'!B125),\"\")","v":""},false,"Y"]
["$WH1_4.2.1.ROW108COL3",{"$f":"IF(R_WHFCI,CONCATENATE(\"\", 'WH - FCI'!C125),\"\")","v":""},false,"Y"]
["$WH1_4.2.1.ROW108COL4",{"$f":"IF(R_WHFCI,CONCATENATE(\"\", 'WH - FCI'!D125),\"\")","v":""},false,"Y"]
["$WH1_4.2.1.ROW108COL5",{"$f":"IF(R_WHFCI,CONCATENATE(\"\", 'WH - FCI'!E125),\"\")","v":""},false,"Y"]
["$WH1_4.2.1.ROW108COL6",{"$f":"IF(R_WHFCI,CONCATENATE(\"\", 'WH - FCI'!F125),\"\")","v":""},false,"Y"]
["$WH1_4.2.1.ROW108COL7",{"$f":"IF(R_WHFCI,CONCATENATE(\"\", 'WH - FCI'!G125),\"\")","v":""},false,"Y"]
["$WH1_4.2.1.ROW108COL8",{"$f":"IF(R_WHFCI,CONCATENATE(\"\", 'WH - FCI'!H125),\"\")","v":""},false,"Y"]
["$WH1_4.2.1.ROW108COL9",{"$f":"IF(R_WHFCI,CONCATENATE(\"\", 'WH - FCI'!I125),\"\")","v":""},false,"Y"]
["$WH1_4.2.1.ROW108COL10",{"$f":"IF(R_WHFCI,CONCATENATE(\"\", 'WH - FCI'!J125),\"\")","v":""},false,"Y"]
["$WH1_4.2.1.ROW108COL11",{"$f":"IF(R_WHFCI,CONCATENATE(\"\", 'WH - FCI'!K125),\"\")","v":""},false,"Y"]
["$WH1_4.2.1.ROW109COL1",{"$f":"IF(R_WHFCI,CONCATENATE(\"\", 'WH - FCI'!A126),\"\")","v":""},false,"Y"]
["$WH1_4.2.1.ROW109COL2",{"$f":"IF(R_WHFCI,CONCATENATE(\"\", 'WH - FCI'!B126),\"\")","v":""},false,"Y"]
["$WH1_4.2.1.ROW109COL3",{"$f":"IF(R_WHFCI,CONCATENATE(\"\", 'WH - FCI'!C126),\"\")","v":""},false,"Y"]
["$WH1_4.2.1.ROW109COL4",{"$f":"IF(R_WHFCI,CONCATENATE(\"\", 'WH - FCI'!D126),\"\")","v":""},false,"Y"]
["$WH1_4.2.1.ROW109COL5",{"$f":"IF(R_WHFCI,CONCATENATE(\"\", 'WH - FCI'!E126),\"\")","v":""},false,"Y"]
["$WH1_4.2.1.ROW109COL6",{"$f":"IF(R_WHFCI,CONCATENATE(\"\", 'WH - FCI'!F126),\"\")","v":""},{"$f":"ISERROR(B3518)","v":false},"Y"]
["$WH1_4.2.1.ROW109COL7",{"$f":"IF(R_WHFCI,CONCATENATE(\"\", 'WH - FCI'!G126),\"\")","v":""},false,"Y"]
["$WH1_4.2.1.ROW109COL8",{"$f":"IF(R_WHFCI,CONCATENATE(\"\", 'WH - FCI'!H126),\"\")","v":""},false,"Y"]
["$WH1_4.2.1.ROW109COL9",{"$f":"IF(R_WHFCI,CONCATENATE(\"\", 'WH - FCI'!I126),\"\")","v":""},false,"Y"]
["$WH1_4.2.1.ROW109COL10",{"$f":"IF(R_WHFCI,CONCATENATE(\"\", 'WH - FCI'!J126),\"\")","v":""},false,"Y"]
["$WH1_4.2.1.ROW109COL11",{"$f":"IF(R_WHFCI,CONCATENATE(\"\", 'WH - FCI'!K126),\"\")","v":""},false,"Y"]
["$WH1_4.2.1.ROW110COL1",{"$f":"IF(R_WHFCI,CONCATENATE(\"\", 'WH - FCI'!A127),\"\")","v":""},false,"Y"]
["$WH1_4.2.1.ROW110COL2",{"$f":"IF(R_WHFCI,CONCATENATE(\"\", 'WH - FCI'!B127),\"\")","v":""},false,"Y"]
["$WH1_4.2.1.ROW110COL3",{"$f":"IF(R_WHFCI,CONCATENATE(\"\", 'WH - FCI'!C127),\"\")","v":""},false,"Y"]
["$WH1_4.2.1.ROW110COL4",{"$f":"IF(R_WHFCI,CONCATENATE(\"\", 'WH - FCI'!D127),\"\")","v":""},false,"Y"]
["$WH1_4.2.1.ROW110COL5",{"$f":"IF(R_WHFCI,CONCATENATE(\"\", 'WH - FCI'!E127),\"\")","v":""},false,"Y"]
["$WH1_4.2.1.ROW110COL6",{"$f":"IF(R_WHFCI,CONCATENATE(\"\", 'WH - FCI'!F127),\"\")","v":""},false,"Y"]
["$WH1_4.2.1.ROW110COL7",{"$f":"IF(R_WHFCI,CONCATENATE(\"\", 'WH - FCI'!G127),\"\")","v":""},false,"Y"]
["$WH1_4.2.1.ROW110COL8",{"$f":"IF(R_WHFCI,CONCATENATE(\"\", 'WH - FCI'!H127),\"\")","v":""},false,"Y"]
["$WH1_4.2.1.ROW110COL9",{"$f":"IF(R_WHFCI,CONCATENATE(\"\", 'WH - FCI'!I127),\"\")","v":""},false,"Y"]
["$WH1_4.2.1.ROW110COL10",{"$f":"IF(R_WHFCI,CONCATENATE(\"\", 'WH - FCI'!J127),\"\")","v":""},false,"Y"]
["$WH1_4.2.1.ROW110COL11",{"$f":"IF(R_WHFCI,CONCATENATE(\"\", 'WH - FCI'!K127),\"\")","v":""},false,"Y"]
["$WH1_4.2.1.ROW111COL1",{"$f":"IF(R_WHFCI,CONCATENATE(\"\", 'WH - FCI'!A128),\"\")","v":""},false,"Y"]
["$WH1_4.2.1.ROW111COL2",{"$f":"IF(R_WHFCI,CONCATENATE(\"\", 'WH - FCI'!B128),\"\")","v":""},false,"Y"]
["$WH1_4.2.1.ROW111COL3",{"$f":"IF(R_WHFCI,CONCATENATE(\"\", 'WH - FCI'!C128),\"\")","v":""},false,"Y"]
["$WH1_4.2.1.ROW111COL4",{"$f":"IF(R_WHFCI,CONCATENATE(\"\", 'WH - FCI'!D128),\"\")","v":""},false,"Y"]
["$WH1_4.2.1.ROW111COL5",{"$f":"IF(R_WHFCI,CONCATENATE(\"\", 'WH - FCI'!E128),\"\")","v":""},false,"Y"]
["$WH1_4.2.1.ROW111COL6",{"$f":"IF(R_WHFCI,CONCATENATE(\"\", 'WH - FCI'!F128),\"\")","v":""},false,"Y"]
["$WH1_4.2.1.ROW111COL7",{"$f":"IF(R_WHFCI,CONCATENATE(\"\", 'WH - FCI'!G128),\"\")","v":""},false,"Y"]
["$WH1_4.2.1.ROW111COL8",{"$f":"IF(R_WHFCI,CONCATENATE(\"\", 'WH - FCI'!H128),\"\")","v":""},false,"Y"]
["$WH1_4.2.1.ROW111COL9",{"$f":"IF(R_WHFCI,CONCATENATE(\"\", 'WH - FCI'!I128),\"\")","v":""},false,"Y"]
["$WH1_4.2.1.ROW111COL10",{"$f":"IF(R_WHFCI,CONCATENATE(\"\", 'WH - FCI'!J128),\"\")","v":""},false,"Y"]
["$WH1_4.2.1.ROW111COL11",{"$f":"IF(R_WHFCI,CONCATENATE(\"\", 'WH - FCI'!K128),\"\")","v":""},false,"Y"]
["$WH1_4.2.1.ROW112COL1",{"$f":"IF(R_WHFCI,CONCATENATE(\"\", 'WH - FCI'!A129),\"\")","v":""},false,"Y"]
["$WH1_4.2.1.ROW112COL2",{"$f":"IF(R_WHFCI,CONCATENATE(\"\", 'WH - FCI'!B129),\"\")","v":""},false,"Y"]
["$WH1_4.2.1.ROW112COL3",{"$f":"IF(R_WHFCI,CONCATENATE(\"\", 'WH - FCI'!C129),\"\")","v":""},false,"Y"]
["$WH1_4.2.1.ROW112COL4",{"$f":"IF(R_WHFCI,CONCATENATE(\"\", 'WH - FCI'!D129),\"\")","v":""},false,"Y"]
["$WH1_4.2.1.ROW112COL5",{"$f":"IF(R_WHFCI,CONCATENATE(\"\", 'WH - FCI'!E129),\"\")","v":""},false,"Y"]
["$WH1_4.2.1.ROW112COL6",{"$f":"IF(R_WHFCI,CONCATENATE(\"\", 'WH - FCI'!F129),\"\")","v":""},false,"Y"]
["$WH1_4.2.1.ROW112COL7",{"$f":"IF(R_WHFCI,CONCATENATE(\"\", 'WH - FCI'!G129),\"\")","v":""},false,"Y"]
["$WH1_4.2.1.ROW112COL8",{"$f":"IF(R_WHFCI,CONCATENATE(\"\", 'WH - FCI'!H129),\"\")","v":""},false,"Y"]
["$WH1_4.2.1.ROW112COL9",{"$f":"IF(R_WHFCI,CONCATENATE(\"\", 'WH - FCI'!I129),\"\")","v":""},false,"Y"]
["$WH1_4.2.1.ROW112COL10",{"$f":"IF(R_WHFCI,CONCATENATE(\"\", 'WH - FCI'!J129),\"\")","v":""},false,"Y"]
["$WH1_4.2.1.ROW112COL11",{"$f":"IF(R_WHFCI,CONCATENATE(\"\", 'WH - FCI'!K129),\"\")","v":""},false,"Y"]
["$WH1_4.2.1.ROW113COL1",{"$f":"IF(R_WHFCI,CONCATENATE(\"\", 'WH - FCI'!A130),\"\")","v":""},false,"Y"]
["$WH1_4.2.1.ROW113COL2",{"$f":"IF(R_WHFCI,CONCATENATE(\"\", 'WH - FCI'!B130),\"\")","v":""},false,"Y"]
["$WH1_4.2.1.ROW113COL3",{"$f":"IF(R_WHFCI,CONCATENATE(\"\", 'WH - FCI'!C130),\"\")","v":""},false,"Y"]
["$WH1_4.2.1.ROW113COL4",{"$f":"IF(R_WHFCI,CONCATENATE(\"\", 'WH - FCI'!D130),\"\")","v":""},false,"Y"]
["$WH1_4.2.1.ROW113COL5",{"$f":"IF(R_WHFCI,CONCATENATE(\"\", 'WH - FCI'!E130),\"\")","v":""},false,"Y"]
["$WH1_4.2.1.ROW113COL6",{"$f":"IF(R_WHFCI,CONCATENATE(\"\", 'WH - FCI'!F130),\"\")","v":""},false,"Y"]
["$WH1_4.2.1.ROW113COL7",{"$f":"IF(R_WHFCI,CONCATENATE(\"\", 'WH - FCI'!G130),\"\")","v":""},false,"Y"]
["$WH1_4.2.1.ROW113COL8",{"$f":"IF(R_WHFCI,CONCATENATE(\"\", 'WH - FCI'!H130),\"\")","v":""},false,"Y"]
["$WH1_4.2.1.ROW113COL9",{"$f":"IF(R_WHFCI,CONCATENATE(\"\", 'WH - FCI'!I130),\"\")","v":""},false,"Y"]
["$WH1_4.2.1.ROW113COL10",{"$f":"IF(R_WHFCI,CONCATENATE(\"\", 'WH - FCI'!J130),\"\")","v":""},false,"Y"]
["$WH1_4.2.1.ROW113COL11",{"$f":"IF(R_WHFCI,CONCATENATE(\"\", 'WH - FCI'!K130),\"\")","v":""},false,"Y"]
["$WH1_4.2.1.ROW114COL1",{"$f":"IF(R_WHFCI,CONCATENATE(\"\", 'WH - FCI'!A131),\"\")","v":""},false,"Y"]
["$WH1_4.2.1.ROW114COL2",{"$f":"IF(R_WHFCI,CONCATENATE(\"\", 'WH - FCI'!B131),\"\")","v":""},false,"Y"]
["$WH1_4.2.1.ROW114COL3",{"$f":"IF(R_WHFCI,CONCATENATE(\"\", 'WH - FCI'!C131),\"\")","v":""},false,"Y"]
["$WH1_4.2.1.ROW114COL4",{"$f":"IF(R_WHFCI,CONCATENATE(\"\", 'WH - FCI'!D131),\"\")","v":""},false,"Y"]
["$WH1_4.2.1.ROW114COL5",{"$f":"IF(R_WHFCI,CONCATENATE(\"\", 'WH - FCI'!E131),\"\")","v":""},false,"Y"]
["$WH1_4.2.1.ROW114COL6",{"$f":"IF(R_WHFCI,CONCATENATE(\"\", 'WH - FCI'!F131),\"\")","v":""},false,"Y"]
["$WH1_4.2.1.ROW114COL7",{"$f":"IF(R_WHFCI,CONCATENATE(\"\", 'WH - FCI'!G131),\"\")","v":""},false,"Y"]
["$WH1_4.2.1.ROW114COL8",{"$f":"IF(R_WHFCI,CONCATENATE(\"\", 'WH - FCI'!H131),\"\")","v":""},false,"Y"]
["$WH1_4.2.1.ROW114COL9",{"$f":"IF(R_WHFCI,CONCATENATE(\"\", 'WH - FCI'!I131),\"\")","v":""},false,"Y"]
["$WH1_4.2.1.ROW114COL10",{"$f":"IF(R_WHFCI,CONCATENATE(\"\", 'WH - FCI'!J131),\"\")","v":""},false,"Y"]
["$WH1_4.2.1.ROW114COL11",{"$f":"IF(R_WHFCI,CONCATENATE(\"\", 'WH - FCI'!K131),\"\")","v":""},false,"Y"]
["$WH1_4.2.1.ROW115COL1",{"$f":"IF(R_WHFCI,CONCATENATE(\"\", 'WH - FCI'!A132),\"\")","v":""},false,"Y"]
["$WH1_4.2.1.ROW115COL2",{"$f":"IF(R_WHFCI,CONCATENATE(\"\", 'WH - FCI'!B132),\"\")","v":""},false,"Y"]
["$WH1_4.2.1.ROW115COL3",{"$f":"IF(R_WHFCI,CONCATENATE(\"\", 'WH - FCI'!C132),\"\")","v":""},false,"Y"]
["$WH1_4.2.1.ROW115COL4",{"$f":"IF(R_WHFCI,CONCATENATE(\"\", 'WH - FCI'!D132),\"\")","v":""},{"$f":"ISERROR(B3582)","v":false},"Y"]
["$WH1_4.2.1.ROW115COL5",{"$f":"IF(R_WHFCI,CONCATENATE(\"\", 'WH - FCI'!E132),\"\")","v":""},false,"Y"]
["$WH1_4.2.1.ROW115COL6",{"$f":"IF(R_WHFCI,CONCATENATE(\"\", 'WH - FCI'!F132),\"\")","v":""},false,"Y"]
["$WH1_4.2.1.ROW115COL7",{"$f":"IF(R_WHFCI,CONCATENATE(\"\", 'WH - FCI'!G132),\"\")","v":""},false,"Y"]
["$WH1_4.2.1.ROW115COL8",{"$f":"IF(R_WHFCI,CONCATENATE(\"\", 'WH - FCI'!H132),\"\")","v":""},false,"Y"]
["$WH1_4.2.1.ROW115COL9",{"$f":"IF(R_WHFCI,CONCATENATE(\"\", 'WH - FCI'!I132),\"\")","v":""},false,"Y"]
["$WH1_4.2.1.ROW115COL10",{"$f":"IF(R_WHFCI,CONCATENATE(\"\", 'WH - FCI'!J132),\"\")","v":""},false,"Y"]
["$WH1_4.2.1.ROW115COL11",{"$f":"IF(R_WHFCI,CONCATENATE(\"\", 'WH - FCI'!K132),\"\")","v":""},false,"Y"]
["$WH1_4.2.1.ROW116COL1",{"$f":"IF(R_WHFCI,CONCATENATE(\"\", 'WH - FCI'!A133),\"\")","v":""},false,"Y"]
["$WH1_4.2.1.ROW116COL2",{"$f":"IF(R_WHFCI,CONCATENATE(\"\", 'WH - FCI'!B133),\"\")","v":""},false,"Y"]
["$WH1_4.2.1.ROW116COL3",{"$f":"IF(R_WHFCI,CONCATENATE(\"\", 'WH - FCI'!C133),\"\")","v":""},false,"Y"]
["$WH1_4.2.1.ROW116COL4",{"$f":"IF(R_WHFCI,CONCATENATE(\"\", 'WH - FCI'!D133),\"\")","v":""},false,"Y"]
["$WH1_4.2.1.ROW116COL5",{"$f":"IF(R_WHFCI,CONCATENATE(\"\", 'WH - FCI'!E133),\"\")","v":""},false,"Y"]
["$WH1_4.2.1.ROW116COL6",{"$f":"IF(R_WHFCI,CONCATENATE(\"\", 'WH - FCI'!F133),\"\")","v":""},false,"Y"]
["$WH1_4.2.1.ROW116COL7",{"$f":"IF(R_WHFCI,CONCATENATE(\"\", 'WH - FCI'!G133),\"\")","v":""},false,"Y"]
["$WH1_4.2.1.ROW116COL8",{"$f":"IF(R_WHFCI,CONCATENATE(\"\", 'WH - FCI'!H133),\"\")","v":""},false,"Y"]
["$WH1_4.2.1.ROW116COL9",{"$f":"IF(R_WHFCI,CONCATENATE(\"\", 'WH - FCI'!I133),\"\")","v":""},false,"Y"]
["$WH1_4.2.1.ROW116COL10",{"$f":"IF(R_WHFCI,CONCATENATE(\"\", 'WH - FCI'!J133),\"\")","v":""},false,"Y"]
["$WH1_4.2.1.ROW116COL11",{"$f":"IF(R_WHFCI,CONCATENATE(\"\", 'WH - FCI'!K133),\"\")","v":""},false,"Y"]
["$WH1_4.2.1.ROW117COL1",{"$f":"IF(R_WHFCI,CONCATENATE(\"\", 'WH - FCI'!A134),\"\")","v":""},false,"Y"]
["$WH1_4.2.1.ROW117COL2",{"$f":"IF(R_WHFCI,CONCATENATE(\"\", 'WH - FCI'!B134),\"\")","v":""},false,"Y"]
["$WH1_4.2.1.ROW117COL3",{"$f":"IF(R_WHFCI,CONCATENATE(\"\", 'WH - FCI'!C134),\"\")","v":""},false,"Y"]
["$WH1_4.2.1.ROW117COL4",{"$f":"IF(R_WHFCI,CONCATENATE(\"\", 'WH - FCI'!D134),\"\")","v":""},false,"Y"]
["$WH1_4.2.1.ROW117COL5",{"$f":"IF(R_WHFCI,CONCATENATE(\"\", 'WH - FCI'!E134),\"\")","v":""},false,"Y"]
["$WH1_4.2.1.ROW117COL6",{"$f":"IF(R_WHFCI,CONCATENATE(\"\", 'WH - FCI'!F134),\"\")","v":""},false,"Y"]
["$WH1_4.2.1.ROW117COL7",{"$f":"IF(R_WHFCI,CONCATENATE(\"\", 'WH - FCI'!G134),\"\")","v":""},false,"Y"]
["$WH1_4.2.1.ROW117COL8",{"$f":"IF(R_WHFCI,CONCATENATE(\"\", 'WH - FCI'!H134),\"\")","v":""},false,"Y"]
["$WH1_4.2.1.ROW117COL9",{"$f":"IF(R_WHFCI,CONCATENATE(\"\", 'WH - FCI'!I134),\"\")","v":""},false,"Y"]
["$WH1_4.2.1.ROW117COL10",{"$f":"IF(R_WHFCI,CONCATENATE(\"\", 'WH - FCI'!J134),\"\")","v":""},false,"Y"]
["$WH1_4.2.1.ROW117COL11",{"$f":"IF(R_WHFCI,CONCATENATE(\"\", 'WH - FCI'!K134),\"\")","v":""},false,"Y"]
["$WH1_4.2.1.ROW118COL1",{"$f":"IF(R_WHFCI,CONCATENATE(\"\", 'WH - FCI'!A135),\"\")","v":""},false,"Y"]
["$WH1_4.2.1.ROW118COL2",{"$f":"IF(R_WHFCI,CONCATENATE(\"\", 'WH - FCI'!B135),\"\")","v":""},false,"Y"]
["$WH1_4.2.1.ROW118COL3",{"$f":"IF(R_WHFCI,CONCATENATE(\"\", 'WH - FCI'!C135),\"\")","v":""},false,"Y"]
["$WH1_4.2.1.ROW118COL4",{"$f":"IF(R_WHFCI,CONCATENATE(\"\", 'WH - FCI'!D135),\"\")","v":""},false,"Y"]
["$WH1_4.2.1.ROW118COL5",{"$f":"IF(R_WHFCI,CONCATENATE(\"\", 'WH - FCI'!E135),\"\")","v":""},false,"Y"]
["$WH1_4.2.1.ROW118COL6",{"$f":"IF(R_WHFCI,CONCATENATE(\"\", 'WH - FCI'!F135),\"\")","v":""},false,"Y"]
["$WH1_4.2.1.ROW118COL7",{"$f":"IF(R_WHFCI,CONCATENATE(\"\", 'WH - FCI'!G135),\"\")","v":""},false,"Y"]
["$WH1_4.2.1.ROW118COL8",{"$f":"IF(R_WHFCI,CONCATENATE(\"\", 'WH - FCI'!H135),\"\")","v":""},false,"Y"]
["$WH1_4.2.1.ROW118COL9",{"$f":"IF(R_WHFCI,CONCATENATE(\"\", 'WH - FCI'!I135),\"\")","v":""},false,"Y"]
["$WH1_4.2.1.ROW118COL10",{"$f":"IF(R_WHFCI,CONCATENATE(\"\", 'WH - FCI'!J135),\"\")","v":""},false,"Y"]
["$WH1_4.2.1.ROW118COL11",{"$f":"IF(R_WHFCI,CONCATENATE(\"\", 'WH - FCI'!K135),\"\")","v":""},false,"Y"]
["$WH1_4.2.1.ROW119COL1",{"$f":"IF(R_WHFCI,CONCATENATE(\"\", 'WH - FCI'!A136),\"\")","v":""},false,"Y"]
["$WH1_4.2.1.ROW119COL2",{"$f":"IF(R_WHFCI,CONCATENATE(\"\", 'WH - FCI'!B136),\"\")","v":""},false,"Y"]
["$WH1_4.2.1.ROW119COL3",{"$f":"IF(R_WHFCI,CONCATENATE(\"\", 'WH - FCI'!C136),\"\")","v":""},false,"Y"]
["$WH1_4.2.1.ROW119COL4",{"$f":"IF(R_WHFCI,CONCATENATE(\"\", 'WH - FCI'!D136),\"\")","v":""},false,"Y"]
["$WH1_4.2.1.ROW119COL5",{"$f":"IF(R_WHFCI,CONCATENATE(\"\", 'WH - FCI'!E136),\"\")","v":""},false,"Y"]
["$WH1_4.2.1.ROW119COL6",{"$f":"IF(R_WHFCI,CONCATENATE(\"\", 'WH - FCI'!F136),\"\")","v":""},false,"Y"]
["$WH1_4.2.1.ROW119COL7",{"$f":"IF(R_WHFCI,CONCATENATE(\"\", 'WH - FCI'!G136),\"\")","v":""},false,"Y"]
["$WH1_4.2.1.ROW119COL8",{"$f":"IF(R_WHFCI,CONCATENATE(\"\", 'WH - FCI'!H136),\"\")","v":""},false,"Y"]
["$WH1_4.2.1.ROW119COL9",{"$f":"IF(R_WHFCI,CONCATENATE(\"\", 'WH - FCI'!I136),\"\")","v":""},false,"Y"]
["$WH1_4.2.1.ROW119COL10",{"$f":"IF(R_WHFCI,CONCATENATE(\"\", 'WH - FCI'!J136),\"\")","v":""},false,"Y"]
["$WH1_4.2.1.ROW119COL11",{"$f":"IF(R_WHFCI,CONCATENATE(\"\", 'WH - FCI'!K136),\"\")","v":""},false,"Y"]
["$WH1_4.2.1.ROW120COL1",{"$f":"IF(R_WHFCI,CONCATENATE(\"\", 'WH - FCI'!A137),\"\")","v":""},false,"Y"]
["$WH1_4.2.1.ROW120COL2",{"$f":"IF(R_WHFCI,CONCATENATE(\"\", 'WH - FCI'!B137),\"\")","v":""},false,"Y"]
["$WH1_4.2.1.ROW120COL3",{"$f":"IF(R_WHFCI,CONCATENATE(\"\", 'WH - FCI'!C137),\"\")","v":""},false,"Y"]
["$WH1_4.2.1.ROW120COL4",{"$f":"IF(R_WHFCI,CONCATENATE(\"\", 'WH - FCI'!D137),\"\")","v":""},false,"Y"]
["$WH1_4.2.1.ROW120COL5",{"$f":"IF(R_WHFCI,CONCATENATE(\"\", 'WH - FCI'!E137),\"\")","v":""},false,"Y"]
["$WH1_4.2.1.ROW120COL6",{"$f":"IF(R_WHFCI,CONCATENATE(\"\", 'WH - FCI'!F137),\"\")","v":""},false,"Y"]
["$WH1_4.2.1.ROW120COL7",{"$f":"IF(R_WHFCI,CONCATENATE(\"\", 'WH - FCI'!G137),\"\")","v":""},false,"Y"]
["$WH1_4.2.1.ROW120COL8",{"$f":"IF(R_WHFCI,CONCATENATE(\"\", 'WH - FCI'!H137),\"\")","v":""},false,"Y"]
["$WH1_4.2.1.ROW120COL9",{"$f":"IF(R_WHFCI,CONCATENATE(\"\", 'WH - FCI'!I137),\"\")","v":""},false,"Y"]
["$WH1_4.2.1.ROW120COL10",{"$f":"IF(R_WHFCI,CONCATENATE(\"\", 'WH - FCI'!J137),\"\")","v":""},false,"Y"]
["$WH1_4.2.1.ROW120COL11",{"$f":"IF(R_WHFCI,CONCATENATE(\"\", 'WH - FCI'!K137),\"\")","v":""},false,"Y"]
["$WH1_4.2.1.ROW121COL1",{"$f":"IF(R_WHFCI,CONCATENATE(\"\", 'WH - FCI'!A138),\"\")","v":""},false,"Y"]
["$WH1_4.2.1.ROW121COL2",{"$f":"IF(R_WHFCI,CONCATENATE(\"\", 'WH - FCI'!B138),\"\")","v":""},{"$f":"ISERROR(B3646)","v":false},"Y"]
["$WH1_4.2.1.ROW121COL3",{"$f":"IF(R_WHFCI,CONCATENATE(\"\", 'WH - FCI'!C138),\"\")","v":""},false,"Y"]
["$WH1_4.2.1.ROW121COL4",{"$f":"IF(R_WHFCI,CONCATENATE(\"\", 'WH - FCI'!D138),\"\")","v":""},false,"Y"]
["$WH1_4.2.1.ROW121COL5",{"$f":"IF(R_WHFCI,CONCATENATE(\"\", 'WH - FCI'!E138),\"\")","v":""},false,"Y"]
["$WH1_4.2.1.ROW121COL6",{"$f":"IF(R_WHFCI,CONCATENATE(\"\", 'WH - FCI'!F138),\"\")","v":""},false,"Y"]
["$WH1_4.2.1.ROW121COL7",{"$f":"IF(R_WHFCI,CONCATENATE(\"\", 'WH - FCI'!G138),\"\")","v":""},false,"Y"]
["$WH1_4.2.1.ROW121COL8",{"$f":"IF(R_WHFCI,CONCATENATE(\"\", 'WH - FCI'!H138),\"\")","v":""},false,"Y"]
["$WH1_4.2.1.ROW121COL9",{"$f":"IF(R_WHFCI,CONCATENATE(\"\", 'WH - FCI'!I138),\"\")","v":""},false,"Y"]
["$WH1_4.2.1.ROW121COL10",{"$f":"IF(R_WHFCI,CONCATENATE(\"\", 'WH - FCI'!J138),\"\")","v":""},false,"Y"]
["$WH1_4.2.1.ROW121COL11",{"$f":"IF(R_WHFCI,CONCATENATE(\"\", 'WH - FCI'!K138),\"\")","v":""},false,"Y"]
["$WH1_4.2.1.ROW122COL1",{"$f":"IF(R_WHFCI,CONCATENATE(\"\", 'WH - FCI'!A139),\"\")","v":""},false,"Y"]
["$WH1_4.2.1.ROW122COL2",{"$f":"IF(R_WHFCI,CONCATENATE(\"\", 'WH - FCI'!B139),\"\")","v":""},false,"Y"]
["$WH1_4.2.1.ROW122COL3",{"$f":"IF(R_WHFCI,CONCATENATE(\"\", 'WH - FCI'!C139),\"\")","v":""},false,"Y"]
["$WH1_4.2.1.ROW122COL4",{"$f":"IF(R_WHFCI,CONCATENATE(\"\", 'WH - FCI'!D139),\"\")","v":""},false,"Y"]
["$WH1_4.2.1.ROW122COL5",{"$f":"IF(R_WHFCI,CONCATENATE(\"\", 'WH - FCI'!E139),\"\")","v":""},false,"Y"]
["$WH1_4.2.1.ROW122COL6",{"$f":"IF(R_WHFCI,CONCATENATE(\"\", 'WH - FCI'!F139),\"\")","v":""},false,"Y"]
["$WH1_4.2.1.ROW122COL7",{"$f":"IF(R_WHFCI,CONCATENATE(\"\", 'WH - FCI'!G139),\"\")","v":""},false,"Y"]
["$WH1_4.2.1.ROW122COL8",{"$f":"IF(R_WHFCI,CONCATENATE(\"\", 'WH - FCI'!H139),\"\")","v":""},false,"Y"]
["$WH1_4.2.1.ROW122COL9",{"$f":"IF(R_WHFCI,CONCATENATE(\"\", 'WH - FCI'!I139),\"\")","v":""},false,"Y"]
["$WH1_4.2.1.ROW122COL10",{"$f":"IF(R_WHFCI,CONCATENATE(\"\", 'WH - FCI'!J139),\"\")","v":""},false,"Y"]
["$WH1_4.2.1.ROW122COL11",{"$f":"IF(R_WHFCI,CONCATENATE(\"\", 'WH - FCI'!K139),\"\")","v":""},false,"Y"]
["$WH1_4.2.1.ROW123COL1",{"$f":"IF(R_WHFCI,CONCATENATE(\"\", 'WH - FCI'!A140),\"\")","v":""},false,"Y"]
["$WH1_4.2.1.ROW123COL2",{"$f":"IF(R_WHFCI,CONCATENATE(\"\", 'WH - FCI'!B140),\"\")","v":""},false,"Y"]
["$WH1_4.2.1.ROW123COL3",{"$f":"IF(R_WHFCI,CONCATENATE(\"\", 'WH - FCI'!C140),\"\")","v":""},false,"Y"]
["$WH1_4.2.1.ROW123COL4",{"$f":"IF(R_WHFCI,CONCATENATE(\"\", 'WH - FCI'!D140),\"\")","v":""},false,"Y"]
["$WH1_4.2.1.ROW123COL5",{"$f":"IF(R_WHFCI,CONCATENATE(\"\", 'WH - FCI'!E140),\"\")","v":""},false,"Y"]
["$WH1_4.2.1.ROW123COL6",{"$f":"IF(R_WHFCI,CONCATENATE(\"\", 'WH - FCI'!F140),\"\")","v":""},false,"Y"]
["$WH1_4.2.1.ROW123COL7",{"$f":"IF(R_WHFCI,CONCATENATE(\"\", 'WH - FCI'!G140),\"\")","v":""},false,"Y"]
["$WH1_4.2.1.ROW123COL8",{"$f":"IF(R_WHFCI,CONCATENATE(\"\", 'WH - FCI'!H140),\"\")","v":""},false,"Y"]
["$WH1_4.2.1.ROW123COL9",{"$f":"IF(R_WHFCI,CONCATENATE(\"\", 'WH - FCI'!I140),\"\")","v":""},false,"Y"]
["$WH1_4.2.1.ROW123COL10",{"$f":"IF(R_WHFCI,CONCATENATE(\"\", 'WH - FCI'!J140),\"\")","v":""},false,"Y"]
["$WH1_4.2.1.ROW123COL11",{"$f":"IF(R_WHFCI,CONCATENATE(\"\", 'WH - FCI'!K140),\"\")","v":""},false,"Y"]
["$WH1_4.2.1.ROW124COL1",{"$f":"IF(R_WHFCI,CONCATENATE(\"\", 'WH - FCI'!A141),\"\")","v":""},false,"Y"]
["$WH1_4.2.1.ROW124COL2",{"$f":"IF(R_WHFCI,CONCATENATE(\"\", 'WH - FCI'!B141),\"\")","v":""},false,"Y"]
["$WH1_4.2.1.ROW124COL3",{"$f":"IF(R_WHFCI,CONCATENATE(\"\", 'WH - FCI'!C141),\"\")","v":""},false,"Y"]
["$WH1_4.2.1.ROW124COL4",{"$f":"IF(R_WHFCI,CONCATENATE(\"\", 'WH - FCI'!D141),\"\")","v":""},false,"Y"]
["$WH1_4.2.1.ROW124COL5",{"$f":"IF(R_WHFCI,CONCATENATE(\"\", 'WH - FCI'!E141),\"\")","v":""},false,"Y"]
["$WH1_4.2.1.ROW124COL6",{"$f":"IF(R_WHFCI,CONCATENATE(\"\", 'WH - FCI'!F141),\"\")","v":""},false,"Y"]
["$WH1_4.2.1.ROW124COL7",{"$f":"IF(R_WHFCI,CONCATENATE(\"\", 'WH - FCI'!G141),\"\")","v":""},false,"Y"]
["$WH1_4.2.1.ROW124COL8",{"$f":"IF(R_WHFCI,CONCATENATE(\"\", 'WH - FCI'!H141),\"\")","v":""},false,"Y"]
["$WH1_4.2.1.ROW124COL9",{"$f":"IF(R_WHFCI,CONCATENATE(\"\", 'WH - FCI'!I141),\"\")","v":""},false,"Y"]
["$WH1_4.2.1.ROW124COL10",{"$f":"IF(R_WHFCI,CONCATENATE(\"\", 'WH - FCI'!J141),\"\")","v":""},false,"Y"]
["$WH1_4.2.1.ROW124COL11",{"$f":"IF(R_WHFCI,CONCATENATE(\"\", 'WH - FCI'!K141),\"\")","v":""},false,"Y"]
["$WH1_4.2.1.ROW125COL1",{"$f":"IF(R_WHFCI,CONCATENATE(\"\", 'WH - FCI'!A142),\"\")","v":""},false,"Y"]
["$WH1_4.2.1.ROW125COL2",{"$f":"IF(R_WHFCI,CONCATENATE(\"\", 'WH - FCI'!B142),\"\")","v":""},false,"Y"]
["$WH1_4.2.1.ROW125COL3",{"$f":"IF(R_WHFCI,CONCATENATE(\"\", 'WH - FCI'!C142),\"\")","v":""},false,"Y"]
["$WH1_4.2.1.ROW125COL4",{"$f":"IF(R_WHFCI,CONCATENATE(\"\", 'WH - FCI'!D142),\"\")","v":""},false,"Y"]
["$WH1_4.2.1.ROW125COL5",{"$f":"IF(R_WHFCI,CONCATENATE(\"\", 'WH - FCI'!E142),\"\")","v":""},false,"Y"]
["$WH1_4.2.1.ROW125COL6",{"$f":"IF(R_WHFCI,CONCATENATE(\"\", 'WH - FCI'!F142),\"\")","v":""},false,"Y"]
["$WH1_4.2.1.ROW125COL7",{"$f":"IF(R_WHFCI,CONCATENATE(\"\", 'WH - FCI'!G142),\"\")","v":""},false,"Y"]
["$WH1_4.2.1.ROW125COL8",{"$f":"IF(R_WHFCI,CONCATENATE(\"\", 'WH - FCI'!H142),\"\")","v":""},false,"Y"]
["$WH1_4.2.1.ROW125COL9",{"$f":"IF(R_WHFCI,CONCATENATE(\"\", 'WH - FCI'!I142),\"\")","v":""},false,"Y"]
["$WH1_4.2.1.ROW125COL10",{"$f":"IF(R_WHFCI,CONCATENATE(\"\", 'WH - FCI'!J142),\"\")","v":""},false,"Y"]
["$WH1_4.2.1.ROW125COL11",{"$f":"IF(R_WHFCI,CONCATENATE(\"\", 'WH - FCI'!K142),\"\")","v":""},false,"Y"]
["$WH1_4.2.1.ROW126COL1",{"$f":"IF(R_WHFCI,CONCATENATE(\"\", 'WH - FCI'!A143),\"\")","v":""},false,"Y"]
["$WH1_4.2.1.ROW126COL2",{"$f":"IF(R_WHFCI,CONCATENATE(\"\", 'WH - FCI'!B143),\"\")","v":""},false,"Y"]
["$WH1_4.2.1.ROW126COL3",{"$f":"IF(R_WHFCI,CONCATENATE(\"\", 'WH - FCI'!C143),\"\")","v":""},false,"Y"]
["$WH1_4.2.1.ROW126COL4",{"$f":"IF(R_WHFCI,CONCATENATE(\"\", 'WH - FCI'!D143),\"\")","v":""},false,"Y"]
["$WH1_4.2.1.ROW126COL5",{"$f":"IF(R_WHFCI,CONCATENATE(\"\", 'WH - FCI'!E143),\"\")","v":""},false,"Y"]
["$WH1_4.2.1.ROW126COL6",{"$f":"IF(R_WHFCI,CONCATENATE(\"\", 'WH - FCI'!F143),\"\")","v":""},false,"Y"]
["$WH1_4.2.1.ROW126COL7",{"$f":"IF(R_WHFCI,CONCATENATE(\"\", 'WH - FCI'!G143),\"\")","v":""},false,"Y"]
["$WH1_4.2.1.ROW126COL8",{"$f":"IF(R_WHFCI,CONCATENATE(\"\", 'WH - FCI'!H143),\"\")","v":""},false,"Y"]
["$WH1_4.2.1.ROW126COL9",{"$f":"IF(R_WHFCI,CONCATENATE(\"\", 'WH - FCI'!I143),\"\")","v":""},false,"Y"]
["$WH1_4.2.1.ROW126COL10",{"$f":"IF(R_WHFCI,CONCATENATE(\"\", 'WH - FCI'!J143),\"\")","v":""},false,"Y"]
["$WH1_4.2.1.ROW126COL11",{"$f":"IF(R_WHFCI,CONCATENATE(\"\", 'WH - FCI'!K143),\"\")","v":""},{"$f":"ISERROR(B3710)","v":false},"Y"]
["$WH1_4.2.1.ROW127COL1",{"$f":"IF(R_WHFCI,CONCATENATE(\"\", 'WH - FCI'!A144),\"\")","v":""},false,"Y"]
["$WH1_4.2.1.ROW127COL2",{"$f":"IF(R_WHFCI,CONCATENATE(\"\", 'WH - FCI'!B144),\"\")","v":""},false,"Y"]
["$WH1_4.2.1.ROW127COL3",{"$f":"IF(R_WHFCI,CONCATENATE(\"\", 'WH - FCI'!C144),\"\")","v":""},false,"Y"]
["$WH1_4.2.1.ROW127COL4",{"$f":"IF(R_WHFCI,CONCATENATE(\"\", 'WH - FCI'!D144),\"\")","v":""},false,"Y"]
["$WH1_4.2.1.ROW127COL5",{"$f":"IF(R_WHFCI,CONCATENATE(\"\", 'WH - FCI'!E144),\"\")","v":""},false,"Y"]
["$WH1_4.2.1.ROW127COL6",{"$f":"IF(R_WHFCI,CONCATENATE(\"\", 'WH - FCI'!F144),\"\")","v":""},false,"Y"]
["$WH1_4.2.1.ROW127COL7",{"$f":"IF(R_WHFCI,CONCATENATE(\"\", 'WH - FCI'!G144),\"\")","v":""},false,"Y"]
["$WH1_4.2.1.ROW127COL8",{"$f":"IF(R_WHFCI,CONCATENATE(\"\", 'WH - FCI'!H144),\"\")","v":""},false,"Y"]
["$WH1_4.2.1.ROW127COL9",{"$f":"IF(R_WHFCI,CONCATENATE(\"\", 'WH - FCI'!I144),\"\")","v":""},false,"Y"]
["$WH1_4.2.1.ROW127COL10",{"$f":"IF(R_WHFCI,CONCATENATE(\"\", 'WH - FCI'!J144),\"\")","v":""},false,"Y"]
["$WH1_4.2.1.ROW127COL11",{"$f":"IF(R_WHFCI,CONCATENATE(\"\", 'WH - FCI'!K144),\"\")","v":""},false,"Y"]
["$WH1_4.2.1.ROW128COL1",{"$f":"IF(R_WHFCI,CONCATENATE(\"\", 'WH - FCI'!A145),\"\")","v":""},false,"Y"]
["$WH1_4.2.1.ROW128COL2",{"$f":"IF(R_WHFCI,CONCATENATE(\"\", 'WH - FCI'!B145),\"\")","v":""},false,"Y"]
["$WH1_4.2.1.ROW128COL3",{"$f":"IF(R_WHFCI,CONCATENATE(\"\", 'WH - FCI'!C145),\"\")","v":""},false,"Y"]
["$WH1_4.2.1.ROW128COL4",{"$f":"IF(R_WHFCI,CONCATENATE(\"\", 'WH - FCI'!D145),\"\")","v":""},false,"Y"]
["$WH1_4.2.1.ROW128COL5",{"$f":"IF(R_WHFCI,CONCATENATE(\"\", 'WH - FCI'!E145),\"\")","v":""},false,"Y"]
["$WH1_4.2.1.ROW128COL6",{"$f":"IF(R_WHFCI,CONCATENATE(\"\", 'WH - FCI'!F145),\"\")","v":""},false,"Y"]
["$WH1_4.2.1.ROW128COL7",{"$f":"IF(R_WHFCI,CONCATENATE(\"\", 'WH - FCI'!G145),\"\")","v":""},false,"Y"]
["$WH1_4.2.1.ROW128COL8",{"$f":"IF(R_WHFCI,CONCATENATE(\"\", 'WH - FCI'!H145),\"\")","v":""},false,"Y"]
["$WH1_4.2.1.ROW128COL9",{"$f":"IF(R_WHFCI,CONCATENATE(\"\", 'WH - FCI'!I145),\"\")","v":""},false,"Y"]
["$WH1_4.2.1.ROW128COL10",{"$f":"IF(R_WHFCI,CONCATENATE(\"\", 'WH - FCI'!J145),\"\")","v":""},false,"Y"]
["$WH1_4.2.1.ROW128COL11",{"$f":"IF(R_WHFCI,CONCATENATE(\"\", 'WH - FCI'!K145),\"\")","v":""},false,"Y"]
["$WH1_4.2.1.ROW129COL1",{"$f":"IF(R_WHFCI,CONCATENATE(\"\", 'WH - FCI'!A146),\"\")","v":""},false,"Y"]
["$WH1_4.2.1.ROW129COL2",{"$f":"IF(R_WHFCI,CONCATENATE(\"\", 'WH - FCI'!B146),\"\")","v":""},false,"Y"]
["$WH1_4.2.1.ROW129COL3",{"$f":"IF(R_WHFCI,CONCATENATE(\"\", 'WH - FCI'!C146),\"\")","v":""},false,"Y"]
["$WH1_4.2.1.ROW129COL4",{"$f":"IF(R_WHFCI,CONCATENATE(\"\", 'WH - FCI'!D146),\"\")","v":""},false,"Y"]
["$WH1_4.2.1.ROW129COL5",{"$f":"IF(R_WHFCI,CONCATENATE(\"\", 'WH - FCI'!E146),\"\")","v":""},false,"Y"]
["$WH1_4.2.1.ROW129COL6",{"$f":"IF(R_WHFCI,CONCATENATE(\"\", 'WH - FCI'!F146),\"\")","v":""},false,"Y"]
["$WH1_4.2.1.ROW129COL7",{"$f":"IF(R_WHFCI,CONCATENATE(\"\", 'WH - FCI'!G146),\"\")","v":""},false,"Y"]
["$WH1_4.2.1.ROW129COL8",{"$f":"IF(R_WHFCI,CONCATENATE(\"\", 'WH - FCI'!H146),\"\")","v":""},false,"Y"]
["$WH1_4.2.1.ROW129COL9",{"$f":"IF(R_WHFCI,CONCATENATE(\"\", 'WH - FCI'!I146),\"\")","v":""},false,"Y"]
["$WH1_4.2.1.ROW129COL10",{"$f":"IF(R_WHFCI,CONCATENATE(\"\", 'WH - FCI'!J146),\"\")","v":""},false,"Y"]
["$WH1_4.2.1.ROW129COL11",{"$f":"IF(R_WHFCI,CONCATENATE(\"\", 'WH - FCI'!K146),\"\")","v":""},false,"Y"]
["$WH1_4.2.1.ROW130COL1",{"$f":"IF(R_WHFCI,CONCATENATE(\"\", 'WH - FCI'!A147),\"\")","v":""},false,"Y"]
["$WH1_4.2.1.ROW130COL2",{"$f":"IF(R_WHFCI,CONCATENATE(\"\", 'WH - FCI'!B147),\"\")","v":""},false,"Y"]
["$WH1_4.2.1.ROW130COL3",{"$f":"IF(R_WHFCI,CONCATENATE(\"\", 'WH - FCI'!C147),\"\")","v":""},false,"Y"]
["$WH1_4.2.1.ROW130COL4",{"$f":"IF(R_WHFCI,CONCATENATE(\"\", 'WH - FCI'!D147),\"\")","v":""},false,"Y"]
["$WH1_4.2.1.ROW130COL5",{"$f":"IF(R_WHFCI,CONCATENATE(\"\", 'WH - FCI'!E147),\"\")","v":""},false,"Y"]
["$WH1_4.2.1.ROW130COL6",{"$f":"IF(R_WHFCI,CONCATENATE(\"\", 'WH - FCI'!F147),\"\")","v":""},false,"Y"]
["$WH1_4.2.1.ROW130COL7",{"$f":"IF(R_WHFCI,CONCATENATE(\"\", 'WH - FCI'!G147),\"\")","v":""},false,"Y"]
["$WH1_4.2.1.ROW130COL8",{"$f":"IF(R_WHFCI,CONCATENATE(\"\", 'WH - FCI'!H147),\"\")","v":""},false,"Y"]
["$WH1_4.2.1.ROW130COL9",{"$f":"IF(R_WHFCI,CONCATENATE(\"\", 'WH - FCI'!I147),\"\")","v":""},false,"Y"]
["$WH1_4.2.1.ROW130COL10",{"$f":"IF(R_WHFCI,CONCATENATE(\"\", 'WH - FCI'!J147),\"\")","v":""},false,"Y"]
["$WH1_4.2.1.ROW130COL11",{"$f":"IF(R_WHFCI,CONCATENATE(\"\", 'WH - FCI'!K147),\"\")","v":""},false,"Y"]
["$WH1_4.2.1.ROW131COL1",{"$f":"IF(R_WHFCI,CONCATENATE(\"\", 'WH - FCI'!A148),\"\")","v":""},false,"Y"]
["$WH1_4.2.1.ROW131COL2",{"$f":"IF(R_WHFCI,CONCATENATE(\"\", 'WH - FCI'!B148),\"\")","v":""},false,"Y"]
["$WH1_4.2.1.ROW131COL3",{"$f":"IF(R_WHFCI,CONCATENATE(\"\", 'WH - FCI'!C148),\"\")","v":""},false,"Y"]
["$WH1_4.2.1.ROW131COL4",{"$f":"IF(R_WHFCI,CONCATENATE(\"\", 'WH - FCI'!D148),\"\")","v":""},false,"Y"]
["$WH1_4.2.1.ROW131COL5",{"$f":"IF(R_WHFCI,CONCATENATE(\"\", 'WH - FCI'!E148),\"\")","v":""},false,"Y"]
["$WH1_4.2.1.ROW131COL6",{"$f":"IF(R_WHFCI,CONCATENATE(\"\", 'WH - FCI'!F148),\"\")","v":""},false,"Y"]
["$WH1_4.2.1.ROW131COL7",{"$f":"IF(R_WHFCI,CONCATENATE(\"\", 'WH - FCI'!G148),\"\")","v":""},false,"Y"]
["$WH1_4.2.1.ROW131COL8",{"$f":"IF(R_WHFCI,CONCATENATE(\"\", 'WH - FCI'!H148),\"\")","v":""},false,"Y"]
["$WH1_4.2.1.ROW131COL9",{"$f":"IF(R_WHFCI,CONCATENATE(\"\", 'WH - FCI'!I148),\"\")","v":""},false,"Y"]
["$WH1_4.2.1.ROW131COL10",{"$f":"IF(R_WHFCI,CONCATENATE(\"\", 'WH - FCI'!J148),\"\")","v":""},false,"Y"]
["$WH1_4.2.1.ROW131COL11",{"$f":"IF(R_WHFCI,CONCATENATE(\"\", 'WH - FCI'!K148),\"\")","v":""},false,"Y"]
["$WH1_4.2.1.ROW132COL1",{"$f":"IF(R_WHFCI,CONCATENATE(\"\", 'WH - FCI'!A149),\"\")","v":""},false,"Y"]
["$WH1_4.2.1.ROW132COL2",{"$f":"IF(R_WHFCI,CONCATENATE(\"\", 'WH - FCI'!B149),\"\")","v":""},false,"Y"]
["$WH1_4.2.1.ROW132COL3",{"$f":"IF(R_WHFCI,CONCATENATE(\"\", 'WH - FCI'!C149),\"\")","v":""},false,"Y"]
["$WH1_4.2.1.ROW132COL4",{"$f":"IF(R_WHFCI,CONCATENATE(\"\", 'WH - FCI'!D149),\"\")","v":""},false,"Y"]
["$WH1_4.2.1.ROW132COL5",{"$f":"IF(R_WHFCI,CONCATENATE(\"\", 'WH - FCI'!E149),\"\")","v":""},false,"Y"]
["$WH1_4.2.1.ROW132COL6",{"$f":"IF(R_WHFCI,CONCATENATE(\"\", 'WH - FCI'!F149),\"\")","v":""},false,"Y"]
["$WH1_4.2.1.ROW132COL7",{"$f":"IF(R_WHFCI,CONCATENATE(\"\", 'WH - FCI'!G149),\"\")","v":""},false,"Y"]
["$WH1_4.2.1.ROW132COL8",{"$f":"IF(R_WHFCI,CONCATENATE(\"\", 'WH - FCI'!H149),\"\")","v":""},false,"Y"]
["$WH1_4.2.1.ROW132COL9",{"$f":"IF(R_WHFCI,CONCATENATE(\"\", 'WH - FCI'!I149),\"\")","v":""},{"$f":"ISERROR(B3774)","v":false},"Y"]
["$WH1_4.2.1.ROW132COL10",{"$f":"IF(R_WHFCI,CONCATENATE(\"\", 'WH - FCI'!J149),\"\")","v":""},false,"Y"]
["$WH1_4.2.1.ROW132COL11",{"$f":"IF(R_WHFCI,CONCATENATE(\"\", 'WH - FCI'!K149),\"\")","v":""},false,"Y"]
["$WH1_4.2.1.ROW133COL1",{"$f":"IF(R_WHFCI,CONCATENATE(\"\", 'WH - FCI'!A150),\"\")","v":""},false,"Y"]
["$WH1_4.2.1.ROW133COL2",{"$f":"IF(R_WHFCI,CONCATENATE(\"\", 'WH - FCI'!B150),\"\")","v":""},false,"Y"]
["$WH1_4.2.1.ROW133COL3",{"$f":"IF(R_WHFCI,CONCATENATE(\"\", 'WH - FCI'!C150),\"\")","v":""},false,"Y"]
["$WH1_4.2.1.ROW133COL4",{"$f":"IF(R_WHFCI,CONCATENATE(\"\", 'WH - FCI'!D150),\"\")","v":""},false,"Y"]
["$WH1_4.2.1.ROW133COL5",{"$f":"IF(R_WHFCI,CONCATENATE(\"\", 'WH - FCI'!E150),\"\")","v":""},false,"Y"]
["$WH1_4.2.1.ROW133COL6",{"$f":"IF(R_WHFCI,CONCATENATE(\"\", 'WH - FCI'!F150),\"\")","v":""},false,"Y"]
["$WH1_4.2.1.ROW133COL7",{"$f":"IF(R_WHFCI,CONCATENATE(\"\", 'WH - FCI'!G150),\"\")","v":""},false,"Y"]
["$WH1_4.2.1.ROW133COL8",{"$f":"IF(R_WHFCI,CONCATENATE(\"\", 'WH - FCI'!H150),\"\")","v":""},false,"Y"]
["$WH1_4.2.1.ROW133COL9",{"$f":"IF(R_WHFCI,CONCATENATE(\"\", 'WH - FCI'!I150),\"\")","v":""},false,"Y"]
["$WH1_4.2.1.ROW133COL10",{"$f":"IF(R_WHFCI,CONCATENATE(\"\", 'WH - FCI'!J150),\"\")","v":""},false,"Y"]
["$WH1_4.2.1.ROW133COL11",{"$f":"IF(R_WHFCI,CONCATENATE(\"\", 'WH - FCI'!K150),\"\")","v":""},false,"Y"]
["$WH1_4.2.1.ROW134COL1",{"$f":"IF(R_WHFCI,CONCATENATE(\"\", 'WH - FCI'!A151),\"\")","v":""},false,"Y"]
["$WH1_4.2.1.ROW134COL2",{"$f":"IF(R_WHFCI,CONCATENATE(\"\", 'WH - FCI'!B151),\"\")","v":""},false,"Y"]
["$WH1_4.2.1.ROW134COL3",{"$f":"IF(R_WHFCI,CONCATENATE(\"\", 'WH - FCI'!C151),\"\")","v":""},false,"Y"]
["$WH1_4.2.1.ROW134COL4",{"$f":"IF(R_WHFCI,CONCATENATE(\"\", 'WH - FCI'!D151),\"\")","v":""},false,"Y"]
["$WH1_4.2.1.ROW134COL5",{"$f":"IF(R_WHFCI,CONCATENATE(\"\", 'WH - FCI'!E151),\"\")","v":""},false,"Y"]
["$WH1_4.2.1.ROW134COL6",{"$f":"IF(R_WHFCI,CONCATENATE(\"\", 'WH - FCI'!F151),\"\")","v":""},false,"Y"]
["$WH1_4.2.1.ROW134COL7",{"$f":"IF(R_WHFCI,CONCATENATE(\"\", 'WH - FCI'!G151),\"\")","v":""},false,"Y"]
["$WH1_4.2.1.ROW134COL8",{"$f":"IF(R_WHFCI,CONCATENATE(\"\", 'WH - FCI'!H151),\"\")","v":""},false,"Y"]
["$WH1_4.2.1.ROW134COL9",{"$f":"IF(R_WHFCI,CONCATENATE(\"\", 'WH - FCI'!I151),\"\")","v":""},false,"Y"]
["$WH1_4.2.1.ROW134COL10",{"$f":"IF(R_WHFCI,CONCATENATE(\"\", 'WH - FCI'!J151),\"\")","v":""},false,"Y"]
["$WH1_4.2.1.ROW134COL11",{"$f":"IF(R_WHFCI,CONCATENATE(\"\", 'WH - FCI'!K151),\"\")","v":""},false,"Y"]
["$WH1_4.2.1.ROW135COL1",{"$f":"IF(R_WHFCI,CONCATENATE(\"\", 'WH - FCI'!A152),\"\")","v":""},false,"Y"]
["$WH1_4.2.1.ROW135COL2",{"$f":"IF(R_WHFCI,CONCATENATE(\"\", 'WH - FCI'!B152),\"\")","v":""},false,"Y"]
["$WH1_4.2.1.ROW135COL3",{"$f":"IF(R_WHFCI,CONCATENATE(\"\", 'WH - FCI'!C152),\"\")","v":""},false,"Y"]
["$WH1_4.2.1.ROW135COL4",{"$f":"IF(R_WHFCI,CONCATENATE(\"\", 'WH - FCI'!D152),\"\")","v":""},false,"Y"]
["$WH1_4.2.1.ROW135COL5",{"$f":"IF(R_WHFCI,CONCATENATE(\"\", 'WH - FCI'!E152),\"\")","v":""},false,"Y"]
["$WH1_4.2.1.ROW135COL6",{"$f":"IF(R_WHFCI,CONCATENATE(\"\", 'WH - FCI'!F152),\"\")","v":""},false,"Y"]
["$WH1_4.2.1.ROW135COL7",{"$f":"IF(R_WHFCI,CONCATENATE(\"\", 'WH - FCI'!G152),\"\")","v":""},false,"Y"]
["$WH1_4.2.1.ROW135COL8",{"$f":"IF(R_WHFCI,CONCATENATE(\"\", 'WH - FCI'!H152),\"\")","v":""},false,"Y"]
["$WH1_4.2.1.ROW135COL9",{"$f":"IF(R_WHFCI,CONCATENATE(\"\", 'WH - FCI'!I152),\"\")","v":""},false,"Y"]
["$WH1_4.2.1.ROW135COL10",{"$f":"IF(R_WHFCI,CONCATENATE(\"\", 'WH - FCI'!J152),\"\")","v":""},false,"Y"]
["$WH1_4.2.1.ROW135COL11",{"$f":"IF(R_WHFCI,CONCATENATE(\"\", 'WH - FCI'!K152),\"\")","v":""},false,"Y"]
["$WH1_4.2.1.ROW136COL1",{"$f":"IF(R_WHFCI,CONCATENATE(\"\", 'WH - FCI'!A153),\"\")","v":""},false,"Y"]
["$WH1_4.2.1.ROW136COL2",{"$f":"IF(R_WHFCI,CONCATENATE(\"\", 'WH - FCI'!B153),\"\")","v":""},false,"Y"]
["$WH1_4.2.1.ROW136COL3",{"$f":"IF(R_WHFCI,CONCATENATE(\"\", 'WH - FCI'!C153),\"\")","v":""},false,"Y"]
["$WH1_4.2.1.ROW136COL4",{"$f":"IF(R_WHFCI,CONCATENATE(\"\", 'WH - FCI'!D153),\"\")","v":""},false,"Y"]
["$WH1_4.2.1.ROW136COL5",{"$f":"IF(R_WHFCI,CONCATENATE(\"\", 'WH - FCI'!E153),\"\")","v":""},false,"Y"]
["$WH1_4.2.1.ROW136COL6",{"$f":"IF(R_WHFCI,CONCATENATE(\"\", 'WH - FCI'!F153),\"\")","v":""},false,"Y"]
["$WH1_4.2.1.ROW136COL7",{"$f":"IF(R_WHFCI,CONCATENATE(\"\", 'WH - FCI'!G153),\"\")","v":""},false,"Y"]
["$WH1_4.2.1.ROW136COL8",{"$f":"IF(R_WHFCI,CONCATENATE(\"\", 'WH - FCI'!H153),\"\")","v":""},false,"Y"]
["$WH1_4.2.1.ROW136COL9",{"$f":"IF(R_WHFCI,CONCATENATE(\"\", 'WH - FCI'!I153),\"\")","v":""},false,"Y"]
["$WH1_4.2.1.ROW136COL10",{"$f":"IF(R_WHFCI,CONCATENATE(\"\", 'WH - FCI'!J153),\"\")","v":""},false,"Y"]
["$WH1_4.2.1.ROW136COL11",{"$f":"IF(R_WHFCI,CONCATENATE(\"\", 'WH - FCI'!K153),\"\")","v":""},false,"Y"]
["$WH1_4.2.1.ROW137COL1",{"$f":"IF(R_WHFCI,CONCATENATE(\"\", 'WH - FCI'!A154),\"\")","v":""},false,"Y"]
["$WH1_4.2.1.ROW137COL2",{"$f":"IF(R_WHFCI,CONCATENATE(\"\", 'WH - FCI'!B154),\"\")","v":""},false,"Y"]
["$WH1_4.2.1.ROW137COL3",{"$f":"IF(R_WHFCI,CONCATENATE(\"\", 'WH - FCI'!C154),\"\")","v":""},false,"Y"]
["$WH1_4.2.1.ROW137COL4",{"$f":"IF(R_WHFCI,CONCATENATE(\"\", 'WH - FCI'!D154),\"\")","v":""},false,"Y"]
["$WH1_4.2.1.ROW137COL5",{"$f":"IF(R_WHFCI,CONCATENATE(\"\", 'WH - FCI'!E154),\"\")","v":""},false,"Y"]
["$WH1_4.2.1.ROW137COL6",{"$f":"IF(R_WHFCI,CONCATENATE(\"\", 'WH - FCI'!F154),\"\")","v":""},false,"Y"]
["$WH1_4.2.1.ROW137COL7",{"$f":"IF(R_WHFCI,CONCATENATE(\"\", 'WH - FCI'!G154),\"\")","v":""},false,"Y"]
["$WH1_4.2.1.ROW137COL8",{"$f":"IF(R_WHFCI,CONCATENATE(\"\", 'WH - FCI'!H154),\"\")","v":""},false,"Y"]
["$WH1_4.2.1.ROW137COL9",{"$f":"IF(R_WHFCI,CONCATENATE(\"\", 'WH - FCI'!I154),\"\")","v":""},false,"Y"]
["$WH1_4.2.1.ROW137COL10",{"$f":"IF(R_WHFCI,CONCATENATE(\"\", 'WH - FCI'!J154),\"\")","v":""},false,"Y"]
["$WH1_4.2.1.ROW137COL11",{"$f":"IF(R_WHFCI,CONCATENATE(\"\", 'WH - FCI'!K154),\"\")","v":""},false,"Y"]
["$WH1_4.2.1.ROW138COL1",{"$f":"IF(R_WHFCI,CONCATENATE(\"\", 'WH - FCI'!A155),\"\")","v":""},false,"Y"]
["$WH1_4.2.1.ROW138COL2",{"$f":"IF(R_WHFCI,CONCATENATE(\"\", 'WH - FCI'!B155),\"\")","v":""},false,"Y"]
["$WH1_4.2.1.ROW138COL3",{"$f":"IF(R_WHFCI,CONCATENATE(\"\", 'WH - FCI'!C155),\"\")","v":""},false,"Y"]
["$WH1_4.2.1.ROW138COL4",{"$f":"IF(R_WHFCI,CONCATENATE(\"\", 'WH - FCI'!D155),\"\")","v":""},false,"Y"]
["$WH1_4.2.1.ROW138COL5",{"$f":"IF(R_WHFCI,CONCATENATE(\"\", 'WH - FCI'!E155),\"\")","v":""},false,"Y"]
["$WH1_4.2.1.ROW138COL6",{"$f":"IF(R_WHFCI,CONCATENATE(\"\", 'WH - FCI'!F155),\"\")","v":""},false,"Y"]
["$WH1_4.2.1.ROW138COL7",{"$f":"IF(R_WHFCI,CONCATENATE(\"\", 'WH - FCI'!G155),\"\")","v":""},{"$f":"ISERROR(B3838)","v":false},"Y"]
["$WH1_4.2.1.ROW138COL8",{"$f":"IF(R_WHFCI,CONCATENATE(\"\", 'WH - FCI'!H155),\"\")","v":""},false,"Y"]
["$WH1_4.2.1.ROW138COL9",{"$f":"IF(R_WHFCI,CONCATENATE(\"\", 'WH - FCI'!I155),\"\")","v":""},false,"Y"]
["$WH1_4.2.1.ROW138COL10",{"$f":"IF(R_WHFCI,CONCATENATE(\"\", 'WH - FCI'!J155),\"\")","v":""},false,"Y"]
["$WH1_4.2.1.ROW138COL11",{"$f":"IF(R_WHFCI,CONCATENATE(\"\", 'WH - FCI'!K155),\"\")","v":""},false,"Y"]
["$WH1_4.2.1.ROW139COL1",{"$f":"IF(R_WHFCI,CONCATENATE(\"\", 'WH - FCI'!A156),\"\")","v":""},false,"Y"]
["$WH1_4.2.1.ROW139COL2",{"$f":"IF(R_WHFCI,CONCATENATE(\"\", 'WH - FCI'!B156),\"\")","v":""},false,"Y"]
["$WH1_4.2.1.ROW139COL3",{"$f":"IF(R_WHFCI,CONCATENATE(\"\", 'WH - FCI'!C156),\"\")","v":""},false,"Y"]
["$WH1_4.2.1.ROW139COL4",{"$f":"IF(R_WHFCI,CONCATENATE(\"\", 'WH - FCI'!D156),\"\")","v":""},false,"Y"]
["$WH1_4.2.1.ROW139COL5",{"$f":"IF(R_WHFCI,CONCATENATE(\"\", 'WH - FCI'!E156),\"\")","v":""},false,"Y"]
["$WH1_4.2.1.ROW139COL6",{"$f":"IF(R_WHFCI,CONCATENATE(\"\", 'WH - FCI'!F156),\"\")","v":""},false,"Y"]
["$WH1_4.2.1.ROW139COL7",{"$f":"IF(R_WHFCI,CONCATENATE(\"\", 'WH - FCI'!G156),\"\")","v":""},false,"Y"]
["$WH1_4.2.1.ROW139COL8",{"$f":"IF(R_WHFCI,CONCATENATE(\"\", 'WH - FCI'!H156),\"\")","v":""},false,"Y"]
["$WH1_4.2.1.ROW139COL9",{"$f":"IF(R_WHFCI,CONCATENATE(\"\", 'WH - FCI'!I156),\"\")","v":""},false,"Y"]
["$WH1_4.2.1.ROW139COL10",{"$f":"IF(R_WHFCI,CONCATENATE(\"\", 'WH - FCI'!J156),\"\")","v":""},false,"Y"]
["$WH1_4.2.1.ROW139COL11",{"$f":"IF(R_WHFCI,CONCATENATE(\"\", 'WH - FCI'!K156),\"\")","v":""},false,"Y"]
["$WH1_4.2.1.ROW140COL1",{"$f":"IF(R_WHFCI,CONCATENATE(\"\", 'WH - FCI'!A157),\"\")","v":""},false,"Y"]
["$WH1_4.2.1.ROW140COL2",{"$f":"IF(R_WHFCI,CONCATENATE(\"\", 'WH - FCI'!B157),\"\")","v":""},false,"Y"]
["$WH1_4.2.1.ROW140COL3",{"$f":"IF(R_WHFCI,CONCATENATE(\"\", 'WH - FCI'!C157),\"\")","v":""},false,"Y"]
["$WH1_4.2.1.ROW140COL4",{"$f":"IF(R_WHFCI,CONCATENATE(\"\", 'WH - FCI'!D157),\"\")","v":""},false,"Y"]
["$WH1_4.2.1.ROW140COL5",{"$f":"IF(R_WHFCI,CONCATENATE(\"\", 'WH - FCI'!E157),\"\")","v":""},false,"Y"]
["$WH1_4.2.1.ROW140COL6",{"$f":"IF(R_WHFCI,CONCATENATE(\"\", 'WH - FCI'!F157),\"\")","v":""},false,"Y"]
["$WH1_4.2.1.ROW140COL7",{"$f":"IF(R_WHFCI,CONCATENATE(\"\", 'WH - FCI'!G157),\"\")","v":""},false,"Y"]
["$WH1_4.2.1.ROW140COL8",{"$f":"IF(R_WHFCI,CONCATENATE(\"\", 'WH - FCI'!H157),\"\")","v":""},false,"Y"]
["$WH1_4.2.1.ROW140COL9",{"$f":"IF(R_WHFCI,CONCATENATE(\"\", 'WH - FCI'!I157),\"\")","v":""},false,"Y"]
["$WH1_4.2.1.ROW140COL10",{"$f":"IF(R_WHFCI,CONCATENATE(\"\", 'WH - FCI'!J157),\"\")","v":""},false,"Y"]
["$WH1_4.2.1.ROW140COL11",{"$f":"IF(R_WHFCI,CONCATENATE(\"\", 'WH - FCI'!K157),\"\")","v":""},false,"Y"]
["$WH1_4.2.1.ROW141COL1",{"$f":"IF(R_WHFCI,CONCATENATE(\"\", 'WH - FCI'!A158),\"\")","v":""},false,"Y"]
["$WH1_4.2.1.ROW141COL2",{"$f":"IF(R_WHFCI,CONCATENATE(\"\", 'WH - FCI'!B158),\"\")","v":""},false,"Y"]
["$WH1_4.2.1.ROW141COL3",{"$f":"IF(R_WHFCI,CONCATENATE(\"\", 'WH - FCI'!C158),\"\")","v":""},false,"Y"]
["$WH1_4.2.1.ROW141COL4",{"$f":"IF(R_WHFCI,CONCATENATE(\"\", 'WH - FCI'!D158),\"\")","v":""},false,"Y"]
["$WH1_4.2.1.ROW141COL5",{"$f":"IF(R_WHFCI,CONCATENATE(\"\", 'WH - FCI'!E158),\"\")","v":""},false,"Y"]
["$WH1_4.2.1.ROW141COL6",{"$f":"IF(R_WHFCI,CONCATENATE(\"\", 'WH - FCI'!F158),\"\")","v":""},false,"Y"]
["$WH1_4.2.1.ROW141COL7",{"$f":"IF(R_WHFCI,CONCATENATE(\"\", 'WH - FCI'!G158),\"\")","v":""},false,"Y"]
["$WH1_4.2.1.ROW141COL8",{"$f":"IF(R_WHFCI,CONCATENATE(\"\", 'WH - FCI'!H158),\"\")","v":""},false,"Y"]
["$WH1_4.2.1.ROW141COL9",{"$f":"IF(R_WHFCI,CONCATENATE(\"\", 'WH - FCI'!I158),\"\")","v":""},false,"Y"]
["$WH1_4.2.1.ROW141COL10",{"$f":"IF(R_WHFCI,CONCATENATE(\"\", 'WH - FCI'!J158),\"\")","v":""},false,"Y"]
["$WH1_4.2.1.ROW141COL11",{"$f":"IF(R_WHFCI,CONCATENATE(\"\", 'WH - FCI'!K158),\"\")","v":""},false,"Y"]
["$WH1_4.2.1.ROW142COL1",{"$f":"IF(R_WHFCI,CONCATENATE(\"\", 'WH - FCI'!A159),\"\")","v":""},false,"Y"]
["$WH1_4.2.1.ROW142COL2",{"$f":"IF(R_WHFCI,CONCATENATE(\"\", 'WH - FCI'!B159),\"\")","v":""},false,"Y"]
["$WH1_4.2.1.ROW142COL3",{"$f":"IF(R_WHFCI,CONCATENATE(\"\", 'WH - FCI'!C159),\"\")","v":""},false,"Y"]
["$WH1_4.2.1.ROW142COL4",{"$f":"IF(R_WHFCI,CONCATENATE(\"\", 'WH - FCI'!D159),\"\")","v":""},false,"Y"]
["$WH1_4.2.1.ROW142COL5",{"$f":"IF(R_WHFCI,CONCATENATE(\"\", 'WH - FCI'!E159),\"\")","v":""},false,"Y"]
["$WH1_4.2.1.ROW142COL6",{"$f":"IF(R_WHFCI,CONCATENATE(\"\", 'WH - FCI'!F159),\"\")","v":""},false,"Y"]
["$WH1_4.2.1.ROW142COL7",{"$f":"IF(R_WHFCI,CONCATENATE(\"\", 'WH - FCI'!G159),\"\")","v":""},false,"Y"]
["$WH1_4.2.1.ROW142COL8",{"$f":"IF(R_WHFCI,CONCATENATE(\"\", 'WH - FCI'!H159),\"\")","v":""},false,"Y"]
["$WH1_4.2.1.ROW142COL9",{"$f":"IF(R_WHFCI,CONCATENATE(\"\", 'WH - FCI'!I159),\"\")","v":""},false,"Y"]
["$WH1_4.2.1.ROW142COL10",{"$f":"IF(R_WHFCI,CONCATENATE(\"\", 'WH - FCI'!J159),\"\")","v":""},false,"Y"]
["$WH1_4.2.1.ROW142COL11",{"$f":"IF(R_WHFCI,CONCATENATE(\"\", 'WH - FCI'!K159),\"\")","v":""},false,"Y"]
["$WH1_4.2.1.ROW143COL1",{"$f":"IF(R_WHFCI,CONCATENATE(\"\", 'WH - FCI'!A160),\"\")","v":""},false,"Y"]
["$WH1_4.2.1.ROW143COL2",{"$f":"IF(R_WHFCI,CONCATENATE(\"\", 'WH - FCI'!B160),\"\")","v":""},false,"Y"]
["$WH1_4.2.1.ROW143COL3",{"$f":"IF(R_WHFCI,CONCATENATE(\"\", 'WH - FCI'!C160),\"\")","v":""},false,"Y"]
["$WH1_4.2.1.ROW143COL4",{"$f":"IF(R_WHFCI,CONCATENATE(\"\", 'WH - FCI'!D160),\"\")","v":""},false,"Y"]
["$WH1_4.2.1.ROW143COL5",{"$f":"IF(R_WHFCI,CONCATENATE(\"\", 'WH - FCI'!E160),\"\")","v":""},false,"Y"]
["$WH1_4.2.1.ROW143COL6",{"$f":"IF(R_WHFCI,CONCATENATE(\"\", 'WH - FCI'!F160),\"\")","v":""},false,"Y"]
["$WH1_4.2.1.ROW143COL7",{"$f":"IF(R_WHFCI,CONCATENATE(\"\", 'WH - FCI'!G160),\"\")","v":""},false,"Y"]
["$WH1_4.2.1.ROW143COL8",{"$f":"IF(R_WHFCI,CONCATENATE(\"\", 'WH - FCI'!H160),\"\")","v":""},false,"Y"]
["$WH1_4.2.1.ROW143COL9",{"$f":"IF(R_WHFCI,CONCATENATE(\"\", 'WH - FCI'!I160),\"\")","v":""},false,"Y"]
["$WH1_4.2.1.ROW143COL10",{"$f":"IF(R_WHFCI,CONCATENATE(\"\", 'WH - FCI'!J160),\"\")","v":""},false,"Y"]
["$WH1_4.2.1.ROW143COL11",{"$f":"IF(R_WHFCI,CONCATENATE(\"\", 'WH - FCI'!K160),\"\")","v":""},false,"Y"]
["$WH1_4.2.1.ROW144COL1",{"$f":"IF(R_WHFCI,CONCATENATE(\"\", 'WH - FCI'!A161),\"\")","v":""},false,"Y"]
["$WH1_4.2.1.ROW144COL2",{"$f":"IF(R_WHFCI,CONCATENATE(\"\", 'WH - FCI'!B161),\"\")","v":""},false,"Y"]
["$WH1_4.2.1.ROW144COL3",{"$f":"IF(R_WHFCI,CONCATENATE(\"\", 'WH - FCI'!C161),\"\")","v":""},false,"Y"]
["$WH1_4.2.1.ROW144COL4",{"$f":"IF(R_WHFCI,CONCATENATE(\"\", 'WH - FCI'!D161),\"\")","v":""},false,"Y"]
["$WH1_4.2.1.ROW144COL5",{"$f":"IF(R_WHFCI,CONCATENATE(\"\", 'WH - FCI'!E161),\"\")","v":""},{"$f":"ISERROR(B3902)","v":false},"Y"]
["$WH1_4.2.1.ROW144COL6",{"$f":"IF(R_WHFCI,CONCATENATE(\"\", 'WH - FCI'!F161),\"\")","v":""},false,"Y"]
["$WH1_4.2.1.ROW144COL7",{"$f":"IF(R_WHFCI,CONCATENATE(\"\", 'WH - FCI'!G161),\"\")","v":""},false,"Y"]
["$WH1_4.2.1.ROW144COL8",{"$f":"IF(R_WHFCI,CONCATENATE(\"\", 'WH - FCI'!H161),\"\")","v":""},false,"Y"]
["$WH1_4.2.1.ROW144COL9",{"$f":"IF(R_WHFCI,CONCATENATE(\"\", 'WH - FCI'!I161),\"\")","v":""},false,"Y"]
["$WH1_4.2.1.ROW144COL10",{"$f":"IF(R_WHFCI,CONCATENATE(\"\", 'WH - FCI'!J161),\"\")","v":""},false,"Y"]
["$WH1_4.2.1.ROW144COL11",{"$f":"IF(R_WHFCI,CONCATENATE(\"\", 'WH - FCI'!K161),\"\")","v":""},false,"Y"]
["$WH1_4.2.1.ROW145COL1",{"$f":"IF(R_WHFCI,CONCATENATE(\"\", 'WH - FCI'!A162),\"\")","v":""},false,"Y"]
["$WH1_4.2.1.ROW145COL2",{"$f":"IF(R_WHFCI,CONCATENATE(\"\", 'WH - FCI'!B162),\"\")","v":""},false,"Y"]
["$WH1_4.2.1.ROW145COL3",{"$f":"IF(R_WHFCI,CONCATENATE(\"\", 'WH - FCI'!C162),\"\")","v":""},false,"Y"]
["$WH1_4.2.1.ROW145COL4",{"$f":"IF(R_WHFCI,CONCATENATE(\"\", 'WH - FCI'!D162),\"\")","v":""},false,"Y"]
["$WH1_4.2.1.ROW145COL5",{"$f":"IF(R_WHFCI,CONCATENATE(\"\", 'WH - FCI'!E162),\"\")","v":""},false,"Y"]
["$WH1_4.2.1.ROW145COL6",{"$f":"IF(R_WHFCI,CONCATENATE(\"\", 'WH - FCI'!F162),\"\")","v":""},false,"Y"]
["$WH1_4.2.1.ROW145COL7",{"$f":"IF(R_WHFCI,CONCATENATE(\"\", 'WH - FCI'!G162),\"\")","v":""},false,"Y"]
["$WH1_4.2.1.ROW145COL8",{"$f":"IF(R_WHFCI,CONCATENATE(\"\", 'WH - FCI'!H162),\"\")","v":""},false,"Y"]
["$WH1_4.2.1.ROW145COL9",{"$f":"IF(R_WHFCI,CONCATENATE(\"\", 'WH - FCI'!I162),\"\")","v":""},false,"Y"]
["$WH1_4.2.1.ROW145COL10",{"$f":"IF(R_WHFCI,CONCATENATE(\"\", 'WH - FCI'!J162),\"\")","v":""},false,"Y"]
["$WH1_4.2.1.ROW145COL11",{"$f":"IF(R_WHFCI,CONCATENATE(\"\", 'WH - FCI'!K162),\"\")","v":""},false,"Y"]
["$WH1_4.2.1.ROW146COL1",{"$f":"IF(R_WHFCI,CONCATENATE(\"\", 'WH - FCI'!A163),\"\")","v":""},false,"Y"]
["$WH1_4.2.1.ROW146COL2",{"$f":"IF(R_WHFCI,CONCATENATE(\"\", 'WH - FCI'!B163),\"\")","v":""},false,"Y"]
["$WH1_4.2.1.ROW146COL3",{"$f":"IF(R_WHFCI,CONCATENATE(\"\", 'WH - FCI'!C163),\"\")","v":""},false,"Y"]
["$WH1_4.2.1.ROW146COL4",{"$f":"IF(R_WHFCI,CONCATENATE(\"\", 'WH - FCI'!D163),\"\")","v":""},false,"Y"]
["$WH1_4.2.1.ROW146COL5",{"$f":"IF(R_WHFCI,CONCATENATE(\"\", 'WH - FCI'!E163),\"\")","v":""},false,"Y"]
["$WH1_4.2.1.ROW146COL6",{"$f":"IF(R_WHFCI,CONCATENATE(\"\", 'WH - FCI'!F163),\"\")","v":""},false,"Y"]
["$WH1_4.2.1.ROW146COL7",{"$f":"IF(R_WHFCI,CONCATENATE(\"\", 'WH - FCI'!G163),\"\")","v":""},false,"Y"]
["$WH1_4.2.1.ROW146COL8",{"$f":"IF(R_WHFCI,CONCATENATE(\"\", 'WH - FCI'!H163),\"\")","v":""},false,"Y"]
["$WH1_4.2.1.ROW146COL9",{"$f":"IF(R_WHFCI,CONCATENATE(\"\", 'WH - FCI'!I163),\"\")","v":""},false,"Y"]
["$WH1_4.2.1.ROW146COL10",{"$f":"IF(R_WHFCI,CONCATENATE(\"\", 'WH - FCI'!J163),\"\")","v":""},false,"Y"]
["$WH1_4.2.1.ROW146COL11",{"$f":"IF(R_WHFCI,CONCATENATE(\"\", 'WH - FCI'!K163),\"\")","v":""},false,"Y"]
["$WH1_4.2.1.ROW147COL1",{"$f":"IF(R_WHFCI,CONCATENATE(\"\", 'WH - FCI'!A164),\"\")","v":""},false,"Y"]
["$WH1_4.2.1.ROW147COL2",{"$f":"IF(R_WHFCI,CONCATENATE(\"\", 'WH - FCI'!B164),\"\")","v":""},false,"Y"]
["$WH1_4.2.1.ROW147COL3",{"$f":"IF(R_WHFCI,CONCATENATE(\"\", 'WH - FCI'!C164),\"\")","v":""},false,"Y"]
["$WH1_4.2.1.ROW147COL4",{"$f":"IF(R_WHFCI,CONCATENATE(\"\", 'WH - FCI'!D164),\"\")","v":""},false,"Y"]
["$WH1_4.2.1.ROW147COL5",{"$f":"IF(R_WHFCI,CONCATENATE(\"\", 'WH - FCI'!E164),\"\")","v":""},false,"Y"]
["$WH1_4.2.1.ROW147COL6",{"$f":"IF(R_WHFCI,CONCATENATE(\"\", 'WH - FCI'!F164),\"\")","v":""},false,"Y"]
["$WH1_4.2.1.ROW147COL7",{"$f":"IF(R_WHFCI,CONCATENATE(\"\", 'WH - FCI'!G164),\"\")","v":""},false,"Y"]
["$WH1_4.2.1.ROW147COL8",{"$f":"IF(R_WHFCI,CONCATENATE(\"\", 'WH - FCI'!H164),\"\")","v":""},false,"Y"]
["$WH1_4.2.1.ROW147COL9",{"$f":"IF(R_WHFCI,CONCATENATE(\"\", 'WH - FCI'!I164),\"\")","v":""},false,"Y"]
["$WH1_4.2.1.ROW147COL10",{"$f":"IF(R_WHFCI,CONCATENATE(\"\", 'WH - FCI'!J164),\"\")","v":""},false,"Y"]
["$WH1_4.2.1.ROW147COL11",{"$f":"IF(R_WHFCI,CONCATENATE(\"\", 'WH - FCI'!K164),\"\")","v":""},false,"Y"]
["$WH1_4.2.1.ROW148COL1",{"$f":"IF(R_WHFCI,CONCATENATE(\"\", 'WH - FCI'!A165),\"\")","v":""},false,"Y"]
["$WH1_4.2.1.ROW148COL2",{"$f":"IF(R_WHFCI,CONCATENATE(\"\", 'WH - FCI'!B165),\"\")","v":""},false,"Y"]
["$WH1_4.2.1.ROW148COL3",{"$f":"IF(R_WHFCI,CONCATENATE(\"\", 'WH - FCI'!C165),\"\")","v":""},false,"Y"]
["$WH1_4.2.1.ROW148COL4",{"$f":"IF(R_WHFCI,CONCATENATE(\"\", 'WH - FCI'!D165),\"\")","v":""},false,"Y"]
["$WH1_4.2.1.ROW148COL5",{"$f":"IF(R_WHFCI,CONCATENATE(\"\", 'WH - FCI'!E165),\"\")","v":""},false,"Y"]
["$WH1_4.2.1.ROW148COL6",{"$f":"IF(R_WHFCI,CONCATENATE(\"\", 'WH - FCI'!F165),\"\")","v":""},false,"Y"]
["$WH1_4.2.1.ROW148COL7",{"$f":"IF(R_WHFCI,CONCATENATE(\"\", 'WH - FCI'!G165),\"\")","v":""},false,"Y"]
["$WH1_4.2.1.ROW148COL8",{"$f":"IF(R_WHFCI,CONCATENATE(\"\", 'WH - FCI'!H165),\"\")","v":""},false,"Y"]
["$WH1_4.2.1.ROW148COL9",{"$f":"IF(R_WHFCI,CONCATENATE(\"\", 'WH - FCI'!I165),\"\")","v":""},false,"Y"]
["$WH1_4.2.1.ROW148COL10",{"$f":"IF(R_WHFCI,CONCATENATE(\"\", 'WH - FCI'!J165),\"\")","v":""},false,"Y"]
["$WH1_4.2.1.ROW148COL11",{"$f":"IF(R_WHFCI,CONCATENATE(\"\", 'WH - FCI'!K165),\"\")","v":""},false,"Y"]
["$WH1_4.2.1.ROW149COL1",{"$f":"IF(R_WHFCI,CONCATENATE(\"\", 'WH - FCI'!A166),\"\")","v":""},false,"Y"]
["$WH1_4.2.1.ROW149COL2",{"$f":"IF(R_WHFCI,CONCATENATE(\"\", 'WH - FCI'!B166),\"\")","v":""},false,"Y"]
["$WH1_4.2.1.ROW149COL3",{"$f":"IF(R_WHFCI,CONCATENATE(\"\", 'WH - FCI'!C166),\"\")","v":""},false,"Y"]
["$WH1_4.2.1.ROW149COL4",{"$f":"IF(R_WHFCI,CONCATENATE(\"\", 'WH - FCI'!D166),\"\")","v":""},false,"Y"]
["$WH1_4.2.1.ROW149COL5",{"$f":"IF(R_WHFCI,CONCATENATE(\"\", 'WH - FCI'!E166),\"\")","v":""},false,"Y"]
["$WH1_4.2.1.ROW149COL6",{"$f":"IF(R_WHFCI,CONCATENATE(\"\", 'WH - FCI'!F166),\"\")","v":""},false,"Y"]
["$WH1_4.2.1.ROW149COL7",{"$f":"IF(R_WHFCI,CONCATENATE(\"\", 'WH - FCI'!G166),\"\")","v":""},false,"Y"]
["$WH1_4.2.1.ROW149COL8",{"$f":"IF(R_WHFCI,CONCATENATE(\"\", 'WH - FCI'!H166),\"\")","v":""},false,"Y"]
["$WH1_4.2.1.ROW149COL9",{"$f":"IF(R_WHFCI,CONCATENATE(\"\", 'WH - FCI'!I166),\"\")","v":""},false,"Y"]
["$WH1_4.2.1.ROW149COL10",{"$f":"IF(R_WHFCI,CONCATENATE(\"\", 'WH - FCI'!J166),\"\")","v":""},false,"Y"]
["$WH1_4.2.1.ROW149COL11",{"$f":"IF(R_WHFCI,CONCATENATE(\"\", 'WH - FCI'!K166),\"\")","v":""},false,"Y"]
["$WH1_4.2.1.ROW150COL1",{"$f":"IF(R_WHFCI,CONCATENATE(\"\", 'WH - FCI'!A167),\"\")","v":""},false,"Y"]
["$WH1_4.2.1.ROW150COL2",{"$f":"IF(R_WHFCI,CONCATENATE(\"\", 'WH - FCI'!B167),\"\")","v":""},false,"Y"]
["$WH1_4.2.1.ROW150COL3",{"$f":"IF(R_WHFCI,CONCATENATE(\"\", 'WH - FCI'!C167),\"\")","v":""},{"$f":"ISERROR(B3966)","v":false},"Y"]
["$WH1_4.2.1.ROW150COL4",{"$f":"IF(R_WHFCI,CONCATENATE(\"\", 'WH - FCI'!D167),\"\")","v":""},false,"Y"]
["$WH1_4.2.1.ROW150COL5",{"$f":"IF(R_WHFCI,CONCATENATE(\"\", 'WH - FCI'!E167),\"\")","v":""},false,"Y"]
["$WH1_4.2.1.ROW150COL6",{"$f":"IF(R_WHFCI,CONCATENATE(\"\", 'WH - FCI'!F167),\"\")","v":""},false,"Y"]
["$WH1_4.2.1.ROW150COL7",{"$f":"IF(R_WHFCI,CONCATENATE(\"\", 'WH - FCI'!G167),\"\")","v":""},false,"Y"]
["$WH1_4.2.1.ROW150COL8",{"$f":"IF(R_WHFCI,CONCATENATE(\"\", 'WH - FCI'!H167),\"\")","v":""},false,"Y"]
["$WH1_4.2.1.ROW150COL9",{"$f":"IF(R_WHFCI,CONCATENATE(\"\", 'WH - FCI'!I167),\"\")","v":""},false,"Y"]
["$WH1_4.2.1.ROW150COL10",{"$f":"IF(R_WHFCI,CONCATENATE(\"\", 'WH - FCI'!J167),\"\")","v":""},false,"Y"]
["$WH1_4.2.1.ROW150COL11",{"$f":"IF(R_WHFCI,CONCATENATE(\"\", 'WH - FCI'!K167),\"\")","v":""},false,"Y"]
["$WH1_4.2.1.ROW151COL1",{"$f":"IF(R_WHFCI,CONCATENATE(\"\", 'WH - FCI'!A168),\"\")","v":""},false,"Y"]
["$WH1_4.2.1.ROW151COL2",{"$f":"IF(R_WHFCI,CONCATENATE(\"\", 'WH - FCI'!B168),\"\")","v":""},false,"Y"]
["$WH1_4.2.1.ROW151COL3",{"$f":"IF(R_WHFCI,CONCATENATE(\"\", 'WH - FCI'!C168),\"\")","v":""},false,"Y"]
["$WH1_4.2.1.ROW151COL4",{"$f":"IF(R_WHFCI,CONCATENATE(\"\", 'WH - FCI'!D168),\"\")","v":""},false,"Y"]
["$WH1_4.2.1.ROW151COL5",{"$f":"IF(R_WHFCI,CONCATENATE(\"\", 'WH - FCI'!E168),\"\")","v":""},false,"Y"]
["$WH1_4.2.1.ROW151COL6",{"$f":"IF(R_WHFCI,CONCATENATE(\"\", 'WH - FCI'!F168),\"\")","v":""},false,"Y"]
["$WH1_4.2.1.ROW151COL7",{"$f":"IF(R_WHFCI,CONCATENATE(\"\", 'WH - FCI'!G168),\"\")","v":""},false,"Y"]
["$WH1_4.2.1.ROW151COL8",{"$f":"IF(R_WHFCI,CONCATENATE(\"\", 'WH - FCI'!H168),\"\")","v":""},false,"Y"]
["$WH1_4.2.1.ROW151COL9",{"$f":"IF(R_WHFCI,CONCATENATE(\"\", 'WH - FCI'!I168),\"\")","v":""},false,"Y"]
["$WH1_4.2.1.ROW151COL10",{"$f":"IF(R_WHFCI,CONCATENATE(\"\", 'WH - FCI'!J168),\"\")","v":""},false,"Y"]
["$WH1_4.2.1.ROW151COL11",{"$f":"IF(R_WHFCI,CONCATENATE(\"\", 'WH - FCI'!K168),\"\")","v":""},false,"Y"]
["$WH1_4.2.1.ROW152COL1",{"$f":"IF(R_WHFCI,CONCATENATE(\"\", 'WH - FCI'!A169),\"\")","v":""},false,"Y"]
["$WH1_4.2.1.ROW152COL2",{"$f":"IF(R_WHFCI,CONCATENATE(\"\", 'WH - FCI'!B169),\"\")","v":""},false,"Y"]
["$WH1_4.2.1.ROW152COL3",{"$f":"IF(R_WHFCI,CONCATENATE(\"\", 'WH - FCI'!C169),\"\")","v":""},false,"Y"]
["$WH1_4.2.1.ROW152COL4",{"$f":"IF(R_WHFCI,CONCATENATE(\"\", 'WH - FCI'!D169),\"\")","v":""},false,"Y"]
["$WH1_4.2.1.ROW152COL5",{"$f":"IF(R_WHFCI,CONCATENATE(\"\", 'WH - FCI'!E169),\"\")","v":""},false,"Y"]
["$WH1_4.2.1.ROW152COL6",{"$f":"IF(R_WHFCI,CONCATENATE(\"\", 'WH - FCI'!F169),\"\")","v":""},false,"Y"]
["$WH1_4.2.1.ROW152COL7",{"$f":"IF(R_WHFCI,CONCATENATE(\"\", 'WH - FCI'!G169),\"\")","v":""},false,"Y"]
["$WH1_4.2.1.ROW152COL8",{"$f":"IF(R_WHFCI,CONCATENATE(\"\", 'WH - FCI'!H169),\"\")","v":""},false,"Y"]
["$WH1_4.2.1.ROW152COL9",{"$f":"IF(R_WHFCI,CONCATENATE(\"\", 'WH - FCI'!I169),\"\")","v":""},false,"Y"]
["$WH1_4.2.1.ROW152COL10",{"$f":"IF(R_WHFCI,CONCATENATE(\"\", 'WH - FCI'!J169),\"\")","v":""},false,"Y"]
["$WH1_4.2.1.ROW152COL11",{"$f":"IF(R_WHFCI,CONCATENATE(\"\", 'WH - FCI'!K169),\"\")","v":""},false,"Y"]
["$WH1_4.2.1.ROW153COL1",{"$f":"IF(R_WHFCI,CONCATENATE(\"\", 'WH - FCI'!A170),\"\")","v":""},false,"Y"]
["$WH1_4.2.1.ROW153COL2",{"$f":"IF(R_WHFCI,CONCATENATE(\"\", 'WH - FCI'!B170),\"\")","v":""},false,"Y"]
["$WH1_4.2.1.ROW153COL3",{"$f":"IF(R_WHFCI,CONCATENATE(\"\", 'WH - FCI'!C170),\"\")","v":""},false,"Y"]
["$WH1_4.2.1.ROW153COL4",{"$f":"IF(R_WHFCI,CONCATENATE(\"\", 'WH - FCI'!D170),\"\")","v":""},false,"Y"]
["$WH1_4.2.1.ROW153COL5",{"$f":"IF(R_WHFCI,CONCATENATE(\"\", 'WH - FCI'!E170),\"\")","v":""},false,"Y"]
["$WH1_4.2.1.ROW153COL6",{"$f":"IF(R_WHFCI,CONCATENATE(\"\", 'WH - FCI'!F170),\"\")","v":""},false,"Y"]
["$WH1_4.2.1.ROW153COL7",{"$f":"IF(R_WHFCI,CONCATENATE(\"\", 'WH - FCI'!G170),\"\")","v":""},false,"Y"]
["$WH1_4.2.1.ROW153COL8",{"$f":"IF(R_WHFCI,CONCATENATE(\"\", 'WH - FCI'!H170),\"\")","v":""},false,"Y"]
["$WH1_4.2.1.ROW153COL9",{"$f":"IF(R_WHFCI,CONCATENATE(\"\", 'WH - FCI'!I170),\"\")","v":""},false,"Y"]
["$WH1_4.2.1.ROW153COL10",{"$f":"IF(R_WHFCI,CONCATENATE(\"\", 'WH - FCI'!J170),\"\")","v":""},false,"Y"]
["$WH1_4.2.1.ROW153COL11",{"$f":"IF(R_WHFCI,CONCATENATE(\"\", 'WH - FCI'!K170),\"\")","v":""},false,"Y"]
["$WH1_4.2.1.ROW154COL1",{"$f":"IF(R_WHFCI,CONCATENATE(\"\", 'WH - FCI'!A171),\"\")","v":""},false,"Y"]
["$WH1_4.2.1.ROW154COL2",{"$f":"IF(R_WHFCI,CONCATENATE(\"\", 'WH - FCI'!B171),\"\")","v":""},false,"Y"]
["$WH1_4.2.1.ROW154COL3",{"$f":"IF(R_WHFCI,CONCATENATE(\"\", 'WH - FCI'!C171),\"\")","v":""},false,"Y"]
["$WH1_4.2.1.ROW154COL4",{"$f":"IF(R_WHFCI,CONCATENATE(\"\", 'WH - FCI'!D171),\"\")","v":""},false,"Y"]
["$WH1_4.2.1.ROW154COL5",{"$f":"IF(R_WHFCI,CONCATENATE(\"\", 'WH - FCI'!E171),\"\")","v":""},false,"Y"]
["$WH1_4.2.1.ROW154COL6",{"$f":"IF(R_WHFCI,CONCATENATE(\"\", 'WH - FCI'!F171),\"\")","v":""},false,"Y"]
["$WH1_4.2.1.ROW154COL7",{"$f":"IF(R_WHFCI,CONCATENATE(\"\", 'WH - FCI'!G171),\"\")","v":""},false,"Y"]
["$WH1_4.2.1.ROW154COL8",{"$f":"IF(R_WHFCI,CONCATENATE(\"\", 'WH - FCI'!H171),\"\")","v":""},false,"Y"]
["$WH1_4.2.1.ROW154COL9",{"$f":"IF(R_WHFCI,CONCATENATE(\"\", 'WH - FCI'!I171),\"\")","v":""},false,"Y"]
["$WH1_4.2.1.ROW154COL10",{"$f":"IF(R_WHFCI,CONCATENATE(\"\", 'WH - FCI'!J171),\"\")","v":""},false,"Y"]
["$WH1_4.2.1.ROW154COL11",{"$f":"IF(R_WHFCI,CONCATENATE(\"\", 'WH - FCI'!K171),\"\")","v":""},false,"Y"]
["$WH1_4.2.1.ROW155COL1",{"$f":"IF(R_WHFCI,CONCATENATE(\"\", 'WH - FCI'!A172),\"\")","v":""},false,"Y"]
["$WH1_4.2.1.ROW155COL2",{"$f":"IF(R_WHFCI,CONCATENATE(\"\", 'WH - FCI'!B172),\"\")","v":""},false,"Y"]
["$WH1_4.2.1.ROW155COL3",{"$f":"IF(R_WHFCI,CONCATENATE(\"\", 'WH - FCI'!C172),\"\")","v":""},false,"Y"]
["$WH1_4.2.1.ROW155COL4",{"$f":"IF(R_WHFCI,CONCATENATE(\"\", 'WH - FCI'!D172),\"\")","v":""},false,"Y"]
["$WH1_4.2.1.ROW155COL5",{"$f":"IF(R_WHFCI,CONCATENATE(\"\", 'WH - FCI'!E172),\"\")","v":""},false,"Y"]
["$WH1_4.2.1.ROW155COL6",{"$f":"IF(R_WHFCI,CONCATENATE(\"\", 'WH - FCI'!F172),\"\")","v":""},false,"Y"]
["$WH1_4.2.1.ROW155COL7",{"$f":"IF(R_WHFCI,CONCATENATE(\"\", 'WH - FCI'!G172),\"\")","v":""},false,"Y"]
["$WH1_4.2.1.ROW155COL8",{"$f":"IF(R_WHFCI,CONCATENATE(\"\", 'WH - FCI'!H172),\"\")","v":""},false,"Y"]
["$WH1_4.2.1.ROW155COL9",{"$f":"IF(R_WHFCI,CONCATENATE(\"\", 'WH - FCI'!I172),\"\")","v":""},false,"Y"]
["$WH1_4.2.1.ROW155COL10",{"$f":"IF(R_WHFCI,CONCATENATE(\"\", 'WH - FCI'!J172),\"\")","v":""},false,"Y"]
["$WH1_4.2.1.ROW155COL11",{"$f":"IF(R_WHFCI,CONCATENATE(\"\", 'WH - FCI'!K172),\"\")","v":""},false,"Y"]
["$WH1_4.2.1.ROW156COL1",{"$f":"IF(R_WHFCI,CONCATENATE(\"\", 'WH - FCI'!A173),\"\")","v":""},{"$f":"ISERROR(B4030)","v":false},"Y"]
["$WH1_4.2.1.ROW156COL2",{"$f":"IF(R_WHFCI,CONCATENATE(\"\", 'WH - FCI'!B173),\"\")","v":""},false,"Y"]
["$WH1_4.2.1.ROW156COL3",{"$f":"IF(R_WHFCI,CONCATENATE(\"\", 'WH - FCI'!C173),\"\")","v":""},false,"Y"]
["$WH1_4.2.1.ROW156COL4",{"$f":"IF(R_WHFCI,CONCATENATE(\"\", 'WH - FCI'!D173),\"\")","v":""},false,"Y"]
["$WH1_4.2.1.ROW156COL5",{"$f":"IF(R_WHFCI,CONCATENATE(\"\", 'WH - FCI'!E173),\"\")","v":""},false,"Y"]
["$WH1_4.2.1.ROW156COL6",{"$f":"IF(R_WHFCI,CONCATENATE(\"\", 'WH - FCI'!F173),\"\")","v":""},false,"Y"]
["$WH1_4.2.1.ROW156COL7",{"$f":"IF(R_WHFCI,CONCATENATE(\"\", 'WH - FCI'!G173),\"\")","v":""},false,"Y"]
["$WH1_4.2.1.ROW156COL8",{"$f":"IF(R_WHFCI,CONCATENATE(\"\", 'WH - FCI'!H173),\"\")","v":""},false,"Y"]
["$WH1_4.2.1.ROW156COL9",{"$f":"IF(R_WHFCI,CONCATENATE(\"\", 'WH - FCI'!I173),\"\")","v":""},false,"Y"]
["$WH1_4.2.1.ROW156COL10",{"$f":"IF(R_WHFCI,CONCATENATE(\"\", 'WH - FCI'!J173),\"\")","v":""},false,"Y"]
["$WH1_4.2.1.ROW156COL11",{"$f":"IF(R_WHFCI,CONCATENATE(\"\", 'WH - FCI'!K173),\"\")","v":""},false,"Y"]
["$WH1_4.2.1.ROW157COL1",{"$f":"IF(R_WHFCI,CONCATENATE(\"\", 'WH - FCI'!A174),\"\")","v":""},false,"Y"]
["$WH1_4.2.1.ROW157COL2",{"$f":"IF(R_WHFCI,CONCATENATE(\"\", 'WH - FCI'!B174),\"\")","v":""},false,"Y"]
["$WH1_4.2.1.ROW157COL3",{"$f":"IF(R_WHFCI,CONCATENATE(\"\", 'WH - FCI'!C174),\"\")","v":""},false,"Y"]
["$WH1_4.2.1.ROW157COL4",{"$f":"IF(R_WHFCI,CONCATENATE(\"\", 'WH - FCI'!D174),\"\")","v":""},false,"Y"]
["$WH1_4.2.1.ROW157COL5",{"$f":"IF(R_WHFCI,CONCATENATE(\"\", 'WH - FCI'!E174),\"\")","v":""},false,"Y"]
["$WH1_4.2.1.ROW157COL6",{"$f":"IF(R_WHFCI,CONCATENATE(\"\", 'WH - FCI'!F174),\"\")","v":""},false,"Y"]
["$WH1_4.2.1.ROW157COL7",{"$f":"IF(R_WHFCI,CONCATENATE(\"\", 'WH - FCI'!G174),\"\")","v":""},false,"Y"]
["$WH1_4.2.1.ROW157COL8",{"$f":"IF(R_WHFCI,CONCATENATE(\"\", 'WH - FCI'!H174),\"\")","v":""},false,"Y"]
["$WH1_4.2.1.ROW157COL9",{"$f":"IF(R_WHFCI,CONCATENATE(\"\", 'WH - FCI'!I174),\"\")","v":""},false,"Y"]
["$WH1_4.2.1.ROW157COL10",{"$f":"IF(R_WHFCI,CONCATENATE(\"\", 'WH - FCI'!J174),\"\")","v":""},false,"Y"]
["$WH1_4.2.1.ROW157COL11",{"$f":"IF(R_WHFCI,CONCATENATE(\"\", 'WH - FCI'!K174),\"\")","v":""},false,"Y"]
["$WH1_4.2.1.ROW158COL1",{"$f":"IF(R_WHFCI,CONCATENATE(\"\", 'WH - FCI'!A175),\"\")","v":""},false,"Y"]
["$WH1_4.2.1.ROW158COL2",{"$f":"IF(R_WHFCI,CONCATENATE(\"\", 'WH - FCI'!B175),\"\")","v":""},false,"Y"]
["$WH1_4.2.1.ROW158COL3",{"$f":"IF(R_WHFCI,CONCATENATE(\"\", 'WH - FCI'!C175),\"\")","v":""},false,"Y"]
["$WH1_4.2.1.ROW158COL4",{"$f":"IF(R_WHFCI,CONCATENATE(\"\", 'WH - FCI'!D175),\"\")","v":""},false,"Y"]
["$WH1_4.2.1.ROW158COL5",{"$f":"IF(R_WHFCI,CONCATENATE(\"\", 'WH - FCI'!E175),\"\")","v":""},false,"Y"]
["$WH1_4.2.1.ROW158COL6",{"$f":"IF(R_WHFCI,CONCATENATE(\"\", 'WH - FCI'!F175),\"\")","v":""},false,"Y"]
["$WH1_4.2.1.ROW158COL7",{"$f":"IF(R_WHFCI,CONCATENATE(\"\", 'WH - FCI'!G175),\"\")","v":""},false,"Y"]
["$WH1_4.2.1.ROW158COL8",{"$f":"IF(R_WHFCI,CONCATENATE(\"\", 'WH - FCI'!H175),\"\")","v":""},false,"Y"]
["$WH1_4.2.1.ROW158COL9",{"$f":"IF(R_WHFCI,CONCATENATE(\"\", 'WH - FCI'!I175),\"\")","v":""},false,"Y"]
["$WH1_4.2.1.ROW158COL10",{"$f":"IF(R_WHFCI,CONCATENATE(\"\", 'WH - FCI'!J175),\"\")","v":""},false,"Y"]
["$WH1_4.2.1.ROW158COL11",{"$f":"IF(R_WHFCI,CONCATENATE(\"\", 'WH - FCI'!K175),\"\")","v":""},false,"Y"]
["$WH1_4.2.1.ROW159COL1",{"$f":"IF(R_WHFCI,CONCATENATE(\"\", 'WH - FCI'!A176),\"\")","v":""},false,"Y"]
["$WH1_4.2.1.ROW159COL2",{"$f":"IF(R_WHFCI,CONCATENATE(\"\", 'WH - FCI'!B176),\"\")","v":""},false,"Y"]
["$WH1_4.2.1.ROW159COL3",{"$f":"IF(R_WHFCI,CONCATENATE(\"\", 'WH - FCI'!C176),\"\")","v":""},false,"Y"]
["$WH1_4.2.1.ROW159COL4",{"$f":"IF(R_WHFCI,CONCATENATE(\"\", 'WH - FCI'!D176),\"\")","v":""},false,"Y"]
["$WH1_4.2.1.ROW159COL5",{"$f":"IF(R_WHFCI,CONCATENATE(\"\", 'WH - FCI'!E176),\"\")","v":""},false,"Y"]
["$WH1_4.2.1.ROW159COL6",{"$f":"IF(R_WHFCI,CONCATENATE(\"\", 'WH - FCI'!F176),\"\")","v":""},false,"Y"]
["$WH1_4.2.1.ROW159COL7",{"$f":"IF(R_WHFCI,CONCATENATE(\"\", 'WH - FCI'!G176),\"\")","v":""},false,"Y"]
["$WH1_4.2.1.ROW159COL8",{"$f":"IF(R_WHFCI,CONCATENATE(\"\", 'WH - FCI'!H176),\"\")","v":""},false,"Y"]
["$WH1_4.2.1.ROW159COL9",{"$f":"IF(R_WHFCI,CONCATENATE(\"\", 'WH - FCI'!I176),\"\")","v":""},false,"Y"]
["$WH1_4.2.1.ROW159COL10",{"$f":"IF(R_WHFCI,CONCATENATE(\"\", 'WH - FCI'!J176),\"\")","v":""},false,"Y"]
["$WH1_4.2.1.ROW159COL11",{"$f":"IF(R_WHFCI,CONCATENATE(\"\", 'WH - FCI'!K176),\"\")","v":""},false,"Y"]
["$WH1_4.2.1.ROW160COL1",{"$f":"IF(R_WHFCI,CONCATENATE(\"\", 'WH - FCI'!A177),\"\")","v":""},false,"Y"]
["$WH1_4.2.1.ROW160COL2",{"$f":"IF(R_WHFCI,CONCATENATE(\"\", 'WH - FCI'!B177),\"\")","v":""},false,"Y"]
["$WH1_4.2.1.ROW160COL3",{"$f":"IF(R_WHFCI,CONCATENATE(\"\", 'WH - FCI'!C177),\"\")","v":""},false,"Y"]
["$WH1_4.2.1.ROW160COL4",{"$f":"IF(R_WHFCI,CONCATENATE(\"\", 'WH - FCI'!D177),\"\")","v":""},false,"Y"]
["$WH1_4.2.1.ROW160COL5",{"$f":"IF(R_WHFCI,CONCATENATE(\"\", 'WH - FCI'!E177),\"\")","v":""},false,"Y"]
["$WH1_4.2.1.ROW160COL6",{"$f":"IF(R_WHFCI,CONCATENATE(\"\", 'WH - FCI'!F177),\"\")","v":""},false,"Y"]
["$WH1_4.2.1.ROW160COL7",{"$f":"IF(R_WHFCI,CONCATENATE(\"\", 'WH - FCI'!G177),\"\")","v":""},false,"Y"]
["$WH1_4.2.1.ROW160COL8",{"$f":"IF(R_WHFCI,CONCATENATE(\"\", 'WH - FCI'!H177),\"\")","v":""},false,"Y"]
["$WH1_4.2.1.ROW160COL9",{"$f":"IF(R_WHFCI,CONCATENATE(\"\", 'WH - FCI'!I177),\"\")","v":""},false,"Y"]
["$WH1_4.2.1.ROW160COL10",{"$f":"IF(R_WHFCI,CONCATENATE(\"\", 'WH - FCI'!J177),\"\")","v":""},false,"Y"]
["$WH1_4.2.1.ROW160COL11",{"$f":"IF(R_WHFCI,CONCATENATE(\"\", 'WH - FCI'!K177),\"\")","v":""},false,"Y"]
["$WH1_4.2.1.ROW161COL1",{"$f":"IF(R_WHFCI,CONCATENATE(\"\", 'WH - FCI'!A178),\"\")","v":""},false,"Y"]
["$WH1_4.2.1.ROW161COL2",{"$f":"IF(R_WHFCI,CONCATENATE(\"\", 'WH - FCI'!B178),\"\")","v":""},false,"Y"]
["$WH1_4.2.1.ROW161COL3",{"$f":"IF(R_WHFCI,CONCATENATE(\"\", 'WH - FCI'!C178),\"\")","v":""},false,"Y"]
["$WH1_4.2.1.ROW161COL4",{"$f":"IF(R_WHFCI,CONCATENATE(\"\", 'WH - FCI'!D178),\"\")","v":""},false,"Y"]
["$WH1_4.2.1.ROW161COL5",{"$f":"IF(R_WHFCI,CONCATENATE(\"\", 'WH - FCI'!E178),\"\")","v":""},false,"Y"]
["$WH1_4.2.1.ROW161COL6",{"$f":"IF(R_WHFCI,CONCATENATE(\"\", 'WH - FCI'!F178),\"\")","v":""},false,"Y"]
["$WH1_4.2.1.ROW161COL7",{"$f":"IF(R_WHFCI,CONCATENATE(\"\", 'WH - FCI'!G178),\"\")","v":""},false,"Y"]
["$WH1_4.2.1.ROW161COL8",{"$f":"IF(R_WHFCI,CONCATENATE(\"\", 'WH - FCI'!H178),\"\")","v":""},false,"Y"]
["$WH1_4.2.1.ROW161COL9",{"$f":"IF(R_WHFCI,CONCATENATE(\"\", 'WH - FCI'!I178),\"\")","v":""},false,"Y"]
["$WH1_4.2.1.ROW161COL10",{"$f":"IF(R_WHFCI,CONCATENATE(\"\", 'WH - FCI'!J178),\"\")","v":""},{"$f":"ISERROR(B4094)","v":false},"Y"]
["$WH1_4.2.1.ROW161COL11",{"$f":"IF(R_WHFCI,CONCATENATE(\"\", 'WH - FCI'!K178),\"\")","v":""},false,"Y"]
["$WH1_4.2.1.ROW162COL1",{"$f":"IF(R_WHFCI,CONCATENATE(\"\", 'WH - FCI'!A179),\"\")","v":""},false,"Y"]
["$WH1_4.2.1.ROW162COL2",{"$f":"IF(R_WHFCI,CONCATENATE(\"\", 'WH - FCI'!B179),\"\")","v":""},false,"Y"]
["$WH1_4.2.1.ROW162COL3",{"$f":"IF(R_WHFCI,CONCATENATE(\"\", 'WH - FCI'!C179),\"\")","v":""},false,"Y"]
["$WH1_4.2.1.ROW162COL4",{"$f":"IF(R_WHFCI,CONCATENATE(\"\", 'WH - FCI'!D179),\"\")","v":""},false,"Y"]
["$WH1_4.2.1.ROW162COL5",{"$f":"IF(R_WHFCI,CONCATENATE(\"\", 'WH - FCI'!E179),\"\")","v":""},false,"Y"]
["$WH1_4.2.1.ROW162COL6",{"$f":"IF(R_WHFCI,CONCATENATE(\"\", 'WH - FCI'!F179),\"\")","v":""},false,"Y"]
["$WH1_4.2.1.ROW162COL7",{"$f":"IF(R_WHFCI,CONCATENATE(\"\", 'WH - FCI'!G179),\"\")","v":""},false,"Y"]
["$WH1_4.2.1.ROW162COL8",{"$f":"IF(R_WHFCI,CONCATENATE(\"\", 'WH - FCI'!H179),\"\")","v":""},false,"Y"]
["$WH1_4.2.1.ROW162COL9",{"$f":"IF(R_WHFCI,CONCATENATE(\"\", 'WH - FCI'!I179),\"\")","v":""},false,"Y"]
["$WH1_4.2.1.ROW162COL10",{"$f":"IF(R_WHFCI,CONCATENATE(\"\", 'WH - FCI'!J179),\"\")","v":""},false,"Y"]
["$WH1_4.2.1.ROW162COL11",{"$f":"IF(R_WHFCI,CONCATENATE(\"\", 'WH - FCI'!K179),\"\")","v":""},false,"Y"]
["$WH1_4.2.1.ROW163COL1",{"$f":"IF(R_WHFCI,CONCATENATE(\"\", 'WH - FCI'!A180),\"\")","v":""},false,"Y"]
["$WH1_4.2.1.ROW163COL2",{"$f":"IF(R_WHFCI,CONCATENATE(\"\", 'WH - FCI'!B180),\"\")","v":""},false,"Y"]
["$WH1_4.2.1.ROW163COL3",{"$f":"IF(R_WHFCI,CONCATENATE(\"\", 'WH - FCI'!C180),\"\")","v":""},false,"Y"]
["$WH1_4.2.1.ROW163COL4",{"$f":"IF(R_WHFCI,CONCATENATE(\"\", 'WH - FCI'!D180),\"\")","v":""},false,"Y"]
["$WH1_4.2.1.ROW163COL5",{"$f":"IF(R_WHFCI,CONCATENATE(\"\", 'WH - FCI'!E180),\"\")","v":""},false,"Y"]
["$WH1_4.2.1.ROW163COL6",{"$f":"IF(R_WHFCI,CONCATENATE(\"\", 'WH - FCI'!F180),\"\")","v":""},false,"Y"]
["$WH1_4.2.1.ROW163COL7",{"$f":"IF(R_WHFCI,CONCATENATE(\"\", 'WH - FCI'!G180),\"\")","v":""},false,"Y"]
["$WH1_4.2.1.ROW163COL8",{"$f":"IF(R_WHFCI,CONCATENATE(\"\", 'WH - FCI'!H180),\"\")","v":""},false,"Y"]
["$WH1_4.2.1.ROW163COL9",{"$f":"IF(R_WHFCI,CONCATENATE(\"\", 'WH - FCI'!I180),\"\")","v":""},false,"Y"]
["$WH1_4.2.1.ROW163COL10",{"$f":"IF(R_WHFCI,CONCATENATE(\"\", 'WH - FCI'!J180),\"\")","v":""},false,"Y"]
["$WH1_4.2.1.ROW163COL11",{"$f":"IF(R_WHFCI,CONCATENATE(\"\", 'WH - FCI'!K180),\"\")","v":""},false,"Y"]
["$WH1_4.2.1.ROW164COL1",{"$f":"IF(R_WHFCI,CONCATENATE(\"\", 'WH - FCI'!A181),\"\")","v":""},false,"Y"]
["$WH1_4.2.1.ROW164COL2",{"$f":"IF(R_WHFCI,CONCATENATE(\"\", 'WH - FCI'!B181),\"\")","v":""},false,"Y"]
["$WH1_4.2.1.ROW164COL3",{"$f":"IF(R_WHFCI,CONCATENATE(\"\", 'WH - FCI'!C181),\"\")","v":""},false,"Y"]
["$WH1_4.2.1.ROW164COL4",{"$f":"IF(R_WHFCI,CONCATENATE(\"\", 'WH - FCI'!D181),\"\")","v":""},false,"Y"]
["$WH1_4.2.1.ROW164COL5",{"$f":"IF(R_WHFCI,CONCATENATE(\"\", 'WH - FCI'!E181),\"\")","v":""},false,"Y"]
["$WH1_4.2.1.ROW164COL6",{"$f":"IF(R_WHFCI,CONCATENATE(\"\", 'WH - FCI'!F181),\"\")","v":""},false,"Y"]
["$WH1_4.2.1.ROW164COL7",{"$f":"IF(R_WHFCI,CONCATENATE(\"\", 'WH - FCI'!G181),\"\")","v":""},false,"Y"]
["$WH1_4.2.1.ROW164COL8",{"$f":"IF(R_WHFCI,CONCATENATE(\"\", 'WH - FCI'!H181),\"\")","v":""},false,"Y"]
["$WH1_4.2.1.ROW164COL9",{"$f":"IF(R_WHFCI,CONCATENATE(\"\", 'WH - FCI'!I181),\"\")","v":""},false,"Y"]
["$WH1_4.2.1.ROW164COL10",{"$f":"IF(R_WHFCI,CONCATENATE(\"\", 'WH - FCI'!J181),\"\")","v":""},false,"Y"]
["$WH1_4.2.1.ROW164COL11",{"$f":"IF(R_WHFCI,CONCATENATE(\"\", 'WH - FCI'!K181),\"\")","v":""},false,"Y"]
["$WH1_4.2.1.ROW165COL1",{"$f":"IF(R_WHFCI,CONCATENATE(\"\", 'WH - FCI'!A182),\"\")","v":""},false,"Y"]
["$WH1_4.2.1.ROW165COL2",{"$f":"IF(R_WHFCI,CONCATENATE(\"\", 'WH - FCI'!B182),\"\")","v":""},false,"Y"]
["$WH1_4.2.1.ROW165COL3",{"$f":"IF(R_WHFCI,CONCATENATE(\"\", 'WH - FCI'!C182),\"\")","v":""},false,"Y"]
["$WH1_4.2.1.ROW165COL4",{"$f":"IF(R_WHFCI,CONCATENATE(\"\", 'WH - FCI'!D182),\"\")","v":""},false,"Y"]
["$WH1_4.2.1.ROW165COL5",{"$f":"IF(R_WHFCI,CONCATENATE(\"\", 'WH - FCI'!E182),\"\")","v":""},false,"Y"]
["$WH1_4.2.1.ROW165COL6",{"$f":"IF(R_WHFCI,CONCATENATE(\"\", 'WH - FCI'!F182),\"\")","v":""},false,"Y"]
["$WH1_4.2.1.ROW165COL7",{"$f":"IF(R_WHFCI,CONCATENATE(\"\", 'WH - FCI'!G182),\"\")","v":""},false,"Y"]
["$WH1_4.2.1.ROW165COL8",{"$f":"IF(R_WHFCI,CONCATENATE(\"\", 'WH - FCI'!H182),\"\")","v":""},false,"Y"]
["$WH1_4.2.1.ROW165COL9",{"$f":"IF(R_WHFCI,CONCATENATE(\"\", 'WH - FCI'!I182),\"\")","v":""},false,"Y"]
["$WH1_4.2.1.ROW165COL10",{"$f":"IF(R_WHFCI,CONCATENATE(\"\", 'WH - FCI'!J182),\"\")","v":""},false,"Y"]
["$WH1_4.2.1.ROW165COL11",{"$f":"IF(R_WHFCI,CONCATENATE(\"\", 'WH - FCI'!K182),\"\")","v":""},false,"Y"]
["$WH1_4.2.1.ROW166COL1",{"$f":"IF(R_WHFCI,CONCATENATE(\"\", 'WH - FCI'!A183),\"\")","v":""},false,"Y"]
["$WH1_4.2.1.ROW166COL2",{"$f":"IF(R_WHFCI,CONCATENATE(\"\", 'WH - FCI'!B183),\"\")","v":""},false,"Y"]
["$WH1_4.2.1.ROW166COL3",{"$f":"IF(R_WHFCI,CONCATENATE(\"\", 'WH - FCI'!C183),\"\")","v":""},false,"Y"]
["$WH1_4.2.1.ROW166COL4",{"$f":"IF(R_WHFCI,CONCATENATE(\"\", 'WH - FCI'!D183),\"\")","v":""},false,"Y"]
["$WH1_4.2.1.ROW166COL5",{"$f":"IF(R_WHFCI,CONCATENATE(\"\", 'WH - FCI'!E183),\"\")","v":""},false,"Y"]
["$WH1_4.2.1.ROW166COL6",{"$f":"IF(R_WHFCI,CONCATENATE(\"\", 'WH - FCI'!F183),\"\")","v":""},false,"Y"]
["$WH1_4.2.1.ROW166COL7",{"$f":"IF(R_WHFCI,CONCATENATE(\"\", 'WH - FCI'!G183),\"\")","v":""},false,"Y"]
["$WH1_4.2.1.ROW166COL8",{"$f":"IF(R_WHFCI,CONCATENATE(\"\", 'WH - FCI'!H183),\"\")","v":""},false,"Y"]
["$WH1_4.2.1.ROW166COL9",{"$f":"IF(R_WHFCI,CONCATENATE(\"\", 'WH - FCI'!I183),\"\")","v":""},false,"Y"]
["$WH1_4.2.1.ROW166COL10",{"$f":"IF(R_WHFCI,CONCATENATE(\"\", 'WH - FCI'!J183),\"\")","v":""},false,"Y"]
["$WH1_4.2.1.ROW166COL11",{"$f":"IF(R_WHFCI,CONCATENATE(\"\", 'WH - FCI'!K183),\"\")","v":""},false,"Y"]
["$WH1_4.2.1.ROW167COL1",{"$f":"IF(R_WHFCI,CONCATENATE(\"\", 'WH - FCI'!A184),\"\")","v":""},false,"Y"]
["$WH1_4.2.1.ROW167COL2",{"$f":"IF(R_WHFCI,CONCATENATE(\"\", 'WH - FCI'!B184),\"\")","v":""},false,"Y"]
["$WH1_4.2.1.ROW167COL3",{"$f":"IF(R_WHFCI,CONCATENATE(\"\", 'WH - FCI'!C184),\"\")","v":""},false,"Y"]
["$WH1_4.2.1.ROW167COL4",{"$f":"IF(R_WHFCI,CONCATENATE(\"\", 'WH - FCI'!D184),\"\")","v":""},false,"Y"]
["$WH1_4.2.1.ROW167COL5",{"$f":"IF(R_WHFCI,CONCATENATE(\"\", 'WH - FCI'!E184),\"\")","v":""},false,"Y"]
["$WH1_4.2.1.ROW167COL6",{"$f":"IF(R_WHFCI,CONCATENATE(\"\", 'WH - FCI'!F184),\"\")","v":""},false,"Y"]
["$WH1_4.2.1.ROW167COL7",{"$f":"IF(R_WHFCI,CONCATENATE(\"\", 'WH - FCI'!G184),\"\")","v":""},false,"Y"]
["$WH1_4.2.1.ROW167COL8",{"$f":"IF(R_WHFCI,CONCATENATE(\"\", 'WH - FCI'!H184),\"\")","v":""},{"$f":"ISERROR(B4158)","v":false},"Y"]
["$WH1_4.2.1.ROW167COL9",{"$f":"IF(R_WHFCI,CONCATENATE(\"\", 'WH - FCI'!I184),\"\")","v":""},false,"Y"]
["$WH1_4.2.1.ROW167COL10",{"$f":"IF(R_WHFCI,CONCATENATE(\"\", 'WH - FCI'!J184),\"\")","v":""},false,"Y"]
["$WH1_4.2.1.ROW167COL11",{"$f":"IF(R_WHFCI,CONCATENATE(\"\", 'WH - FCI'!K184),\"\")","v":""},false,"Y"]
["$WH1_4.2.1.ROW168COL1",{"$f":"IF(R_WHFCI,CONCATENATE(\"\", 'WH - FCI'!A185),\"\")","v":""},false,"Y"]
["$WH1_4.2.1.ROW168COL2",{"$f":"IF(R_WHFCI,CONCATENATE(\"\", 'WH - FCI'!B185),\"\")","v":""},false,"Y"]
["$WH1_4.2.1.ROW168COL3",{"$f":"IF(R_WHFCI,CONCATENATE(\"\", 'WH - FCI'!C185),\"\")","v":""},false,"Y"]
["$WH1_4.2.1.ROW168COL4",{"$f":"IF(R_WHFCI,CONCATENATE(\"\", 'WH - FCI'!D185),\"\")","v":""},false,"Y"]
["$WH1_4.2.1.ROW168COL5",{"$f":"IF(R_WHFCI,CONCATENATE(\"\", 'WH - FCI'!E185),\"\")","v":""},false,"Y"]
["$WH1_4.2.1.ROW168COL6",{"$f":"IF(R_WHFCI,CONCATENATE(\"\", 'WH - FCI'!F185),\"\")","v":""},false,"Y"]
["$WH1_4.2.1.ROW168COL7",{"$f":"IF(R_WHFCI,CONCATENATE(\"\", 'WH - FCI'!G185),\"\")","v":""},false,"Y"]
["$WH1_4.2.1.ROW168COL8",{"$f":"IF(R_WHFCI,CONCATENATE(\"\", 'WH - FCI'!H185),\"\")","v":""},false,"Y"]
["$WH1_4.2.1.ROW168COL9",{"$f":"IF(R_WHFCI,CONCATENATE(\"\", 'WH - FCI'!I185),\"\")","v":""},false,"Y"]
["$WH1_4.2.1.ROW168COL10",{"$f":"IF(R_WHFCI,CONCATENATE(\"\", 'WH - FCI'!J185),\"\")","v":""},false,"Y"]
["$WH1_4.2.1.ROW168COL11",{"$f":"IF(R_WHFCI,CONCATENATE(\"\", 'WH - FCI'!K185),\"\")","v":""},false,"Y"]
["$WH1_4.2.1.ROW169COL1",{"$f":"IF(R_WHFCI,CONCATENATE(\"\", 'WH - FCI'!A186),\"\")","v":""},false,"Y"]
["$WH1_4.2.1.ROW169COL2",{"$f":"IF(R_WHFCI,CONCATENATE(\"\", 'WH - FCI'!B186),\"\")","v":""},false,"Y"]
["$WH1_4.2.1.ROW169COL3",{"$f":"IF(R_WHFCI,CONCATENATE(\"\", 'WH - FCI'!C186),\"\")","v":""},false,"Y"]
["$WH1_4.2.1.ROW169COL4",{"$f":"IF(R_WHFCI,CONCATENATE(\"\", 'WH - FCI'!D186),\"\")","v":""},false,"Y"]
["$WH1_4.2.1.ROW169COL5",{"$f":"IF(R_WHFCI,CONCATENATE(\"\", 'WH - FCI'!E186),\"\")","v":""},false,"Y"]
["$WH1_4.2.1.ROW169COL6",{"$f":"IF(R_WHFCI,CONCATENATE(\"\", 'WH - FCI'!F186),\"\")","v":""},false,"Y"]
["$WH1_4.2.1.ROW169COL7",{"$f":"IF(R_WHFCI,CONCATENATE(\"\", 'WH - FCI'!G186),\"\")","v":""},false,"Y"]
["$WH1_4.2.1.ROW169COL8",{"$f":"IF(R_WHFCI,CONCATENATE(\"\", 'WH - FCI'!H186),\"\")","v":""},false,"Y"]
["$WH1_4.2.1.ROW169COL9",{"$f":"IF(R_WHFCI,CONCATENATE(\"\", 'WH - FCI'!I186),\"\")","v":""},false,"Y"]
["$WH1_4.2.1.ROW169COL10",{"$f":"IF(R_WHFCI,CONCATENATE(\"\", 'WH - FCI'!J186),\"\")","v":""},false,"Y"]
["$WH1_4.2.1.ROW169COL11",{"$f":"IF(R_WHFCI,CONCATENATE(\"\", 'WH - FCI'!K186),\"\")","v":""},false,"Y"]
["$WH1_4.2.1.ROW170COL1",{"$f":"IF(R_WHFCI,CONCATENATE(\"\", 'WH - FCI'!A187),\"\")","v":""},false,"Y"]
["$WH1_4.2.1.ROW170COL2",{"$f":"IF(R_WHFCI,CONCATENATE(\"\", 'WH - FCI'!B187),\"\")","v":""},false,"Y"]
["$WH1_4.2.1.ROW170COL3",{"$f":"IF(R_WHFCI,CONCATENATE(\"\", 'WH - FCI'!C187),\"\")","v":""},false,"Y"]
["$WH1_4.2.1.ROW170COL4",{"$f":"IF(R_WHFCI,CONCATENATE(\"\", 'WH - FCI'!D187),\"\")","v":""},false,"Y"]
["$WH1_4.2.1.ROW170COL5",{"$f":"IF(R_WHFCI,CONCATENATE(\"\", 'WH - FCI'!E187),\"\")","v":""},false,"Y"]
["$WH1_4.2.1.ROW170COL6",{"$f":"IF(R_WHFCI,CONCATENATE(\"\", 'WH - FCI'!F187),\"\")","v":""},false,"Y"]
["$WH1_4.2.1.ROW170COL7",{"$f":"IF(R_WHFCI,CONCATENATE(\"\", 'WH - FCI'!G187),\"\")","v":""},false,"Y"]
["$WH1_4.2.1.ROW170COL8",{"$f":"IF(R_WHFCI,CONCATENATE(\"\", 'WH - FCI'!H187),\"\")","v":""},false,"Y"]
["$WH1_4.2.1.ROW170COL9",{"$f":"IF(R_WHFCI,CONCATENATE(\"\", 'WH - FCI'!I187),\"\")","v":""},false,"Y"]
["$WH1_4.2.1.ROW170COL10",{"$f":"IF(R_WHFCI,CONCATENATE(\"\", 'WH - FCI'!J187),\"\")","v":""},false,"Y"]
["$WH1_4.2.1.ROW170COL11",{"$f":"IF(R_WHFCI,CONCATENATE(\"\", 'WH - FCI'!K187),\"\")","v":""},false,"Y"]
["$WH1_4.2.1.ROW171COL1",{"$f":"IF(R_WHFCI,CONCATENATE(\"\", 'WH - FCI'!A188),\"\")","v":""},false,"Y"]
["$WH1_4.2.1.ROW171COL2",{"$f":"IF(R_WHFCI,CONCATENATE(\"\", 'WH - FCI'!B188),\"\")","v":""},false,"Y"]
["$WH1_4.2.1.ROW171COL3",{"$f":"IF(R_WHFCI,CONCATENATE(\"\", 'WH - FCI'!C188),\"\")","v":""},false,"Y"]
["$WH1_4.2.1.ROW171COL4",{"$f":"IF(R_WHFCI,CONCATENATE(\"\", 'WH - FCI'!D188),\"\")","v":""},false,"Y"]
["$WH1_4.2.1.ROW171COL5",{"$f":"IF(R_WHFCI,CONCATENATE(\"\", 'WH - FCI'!E188),\"\")","v":""},false,"Y"]
["$WH1_4.2.1.ROW171COL6",{"$f":"IF(R_WHFCI,CONCATENATE(\"\", 'WH - FCI'!F188),\"\")","v":""},false,"Y"]
["$WH1_4.2.1.ROW171COL7",{"$f":"IF(R_WHFCI,CONCATENATE(\"\", 'WH - FCI'!G188),\"\")","v":""},false,"Y"]
["$WH1_4.2.1.ROW171COL8",{"$f":"IF(R_WHFCI,CONCATENATE(\"\", 'WH - FCI'!H188),\"\")","v":""},false,"Y"]
["$WH1_4.2.1.ROW171COL9",{"$f":"IF(R_WHFCI,CONCATENATE(\"\", 'WH - FCI'!I188),\"\")","v":""},false,"Y"]
["$WH1_4.2.1.ROW171COL10",{"$f":"IF(R_WHFCI,CONCATENATE(\"\", 'WH - FCI'!J188),\"\")","v":""},false,"Y"]
["$WH1_4.2.1.ROW171COL11",{"$f":"IF(R_WHFCI,CONCATENATE(\"\", 'WH - FCI'!K188),\"\")","v":""},false,"Y"]
["$WH1_4.2.1.ROW172COL1",{"$f":"IF(R_WHFCI,CONCATENATE(\"\", 'WH - FCI'!A189),\"\")","v":""},false,"Y"]
["$WH1_4.2.1.ROW172COL2",{"$f":"IF(R_WHFCI,CONCATENATE(\"\", 'WH - FCI'!B189),\"\")","v":""},false,"Y"]
["$WH1_4.2.1.ROW172COL3",{"$f":"IF(R_WHFCI,CONCATENATE(\"\", 'WH - FCI'!C189),\"\")","v":""},false,"Y"]
["$WH1_4.2.1.ROW172COL4",{"$f":"IF(R_WHFCI,CONCATENATE(\"\", 'WH - FCI'!D189),\"\")","v":""},false,"Y"]
["$WH1_4.2.1.ROW172COL5",{"$f":"IF(R_WHFCI,CONCATENATE(\"\", 'WH - FCI'!E189),\"\")","v":""},false,"Y"]
["$WH1_4.2.1.ROW172COL6",{"$f":"IF(R_WHFCI,CONCATENATE(\"\", 'WH - FCI'!F189),\"\")","v":""},false,"Y"]
["$WH1_4.2.1.ROW172COL7",{"$f":"IF(R_WHFCI,CONCATENATE(\"\", 'WH - FCI'!G189),\"\")","v":""},false,"Y"]
["$WH1_4.2.1.ROW172COL8",{"$f":"IF(R_WHFCI,CONCATENATE(\"\", 'WH - FCI'!H189),\"\")","v":""},false,"Y"]
["$WH1_4.2.1.ROW172COL9",{"$f":"IF(R_WHFCI,CONCATENATE(\"\", 'WH - FCI'!I189),\"\")","v":""},false,"Y"]
["$WH1_4.2.1.ROW172COL10",{"$f":"IF(R_WHFCI,CONCATENATE(\"\", 'WH - FCI'!J189),\"\")","v":""},false,"Y"]
["$WH1_4.2.1.ROW172COL11",{"$f":"IF(R_WHFCI,CONCATENATE(\"\", 'WH - FCI'!K189),\"\")","v":""},false,"Y"]
["$WH1_4.2.1.ROW173COL1",{"$f":"IF(R_WHFCI,CONCATENATE(\"\", 'WH - FCI'!A190),\"\")","v":""},false,"Y"]
["$WH1_4.2.1.ROW173COL2",{"$f":"IF(R_WHFCI,CONCATENATE(\"\", 'WH - FCI'!B190),\"\")","v":""},false,"Y"]
["$WH1_4.2.1.ROW173COL3",{"$f":"IF(R_WHFCI,CONCATENATE(\"\", 'WH - FCI'!C190),\"\")","v":""},false,"Y"]
["$WH1_4.2.1.ROW173COL4",{"$f":"IF(R_WHFCI,CONCATENATE(\"\", 'WH - FCI'!D190),\"\")","v":""},false,"Y"]
["$WH1_4.2.1.ROW173COL5",{"$f":"IF(R_WHFCI,CONCATENATE(\"\", 'WH - FCI'!E190),\"\")","v":""},false,"Y"]
["$WH1_4.2.1.ROW173COL6",{"$f":"IF(R_WHFCI,CONCATENATE(\"\", 'WH - FCI'!F190),\"\")","v":""},{"$f":"ISERROR(B4222)","v":false},"Y"]
["$WH1_4.2.1.ROW173COL7",{"$f":"IF(R_WHFCI,CONCATENATE(\"\", 'WH - FCI'!G190),\"\")","v":""},false,"Y"]
["$WH1_4.2.1.ROW173COL8",{"$f":"IF(R_WHFCI,CONCATENATE(\"\", 'WH - FCI'!H190),\"\")","v":""},false,"Y"]
["$WH1_4.2.1.ROW173COL9",{"$f":"IF(R_WHFCI,CONCATENATE(\"\", 'WH - FCI'!I190),\"\")","v":""},false,"Y"]
["$WH1_4.2.1.ROW173COL10",{"$f":"IF(R_WHFCI,CONCATENATE(\"\", 'WH - FCI'!J190),\"\")","v":""},false,"Y"]
["$WH1_4.2.1.ROW173COL11",{"$f":"IF(R_WHFCI,CONCATENATE(\"\", 'WH - FCI'!K190),\"\")","v":""},false,"Y"]
["$WH1_4.2.1.ROW174COL1",{"$f":"IF(R_WHFCI,CONCATENATE(\"\", 'WH - FCI'!A191),\"\")","v":""},false,"Y"]
["$WH1_4.2.1.ROW174COL2",{"$f":"IF(R_WHFCI,CONCATENATE(\"\", 'WH - FCI'!B191),\"\")","v":""},false,"Y"]
["$WH1_4.2.1.ROW174COL3",{"$f":"IF(R_WHFCI,CONCATENATE(\"\", 'WH - FCI'!C191),\"\")","v":""},false,"Y"]
["$WH1_4.2.1.ROW174COL4",{"$f":"IF(R_WHFCI,CONCATENATE(\"\", 'WH - FCI'!D191),\"\")","v":""},false,"Y"]
["$WH1_4.2.1.ROW174COL5",{"$f":"IF(R_WHFCI,CONCATENATE(\"\", 'WH - FCI'!E191),\"\")","v":""},false,"Y"]
["$WH1_4.2.1.ROW174COL6",{"$f":"IF(R_WHFCI,CONCATENATE(\"\", 'WH - FCI'!F191),\"\")","v":""},false,"Y"]
["$WH1_4.2.1.ROW174COL7",{"$f":"IF(R_WHFCI,CONCATENATE(\"\", 'WH - FCI'!G191),\"\")","v":""},false,"Y"]
["$WH1_4.2.1.ROW174COL8",{"$f":"IF(R_WHFCI,CONCATENATE(\"\", 'WH - FCI'!H191),\"\")","v":""},false,"Y"]
["$WH1_4.2.1.ROW174COL9",{"$f":"IF(R_WHFCI,CONCATENATE(\"\", 'WH - FCI'!I191),\"\")","v":""},false,"Y"]
["$WH1_4.2.1.ROW174COL10",{"$f":"IF(R_WHFCI,CONCATENATE(\"\", 'WH - FCI'!J191),\"\")","v":""},false,"Y"]
["$WH1_4.2.1.ROW174COL11",{"$f":"IF(R_WHFCI,CONCATENATE(\"\", 'WH - FCI'!K191),\"\")","v":""},false,"Y"]
["$WH1_4.2.1.ROW175COL1",{"$f":"IF(R_WHFCI,CONCATENATE(\"\", 'WH - FCI'!A192),\"\")","v":""},false,"Y"]
["$WH1_4.2.1.ROW175COL2",{"$f":"IF(R_WHFCI,CONCATENATE(\"\", 'WH - FCI'!B192),\"\")","v":""},false,"Y"]
["$WH1_4.2.1.ROW175COL3",{"$f":"IF(R_WHFCI,CONCATENATE(\"\", 'WH - FCI'!C192),\"\")","v":""},false,"Y"]
["$WH1_4.2.1.ROW175COL4",{"$f":"IF(R_WHFCI,CONCATENATE(\"\", 'WH - FCI'!D192),\"\")","v":""},false,"Y"]
["$WH1_4.2.1.ROW175COL5",{"$f":"IF(R_WHFCI,CONCATENATE(\"\", 'WH - FCI'!E192),\"\")","v":""},false,"Y"]
["$WH1_4.2.1.ROW175COL6",{"$f":"IF(R_WHFCI,CONCATENATE(\"\", 'WH - FCI'!F192),\"\")","v":""},false,"Y"]
["$WH1_4.2.1.ROW175COL7",{"$f":"IF(R_WHFCI,CONCATENATE(\"\", 'WH - FCI'!G192),\"\")","v":""},false,"Y"]
["$WH1_4.2.1.ROW175COL8",{"$f":"IF(R_WHFCI,CONCATENATE(\"\", 'WH - FCI'!H192),\"\")","v":""},false,"Y"]
["$WH1_4.2.1.ROW175COL9",{"$f":"IF(R_WHFCI,CONCATENATE(\"\", 'WH - FCI'!I192),\"\")","v":""},false,"Y"]
["$WH1_4.2.1.ROW175COL10",{"$f":"IF(R_WHFCI,CONCATENATE(\"\", 'WH - FCI'!J192),\"\")","v":""},false,"Y"]
["$WH1_4.2.1.ROW175COL11",{"$f":"IF(R_WHFCI,CONCATENATE(\"\", 'WH - FCI'!K192),\"\")","v":""},false,"Y"]
["$WH1_4.2.1.ROW176COL1",{"$f":"IF(R_WHFCI,CONCATENATE(\"\", 'WH - FCI'!A193),\"\")","v":""},false,"Y"]
["$WH1_4.2.1.ROW176COL2",{"$f":"IF(R_WHFCI,CONCATENATE(\"\", 'WH - FCI'!B193),\"\")","v":""},false,"Y"]
["$WH1_4.2.1.ROW176COL3",{"$f":"IF(R_WHFCI,CONCATENATE(\"\", 'WH - FCI'!C193),\"\")","v":""},false,"Y"]
["$WH1_4.2.1.ROW176COL4",{"$f":"IF(R_WHFCI,CONCATENATE(\"\", 'WH - FCI'!D193),\"\")","v":""},false,"Y"]
["$WH1_4.2.1.ROW176COL5",{"$f":"IF(R_WHFCI,CONCATENATE(\"\", 'WH - FCI'!E193),\"\")","v":""},false,"Y"]
["$WH1_4.2.1.ROW176COL6",{"$f":"IF(R_WHFCI,CONCATENATE(\"\", 'WH - FCI'!F193),\"\")","v":""},false,"Y"]
["$WH1_4.2.1.ROW176COL7",{"$f":"IF(R_WHFCI,CONCATENATE(\"\", 'WH - FCI'!G193),\"\")","v":""},false,"Y"]
["$WH1_4.2.1.ROW176COL8",{"$f":"IF(R_WHFCI,CONCATENATE(\"\", 'WH - FCI'!H193),\"\")","v":""},false,"Y"]
["$WH1_4.2.1.ROW176COL9",{"$f":"IF(R_WHFCI,CONCATENATE(\"\", 'WH - FCI'!I193),\"\")","v":""},false,"Y"]
["$WH1_4.2.1.ROW176COL10",{"$f":"IF(R_WHFCI,CONCATENATE(\"\", 'WH - FCI'!J193),\"\")","v":""},false,"Y"]
["$WH1_4.2.1.ROW176COL11",{"$f":"IF(R_WHFCI,CONCATENATE(\"\", 'WH - FCI'!K193),\"\")","v":""},false,"Y"]
["$WH1_4.2.1.ROW177COL1",{"$f":"IF(R_WHFCI,CONCATENATE(\"\", 'WH - FCI'!A194),\"\")","v":""},false,"Y"]
["$WH1_4.2.1.ROW177COL2",{"$f":"IF(R_WHFCI,CONCATENATE(\"\", 'WH - FCI'!B194),\"\")","v":""},false,"Y"]
["$WH1_4.2.1.ROW177COL3",{"$f":"IF(R_WHFCI,CONCATENATE(\"\", 'WH - FCI'!C194),\"\")","v":""},false,"Y"]
["$WH1_4.2.1.ROW177COL4",{"$f":"IF(R_WHFCI,CONCATENATE(\"\", 'WH - FCI'!D194),\"\")","v":""},false,"Y"]
["$WH1_4.2.1.ROW177COL5",{"$f":"IF(R_WHFCI,CONCATENATE(\"\", 'WH - FCI'!E194),\"\")","v":""},false,"Y"]
["$WH1_4.2.1.ROW177COL6",{"$f":"IF(R_WHFCI,CONCATENATE(\"\", 'WH - FCI'!F194),\"\")","v":""},false,"Y"]
["$WH1_4.2.1.ROW177COL7",{"$f":"IF(R_WHFCI,CONCATENATE(\"\", 'WH - FCI'!G194),\"\")","v":""},false,"Y"]
["$WH1_4.2.1.ROW177COL8",{"$f":"IF(R_WHFCI,CONCATENATE(\"\", 'WH - FCI'!H194),\"\")","v":""},false,"Y"]
["$WH1_4.2.1.ROW177COL9",{"$f":"IF(R_WHFCI,CONCATENATE(\"\", 'WH - FCI'!I194),\"\")","v":""},false,"Y"]
["$WH1_4.2.1.ROW177COL10",{"$f":"IF(R_WHFCI,CONCATENATE(\"\", 'WH - FCI'!J194),\"\")","v":""},false,"Y"]
["$WH1_4.2.1.ROW177COL11",{"$f":"IF(R_WHFCI,CONCATENATE(\"\", 'WH - FCI'!K194),\"\")","v":""},false,"Y"]
["$WH1_4.2.1.ROW178COL1",{"$f":"IF(R_WHFCI,CONCATENATE(\"\", 'WH - FCI'!A195),\"\")","v":""},false,"Y"]
["$WH1_4.2.1.ROW178COL2",{"$f":"IF(R_WHFCI,CONCATENATE(\"\", 'WH - FCI'!B195),\"\")","v":""},false,"Y"]
["$WH1_4.2.1.ROW178COL3",{"$f":"IF(R_WHFCI,CONCATENATE(\"\", 'WH - FCI'!C195),\"\")","v":""},false,"Y"]
["$WH1_4.2.1.ROW178COL4",{"$f":"IF(R_WHFCI,CONCATENATE(\"\", 'WH - FCI'!D195),\"\")","v":""},false,"Y"]
["$WH1_4.2.1.ROW178COL5",{"$f":"IF(R_WHFCI,CONCATENATE(\"\", 'WH - FCI'!E195),\"\")","v":""},false,"Y"]
["$WH1_4.2.1.ROW178COL6",{"$f":"IF(R_WHFCI,CONCATENATE(\"\", 'WH - FCI'!F195),\"\")","v":""},false,"Y"]
["$WH1_4.2.1.ROW178COL7",{"$f":"IF(R_WHFCI,CONCATENATE(\"\", 'WH - FCI'!G195),\"\")","v":""},false,"Y"]
["$WH1_4.2.1.ROW178COL8",{"$f":"IF(R_WHFCI,CONCATENATE(\"\", 'WH - FCI'!H195),\"\")","v":""},false,"Y"]
["$WH1_4.2.1.ROW178COL9",{"$f":"IF(R_WHFCI,CONCATENATE(\"\", 'WH - FCI'!I195),\"\")","v":""},false,"Y"]
["$WH1_4.2.1.ROW178COL10",{"$f":"IF(R_WHFCI,CONCATENATE(\"\", 'WH - FCI'!J195),\"\")","v":""},false,"Y"]
["$WH1_4.2.1.ROW178COL11",{"$f":"IF(R_WHFCI,CONCATENATE(\"\", 'WH - FCI'!K195),\"\")","v":""},false,"Y"]
["$WH1_4.2.1.ROW179COL1",{"$f":"IF(R_WHFCI,CONCATENATE(\"\", 'WH - FCI'!A196),\"\")","v":""},false,"Y"]
["$WH1_4.2.1.ROW179COL2",{"$f":"IF(R_WHFCI,CONCATENATE(\"\", 'WH - FCI'!B196),\"\")","v":""},false,"Y"]
["$WH1_4.2.1.ROW179COL3",{"$f":"IF(R_WHFCI,CONCATENATE(\"\", 'WH - FCI'!C196),\"\")","v":""},false,"Y"]
["$WH1_4.2.1.ROW179COL4",{"$f":"IF(R_WHFCI,CONCATENATE(\"\", 'WH - FCI'!D196),\"\")","v":""},{"$f":"ISERROR(B4286)","v":false},"Y"]
["$WH1_4.2.1.ROW179COL5",{"$f":"IF(R_WHFCI,CONCATENATE(\"\", 'WH - FCI'!E196),\"\")","v":""},false,"Y"]
["$WH1_4.2.1.ROW179COL6",{"$f":"IF(R_WHFCI,CONCATENATE(\"\", 'WH - FCI'!F196),\"\")","v":""},false,"Y"]
["$WH1_4.2.1.ROW179COL7",{"$f":"IF(R_WHFCI,CONCATENATE(\"\", 'WH - FCI'!G196),\"\")","v":""},false,"Y"]
["$WH1_4.2.1.ROW179COL8",{"$f":"IF(R_WHFCI,CONCATENATE(\"\", 'WH - FCI'!H196),\"\")","v":""},false,"Y"]
["$WH1_4.2.1.ROW179COL9",{"$f":"IF(R_WHFCI,CONCATENATE(\"\", 'WH - FCI'!I196),\"\")","v":""},false,"Y"]
["$WH1_4.2.1.ROW179COL10",{"$f":"IF(R_WHFCI,CONCATENATE(\"\", 'WH - FCI'!J196),\"\")","v":""},false,"Y"]
["$WH1_4.2.1.ROW179COL11",{"$f":"IF(R_WHFCI,CONCATENATE(\"\", 'WH - FCI'!K196),\"\")","v":""},false,"Y"]
["$WH1_4.2.1.ROW180COL1",{"$f":"IF(R_WHFCI,CONCATENATE(\"\", 'WH - FCI'!A197),\"\")","v":""},false,"Y"]
["$WH1_4.2.1.ROW180COL2",{"$f":"IF(R_WHFCI,CONCATENATE(\"\", 'WH - FCI'!B197),\"\")","v":""},false,"Y"]
["$WH1_4.2.1.ROW180COL3",{"$f":"IF(R_WHFCI,CONCATENATE(\"\", 'WH - FCI'!C197),\"\")","v":""},false,"Y"]
["$WH1_4.2.1.ROW180COL4",{"$f":"IF(R_WHFCI,CONCATENATE(\"\", 'WH - FCI'!D197),\"\")","v":""},false,"Y"]
["$WH1_4.2.1.ROW180COL5",{"$f":"IF(R_WHFCI,CONCATENATE(\"\", 'WH - FCI'!E197),\"\")","v":""},false,"Y"]
["$WH1_4.2.1.ROW180COL6",{"$f":"IF(R_WHFCI,CONCATENATE(\"\", 'WH - FCI'!F197),\"\")","v":""},false,"Y"]
["$WH1_4.2.1.ROW180COL7",{"$f":"IF(R_WHFCI,CONCATENATE(\"\", 'WH - FCI'!G197),\"\")","v":""},false,"Y"]
["$WH1_4.2.1.ROW180COL8",{"$f":"IF(R_WHFCI,CONCATENATE(\"\", 'WH - FCI'!H197),\"\")","v":""},false,"Y"]
["$WH1_4.2.1.ROW180COL9",{"$f":"IF(R_WHFCI,CONCATENATE(\"\", 'WH - FCI'!I197),\"\")","v":""},false,"Y"]
["$WH1_4.2.1.ROW180COL10",{"$f":"IF(R_WHFCI,CONCATENATE(\"\", 'WH - FCI'!J197),\"\")","v":""},false,"Y"]
["$WH1_4.2.1.ROW180COL11",{"$f":"IF(R_WHFCI,CONCATENATE(\"\", 'WH - FCI'!K197),\"\")","v":""},false,"Y"]
["$WH1_4.2.1.ROW181COL1",{"$f":"IF(R_WHFCI,CONCATENATE(\"\", 'WH - FCI'!A198),\"\")","v":""},false,"Y"]
["$WH1_4.2.1.ROW181COL2",{"$f":"IF(R_WHFCI,CONCATENATE(\"\", 'WH - FCI'!B198),\"\")","v":""},false,"Y"]
["$WH1_4.2.1.ROW181COL3",{"$f":"IF(R_WHFCI,CONCATENATE(\"\", 'WH - FCI'!C198),\"\")","v":""},false,"Y"]
["$WH1_4.2.1.ROW181COL4",{"$f":"IF(R_WHFCI,CONCATENATE(\"\", 'WH - FCI'!D198),\"\")","v":""},false,"Y"]
["$WH1_4.2.1.ROW181COL5",{"$f":"IF(R_WHFCI,CONCATENATE(\"\", 'WH - FCI'!E198),\"\")","v":""},false,"Y"]
["$WH1_4.2.1.ROW181COL6",{"$f":"IF(R_WHFCI,CONCATENATE(\"\", 'WH - FCI'!F198),\"\")","v":""},false,"Y"]
["$WH1_4.2.1.ROW181COL7",{"$f":"IF(R_WHFCI,CONCATENATE(\"\", 'WH - FCI'!G198),\"\")","v":""},false,"Y"]
["$WH1_4.2.1.ROW181COL8",{"$f":"IF(R_WHFCI,CONCATENATE(\"\", 'WH - FCI'!H198),\"\")","v":""},false,"Y"]
["$WH1_4.2.1.ROW181COL9",{"$f":"IF(R_WHFCI,CONCATENATE(\"\", 'WH - FCI'!I198),\"\")","v":""},false,"Y"]
["$WH1_4.2.1.ROW181COL10",{"$f":"IF(R_WHFCI,CONCATENATE(\"\", 'WH - FCI'!J198),\"\")","v":""},false,"Y"]
["$WH1_4.2.1.ROW181COL11",{"$f":"IF(R_WHFCI,CONCATENATE(\"\", 'WH - FCI'!K198),\"\")","v":""},false,"Y"]
["$WH1_4.2.1.ROW182COL1",{"$f":"IF(R_WHFCI,CONCATENATE(\"\", 'WH - FCI'!A199),\"\")","v":""},false,"Y"]
["$WH1_4.2.1.ROW182COL2",{"$f":"IF(R_WHFCI,CONCATENATE(\"\", 'WH - FCI'!B199),\"\")","v":""},false,"Y"]
["$WH1_4.2.1.ROW182COL3",{"$f":"IF(R_WHFCI,CONCATENATE(\"\", 'WH - FCI'!C199),\"\")","v":""},false,"Y"]
["$WH1_4.2.1.ROW182COL4",{"$f":"IF(R_WHFCI,CONCATENATE(\"\", 'WH - FCI'!D199),\"\")","v":""},false,"Y"]
["$WH1_4.2.1.ROW182COL5",{"$f":"IF(R_WHFCI,CONCATENATE(\"\", 'WH - FCI'!E199),\"\")","v":""},false,"Y"]
["$WH1_4.2.1.ROW182COL6",{"$f":"IF(R_WHFCI,CONCATENATE(\"\", 'WH - FCI'!F199),\"\")","v":""},false,"Y"]
["$WH1_4.2.1.ROW182COL7",{"$f":"IF(R_WHFCI,CONCATENATE(\"\", 'WH - FCI'!G199),\"\")","v":""},false,"Y"]
["$WH1_4.2.1.ROW182COL8",{"$f":"IF(R_WHFCI,CONCATENATE(\"\", 'WH - FCI'!H199),\"\")","v":""},false,"Y"]
["$WH1_4.2.1.ROW182COL9",{"$f":"IF(R_WHFCI,CONCATENATE(\"\", 'WH - FCI'!I199),\"\")","v":""},false,"Y"]
["$WH1_4.2.1.ROW182COL10",{"$f":"IF(R_WHFCI,CONCATENATE(\"\", 'WH - FCI'!J199),\"\")","v":""},false,"Y"]
["$WH1_4.2.1.ROW182COL11",{"$f":"IF(R_WHFCI,CONCATENATE(\"\", 'WH - FCI'!K199),\"\")","v":""},false,"Y"]
["$WH1_4.2.1.ROW183COL1",{"$f":"IF(R_WHFCI,CONCATENATE(\"\", 'WH - FCI'!A200),\"\")","v":""},false,"Y"]
["$WH1_4.2.1.ROW183COL2",{"$f":"IF(R_WHFCI,CONCATENATE(\"\", 'WH - FCI'!B200),\"\")","v":""},false,"Y"]
["$WH1_4.2.1.ROW183COL3",{"$f":"IF(R_WHFCI,CONCATENATE(\"\", 'WH - FCI'!C200),\"\")","v":""},false,"Y"]
["$WH1_4.2.1.ROW183COL4",{"$f":"IF(R_WHFCI,CONCATENATE(\"\", 'WH - FCI'!D200),\"\")","v":""},false,"Y"]
["$WH1_4.2.1.ROW183COL5",{"$f":"IF(R_WHFCI,CONCATENATE(\"\", 'WH - FCI'!E200),\"\")","v":""},false,"Y"]
["$WH1_4.2.1.ROW183COL6",{"$f":"IF(R_WHFCI,CONCATENATE(\"\", 'WH - FCI'!F200),\"\")","v":""},false,"Y"]
["$WH1_4.2.1.ROW183COL7",{"$f":"IF(R_WHFCI,CONCATENATE(\"\", 'WH - FCI'!G200),\"\")","v":""},false,"Y"]
["$WH1_4.2.1.ROW183COL8",{"$f":"IF(R_WHFCI,CONCATENATE(\"\", 'WH - FCI'!H200),\"\")","v":""},false,"Y"]
["$WH1_4.2.1.ROW183COL9",{"$f":"IF(R_WHFCI,CONCATENATE(\"\", 'WH - FCI'!I200),\"\")","v":""},false,"Y"]
["$WH1_4.2.1.ROW183COL10",{"$f":"IF(R_WHFCI,CONCATENATE(\"\", 'WH - FCI'!J200),\"\")","v":""},false,"Y"]
["$WH1_4.2.1.ROW183COL11",{"$f":"IF(R_WHFCI,CONCATENATE(\"\", 'WH - FCI'!K200),\"\")","v":""},false,"Y"]
["$WH1_4.2.1.ROW184COL1",{"$f":"IF(R_WHFCI,CONCATENATE(\"\", 'WH - FCI'!A201),\"\")","v":""},false,"Y"]
["$WH1_4.2.1.ROW184COL2",{"$f":"IF(R_WHFCI,CONCATENATE(\"\", 'WH - FCI'!B201),\"\")","v":""},false,"Y"]
["$WH1_4.2.1.ROW184COL3",{"$f":"IF(R_WHFCI,CONCATENATE(\"\", 'WH - FCI'!C201),\"\")","v":""},false,"Y"]
["$WH1_4.2.1.ROW184COL4",{"$f":"IF(R_WHFCI,CONCATENATE(\"\", 'WH - FCI'!D201),\"\")","v":""},false,"Y"]
["$WH1_4.2.1.ROW184COL5",{"$f":"IF(R_WHFCI,CONCATENATE(\"\", 'WH - FCI'!E201),\"\")","v":""},false,"Y"]
["$WH1_4.2.1.ROW184COL6",{"$f":"IF(R_WHFCI,CONCATENATE(\"\", 'WH - FCI'!F201),\"\")","v":""},false,"Y"]
["$WH1_4.2.1.ROW184COL7",{"$f":"IF(R_WHFCI,CONCATENATE(\"\", 'WH - FCI'!G201),\"\")","v":""},false,"Y"]
["$WH1_4.2.1.ROW184COL8",{"$f":"IF(R_WHFCI,CONCATENATE(\"\", 'WH - FCI'!H201),\"\")","v":""},false,"Y"]
["$WH1_4.2.1.ROW184COL9",{"$f":"IF(R_WHFCI,CONCATENATE(\"\", 'WH - FCI'!I201),\"\")","v":""},false,"Y"]
["$WH1_4.2.1.ROW184COL10",{"$f":"IF(R_WHFCI,CONCATENATE(\"\", 'WH - FCI'!J201),\"\")","v":""},false,"Y"]
["$WH1_4.2.1.ROW184COL11",{"$f":"IF(R_WHFCI,CONCATENATE(\"\", 'WH - FCI'!K201),\"\")","v":""},false,"Y"]
["$WH1_4.2.1.ROW185COL1",{"$f":"IF(R_WHFCI,CONCATENATE(\"\", 'WH - FCI'!A202),\"\")","v":""},false,"Y"]
["$WH1_4.2.1.ROW185COL2",{"$f":"IF(R_WHFCI,CONCATENATE(\"\", 'WH - FCI'!B202),\"\")","v":""},{"$f":"ISERROR(B4350)","v":false},"Y"]
["$WH1_4.2.1.ROW185COL3",{"$f":"IF(R_WHFCI,CONCATENATE(\"\", 'WH - FCI'!C202),\"\")","v":""},false,"Y"]
["$WH1_4.2.1.ROW185COL4",{"$f":"IF(R_WHFCI,CONCATENATE(\"\", 'WH - FCI'!D202),\"\")","v":""},false,"Y"]
["$WH1_4.2.1.ROW185COL5",{"$f":"IF(R_WHFCI,CONCATENATE(\"\", 'WH - FCI'!E202),\"\")","v":""},false,"Y"]
["$WH1_4.2.1.ROW185COL6",{"$f":"IF(R_WHFCI,CONCATENATE(\"\", 'WH - FCI'!F202),\"\")","v":""},false,"Y"]
["$WH1_4.2.1.ROW185COL7",{"$f":"IF(R_WHFCI,CONCATENATE(\"\", 'WH - FCI'!G202),\"\")","v":""},false,"Y"]
["$WH1_4.2.1.ROW185COL8",{"$f":"IF(R_WHFCI,CONCATENATE(\"\", 'WH - FCI'!H202),\"\")","v":""},false,"Y"]
["$WH1_4.2.1.ROW185COL9",{"$f":"IF(R_WHFCI,CONCATENATE(\"\", 'WH - FCI'!I202),\"\")","v":""},false,"Y"]
["$WH1_4.2.1.ROW185COL10",{"$f":"IF(R_WHFCI,CONCATENATE(\"\", 'WH - FCI'!J202),\"\")","v":""},false,"Y"]
["$WH1_4.2.1.ROW185COL11",{"$f":"IF(R_WHFCI,CONCATENATE(\"\", 'WH - FCI'!K202),\"\")","v":""},false,"Y"]
["$WH1_4.2.1.ROW186COL1",{"$f":"IF(R_WHFCI,CONCATENATE(\"\", 'WH - FCI'!A203),\"\")","v":""},false,"Y"]
["$WH1_4.2.1.ROW186COL2",{"$f":"IF(R_WHFCI,CONCATENATE(\"\", 'WH - FCI'!B203),\"\")","v":""},false,"Y"]
["$WH1_4.2.1.ROW186COL3",{"$f":"IF(R_WHFCI,CONCATENATE(\"\", 'WH - FCI'!C203),\"\")","v":""},false,"Y"]
["$WH1_4.2.1.ROW186COL4",{"$f":"IF(R_WHFCI,CONCATENATE(\"\", 'WH - FCI'!D203),\"\")","v":""},false,"Y"]
["$WH1_4.2.1.ROW186COL5",{"$f":"IF(R_WHFCI,CONCATENATE(\"\", 'WH - FCI'!E203),\"\")","v":""},false,"Y"]
["$WH1_4.2.1.ROW186COL6",{"$f":"IF(R_WHFCI,CONCATENATE(\"\", 'WH - FCI'!F203),\"\")","v":""},false,"Y"]
["$WH1_4.2.1.ROW186COL7",{"$f":"IF(R_WHFCI,CONCATENATE(\"\", 'WH - FCI'!G203),\"\")","v":""},false,"Y"]
["$WH1_4.2.1.ROW186COL8",{"$f":"IF(R_WHFCI,CONCATENATE(\"\", 'WH - FCI'!H203),\"\")","v":""},false,"Y"]
["$WH1_4.2.1.ROW186COL9",{"$f":"IF(R_WHFCI,CONCATENATE(\"\", 'WH - FCI'!I203),\"\")","v":""},false,"Y"]
["$WH1_4.2.1.ROW186COL10",{"$f":"IF(R_WHFCI,CONCATENATE(\"\", 'WH - FCI'!J203),\"\")","v":""},false,"Y"]
["$WH1_4.2.1.ROW186COL11",{"$f":"IF(R_WHFCI,CONCATENATE(\"\", 'WH - FCI'!K203),\"\")","v":""},false,"Y"]
["$WH1_4.2.1.ROW187COL1",{"$f":"IF(R_WHFCI,CONCATENATE(\"\", 'WH - FCI'!A204),\"\")","v":""},false,"Y"]
["$WH1_4.2.1.ROW187COL2",{"$f":"IF(R_WHFCI,CONCATENATE(\"\", 'WH - FCI'!B204),\"\")","v":""},false,"Y"]
["$WH1_4.2.1.ROW187COL3",{"$f":"IF(R_WHFCI,CONCATENATE(\"\", 'WH - FCI'!C204),\"\")","v":""},false,"Y"]
["$WH1_4.2.1.ROW187COL4",{"$f":"IF(R_WHFCI,CONCATENATE(\"\", 'WH - FCI'!D204),\"\")","v":""},false,"Y"]
["$WH1_4.2.1.ROW187COL5",{"$f":"IF(R_WHFCI,CONCATENATE(\"\", 'WH - FCI'!E204),\"\")","v":""},false,"Y"]
["$WH1_4.2.1.ROW187COL6",{"$f":"IF(R_WHFCI,CONCATENATE(\"\", 'WH - FCI'!F204),\"\")","v":""},false,"Y"]
["$WH1_4.2.1.ROW187COL7",{"$f":"IF(R_WHFCI,CONCATENATE(\"\", 'WH - FCI'!G204),\"\")","v":""},false,"Y"]
["$WH1_4.2.1.ROW187COL8",{"$f":"IF(R_WHFCI,CONCATENATE(\"\", 'WH - FCI'!H204),\"\")","v":""},false,"Y"]
["$WH1_4.2.1.ROW187COL9",{"$f":"IF(R_WHFCI,CONCATENATE(\"\", 'WH - FCI'!I204),\"\")","v":""},false,"Y"]
["$WH1_4.2.1.ROW187COL10",{"$f":"IF(R_WHFCI,CONCATENATE(\"\", 'WH - FCI'!J204),\"\")","v":""},false,"Y"]
["$WH1_4.2.1.ROW187COL11",{"$f":"IF(R_WHFCI,CONCATENATE(\"\", 'WH - FCI'!K204),\"\")","v":""},false,"Y"]
["$WH1_4.2.1.ROW188COL1",{"$f":"IF(R_WHFCI,CONCATENATE(\"\", 'WH - FCI'!A205),\"\")","v":""},false,"Y"]
["$WH1_4.2.1.ROW188COL2",{"$f":"IF(R_WHFCI,CONCATENATE(\"\", 'WH - FCI'!B205),\"\")","v":""},false,"Y"]
["$WH1_4.2.1.ROW188COL3",{"$f":"IF(R_WHFCI,CONCATENATE(\"\", 'WH - FCI'!C205),\"\")","v":""},false,"Y"]
["$WH1_4.2.1.ROW188COL4",{"$f":"IF(R_WHFCI,CONCATENATE(\"\", 'WH - FCI'!D205),\"\")","v":""},false,"Y"]
["$WH1_4.2.1.ROW188COL5",{"$f":"IF(R_WHFCI,CONCATENATE(\"\", 'WH - FCI'!E205),\"\")","v":""},false,"Y"]
["$WH1_4.2.1.ROW188COL6",{"$f":"IF(R_WHFCI,CONCATENATE(\"\", 'WH - FCI'!F205),\"\")","v":""},false,"Y"]
["$WH1_4.2.1.ROW188COL7",{"$f":"IF(R_WHFCI,CONCATENATE(\"\", 'WH - FCI'!G205),\"\")","v":""},false,"Y"]
["$WH1_4.2.1.ROW188COL8",{"$f":"IF(R_WHFCI,CONCATENATE(\"\", 'WH - FCI'!H205),\"\")","v":""},false,"Y"]
["$WH1_4.2.1.ROW188COL9",{"$f":"IF(R_WHFCI,CONCATENATE(\"\", 'WH - FCI'!I205),\"\")","v":""},false,"Y"]
["$WH1_4.2.1.ROW188COL10",{"$f":"IF(R_WHFCI,CONCATENATE(\"\", 'WH - FCI'!J205),\"\")","v":""},false,"Y"]
["$WH1_4.2.1.ROW188COL11",{"$f":"IF(R_WHFCI,CONCATENATE(\"\", 'WH - FCI'!K205),\"\")","v":""},false,"Y"]
["$WH1_4.2.1.ROW189COL1",{"$f":"IF(R_WHFCI,CONCATENATE(\"\", 'WH - FCI'!A206),\"\")","v":""},false,"Y"]
["$WH1_4.2.1.ROW189COL2",{"$f":"IF(R_WHFCI,CONCATENATE(\"\", 'WH - FCI'!B206),\"\")","v":""},false,"Y"]
["$WH1_4.2.1.ROW189COL3",{"$f":"IF(R_WHFCI,CONCATENATE(\"\", 'WH - FCI'!C206),\"\")","v":""},false,"Y"]
["$WH1_4.2.1.ROW189COL4",{"$f":"IF(R_WHFCI,CONCATENATE(\"\", 'WH - FCI'!D206),\"\")","v":""},false,"Y"]
["$WH1_4.2.1.ROW189COL5",{"$f":"IF(R_WHFCI,CONCATENATE(\"\", 'WH - FCI'!E206),\"\")","v":""},false,"Y"]
["$WH1_4.2.1.ROW189COL6",{"$f":"IF(R_WHFCI,CONCATENATE(\"\", 'WH - FCI'!F206),\"\")","v":""},false,"Y"]
["$WH1_4.2.1.ROW189COL7",{"$f":"IF(R_WHFCI,CONCATENATE(\"\", 'WH - FCI'!G206),\"\")","v":""},false,"Y"]
["$WH1_4.2.1.ROW189COL8",{"$f":"IF(R_WHFCI,CONCATENATE(\"\", 'WH - FCI'!H206),\"\")","v":""},false,"Y"]
["$WH1_4.2.1.ROW189COL9",{"$f":"IF(R_WHFCI,CONCATENATE(\"\", 'WH - FCI'!I206),\"\")","v":""},false,"Y"]
["$WH1_4.2.1.ROW189COL10",{"$f":"IF(R_WHFCI,CONCATENATE(\"\", 'WH - FCI'!J206),\"\")","v":""},false,"Y"]
["$WH1_4.2.1.ROW189COL11",{"$f":"IF(R_WHFCI,CONCATENATE(\"\", 'WH - FCI'!K206),\"\")","v":""},false,"Y"]
["$WH1_4.2.1.ROW190COL1",{"$f":"IF(R_WHFCI,CONCATENATE(\"\", 'WH - FCI'!A207),\"\")","v":""},false,"Y"]
["$WH1_4.2.1.ROW190COL2",{"$f":"IF(R_WHFCI,CONCATENATE(\"\", 'WH - FCI'!B207),\"\")","v":""},false,"Y"]
["$WH1_4.2.1.ROW190COL3",{"$f":"IF(R_WHFCI,CONCATENATE(\"\", 'WH - FCI'!C207),\"\")","v":""},false,"Y"]
["$WH1_4.2.1.ROW190COL4",{"$f":"IF(R_WHFCI,CONCATENATE(\"\", 'WH - FCI'!D207),\"\")","v":""},false,"Y"]
["$WH1_4.2.1.ROW190COL5",{"$f":"IF(R_WHFCI,CONCATENATE(\"\", 'WH - FCI'!E207),\"\")","v":""},false,"Y"]
["$WH1_4.2.1.ROW190COL6",{"$f":"IF(R_WHFCI,CONCATENATE(\"\", 'WH - FCI'!F207),\"\")","v":""},false,"Y"]
["$WH1_4.2.1.ROW190COL7",{"$f":"IF(R_WHFCI,CONCATENATE(\"\", 'WH - FCI'!G207),\"\")","v":""},false,"Y"]
["$WH1_4.2.1.ROW190COL8",{"$f":"IF(R_WHFCI,CONCATENATE(\"\", 'WH - FCI'!H207),\"\")","v":""},false,"Y"]
["$WH1_4.2.1.ROW190COL9",{"$f":"IF(R_WHFCI,CONCATENATE(\"\", 'WH - FCI'!I207),\"\")","v":""},false,"Y"]
["$WH1_4.2.1.ROW190COL10",{"$f":"IF(R_WHFCI,CONCATENATE(\"\", 'WH - FCI'!J207),\"\")","v":""},false,"Y"]
["$WH1_4.2.1.ROW190COL11",{"$f":"IF(R_WHFCI,CONCATENATE(\"\", 'WH - FCI'!K207),\"\")","v":""},{"$f":"ISERROR(B4414)","v":false},"Y"]
["$WH1_4.2.1.ROW191COL1",{"$f":"IF(R_WHFCI,CONCATENATE(\"\", 'WH - FCI'!A208),\"\")","v":""},false,"Y"]
["$WH1_4.2.1.ROW191COL2",{"$f":"IF(R_WHFCI,CONCATENATE(\"\", 'WH - FCI'!B208),\"\")","v":""},false,"Y"]
["$WH1_4.2.1.ROW191COL3",{"$f":"IF(R_WHFCI,CONCATENATE(\"\", 'WH - FCI'!C208),\"\")","v":""},false,"Y"]
["$WH1_4.2.1.ROW191COL4",{"$f":"IF(R_WHFCI,CONCATENATE(\"\", 'WH - FCI'!D208),\"\")","v":""},false,"Y"]
["$WH1_4.2.1.ROW191COL5",{"$f":"IF(R_WHFCI,CONCATENATE(\"\", 'WH - FCI'!E208),\"\")","v":""},false,"Y"]
["$WH1_4.2.1.ROW191COL6",{"$f":"IF(R_WHFCI,CONCATENATE(\"\", 'WH - FCI'!F208),\"\")","v":""},false,"Y"]
["$WH1_4.2.1.ROW191COL7",{"$f":"IF(R_WHFCI,CONCATENATE(\"\", 'WH - FCI'!G208),\"\")","v":""},false,"Y"]
["$WH1_4.2.1.ROW191COL8",{"$f":"IF(R_WHFCI,CONCATENATE(\"\", 'WH - FCI'!H208),\"\")","v":""},false,"Y"]
["$WH1_4.2.1.ROW191COL9",{"$f":"IF(R_WHFCI,CONCATENATE(\"\", 'WH - FCI'!I208),\"\")","v":""},false,"Y"]
["$WH1_4.2.1.ROW191COL10",{"$f":"IF(R_WHFCI,CONCATENATE(\"\", 'WH - FCI'!J208),\"\")","v":""},false,"Y"]
["$WH1_4.2.1.ROW191COL11",{"$f":"IF(R_WHFCI,CONCATENATE(\"\", 'WH - FCI'!K208),\"\")","v":""},false,"Y"]
["$WH1_4.2.1.ROW192COL1",{"$f":"IF(R_WHFCI,CONCATENATE(\"\", 'WH - FCI'!A209),\"\")","v":""},false,"Y"]
["$WH1_4.2.1.ROW192COL2",{"$f":"IF(R_WHFCI,CONCATENATE(\"\", 'WH - FCI'!B209),\"\")","v":""},false,"Y"]
["$WH1_4.2.1.ROW192COL3",{"$f":"IF(R_WHFCI,CONCATENATE(\"\", 'WH - FCI'!C209),\"\")","v":""},false,"Y"]
["$WH1_4.2.1.ROW192COL4",{"$f":"IF(R_WHFCI,CONCATENATE(\"\", 'WH - FCI'!D209),\"\")","v":""},false,"Y"]
["$WH1_4.2.1.ROW192COL5",{"$f":"IF(R_WHFCI,CONCATENATE(\"\", 'WH - FCI'!E209),\"\")","v":""},false,"Y"]
["$WH1_4.2.1.ROW192COL6",{"$f":"IF(R_WHFCI,CONCATENATE(\"\", 'WH - FCI'!F209),\"\")","v":""},false,"Y"]
["$WH1_4.2.1.ROW192COL7",{"$f":"IF(R_WHFCI,CONCATENATE(\"\", 'WH - FCI'!G209),\"\")","v":""},false,"Y"]
["$WH1_4.2.1.ROW192COL8",{"$f":"IF(R_WHFCI,CONCATENATE(\"\", 'WH - FCI'!H209),\"\")","v":""},false,"Y"]
["$WH1_4.2.1.ROW192COL9",{"$f":"IF(R_WHFCI,CONCATENATE(\"\", 'WH - FCI'!I209),\"\")","v":""},false,"Y"]
["$WH1_4.2.1.ROW192COL10",{"$f":"IF(R_WHFCI,CONCATENATE(\"\", 'WH - FCI'!J209),\"\")","v":""},false,"Y"]
["$WH1_4.2.1.ROW192COL11",{"$f":"IF(R_WHFCI,CONCATENATE(\"\", 'WH - FCI'!K209),\"\")","v":""},false,"Y"]
["$WH1_4.2.1.ROW193COL1",{"$f":"IF(R_WHFCI,CONCATENATE(\"\", 'WH - FCI'!A210),\"\")","v":""},false,"Y"]
["$WH1_4.2.1.ROW193COL2",{"$f":"IF(R_WHFCI,CONCATENATE(\"\", 'WH - FCI'!B210),\"\")","v":""},false,"Y"]
["$WH1_4.2.1.ROW193COL3",{"$f":"IF(R_WHFCI,CONCATENATE(\"\", 'WH - FCI'!C210),\"\")","v":""},false,"Y"]
["$WH1_4.2.1.ROW193COL4",{"$f":"IF(R_WHFCI,CONCATENATE(\"\", 'WH - FCI'!D210),\"\")","v":""},false,"Y"]
["$WH1_4.2.1.ROW193COL5",{"$f":"IF(R_WHFCI,CONCATENATE(\"\", 'WH - FCI'!E210),\"\")","v":""},false,"Y"]
["$WH1_4.2.1.ROW193COL6",{"$f":"IF(R_WHFCI,CONCATENATE(\"\", 'WH - FCI'!F210),\"\")","v":""},false,"Y"]
["$WH1_4.2.1.ROW193COL7",{"$f":"IF(R_WHFCI,CONCATENATE(\"\", 'WH - FCI'!G210),\"\")","v":""},false,"Y"]
["$WH1_4.2.1.ROW193COL8",{"$f":"IF(R_WHFCI,CONCATENATE(\"\", 'WH - FCI'!H210),\"\")","v":""},false,"Y"]
["$WH1_4.2.1.ROW193COL9",{"$f":"IF(R_WHFCI,CONCATENATE(\"\", 'WH - FCI'!I210),\"\")","v":""},false,"Y"]
["$WH1_4.2.1.ROW193COL10",{"$f":"IF(R_WHFCI,CONCATENATE(\"\", 'WH - FCI'!J210),\"\")","v":""},false,"Y"]
["$WH1_4.2.1.ROW193COL11",{"$f":"IF(R_WHFCI,CONCATENATE(\"\", 'WH - FCI'!K210),\"\")","v":""},false,"Y"]
["$WH1_4.2.1.ROW194COL1",{"$f":"IF(R_WHFCI,CONCATENATE(\"\", 'WH - FCI'!A211),\"\")","v":""},false,"Y"]
["$WH1_4.2.1.ROW194COL2",{"$f":"IF(R_WHFCI,CONCATENATE(\"\", 'WH - FCI'!B211),\"\")","v":""},false,"Y"]
["$WH1_4.2.1.ROW194COL3",{"$f":"IF(R_WHFCI,CONCATENATE(\"\", 'WH - FCI'!C211),\"\")","v":""},false,"Y"]
["$WH1_4.2.1.ROW194COL4",{"$f":"IF(R_WHFCI,CONCATENATE(\"\", 'WH - FCI'!D211),\"\")","v":""},false,"Y"]
["$WH1_4.2.1.ROW194COL5",{"$f":"IF(R_WHFCI,CONCATENATE(\"\", 'WH - FCI'!E211),\"\")","v":""},false,"Y"]
["$WH1_4.2.1.ROW194COL6",{"$f":"IF(R_WHFCI,CONCATENATE(\"\", 'WH - FCI'!F211),\"\")","v":""},false,"Y"]
["$WH1_4.2.1.ROW194COL7",{"$f":"IF(R_WHFCI,CONCATENATE(\"\", 'WH - FCI'!G211),\"\")","v":""},false,"Y"]
["$WH1_4.2.1.ROW194COL8",{"$f":"IF(R_WHFCI,CONCATENATE(\"\", 'WH - FCI'!H211),\"\")","v":""},false,"Y"]
["$WH1_4.2.1.ROW194COL9",{"$f":"IF(R_WHFCI,CONCATENATE(\"\", 'WH - FCI'!I211),\"\")","v":""},false,"Y"]
["$WH1_4.2.1.ROW194COL10",{"$f":"IF(R_WHFCI,CONCATENATE(\"\", 'WH - FCI'!J211),\"\")","v":""},false,"Y"]
["$WH1_4.2.1.ROW194COL11",{"$f":"IF(R_WHFCI,CONCATENATE(\"\", 'WH - FCI'!K211),\"\")","v":""},false,"Y"]
["$WH1_4.2.1.ROW195COL1",{"$f":"IF(R_WHFCI,CONCATENATE(\"\", 'WH - FCI'!A212),\"\")","v":""},false,"Y"]
["$WH1_4.2.1.ROW195COL2",{"$f":"IF(R_WHFCI,CONCATENATE(\"\", 'WH - FCI'!B212),\"\")","v":""},false,"Y"]
["$WH1_4.2.1.ROW195COL3",{"$f":"IF(R_WHFCI,CONCATENATE(\"\", 'WH - FCI'!C212),\"\")","v":""},false,"Y"]
["$WH1_4.2.1.ROW195COL4",{"$f":"IF(R_WHFCI,CONCATENATE(\"\", 'WH - FCI'!D212),\"\")","v":""},false,"Y"]
["$WH1_4.2.1.ROW195COL5",{"$f":"IF(R_WHFCI,CONCATENATE(\"\", 'WH - FCI'!E212),\"\")","v":""},false,"Y"]
["$WH1_4.2.1.ROW195COL6",{"$f":"IF(R_WHFCI,CONCATENATE(\"\", 'WH - FCI'!F212),\"\")","v":""},false,"Y"]
["$WH1_4.2.1.ROW195COL7",{"$f":"IF(R_WHFCI,CONCATENATE(\"\", 'WH - FCI'!G212),\"\")","v":""},false,"Y"]
["$WH1_4.2.1.ROW195COL8",{"$f":"IF(R_WHFCI,CONCATENATE(\"\", 'WH - FCI'!H212),\"\")","v":""},false,"Y"]
["$WH1_4.2.1.ROW195COL9",{"$f":"IF(R_WHFCI,CONCATENATE(\"\", 'WH - FCI'!I212),\"\")","v":""},false,"Y"]
["$WH1_4.2.1.ROW195COL10",{"$f":"IF(R_WHFCI,CONCATENATE(\"\", 'WH - FCI'!J212),\"\")","v":""},false,"Y"]
["$WH1_4.2.1.ROW195COL11",{"$f":"IF(R_WHFCI,CONCATENATE(\"\", 'WH - FCI'!K212),\"\")","v":""},false,"Y"]
["$WH1_4.2.1.ROW196COL1",{"$f":"IF(R_WHFCI,CONCATENATE(\"\", 'WH - FCI'!A213),\"\")","v":""},false,"Y"]
["$WH1_4.2.1.ROW196COL2",{"$f":"IF(R_WHFCI,CONCATENATE(\"\", 'WH - FCI'!B213),\"\")","v":""},false,"Y"]
["$WH1_4.2.1.ROW196COL3",{"$f":"IF(R_WHFCI,CONCATENATE(\"\", 'WH - FCI'!C213),\"\")","v":""},false,"Y"]
["$WH1_4.2.1.ROW196COL4",{"$f":"IF(R_WHFCI,CONCATENATE(\"\", 'WH - FCI'!D213),\"\")","v":""},false,"Y"]
["$WH1_4.2.1.ROW196COL5",{"$f":"IF(R_WHFCI,CONCATENATE(\"\", 'WH - FCI'!E213),\"\")","v":""},false,"Y"]
["$WH1_4.2.1.ROW196COL6",{"$f":"IF(R_WHFCI,CONCATENATE(\"\", 'WH - FCI'!F213),\"\")","v":""},false,"Y"]
["$WH1_4.2.1.ROW196COL7",{"$f":"IF(R_WHFCI,CONCATENATE(\"\", 'WH - FCI'!G213),\"\")","v":""},false,"Y"]
["$WH1_4.2.1.ROW196COL8",{"$f":"IF(R_WHFCI,CONCATENATE(\"\", 'WH - FCI'!H213),\"\")","v":""},false,"Y"]
["$WH1_4.2.1.ROW196COL9",{"$f":"IF(R_WHFCI,CONCATENATE(\"\", 'WH - FCI'!I213),\"\")","v":""},{"$f":"ISERROR(B4478)","v":false},"Y"]
["$WH1_4.2.1.ROW196COL10",{"$f":"IF(R_WHFCI,CONCATENATE(\"\", 'WH - FCI'!J213),\"\")","v":""},false,"Y"]
["$WH1_4.2.1.ROW196COL11",{"$f":"IF(R_WHFCI,CONCATENATE(\"\", 'WH - FCI'!K213),\"\")","v":""},false,"Y"]
["$WH1_4.2.1.ROW197COL1",{"$f":"IF(R_WHFCI,CONCATENATE(\"\", 'WH - FCI'!A214),\"\")","v":""},false,"Y"]
["$WH1_4.2.1.ROW197COL2",{"$f":"IF(R_WHFCI,CONCATENATE(\"\", 'WH - FCI'!B214),\"\")","v":""},false,"Y"]
["$WH1_4.2.1.ROW197COL3",{"$f":"IF(R_WHFCI,CONCATENATE(\"\", 'WH - FCI'!C214),\"\")","v":""},false,"Y"]
["$WH1_4.2.1.ROW197COL4",{"$f":"IF(R_WHFCI,CONCATENATE(\"\", 'WH - FCI'!D214),\"\")","v":""},false,"Y"]
["$WH1_4.2.1.ROW197COL5",{"$f":"IF(R_WHFCI,CONCATENATE(\"\", 'WH - FCI'!E214),\"\")","v":""},false,"Y"]
["$WH1_4.2.1.ROW197COL6",{"$f":"IF(R_WHFCI,CONCATENATE(\"\", 'WH - FCI'!F214),\"\")","v":""},false,"Y"]
["$WH1_4.2.1.ROW197COL7",{"$f":"IF(R_WHFCI,CONCATENATE(\"\", 'WH - FCI'!G214),\"\")","v":""},false,"Y"]
["$WH1_4.2.1.ROW197COL8",{"$f":"IF(R_WHFCI,CONCATENATE(\"\", 'WH - FCI'!H214),\"\")","v":""},false,"Y"]
["$WH1_4.2.1.ROW197COL9",{"$f":"IF(R_WHFCI,CONCATENATE(\"\", 'WH - FCI'!I214),\"\")","v":""},false,"Y"]
["$WH1_4.2.1.ROW197COL10",{"$f":"IF(R_WHFCI,CONCATENATE(\"\", 'WH - FCI'!J214),\"\")","v":""},false,"Y"]
["$WH1_4.2.1.ROW197COL11",{"$f":"IF(R_WHFCI,CONCATENATE(\"\", 'WH - FCI'!K214),\"\")","v":""},false,"Y"]
["$WH1_4.2.1.ROW198COL1",{"$f":"IF(R_WHFCI,CONCATENATE(\"\", 'WH - FCI'!A215),\"\")","v":""},false,"Y"]
["$WH1_4.2.1.ROW198COL2",{"$f":"IF(R_WHFCI,CONCATENATE(\"\", 'WH - FCI'!B215),\"\")","v":""},false,"Y"]
["$WH1_4.2.1.ROW198COL3",{"$f":"IF(R_WHFCI,CONCATENATE(\"\", 'WH - FCI'!C215),\"\")","v":""},false,"Y"]
["$WH1_4.2.1.ROW198COL4",{"$f":"IF(R_WHFCI,CONCATENATE(\"\", 'WH - FCI'!D215),\"\")","v":""},false,"Y"]
["$WH1_4.2.1.ROW198COL5",{"$f":"IF(R_WHFCI,CONCATENATE(\"\", 'WH - FCI'!E215),\"\")","v":""},false,"Y"]
["$WH1_4.2.1.ROW198COL6",{"$f":"IF(R_WHFCI,CONCATENATE(\"\", 'WH - FCI'!F215),\"\")","v":""},false,"Y"]
["$WH1_4.2.1.ROW198COL7",{"$f":"IF(R_WHFCI,CONCATENATE(\"\", 'WH - FCI'!G215),\"\")","v":""},false,"Y"]
["$WH1_4.2.1.ROW198COL8",{"$f":"IF(R_WHFCI,CONCATENATE(\"\", 'WH - FCI'!H215),\"\")","v":""},false,"Y"]
["$WH1_4.2.1.ROW198COL9",{"$f":"IF(R_WHFCI,CONCATENATE(\"\", 'WH - FCI'!I215),\"\")","v":""},false,"Y"]
["$WH1_4.2.1.ROW198COL10",{"$f":"IF(R_WHFCI,CONCATENATE(\"\", 'WH - FCI'!J215),\"\")","v":""},false,"Y"]
["$WH1_4.2.1.ROW198COL11",{"$f":"IF(R_WHFCI,CONCATENATE(\"\", 'WH - FCI'!K215),\"\")","v":""},false,"Y"]
["$WH1_4.2.1.ROW199COL1",{"$f":"IF(R_WHFCI,CONCATENATE(\"\", 'WH - FCI'!A216),\"\")","v":""},false,"Y"]
["$WH1_4.2.1.ROW199COL2",{"$f":"IF(R_WHFCI,CONCATENATE(\"\", 'WH - FCI'!B216),\"\")","v":""},false,"Y"]
["$WH1_4.2.1.ROW199COL3",{"$f":"IF(R_WHFCI,CONCATENATE(\"\", 'WH - FCI'!C216),\"\")","v":""},false,"Y"]
["$WH1_4.2.1.ROW199COL4",{"$f":"IF(R_WHFCI,CONCATENATE(\"\", 'WH - FCI'!D216),\"\")","v":""},false,"Y"]
["$WH1_4.2.1.ROW199COL5",{"$f":"IF(R_WHFCI,CONCATENATE(\"\", 'WH - FCI'!E216),\"\")","v":""},false,"Y"]
["$WH1_4.2.1.ROW199COL6",{"$f":"IF(R_WHFCI,CONCATENATE(\"\", 'WH - FCI'!F216),\"\")","v":""},false,"Y"]
["$WH1_4.2.1.ROW199COL7",{"$f":"IF(R_WHFCI,CONCATENATE(\"\", 'WH - FCI'!G216),\"\")","v":""},false,"Y"]
["$WH1_4.2.1.ROW199COL8",{"$f":"IF(R_WHFCI,CONCATENATE(\"\", 'WH - FCI'!H216),\"\")","v":""},false,"Y"]
["$WH1_4.2.1.ROW199COL9",{"$f":"IF(R_WHFCI,CONCATENATE(\"\", 'WH - FCI'!I216),\"\")","v":""},false,"Y"]
["$WH1_4.2.1.ROW199COL10",{"$f":"IF(R_WHFCI,CONCATENATE(\"\", 'WH - FCI'!J216),\"\")","v":""},false,"Y"]
["$WH1_4.2.1.ROW199COL11",{"$f":"IF(R_WHFCI,CONCATENATE(\"\", 'WH - FCI'!K216),\"\")","v":""},false,"Y"]
["$WH1_4.2.1.ROW200COL1",{"$f":"IF(R_WHFCI,CONCATENATE(\"\", 'WH - FCI'!A217),\"\")","v":""},false,"Y"]
["$WH1_4.2.1.ROW200COL2",{"$f":"IF(R_WHFCI,CONCATENATE(\"\", 'WH - FCI'!B217),\"\")","v":""},false,"Y"]
["$WH1_4.2.1.ROW200COL3",{"$f":"IF(R_WHFCI,CONCATENATE(\"\", 'WH - FCI'!C217),\"\")","v":""},false,"Y"]
["$WH1_4.2.1.ROW200COL4",{"$f":"IF(R_WHFCI,CONCATENATE(\"\", 'WH - FCI'!D217),\"\")","v":""},false,"Y"]
["$WH1_4.2.1.ROW200COL5",{"$f":"IF(R_WHFCI,CONCATENATE(\"\", 'WH - FCI'!E217),\"\")","v":""},false,"Y"]
["$WH1_4.2.1.ROW200COL6",{"$f":"IF(R_WHFCI,CONCATENATE(\"\", 'WH - FCI'!F217),\"\")","v":""},false,"Y"]
["$WH1_4.2.1.ROW200COL7",{"$f":"IF(R_WHFCI,CONCATENATE(\"\", 'WH - FCI'!G217),\"\")","v":""},false,"Y"]
["$WH1_4.2.1.ROW200COL8",{"$f":"IF(R_WHFCI,CONCATENATE(\"\", 'WH - FCI'!H217),\"\")","v":""},false,"Y"]
["$WH1_4.2.1.ROW200COL9",{"$f":"IF(R_WHFCI,CONCATENATE(\"\", 'WH - FCI'!I217),\"\")","v":""},false,"Y"]
["$WH1_4.2.1.ROW200COL10",{"$f":"IF(R_WHFCI,CONCATENATE(\"\", 'WH - FCI'!J217),\"\")","v":""},false,"Y"]
["$WH1_4.2.1.ROW200COL11",{"$f":"IF(R_WHFCI,CONCATENATE(\"\", 'WH - FCI'!K217),\"\")","v":""},false,"Y"]
["$WH1_4.2.1.ROW201COL1",{"$f":"IF(R_WHFCI,CONCATENATE(\"\", 'WH - FCI'!A218),\"\")","v":""},false,"Y"]
["$WH1_4.2.1.ROW201COL2",{"$f":"IF(R_WHFCI,CONCATENATE(\"\", 'WH - FCI'!B218),\"\")","v":""},false,"Y"]
["$WH1_4.2.1.ROW201COL3",{"$f":"IF(R_WHFCI,CONCATENATE(\"\", 'WH - FCI'!C218),\"\")","v":""},false,"Y"]
["$WH1_4.2.1.ROW201COL4",{"$f":"IF(R_WHFCI,CONCATENATE(\"\", 'WH - FCI'!D218),\"\")","v":""},false,"Y"]
["$WH1_4.2.1.ROW201COL5",{"$f":"IF(R_WHFCI,CONCATENATE(\"\", 'WH - FCI'!E218),\"\")","v":""},false,"Y"]
["$WH1_4.2.1.ROW201COL6",{"$f":"IF(R_WHFCI,CONCATENATE(\"\", 'WH - FCI'!F218),\"\")","v":""},false,"Y"]
["$WH1_4.2.1.ROW201COL7",{"$f":"IF(R_WHFCI,CONCATENATE(\"\", 'WH - FCI'!G218),\"\")","v":""},false,"Y"]
["$WH1_4.2.1.ROW201COL8",{"$f":"IF(R_WHFCI,CONCATENATE(\"\", 'WH - FCI'!H218),\"\")","v":""},false,"Y"]
["$WH1_4.2.1.ROW201COL9",{"$f":"IF(R_WHFCI,CONCATENATE(\"\", 'WH - FCI'!I218),\"\")","v":""},false,"Y"]
["$WH1_4.2.1.ROW201COL10",{"$f":"IF(R_WHFCI,CONCATENATE(\"\", 'WH - FCI'!J218),\"\")","v":""},false,"Y"]
["$WH1_4.2.1.ROW201COL11",{"$f":"IF(R_WHFCI,CONCATENATE(\"\", 'WH - FCI'!K218),\"\")","v":""},false,"Y"]
["$WH1_4.2.1.ROW202COL1",{"$f":"IF(R_WHFCI,CONCATENATE(\"\", 'WH - FCI'!A219),\"\")","v":""},false,"Y"]
["$WH1_4.2.1.ROW202COL2",{"$f":"IF(R_WHFCI,CONCATENATE(\"\", 'WH - FCI'!B219),\"\")","v":""},false,"Y"]
["$WH1_4.2.1.ROW202COL3",{"$f":"IF(R_WHFCI,CONCATENATE(\"\", 'WH - FCI'!C219),\"\")","v":""},false,"Y"]
["$WH1_4.2.1.ROW202COL4",{"$f":"IF(R_WHFCI,CONCATENATE(\"\", 'WH - FCI'!D219),\"\")","v":""},false,"Y"]
["$WH1_4.2.1.ROW202COL5",{"$f":"IF(R_WHFCI,CONCATENATE(\"\", 'WH - FCI'!E219),\"\")","v":""},false,"Y"]
["$WH1_4.2.1.ROW202COL6",{"$f":"IF(R_WHFCI,CONCATENATE(\"\", 'WH - FCI'!F219),\"\")","v":""},false,"Y"]
["$WH1_4.2.1.ROW202COL7",{"$f":"IF(R_WHFCI,CONCATENATE(\"\", 'WH - FCI'!G219),\"\")","v":""},{"$f":"ISERROR(B4542)","v":false},"Y"]
["$WH1_4.2.1.ROW202COL8",{"$f":"IF(R_WHFCI,CONCATENATE(\"\", 'WH - FCI'!H219),\"\")","v":""},false,"Y"]
["$WH1_4.2.1.ROW202COL9",{"$f":"IF(R_WHFCI,CONCATENATE(\"\", 'WH - FCI'!I219),\"\")","v":""},false,"Y"]
["$WH1_4.2.1.ROW202COL10",{"$f":"IF(R_WHFCI,CONCATENATE(\"\", 'WH - FCI'!J219),\"\")","v":""},false,"Y"]
["$WH1_4.2.1.ROW202COL11",{"$f":"IF(R_WHFCI,CONCATENATE(\"\", 'WH - FCI'!K219),\"\")","v":""},false,"Y"]
["$WH1_4.2.1.ROW203COL1",{"$f":"IF(R_WHFCI,CONCATENATE(\"\", 'WH - FCI'!A220),\"\")","v":""},false,"Y"]
["$WH1_4.2.1.ROW203COL2",{"$f":"IF(R_WHFCI,CONCATENATE(\"\", 'WH - FCI'!B220),\"\")","v":""},false,"Y"]
["$WH1_4.2.1.ROW203COL3",{"$f":"IF(R_WHFCI,CONCATENATE(\"\", 'WH - FCI'!C220),\"\")","v":""},false,"Y"]
["$WH1_4.2.1.ROW203COL4",{"$f":"IF(R_WHFCI,CONCATENATE(\"\", 'WH - FCI'!D220),\"\")","v":""},false,"Y"]
["$WH1_4.2.1.ROW203COL5",{"$f":"IF(R_WHFCI,CONCATENATE(\"\", 'WH - FCI'!E220),\"\")","v":""},false,"Y"]
["$WH1_4.2.1.ROW203COL6",{"$f":"IF(R_WHFCI,CONCATENATE(\"\", 'WH - FCI'!F220),\"\")","v":""},false,"Y"]
["$WH1_4.2.1.ROW203COL7",{"$f":"IF(R_WHFCI,CONCATENATE(\"\", 'WH - FCI'!G220),\"\")","v":""},false,"Y"]
["$WH1_4.2.1.ROW203COL8",{"$f":"IF(R_WHFCI,CONCATENATE(\"\", 'WH - FCI'!H220),\"\")","v":""},false,"Y"]
["$WH1_4.2.1.ROW203COL9",{"$f":"IF(R_WHFCI,CONCATENATE(\"\", 'WH - FCI'!I220),\"\")","v":""},false,"Y"]
["$WH1_4.2.1.ROW203COL10",{"$f":"IF(R_WHFCI,CONCATENATE(\"\", 'WH - FCI'!J220),\"\")","v":""},false,"Y"]
["$WH1_4.2.1.ROW203COL11",{"$f":"IF(R_WHFCI,CONCATENATE(\"\", 'WH - FCI'!K220),\"\")","v":""},false,"Y"]
["$WH1_4.2.1.ROW204COL1",{"$f":"IF(R_WHFCI,CONCATENATE(\"\", 'WH - FCI'!A221),\"\")","v":""},false,"Y"]
["$WH1_4.2.1.ROW204COL2",{"$f":"IF(R_WHFCI,CONCATENATE(\"\", 'WH - FCI'!B221),\"\")","v":""},false,"Y"]
["$WH1_4.2.1.ROW204COL3",{"$f":"IF(R_WHFCI,CONCATENATE(\"\", 'WH - FCI'!C221),\"\")","v":""},false,"Y"]
["$WH1_4.2.1.ROW204COL4",{"$f":"IF(R_WHFCI,CONCATENATE(\"\", 'WH - FCI'!D221),\"\")","v":""},false,"Y"]
["$WH1_4.2.1.ROW204COL5",{"$f":"IF(R_WHFCI,CONCATENATE(\"\", 'WH - FCI'!E221),\"\")","v":""},false,"Y"]
["$WH1_4.2.1.ROW204COL6",{"$f":"IF(R_WHFCI,CONCATENATE(\"\", 'WH - FCI'!F221),\"\")","v":""},false,"Y"]
["$WH1_4.2.1.ROW204COL7",{"$f":"IF(R_WHFCI,CONCATENATE(\"\", 'WH - FCI'!G221),\"\")","v":""},false,"Y"]
["$WH1_4.2.1.ROW204COL8",{"$f":"IF(R_WHFCI,CONCATENATE(\"\", 'WH - FCI'!H221),\"\")","v":""},false,"Y"]
["$WH1_4.2.1.ROW204COL9",{"$f":"IF(R_WHFCI,CONCATENATE(\"\", 'WH - FCI'!I221),\"\")","v":""},false,"Y"]
["$WH1_4.2.1.ROW204COL10",{"$f":"IF(R_WHFCI,CONCATENATE(\"\", 'WH - FCI'!J221),\"\")","v":""},false,"Y"]
["$WH1_4.2.1.ROW204COL11",{"$f":"IF(R_WHFCI,CONCATENATE(\"\", 'WH - FCI'!K221),\"\")","v":""},false,"Y"]
["$WH1_4.2.1.ROW205COL1",{"$f":"IF(R_WHFCI,CONCATENATE(\"\", 'WH - FCI'!A222),\"\")","v":""},false,"Y"]
["$WH1_4.2.1.ROW205COL2",{"$f":"IF(R_WHFCI,CONCATENATE(\"\", 'WH - FCI'!B222),\"\")","v":""},false,"Y"]
["$WH1_4.2.1.ROW205COL3",{"$f":"IF(R_WHFCI,CONCATENATE(\"\", 'WH - FCI'!C222),\"\")","v":""},false,"Y"]
["$WH1_4.2.1.ROW205COL4",{"$f":"IF(R_WHFCI,CONCATENATE(\"\", 'WH - FCI'!D222),\"\")","v":""},false,"Y"]
["$WH1_4.2.1.ROW205COL5",{"$f":"IF(R_WHFCI,CONCATENATE(\"\", 'WH - FCI'!E222),\"\")","v":""},false,"Y"]
["$WH1_4.2.1.ROW205COL6",{"$f":"IF(R_WHFCI,CONCATENATE(\"\", 'WH - FCI'!F222),\"\")","v":""},false,"Y"]
["$WH1_4.2.1.ROW205COL7",{"$f":"IF(R_WHFCI,CONCATENATE(\"\", 'WH - FCI'!G222),\"\")","v":""},false,"Y"]
["$WH1_4.2.1.ROW205COL8",{"$f":"IF(R_WHFCI,CONCATENATE(\"\", 'WH - FCI'!H222),\"\")","v":""},false,"Y"]
["$WH1_4.2.1.ROW205COL9",{"$f":"IF(R_WHFCI,CONCATENATE(\"\", 'WH - FCI'!I222),\"\")","v":""},false,"Y"]
["$WH1_4.2.1.ROW205COL10",{"$f":"IF(R_WHFCI,CONCATENATE(\"\", 'WH - FCI'!J222),\"\")","v":""},false,"Y"]
["$WH1_4.2.1.ROW205COL11",{"$f":"IF(R_WHFCI,CONCATENATE(\"\", 'WH - FCI'!K222),\"\")","v":""},false,"Y"]
["$WH1_4.2.1.ROW206COL1",{"$f":"IF(R_WHFCI,CONCATENATE(\"\", 'WH - FCI'!A223),\"\")","v":""},false,"Y"]
["$WH1_4.2.1.ROW206COL2",{"$f":"IF(R_WHFCI,CONCATENATE(\"\", 'WH - FCI'!B223),\"\")","v":""},false,"Y"]
["$WH1_4.2.1.ROW206COL3",{"$f":"IF(R_WHFCI,CONCATENATE(\"\", 'WH - FCI'!C223),\"\")","v":""},false,"Y"]
["$WH1_4.2.1.ROW206COL4",{"$f":"IF(R_WHFCI,CONCATENATE(\"\", 'WH - FCI'!D223),\"\")","v":""},false,"Y"]
["$WH1_4.2.1.ROW206COL5",{"$f":"IF(R_WHFCI,CONCATENATE(\"\", 'WH - FCI'!E223),\"\")","v":""},false,"Y"]
["$WH1_4.2.1.ROW206COL6",{"$f":"IF(R_WHFCI,CONCATENATE(\"\", 'WH - FCI'!F223),\"\")","v":""},false,"Y"]
["$WH1_4.2.1.ROW206COL7",{"$f":"IF(R_WHFCI,CONCATENATE(\"\", 'WH - FCI'!G223),\"\")","v":""},false,"Y"]
["$WH1_4.2.1.ROW206COL8",{"$f":"IF(R_WHFCI,CONCATENATE(\"\", 'WH - FCI'!H223),\"\")","v":""},false,"Y"]
["$WH1_4.2.1.ROW206COL9",{"$f":"IF(R_WHFCI,CONCATENATE(\"\", 'WH - FCI'!I223),\"\")","v":""},false,"Y"]
["$WH1_4.2.1.ROW206COL10",{"$f":"IF(R_WHFCI,CONCATENATE(\"\", 'WH - FCI'!J223),\"\")","v":""},false,"Y"]
["$WH1_4.2.1.ROW206COL11",{"$f":"IF(R_WHFCI,CONCATENATE(\"\", 'WH - FCI'!K223),\"\")","v":""},false,"Y"]
["$WH1_4.2.1.ROW207COL1",{"$f":"IF(R_WHFCI,CONCATENATE(\"\", 'WH - FCI'!A224),\"\")","v":""},false,"Y"]
["$WH1_4.2.1.ROW207COL2",{"$f":"IF(R_WHFCI,CONCATENATE(\"\", 'WH - FCI'!B224),\"\")","v":""},false,"Y"]
["$WH1_4.2.1.ROW207COL3",{"$f":"IF(R_WHFCI,CONCATENATE(\"\", 'WH - FCI'!C224),\"\")","v":""},false,"Y"]
["$WH1_4.2.1.ROW207COL4",{"$f":"IF(R_WHFCI,CONCATENATE(\"\", 'WH - FCI'!D224),\"\")","v":""},false,"Y"]
["$WH1_4.2.1.ROW207COL5",{"$f":"IF(R_WHFCI,CONCATENATE(\"\", 'WH - FCI'!E224),\"\")","v":""},false,"Y"]
["$WH1_4.2.1.ROW207COL6",{"$f":"IF(R_WHFCI,CONCATENATE(\"\", 'WH - FCI'!F224),\"\")","v":""},false,"Y"]
["$WH1_4.2.1.ROW207COL7",{"$f":"IF(R_WHFCI,CONCATENATE(\"\", 'WH - FCI'!G224),\"\")","v":""},false,"Y"]
["$WH1_4.2.1.ROW207COL8",{"$f":"IF(R_WHFCI,CONCATENATE(\"\", 'WH - FCI'!H224),\"\")","v":""},false,"Y"]
["$WH1_4.2.1.ROW207COL9",{"$f":"IF(R_WHFCI,CONCATENATE(\"\", 'WH - FCI'!I224),\"\")","v":""},false,"Y"]
["$WH1_4.2.1.ROW207COL10",{"$f":"IF(R_WHFCI,CONCATENATE(\"\", 'WH - FCI'!J224),\"\")","v":""},false,"Y"]
["$WH1_4.2.1.ROW207COL11",{"$f":"IF(R_WHFCI,CONCATENATE(\"\", 'WH - FCI'!K224),\"\")","v":""},false,"Y"]
["$WH1_4.2.1.ROW208COL1",{"$f":"IF(R_WHFCI,CONCATENATE(\"\", 'WH - FCI'!A225),\"\")","v":""},false,"Y"]
["$WH1_4.2.1.ROW208COL2",{"$f":"IF(R_WHFCI,CONCATENATE(\"\", 'WH - FCI'!B225),\"\")","v":""},false,"Y"]
["$WH1_4.2.1.ROW208COL3",{"$f":"IF(R_WHFCI,CONCATENATE(\"\", 'WH - FCI'!C225),\"\")","v":""},false,"Y"]
["$WH1_4.2.1.ROW208COL4",{"$f":"IF(R_WHFCI,CONCATENATE(\"\", 'WH - FCI'!D225),\"\")","v":""},false,"Y"]
["$WH1_4.2.1.ROW208COL5",{"$f":"IF(R_WHFCI,CONCATENATE(\"\", 'WH - FCI'!E225),\"\")","v":""},{"$f":"ISERROR(B4606)","v":false},"Y"]
["$WH1_4.2.1.ROW208COL6",{"$f":"IF(R_WHFCI,CONCATENATE(\"\", 'WH - FCI'!F225),\"\")","v":""},false,"Y"]
["$WH1_4.2.1.ROW208COL7",{"$f":"IF(R_WHFCI,CONCATENATE(\"\", 'WH - FCI'!G225),\"\")","v":""},false,"Y"]
["$WH1_4.2.1.ROW208COL8",{"$f":"IF(R_WHFCI,CONCATENATE(\"\", 'WH - FCI'!H225),\"\")","v":""},false,"Y"]
["$WH1_4.2.1.ROW208COL9",{"$f":"IF(R_WHFCI,CONCATENATE(\"\", 'WH - FCI'!I225),\"\")","v":""},false,"Y"]
["$WH1_4.2.1.ROW208COL10",{"$f":"IF(R_WHFCI,CONCATENATE(\"\", 'WH - FCI'!J225),\"\")","v":""},false,"Y"]
["$WH1_4.2.1.ROW208COL11",{"$f":"IF(R_WHFCI,CONCATENATE(\"\", 'WH - FCI'!K225),\"\")","v":""},false,"Y"]
["$WH1_4.2.1.ROW209COL1",{"$f":"IF(R_WHFCI,CONCATENATE(\"\", 'WH - FCI'!A226),\"\")","v":""},false,"Y"]
["$WH1_4.2.1.ROW209COL2",{"$f":"IF(R_WHFCI,CONCATENATE(\"\", 'WH - FCI'!B226),\"\")","v":""},false,"Y"]
["$WH1_4.2.1.ROW209COL3",{"$f":"IF(R_WHFCI,CONCATENATE(\"\", 'WH - FCI'!C226),\"\")","v":""},false,"Y"]
["$WH1_4.2.1.ROW209COL4",{"$f":"IF(R_WHFCI,CONCATENATE(\"\", 'WH - FCI'!D226),\"\")","v":""},false,"Y"]
["$WH1_4.2.1.ROW209COL5",{"$f":"IF(R_WHFCI,CONCATENATE(\"\", 'WH - FCI'!E226),\"\")","v":""},false,"Y"]
["$WH1_4.2.1.ROW209COL6",{"$f":"IF(R_WHFCI,CONCATENATE(\"\", 'WH - FCI'!F226),\"\")","v":""},false,"Y"]
["$WH1_4.2.1.ROW209COL7",{"$f":"IF(R_WHFCI,CONCATENATE(\"\", 'WH - FCI'!G226),\"\")","v":""},false,"Y"]
["$WH1_4.2.1.ROW209COL8",{"$f":"IF(R_WHFCI,CONCATENATE(\"\", 'WH - FCI'!H226),\"\")","v":""},false,"Y"]
["$WH1_4.2.1.ROW209COL9",{"$f":"IF(R_WHFCI,CONCATENATE(\"\", 'WH - FCI'!I226),\"\")","v":""},false,"Y"]
["$WH1_4.2.1.ROW209COL10",{"$f":"IF(R_WHFCI,CONCATENATE(\"\", 'WH - FCI'!J226),\"\")","v":""},false,"Y"]
["$WH1_4.2.1.ROW209COL11",{"$f":"IF(R_WHFCI,CONCATENATE(\"\", 'WH - FCI'!K226),\"\")","v":""},false,"Y"]
["$WH1_4.2.1.ROW210COL1",{"$f":"IF(R_WHFCI,CONCATENATE(\"\", 'WH - FCI'!A227),\"\")","v":""},false,"Y"]
["$WH1_4.2.1.ROW210COL2",{"$f":"IF(R_WHFCI,CONCATENATE(\"\", 'WH - FCI'!B227),\"\")","v":""},false,"Y"]
["$WH1_4.2.1.ROW210COL3",{"$f":"IF(R_WHFCI,CONCATENATE(\"\", 'WH - FCI'!C227),\"\")","v":""},false,"Y"]
["$WH1_4.2.1.ROW210COL4",{"$f":"IF(R_WHFCI,CONCATENATE(\"\", 'WH - FCI'!D227),\"\")","v":""},false,"Y"]
["$WH1_4.2.1.ROW210COL5",{"$f":"IF(R_WHFCI,CONCATENATE(\"\", 'WH - FCI'!E227),\"\")","v":""},false,"Y"]
["$WH1_4.2.1.ROW210COL6",{"$f":"IF(R_WHFCI,CONCATENATE(\"\", 'WH - FCI'!F227),\"\")","v":""},false,"Y"]
["$WH1_4.2.1.ROW210COL7",{"$f":"IF(R_WHFCI,CONCATENATE(\"\", 'WH - FCI'!G227),\"\")","v":""},false,"Y"]
["$WH1_4.2.1.ROW210COL8",{"$f":"IF(R_WHFCI,CONCATENATE(\"\", 'WH - FCI'!H227),\"\")","v":""},false,"Y"]
["$WH1_4.2.1.ROW210COL9",{"$f":"IF(R_WHFCI,CONCATENATE(\"\", 'WH - FCI'!I227),\"\")","v":""},false,"Y"]
["$WH1_4.2.1.ROW210COL10",{"$f":"IF(R_WHFCI,CONCATENATE(\"\", 'WH - FCI'!J227),\"\")","v":""},false,"Y"]
["$WH1_4.2.1.ROW210COL11",{"$f":"IF(R_WHFCI,CONCATENATE(\"\", 'WH - FCI'!K227),\"\")","v":""},false,"Y"]
["$WH1_4.2.1.ROW211COL1",{"$f":"IF(R_WHFCI,CONCATENATE(\"\", 'WH - FCI'!A228),\"\")","v":""},false,"Y"]
["$WH1_4.2.1.ROW211COL2",{"$f":"IF(R_WHFCI,CONCATENATE(\"\", 'WH - FCI'!B228),\"\")","v":""},false,"Y"]
["$WH1_4.2.1.ROW211COL3",{"$f":"IF(R_WHFCI,CONCATENATE(\"\", 'WH - FCI'!C228),\"\")","v":""},false,"Y"]
["$WH1_4.2.1.ROW211COL4",{"$f":"IF(R_WHFCI,CONCATENATE(\"\", 'WH - FCI'!D228),\"\")","v":""},false,"Y"]
["$WH1_4.2.1.ROW211COL5",{"$f":"IF(R_WHFCI,CONCATENATE(\"\", 'WH - FCI'!E228),\"\")","v":""},false,"Y"]
["$WH1_4.2.1.ROW211COL6",{"$f":"IF(R_WHFCI,CONCATENATE(\"\", 'WH - FCI'!F228),\"\")","v":""},false,"Y"]
["$WH1_4.2.1.ROW211COL7",{"$f":"IF(R_WHFCI,CONCATENATE(\"\", 'WH - FCI'!G228),\"\")","v":""},false,"Y"]
["$WH1_4.2.1.ROW211COL8",{"$f":"IF(R_WHFCI,CONCATENATE(\"\", 'WH - FCI'!H228),\"\")","v":""},false,"Y"]
["$WH1_4.2.1.ROW211COL9",{"$f":"IF(R_WHFCI,CONCATENATE(\"\", 'WH - FCI'!I228),\"\")","v":""},false,"Y"]
["$WH1_4.2.1.ROW211COL10",{"$f":"IF(R_WHFCI,CONCATENATE(\"\", 'WH - FCI'!J228),\"\")","v":""},false,"Y"]
["$WH1_4.2.1.ROW211COL11",{"$f":"IF(R_WHFCI,CONCATENATE(\"\", 'WH - FCI'!K228),\"\")","v":""},false,"Y"]
["$WH1_4.2.1.ROW212COL1",{"$f":"IF(R_WHFCI,CONCATENATE(\"\", 'WH - FCI'!A229),\"\")","v":""},false,"Y"]
["$WH1_4.2.1.ROW212COL2",{"$f":"IF(R_WHFCI,CONCATENATE(\"\", 'WH - FCI'!B229),\"\")","v":""},false,"Y"]
["$WH1_4.2.1.ROW212COL3",{"$f":"IF(R_WHFCI,CONCATENATE(\"\", 'WH - FCI'!C229),\"\")","v":""},false,"Y"]
["$WH1_4.2.1.ROW212COL4",{"$f":"IF(R_WHFCI,CONCATENATE(\"\", 'WH - FCI'!D229),\"\")","v":""},false,"Y"]
["$WH1_4.2.1.ROW212COL5",{"$f":"IF(R_WHFCI,CONCATENATE(\"\", 'WH - FCI'!E229),\"\")","v":""},false,"Y"]
["$WH1_4.2.1.ROW212COL6",{"$f":"IF(R_WHFCI,CONCATENATE(\"\", 'WH - FCI'!F229),\"\")","v":""},false,"Y"]
["$WH1_4.2.1.ROW212COL7",{"$f":"IF(R_WHFCI,CONCATENATE(\"\", 'WH - FCI'!G229),\"\")","v":""},false,"Y"]
["$WH1_4.2.1.ROW212COL8",{"$f":"IF(R_WHFCI,CONCATENATE(\"\", 'WH - FCI'!H229),\"\")","v":""},false,"Y"]
["$WH1_4.2.1.ROW212COL9",{"$f":"IF(R_WHFCI,CONCATENATE(\"\", 'WH - FCI'!I229),\"\")","v":""},false,"Y"]
["$WH1_4.2.1.ROW212COL10",{"$f":"IF(R_WHFCI,CONCATENATE(\"\", 'WH - FCI'!J229),\"\")","v":""},false,"Y"]
["$WH1_4.2.1.ROW212COL11",{"$f":"IF(R_WHFCI,CONCATENATE(\"\", 'WH - FCI'!K229),\"\")","v":""},false,"Y"]
["$WH1_4.2.1.ROW213COL1",{"$f":"IF(R_WHFCI,CONCATENATE(\"\", 'WH - FCI'!A230),\"\")","v":""},false,"Y"]
["$WH1_4.2.1.ROW213COL2",{"$f":"IF(R_WHFCI,CONCATENATE(\"\", 'WH - FCI'!B230),\"\")","v":""},false,"Y"]
["$WH1_4.2.1.ROW213COL3",{"$f":"IF(R_WHFCI,CONCATENATE(\"\", 'WH - FCI'!C230),\"\")","v":""},false,"Y"]
["$WH1_4.2.1.ROW213COL4",{"$f":"IF(R_WHFCI,CONCATENATE(\"\", 'WH - FCI'!D230),\"\")","v":""},false,"Y"]
["$WH1_4.2.1.ROW213COL5",{"$f":"IF(R_WHFCI,CONCATENATE(\"\", 'WH - FCI'!E230),\"\")","v":""},false,"Y"]
["$WH1_4.2.1.ROW213COL6",{"$f":"IF(R_WHFCI,CONCATENATE(\"\", 'WH - FCI'!F230),\"\")","v":""},false,"Y"]
["$WH1_4.2.1.ROW213COL7",{"$f":"IF(R_WHFCI,CONCATENATE(\"\", 'WH - FCI'!G230),\"\")","v":""},false,"Y"]
["$WH1_4.2.1.ROW213COL8",{"$f":"IF(R_WHFCI,CONCATENATE(\"\", 'WH - FCI'!H230),\"\")","v":""},false,"Y"]
["$WH1_4.2.1.ROW213COL9",{"$f":"IF(R_WHFCI,CONCATENATE(\"\", 'WH - FCI'!I230),\"\")","v":""},false,"Y"]
["$WH1_4.2.1.ROW213COL10",{"$f":"IF(R_WHFCI,CONCATENATE(\"\", 'WH - FCI'!J230),\"\")","v":""},false,"Y"]
["$WH1_4.2.1.ROW213COL11",{"$f":"IF(R_WHFCI,CONCATENATE(\"\", 'WH - FCI'!K230),\"\")","v":""},false,"Y"]
["$WH1_4.2.1.ROW214COL1",{"$f":"IF(R_WHFCI,CONCATENATE(\"\", 'WH - FCI'!A231),\"\")","v":""},false,"Y"]
["$WH1_4.2.1.ROW214COL2",{"$f":"IF(R_WHFCI,CONCATENATE(\"\", 'WH - FCI'!B231),\"\")","v":""},false,"Y"]
["$WH1_4.2.1.ROW214COL3",{"$f":"IF(R_WHFCI,CONCATENATE(\"\", 'WH - FCI'!C231),\"\")","v":""},{"$f":"ISERROR(B4670)","v":false},"Y"]
["$WH1_4.2.1.ROW214COL4",{"$f":"IF(R_WHFCI,CONCATENATE(\"\", 'WH - FCI'!D231),\"\")","v":""},false,"Y"]
["$WH1_4.2.1.ROW214COL5",{"$f":"IF(R_WHFCI,CONCATENATE(\"\", 'WH - FCI'!E231),\"\")","v":""},false,"Y"]
["$WH1_4.2.1.ROW214COL6",{"$f":"IF(R_WHFCI,CONCATENATE(\"\", 'WH - FCI'!F231),\"\")","v":""},false,"Y"]
["$WH1_4.2.1.ROW214COL7",{"$f":"IF(R_WHFCI,CONCATENATE(\"\", 'WH - FCI'!G231),\"\")","v":""},false,"Y"]
["$WH1_4.2.1.ROW214COL8",{"$f":"IF(R_WHFCI,CONCATENATE(\"\", 'WH - FCI'!H231),\"\")","v":""},false,"Y"]
["$WH1_4.2.1.ROW214COL9",{"$f":"IF(R_WHFCI,CONCATENATE(\"\", 'WH - FCI'!I231),\"\")","v":""},false,"Y"]
["$WH1_4.2.1.ROW214COL10",{"$f":"IF(R_WHFCI,CONCATENATE(\"\", 'WH - FCI'!J231),\"\")","v":""},false,"Y"]
["$WH1_4.2.1.ROW214COL11",{"$f":"IF(R_WHFCI,CONCATENATE(\"\", 'WH - FCI'!K231),\"\")","v":""},false,"Y"]
["$WH1_4.2.1.ROW215COL1",{"$f":"IF(R_WHFCI,CONCATENATE(\"\", 'WH - FCI'!A232),\"\")","v":""},false,"Y"]
["$WH1_4.2.1.ROW215COL2",{"$f":"IF(R_WHFCI,CONCATENATE(\"\", 'WH - FCI'!B232),\"\")","v":""},false,"Y"]
["$WH1_4.2.1.ROW215COL3",{"$f":"IF(R_WHFCI,CONCATENATE(\"\", 'WH - FCI'!C232),\"\")","v":""},false,"Y"]
["$WH1_4.2.1.ROW215COL4",{"$f":"IF(R_WHFCI,CONCATENATE(\"\", 'WH - FCI'!D232),\"\")","v":""},false,"Y"]
["$WH1_4.2.1.ROW215COL5",{"$f":"IF(R_WHFCI,CONCATENATE(\"\", 'WH - FCI'!E232),\"\")","v":""},false,"Y"]
["$WH1_4.2.1.ROW215COL6",{"$f":"IF(R_WHFCI,CONCATENATE(\"\", 'WH - FCI'!F232),\"\")","v":""},false,"Y"]
["$WH1_4.2.1.ROW215COL7",{"$f":"IF(R_WHFCI,CONCATENATE(\"\", 'WH - FCI'!G232),\"\")","v":""},false,"Y"]
["$WH1_4.2.1.ROW215COL8",{"$f":"IF(R_WHFCI,CONCATENATE(\"\", 'WH - FCI'!H232),\"\")","v":""},false,"Y"]
["$WH1_4.2.1.ROW215COL9",{"$f":"IF(R_WHFCI,CONCATENATE(\"\", 'WH - FCI'!I232),\"\")","v":""},false,"Y"]
["$WH1_4.2.1.ROW215COL10",{"$f":"IF(R_WHFCI,CONCATENATE(\"\", 'WH - FCI'!J232),\"\")","v":""},false,"Y"]
["$WH1_4.2.1.ROW215COL11",{"$f":"IF(R_WHFCI,CONCATENATE(\"\", 'WH - FCI'!K232),\"\")","v":""},false,"Y"]
["$WH1_4.2.1.ROW216COL1",{"$f":"IF(R_WHFCI,CONCATENATE(\"\", 'WH - FCI'!A233),\"\")","v":""},false,"Y"]
["$WH1_4.2.1.ROW216COL2",{"$f":"IF(R_WHFCI,CONCATENATE(\"\", 'WH - FCI'!B233),\"\")","v":""},false,"Y"]
["$WH1_4.2.1.ROW216COL3",{"$f":"IF(R_WHFCI,CONCATENATE(\"\", 'WH - FCI'!C233),\"\")","v":""},false,"Y"]
["$WH1_4.2.1.ROW216COL4",{"$f":"IF(R_WHFCI,CONCATENATE(\"\", 'WH - FCI'!D233),\"\")","v":""},false,"Y"]
["$WH1_4.2.1.ROW216COL5",{"$f":"IF(R_WHFCI,CONCATENATE(\"\", 'WH - FCI'!E233),\"\")","v":""},false,"Y"]
["$WH1_4.2.1.ROW216COL6",{"$f":"IF(R_WHFCI,CONCATENATE(\"\", 'WH - FCI'!F233),\"\")","v":""},false,"Y"]
["$WH1_4.2.1.ROW216COL7",{"$f":"IF(R_WHFCI,CONCATENATE(\"\", 'WH - FCI'!G233),\"\")","v":""},false,"Y"]
["$WH1_4.2.1.ROW216COL8",{"$f":"IF(R_WHFCI,CONCATENATE(\"\", 'WH - FCI'!H233),\"\")","v":""},false,"Y"]
["$WH1_4.2.1.ROW216COL9",{"$f":"IF(R_WHFCI,CONCATENATE(\"\", 'WH - FCI'!I233),\"\")","v":""},false,"Y"]
["$WH1_4.2.1.ROW216COL10",{"$f":"IF(R_WHFCI,CONCATENATE(\"\", 'WH - FCI'!J233),\"\")","v":""},false,"Y"]
["$WH1_4.2.1.ROW216COL11",{"$f":"IF(R_WHFCI,CONCATENATE(\"\", 'WH - FCI'!K233),\"\")","v":""},false,"Y"]
["$WH1_4.2.1.ROW217COL1",{"$f":"IF(R_WHFCI,CONCATENATE(\"\", 'WH - FCI'!A234),\"\")","v":""},false,"Y"]
["$WH1_4.2.1.ROW217COL2",{"$f":"IF(R_WHFCI,CONCATENATE(\"\", 'WH - FCI'!B234),\"\")","v":""},false,"Y"]
["$WH1_4.2.1.ROW217COL3",{"$f":"IF(R_WHFCI,CONCATENATE(\"\", 'WH - FCI'!C234),\"\")","v":""},false,"Y"]
["$WH1_4.2.1.ROW217COL4",{"$f":"IF(R_WHFCI,CONCATENATE(\"\", 'WH - FCI'!D234),\"\")","v":""},false,"Y"]
["$WH1_4.2.1.ROW217COL5",{"$f":"IF(R_WHFCI,CONCATENATE(\"\", 'WH - FCI'!E234),\"\")","v":""},false,"Y"]
["$WH1_4.2.1.ROW217COL6",{"$f":"IF(R_WHFCI,CONCATENATE(\"\", 'WH - FCI'!F234),\"\")","v":""},false,"Y"]
["$WH1_4.2.1.ROW217COL7",{"$f":"IF(R_WHFCI,CONCATENATE(\"\", 'WH - FCI'!G234),\"\")","v":""},false,"Y"]
["$WH1_4.2.1.ROW217COL8",{"$f":"IF(R_WHFCI,CONCATENATE(\"\", 'WH - FCI'!H234),\"\")","v":""},false,"Y"]
["$WH1_4.2.1.ROW217COL9",{"$f":"IF(R_WHFCI,CONCATENATE(\"\", 'WH - FCI'!I234),\"\")","v":""},false,"Y"]
["$WH1_4.2.1.ROW217COL10",{"$f":"IF(R_WHFCI,CONCATENATE(\"\", 'WH - FCI'!J234),\"\")","v":""},false,"Y"]
["$WH1_4.2.1.ROW217COL11",{"$f":"IF(R_WHFCI,CONCATENATE(\"\", 'WH - FCI'!K234),\"\")","v":""},false,"Y"]
["$WH1_4.2.1.ROW218COL1",{"$f":"IF(R_WHFCI,CONCATENATE(\"\", 'WH - FCI'!A235),\"\")","v":""},false,"Y"]
["$WH1_4.2.1.ROW218COL2",{"$f":"IF(R_WHFCI,CONCATENATE(\"\", 'WH - FCI'!B235),\"\")","v":""},false,"Y"]
["$WH1_4.2.1.ROW218COL3",{"$f":"IF(R_WHFCI,CONCATENATE(\"\", 'WH - FCI'!C235),\"\")","v":""},false,"Y"]
["$WH1_4.2.1.ROW218COL4",{"$f":"IF(R_WHFCI,CONCATENATE(\"\", 'WH - FCI'!D235),\"\")","v":""},false,"Y"]
["$WH1_4.2.1.ROW218COL5",{"$f":"IF(R_WHFCI,CONCATENATE(\"\", 'WH - FCI'!E235),\"\")","v":""},false,"Y"]
["$WH1_4.2.1.ROW218COL6",{"$f":"IF(R_WHFCI,CONCATENATE(\"\", 'WH - FCI'!F235),\"\")","v":""},false,"Y"]
["$WH1_4.2.1.ROW218COL7",{"$f":"IF(R_WHFCI,CONCATENATE(\"\", 'WH - FCI'!G235),\"\")","v":""},false,"Y"]
["$WH1_4.2.1.ROW218COL8",{"$f":"IF(R_WHFCI,CONCATENATE(\"\", 'WH - FCI'!H235),\"\")","v":""},false,"Y"]
["$WH1_4.2.1.ROW218COL9",{"$f":"IF(R_WHFCI,CONCATENATE(\"\", 'WH - FCI'!I235),\"\")","v":""},false,"Y"]
["$WH1_4.2.1.ROW218COL10",{"$f":"IF(R_WHFCI,CONCATENATE(\"\", 'WH - FCI'!J235),\"\")","v":""},false,"Y"]
["$WH1_4.2.1.ROW218COL11",{"$f":"IF(R_WHFCI,CONCATENATE(\"\", 'WH - FCI'!K235),\"\")","v":""},false,"Y"]
["$WH1_4.2.1.ROW219COL1",{"$f":"IF(R_WHFCI,CONCATENATE(\"\", 'WH - FCI'!A236),\"\")","v":""},false,"Y"]
["$WH1_4.2.1.ROW219COL2",{"$f":"IF(R_WHFCI,CONCATENATE(\"\", 'WH - FCI'!B236),\"\")","v":""},false,"Y"]
["$WH1_4.2.1.ROW219COL3",{"$f":"IF(R_WHFCI,CONCATENATE(\"\", 'WH - FCI'!C236),\"\")","v":""},false,"Y"]
["$WH1_4.2.1.ROW219COL4",{"$f":"IF(R_WHFCI,CONCATENATE(\"\", 'WH - FCI'!D236),\"\")","v":""},false,"Y"]
["$WH1_4.2.1.ROW219COL5",{"$f":"IF(R_WHFCI,CONCATENATE(\"\", 'WH - FCI'!E236),\"\")","v":""},false,"Y"]
["$WH1_4.2.1.ROW219COL6",{"$f":"IF(R_WHFCI,CONCATENATE(\"\", 'WH - FCI'!F236),\"\")","v":""},false,"Y"]
["$WH1_4.2.1.ROW219COL7",{"$f":"IF(R_WHFCI,CONCATENATE(\"\", 'WH - FCI'!G236),\"\")","v":""},false,"Y"]
["$WH1_4.2.1.ROW219COL8",{"$f":"IF(R_WHFCI,CONCATENATE(\"\", 'WH - FCI'!H236),\"\")","v":""},false,"Y"]
["$WH1_4.2.1.ROW219COL9",{"$f":"IF(R_WHFCI,CONCATENATE(\"\", 'WH - FCI'!I236),\"\")","v":""},false,"Y"]
["$WH1_4.2.1.ROW219COL10",{"$f":"IF(R_WHFCI,CONCATENATE(\"\", 'WH - FCI'!J236),\"\")","v":""},false,"Y"]
["$WH1_4.2.1.ROW219COL11",{"$f":"IF(R_WHFCI,CONCATENATE(\"\", 'WH - FCI'!K236),\"\")","v":""},false,"Y"]
["$WH1_4.2.1.ROW220COL1",{"$f":"IF(R_WHFCI,CONCATENATE(\"\", 'WH - FCI'!A237),\"\")","v":""},{"$f":"ISERROR(B4734)","v":false},"Y"]
["$WH1_4.2.1.ROW220COL2",{"$f":"IF(R_WHFCI,CONCATENATE(\"\", 'WH - FCI'!B237),\"\")","v":""},false,"Y"]
["$WH1_4.2.1.ROW220COL3",{"$f":"IF(R_WHFCI,CONCATENATE(\"\", 'WH - FCI'!C237),\"\")","v":""},false,"Y"]
["$WH1_4.2.1.ROW220COL4",{"$f":"IF(R_WHFCI,CONCATENATE(\"\", 'WH - FCI'!D237),\"\")","v":""},false,"Y"]
["$WH1_4.2.1.ROW220COL5",{"$f":"IF(R_WHFCI,CONCATENATE(\"\", 'WH - FCI'!E237),\"\")","v":""},false,"Y"]
["$WH1_4.2.1.ROW220COL6",{"$f":"IF(R_WHFCI,CONCATENATE(\"\", 'WH - FCI'!F237),\"\")","v":""},false,"Y"]
["$WH1_4.2.1.ROW220COL7",{"$f":"IF(R_WHFCI,CONCATENATE(\"\", 'WH - FCI'!G237),\"\")","v":""},false,"Y"]
["$WH1_4.2.1.ROW220COL8",{"$f":"IF(R_WHFCI,CONCATENATE(\"\", 'WH - FCI'!H237),\"\")","v":""},false,"Y"]
["$WH1_4.2.1.ROW220COL9",{"$f":"IF(R_WHFCI,CONCATENATE(\"\", 'WH - FCI'!I237),\"\")","v":""},false,"Y"]
["$WH1_4.2.1.ROW220COL10",{"$f":"IF(R_WHFCI,CONCATENATE(\"\", 'WH - FCI'!J237),\"\")","v":""},false,"Y"]
["$WH1_4.2.1.ROW220COL11",{"$f":"IF(R_WHFCI,CONCATENATE(\"\", 'WH - FCI'!K237),\"\")","v":""},false,"Y"]
["$WH1_4.2.1.ROW221COL1",{"$f":"IF(R_WHFCI,CONCATENATE(\"\", 'WH - FCI'!A238),\"\")","v":""},false,"Y"]
["$WH1_4.2.1.ROW221COL2",{"$f":"IF(R_WHFCI,CONCATENATE(\"\", 'WH - FCI'!B238),\"\")","v":""},false,"Y"]
["$WH1_4.2.1.ROW221COL3",{"$f":"IF(R_WHFCI,CONCATENATE(\"\", 'WH - FCI'!C238),\"\")","v":""},false,"Y"]
["$WH1_4.2.1.ROW221COL4",{"$f":"IF(R_WHFCI,CONCATENATE(\"\", 'WH - FCI'!D238),\"\")","v":""},false,"Y"]
["$WH1_4.2.1.ROW221COL5",{"$f":"IF(R_WHFCI,CONCATENATE(\"\", 'WH - FCI'!E238),\"\")","v":""},false,"Y"]
["$WH1_4.2.1.ROW221COL6",{"$f":"IF(R_WHFCI,CONCATENATE(\"\", 'WH - FCI'!F238),\"\")","v":""},false,"Y"]
["$WH1_4.2.1.ROW221COL7",{"$f":"IF(R_WHFCI,CONCATENATE(\"\", 'WH - FCI'!G238),\"\")","v":""},false,"Y"]
["$WH1_4.2.1.ROW221COL8",{"$f":"IF(R_WHFCI,CONCATENATE(\"\", 'WH - FCI'!H238),\"\")","v":""},false,"Y"]
["$WH1_4.2.1.ROW221COL9",{"$f":"IF(R_WHFCI,CONCATENATE(\"\", 'WH - FCI'!I238),\"\")","v":""},false,"Y"]
["$WH1_4.2.1.ROW221COL10",{"$f":"IF(R_WHFCI,CONCATENATE(\"\", 'WH - FCI'!J238),\"\")","v":""},false,"Y"]
["$WH1_4.2.1.ROW221COL11",{"$f":"IF(R_WHFCI,CONCATENATE(\"\", 'WH - FCI'!K238),\"\")","v":""},false,"Y"]
["$WH1_4.2.1.ROW222COL1",{"$f":"IF(R_WHFCI,CONCATENATE(\"\", 'WH - FCI'!A239),\"\")","v":""},false,"Y"]
["$WH1_4.2.1.ROW222COL2",{"$f":"IF(R_WHFCI,CONCATENATE(\"\", 'WH - FCI'!B239),\"\")","v":""},false,"Y"]
["$WH1_4.2.1.ROW222COL3",{"$f":"IF(R_WHFCI,CONCATENATE(\"\", 'WH - FCI'!C239),\"\")","v":""},false,"Y"]
["$WH1_4.2.1.ROW222COL4",{"$f":"IF(R_WHFCI,CONCATENATE(\"\", 'WH - FCI'!D239),\"\")","v":""},false,"Y"]
["$WH1_4.2.1.ROW222COL5",{"$f":"IF(R_WHFCI,CONCATENATE(\"\", 'WH - FCI'!E239),\"\")","v":""},false,"Y"]
["$WH1_4.2.1.ROW222COL6",{"$f":"IF(R_WHFCI,CONCATENATE(\"\", 'WH - FCI'!F239),\"\")","v":""},false,"Y"]
["$WH1_4.2.1.ROW222COL7",{"$f":"IF(R_WHFCI,CONCATENATE(\"\", 'WH - FCI'!G239),\"\")","v":""},false,"Y"]
["$WH1_4.2.1.ROW222COL8",{"$f":"IF(R_WHFCI,CONCATENATE(\"\", 'WH - FCI'!H239),\"\")","v":""},false,"Y"]
["$WH1_4.2.1.ROW222COL9",{"$f":"IF(R_WHFCI,CONCATENATE(\"\", 'WH - FCI'!I239),\"\")","v":""},false,"Y"]
["$WH1_4.2.1.ROW222COL10",{"$f":"IF(R_WHFCI,CONCATENATE(\"\", 'WH - FCI'!J239),\"\")","v":""},false,"Y"]
["$WH1_4.2.1.ROW222COL11",{"$f":"IF(R_WHFCI,CONCATENATE(\"\", 'WH - FCI'!K239),\"\")","v":""},false,"Y"]
["$WH1_4.2.1.ROW223COL1",{"$f":"IF(R_WHFCI,CONCATENATE(\"\", 'WH - FCI'!A240),\"\")","v":""},false,"Y"]
["$WH1_4.2.1.ROW223COL2",{"$f":"IF(R_WHFCI,CONCATENATE(\"\", 'WH - FCI'!B240),\"\")","v":""},false,"Y"]
["$WH1_4.2.1.ROW223COL3",{"$f":"IF(R_WHFCI,CONCATENATE(\"\", 'WH - FCI'!C240),\"\")","v":""},false,"Y"]
["$WH1_4.2.1.ROW223COL4",{"$f":"IF(R_WHFCI,CONCATENATE(\"\", 'WH - FCI'!D240),\"\")","v":""},false,"Y"]
["$WH1_4.2.1.ROW223COL5",{"$f":"IF(R_WHFCI,CONCATENATE(\"\", 'WH - FCI'!E240),\"\")","v":""},false,"Y"]
["$WH1_4.2.1.ROW223COL6",{"$f":"IF(R_WHFCI,CONCATENATE(\"\", 'WH - FCI'!F240),\"\")","v":""},false,"Y"]
["$WH1_4.2.1.ROW223COL7",{"$f":"IF(R_WHFCI,CONCATENATE(\"\", 'WH - FCI'!G240),\"\")","v":""},false,"Y"]
["$WH1_4.2.1.ROW223COL8",{"$f":"IF(R_WHFCI,CONCATENATE(\"\", 'WH - FCI'!H240),\"\")","v":""},false,"Y"]
["$WH1_4.2.1.ROW223COL9",{"$f":"IF(R_WHFCI,CONCATENATE(\"\", 'WH - FCI'!I240),\"\")","v":""},false,"Y"]
["$WH1_4.2.1.ROW223COL10",{"$f":"IF(R_WHFCI,CONCATENATE(\"\", 'WH - FCI'!J240),\"\")","v":""},false,"Y"]
["$WH1_4.2.1.ROW223COL11",{"$f":"IF(R_WHFCI,CONCATENATE(\"\", 'WH - FCI'!K240),\"\")","v":""},false,"Y"]
["$WH1_4.2.1.ROW224COL1",{"$f":"IF(R_WHFCI,CONCATENATE(\"\", 'WH - FCI'!A241),\"\")","v":""},false,"Y"]
["$WH1_4.2.1.ROW224COL2",{"$f":"IF(R_WHFCI,CONCATENATE(\"\", 'WH - FCI'!B241),\"\")","v":""},false,"Y"]
["$WH1_4.2.1.ROW224COL3",{"$f":"IF(R_WHFCI,CONCATENATE(\"\", 'WH - FCI'!C241),\"\")","v":""},false,"Y"]
["$WH1_4.2.1.ROW224COL4",{"$f":"IF(R_WHFCI,CONCATENATE(\"\", 'WH - FCI'!D241),\"\")","v":""},false,"Y"]
["$WH1_4.2.1.ROW224COL5",{"$f":"IF(R_WHFCI,CONCATENATE(\"\", 'WH - FCI'!E241),\"\")","v":""},false,"Y"]
["$WH1_4.2.1.ROW224COL6",{"$f":"IF(R_WHFCI,CONCATENATE(\"\", 'WH - FCI'!F241),\"\")","v":""},false,"Y"]
["$WH1_4.2.1.ROW224COL7",{"$f":"IF(R_WHFCI,CONCATENATE(\"\", 'WH - FCI'!G241),\"\")","v":""},false,"Y"]
["$WH1_4.2.1.ROW224COL8",{"$f":"IF(R_WHFCI,CONCATENATE(\"\", 'WH - FCI'!H241),\"\")","v":""},false,"Y"]
["$WH1_4.2.1.ROW224COL9",{"$f":"IF(R_WHFCI,CONCATENATE(\"\", 'WH - FCI'!I241),\"\")","v":""},false,"Y"]
["$WH1_4.2.1.ROW224COL10",{"$f":"IF(R_WHFCI,CONCATENATE(\"\", 'WH - FCI'!J241),\"\")","v":""},false,"Y"]
["$WH1_4.2.1.ROW224COL11",{"$f":"IF(R_WHFCI,CONCATENATE(\"\", 'WH - FCI'!K241),\"\")","v":""},false,"Y"]
["$WH1_4.2.1.ROW225COL1",{"$f":"IF(R_WHFCI,CONCATENATE(\"\", 'WH - FCI'!A242),\"\")","v":""},false,"Y"]
["$WH1_4.2.1.ROW225COL2",{"$f":"IF(R_WHFCI,CONCATENATE(\"\", 'WH - FCI'!B242),\"\")","v":""},false,"Y"]
["$WH1_4.2.1.ROW225COL3",{"$f":"IF(R_WHFCI,CONCATENATE(\"\", 'WH - FCI'!C242),\"\")","v":""},false,"Y"]
["$WH1_4.2.1.ROW225COL4",{"$f":"IF(R_WHFCI,CONCATENATE(\"\", 'WH - FCI'!D242),\"\")","v":""},false,"Y"]
["$WH1_4.2.1.ROW225COL5",{"$f":"IF(R_WHFCI,CONCATENATE(\"\", 'WH - FCI'!E242),\"\")","v":""},false,"Y"]
["$WH1_4.2.1.ROW225COL6",{"$f":"IF(R_WHFCI,CONCATENATE(\"\", 'WH - FCI'!F242),\"\")","v":""},false,"Y"]
["$WH1_4.2.1.ROW225COL7",{"$f":"IF(R_WHFCI,CONCATENATE(\"\", 'WH - FCI'!G242),\"\")","v":""},false,"Y"]
["$WH1_4.2.1.ROW225COL8",{"$f":"IF(R_WHFCI,CONCATENATE(\"\", 'WH - FCI'!H242),\"\")","v":""},false,"Y"]
["$WH1_4.2.1.ROW225COL9",{"$f":"IF(R_WHFCI,CONCATENATE(\"\", 'WH - FCI'!I242),\"\")","v":""},false,"Y"]
["$WH1_4.2.1.ROW225COL10",{"$f":"IF(R_WHFCI,CONCATENATE(\"\", 'WH - FCI'!J242),\"\")","v":""},{"$f":"ISERROR(B4798)","v":false},"Y"]
["$WH1_4.2.1.ROW225COL11",{"$f":"IF(R_WHFCI,CONCATENATE(\"\", 'WH - FCI'!K242),\"\")","v":""},false,"Y"]
["$RAIL0_2",{"$f":"IF(R_RAIL,CONCATENATE(\"\", Rail!T14),\"\")","v":""},false,"N"]
["$RAIL0_3",{"$f":"IF(R_RAIL,CONCATENATE(\"\", Rail!L15),\"\")","v":""},false,"N"]
["$RAIL0_4",{"$f":"IF(R_RAIL,CONCATENATE(\"\", Rail!T16),\"\")","v":""},false,"N"]
["$RAIL0_5",{"$f":"IF(R_RAIL,CONCATENATE(\"\", Rail!L17),\"\")","v":""},false,"N"]
["$RAIL0_6",{"$f":"IF(R_RAIL,CONCATENATE(\"\", Rail!T18),\"\")","v":""},false,"N"]
["$RAIL0_7",{"$f":"IF(R_RAIL,CONCATENATE(\"\", Rail!L19),\"\")","v":""},false,"N"]
["$RAIL0_8",{"$f":"IF(R_RAIL,CONCATENATE(\"\", Rail!T20),\"\")","v":""},false,"N"]
["$RAIL0_9",{"$f":"IF(R_RAIL,CONCATENATE(\"\", Rail!L21),\"\")","v":""},false,"N"]
["$RAIL0_10",{"$f":"IF(R_RAIL,CONCATENATE(\"\", Rail!T22),\"\")","v":""},false,"N"]
["$RAIL0_11",{"$f":"IF(R_RAIL,CONCATENATE(\"\", Rail!L23),\"\")","v":""},false,"N"]
["$RAIL0_12",{"$f":"IF(R_RAIL,CONCATENATE(\"\", Rail!T24),\"\")","v":""},false,"N"]
["$RAIL0_13",{"$f":"IF(R_RAIL,CONCATENATE(\"\", Rail!L25),\"\")","v":""},false,"N"]
["$RAIL0_14",{"$f":"IF(R_RAIL,CONCATENATE(\"\", Rail!T26),\"\")","v":""},false,"N"]
["$RAIL0_15",{"$f":"IF(R_RAIL,CONCATENATE(\"\", Rail!L27),\"\")","v":""},false,"N"]
["$RAIL0_16",{"$f":"IF(R_RAIL,CONCATENATE(\"\", Rail!T28),\"\")","v":""},false,"N"]
["$RAIL0_17",{"$f":"IF(R_RAIL,CONCATENATE(\"\", Rail!L29),\"\")","v":""},false,"N"]
["$RAIL0_18",{"$f":"IF(R_RAIL,CONCATENATE(\"\", Rail!T30),\"\")","v":""},false,"N"]
["$RAIL0_19",{"$f":"IF(R_RAIL,CONCATENATE(\"\", Rail!L31),\"\")","v":""},false,"N"]
["$RAIL0_20",{"$f":"IF(R_RAIL,CONCATENATE(\"\", Rail!T32),\"\")","v":""},false,"N"]
["$RAIL0_21",{"$f":"IF(R_RAIL,CONCATENATE(\"\", Rail!T34),\"\")","v":""},false,"N"]
["$RAIL0_22",{"$f":"IF(R_RAIL,CONCATENATE(\"\", Rail!L36),\"\")","v":""},false,"N"]
["$RAIL0_24",{"$f":"IF(R_RAIL,CONCATENATE(\"\", Rail!T39),\"\")","v":""},false,"N"]
["$RAIL0_26",{"$f":"IF(R_RAIL,CONCATENATE(\"\", Rail!T42),\"\")","v":""},false,"N"]
["$RAIL0_27",{"$f":"IF(R_RAIL,CONCATENATE(\"\", Rail!L43),\"\")","v":""},false,"N"]
["$RAIL0_28",{"$f":"IF(R_RAIL,CONCATENATE(\"\", Rail!L45),\"\")","v":""},false,"N"]
["$RAIL0_29",{"$f":"IF(R_RAIL,CONCATENATE(\"\", Rail!L47),\"\")","v":""},false,"N"]
["$RAIL0_30",{"$f":"IF(R_RAIL,CONCATENATE(\"\", Rail!T49),\"\")","v":""},false,"N"]
["$RAIL0_31",{"$f":"IF(R_RAIL,CONCATENATE(\"\", Rail!L50),\"\")","v":""},false,"N"]
["$RAIL0_32",{"$f":"IF(R_RAIL,CONCATENATE(\"\", Rail!L52),\"\")","v":""},false,"N"]
["$RAIL0_33",{"$f":"IF(R_RAIL,CONCATENATE(\"\", Rail!J54),\"\")","v":""},false,"N"]
["$RAIL0_34",{"$f":"IF(R_RAIL,CONCATENATE(\"\", Rail!J56),\"\")","v":""},false,"N"]
["$RAIL0_35",{"$f":"IF(R_RAIL,CONCATENATE(\"\", Rail!T58),\"\")","v":""},false,"N"]
["$RAIL0_36",{"$f":"IF(R_RAIL,CONCATENATE(\"\", Rail!T59),\"\")","v":""},false,"N"]
["$RAIL0_38",{"$f":"IF(R_RAIL,CONCATENATE(\"\", Rail!T62),\"\")","v":""},false,"N"]
["$RAIL0_39",{"$f":"IF(R_RAIL,CONCATENATE(\"\", Rail!T65),\"\")","v":""},false,"N"]
["$RAIL0_40",{"$f":"IF(R_RAIL,CONCATENATE(\"\", Rail!T66),\"\")","v":""},false,"N"]
["$RAIL0_41",{"$f":"IF(R_RAIL,CONCATENATE(\"\", Rail!T68),\"\")","v":""},false,"N"]
["$RAIL0_42",{"$f":"IF(R_RAIL,CONCATENATE(\"\", Rail!T70),\"\")","v":""},false,"N"]
["$RAIL0_43",{"$f":"IF(R_RAIL,CONCATENATE(\"\", Rail!T72),\"\")","v":""},false,"N"]
["$RAIL0_45",{"$f":"IF(R_RAIL,CONCATENATE(\"\", Rail!J76),\"\")","v":""},false,"N"]
["$RAIL0_46",{"$f":"IF(R_RAIL,CONCATENATE(\"\", Rail!T77),\"\")","v":""},false,"N"]
["$RAIL0_47",{"$f":"IF(R_RAIL,CONCATENATE(\"\", Rail!L78),\"\")","v":""},false,"N"]
["$RAIL0_48",{"$f":"IF(R_RAIL,CONCATENATE(\"\", Rail!J80),\"\")","v":""},false,"N"]
["$RAIL0_50",{"$f":"IF(R_RAIL,CONCATENATE(\"\", Rail!J84),\"\")","v":""},false,"N"]
["$RAIL0_51",{"$f":"IF(R_RAIL,CONCATENATE(\"\", Rail!J86),\"\")","v":""},false,"N"]
["$RAIL0_52",{"$f":"IF(R_RAIL,CONCATENATE(\"\", Rail!T88),\"\")","v":""},false,"N"]
["$RAIL0_53",{"$f":"IF(R_RAIL,CONCATENATE(\"\", Rail!T90),\"\")","v":""},false,"N"]
["$RAIL0_54",{"$f":"IF(R_RAIL,CONCATENATE(\"\", Rail!T91),\"\")","v":""},false,"N"]
["$RAIL0_55",{"$f":"IF(R_RAIL,CONCATENATE(\"\", Rail!T92),\"\")","v":""},false,"N"]
["$RAIL0_56",{"$f":"IF(R_RAIL,CONCATENATE(\"\", Rail!T94),\"\")","v":""},false,"N"]
["$RAIL0_57",{"$f":"IF(R_RAIL,CONCATENATE(\"\", Rail!T96),\"\")","v":""},false,"N"]
["$RAIL0_58",{"$f":"IF(R_RAIL,CONCATENATE(\"\", Rail!T98),\"\")","v":""},false,"N"]
["$RAIL0_59",{"$f":"IF(R_RAIL,CONCATENATE(\"\", Rail!T99),\"\")","v":""},false,"N"]
["$RAIL0_60",{"$f":"IF(R_RAIL,CONCATENATE(\"\", Rail!T100),\"\")","v":""},false,"N"]
["$RAIL0_61",{"$f":"IF(R_RAIL,CONCATENATE(\"\", Rail!T101),\"\")","v":""},false,"N"]
["$RAIL0_62",{"$f":"IF(R_RAIL,CONCATENATE(\"\", Rail!T102),\"\")","v":""},false,"N"]
["$RAIL0_63",{"$f":"IF(R_RAIL,CONCATENATE(\"\", Rail!T103),\"\")","v":""},false,"N"]
["$RAIL0_64",{"$f":"IF(R_RAIL,CONCATENATE(\"\", Rail!T104),\"\")","v":""},false,"N"]
["$RAIL0_65",{"$f":"IF(R_RAIL,CONCATENATE(\"\", Rail!T106),\"\")","v":""},false,"N"]

{"sheet":"Combo","index":12,"n_rows":115,"n_cols":17,"rows_kept":115,"cut":false,"hidden":true,"merged":[]}
[null,{"$f":"TEXT(OFFSET(B1,0,langsel),\"\")","v":"English"},"English","Deutsch ","Português","Français ","Español ","Italiano ","Dansk","Suomalainen","Polska","Nederlands","Slovensko","Česky","Magyar","Svenska","Русский"]
[]
[null,{"$f":"TEXT(OFFSET(B3,0,langsel),\"\")","v":""}]
[null,{"$f":"IF(LEN(TEXT(OFFSET(B4,0,langsel),\"\"))>0,TEXT(OFFSET(B4,0,langsel),\"\"),TEXT(C4,\"\"))","v":"Countries"},"Countries"]
[null,""]
[null,"AL - Albania","AL - Albania","AL - Albania","AL - Albânia","AL - Albania","AL - Albania","AL - Albania","AL - Albanien","AL - Albania","AL - Albania","AL - Albania","AL - Albania","AL - Albania","AL - Albania","AL - Albania","AL - Albania"]
[null,"AD - Andorra","AD - Andorra","AD - Andorra","AD - Andorra","AD - Andorra","AD - Andorra","AD - Andorra","AD - Andorra","AD - Andorra","AD - Andorra","AD - Andorra","AD - Andorra","AD - Andorra","AD - Andorra","AD - Andorra","AD - Andorra"]
[null,"AM - Armenia","AM - Armenia","AM - Armenia","AM - Arménia","AM - Armenia","AM - Armenia","AM - Armenia","AM - Armenia","AM - Armenia","AM - Armenia","AM - Armenia","AM - Armenia","AM - Armenia","AM - Armenia","AM - Armenia","AM - Armenia"]
[null,"AT - Austria","AT - Austria","AT - Austria","AT - Áustria","AT - Austria","AT - Austria","AT - Austria","AT - Austria","AT - Itävalta","AT - Austria","AT - Austria","AT - Austria","AT - Austria","AT - Austria","AT - Austria","AT - Austria"]
[null,"AZ- Azerbaijan","AZ- Azerbaijan","AZ- Azerbaijan","AZ - Azerbeijão","AZ- Azerbaijan","AZ- Azerbaijan","AZ- Azerbaijan","AZ- Azerbaijan","AZ- Azerbaitzan","AZ- Azerbaijan","AZ- Azerbaijan","AZ- Azerbaijan","AZ- Azerbaijan","AZ- Azerbaijan","AZ- Azerbaijan","AZ- Azerbaijan"]
[null,"BY - Belarus","BY - Belarus","BY - Belarus","BY - Bielorússia","BY - Belarus","BY - Belarus","BY - Belarus","BY - Belarus","BY - Valkovenäjä","BY - Belarus","BY - Belarus","BY - Belarus","BY - Belarus","BY - Belarus","BY - Belarus","BY - Belarus"]
[null,"BE - Belgium","BE - Belgium","BE - Belgium","BE - Bélgica","BE - Belgium","BE - Belgium","BE - Belgium","BE - Belgium","BE - Belgia","BE - Belgium","BE - Belgium","BE - Belgium","BE - Belgium","BE - Belgium","BE - Belgium","BE - Belgium"]
[null,"BA - Bosnia and Herzegovina","BA - Bosnia and Herzegovina","BA - Bosnia and Herzegovina","BA - Bósnia-Herzegovina","BA - Bosnia and Herzegovina","BA - Bosnia and Herzegovina","BA - Bosnia and Herzegovina","BA - Bosnia and Herzegovina","BA - Bosnia ja Herzegovina","BA - Bosnia and Herzegovina","BA - Bosnia and Herzegovina","BA - Bosnia and Herzegovina","BA - Bosnia and Herzegovina","BA - Bosnia and Herzegovina","BA - Bosnia and Herzegovina","BA - Bosnia and Herzegovina"]
[null,"BG - Bulgaria","BG - Bulgaria","BG - Bulgaria","BG - Búlgaria","BG - Bulgaria","BG - Bulgaria","BG - Bulgaria","BG - Bulgaria","BG - Bulgaria","BG - Bulgaria","BG - Bulgaria","BG - Bulgaria","BG - Bulgaria","BG - Bulgaria","BG - Bulgaria","BG - Bulgaria"]
[null,"HR - Croatia","HR - Croatia","HR - Croatia","HR - Croácia","HR - Croatia","HR - Croatia","HR - Croatia","HR - Croatia","HR - Kroatia","HR - Croatia","HR - Croatia","HR - Croatia","HR - Croatia","HR - Croatia","HR - Croatia","HR - Croatia"]
[null,"CY - Cyprus","CY - Cyprus","CY - Cyprus","CY - Chipre","CY - Cyprus","CY - Cyprus","CY - Cyprus","CY - Cyprus","CY - Kypros","CY - Cyprus","CY - Cyprus","CY - Cyprus","CY - Cyprus","CY - Cyprus","CY - Cyprus","CY - Cyprus"]
[null,"CZ - Czech Republic","CZ - Czech Republic","CZ - Czech Republic","CZ - Républica Checa","CZ - Czech Republic","CZ - Czech Republic","CZ - Czech Republic","CZ - Czech Republic","CZ - Tsekki","CZ - Czech Republic","CZ - Czech Republic","CZ - Czech Republic","CZ - Czech Republic","CZ - Czech Republic","CZ - Czech Republic","CZ - Czech Republic"]
[null,"DK - Denmark","DK - Denmark","DK - Denmark","DK - Dinamarca","DK - Denmark","DK - Denmark","DK - Denmark","DK - Denmark","DK - Tanska","DK - Denmark","DK - Denmark","DK - Denmark","DK - Denmark","DK - Denmark","DK - Denmark","DK - Denmark"]
[null,"EE - Estonia","EE - Estonia","EE - Estonia","EE - Estónia","EE - Estonia","EE - Estonia","EE - Estonia","EE - Estonia","EE - Viro","EE - Estonia","EE - Estonia","EE - Estonia","EE - Estonia","EE - Estonia","EE - Estonia","EE - Estonia"]
[null,"FI - Finland","FI - Finland","FI - Finland","FI - Finlândia","FI - Finland","FI - Finland","FI - Finland","FI - Finland","FI - Suomi","FI - Finland","FI - Finland","FI - Finland","FI - Finland","FI - Finland","FI - Finland","FI - Finland"]
[null,"FR - France","FR - France","FR - France","FR - França","FR - France","FR - France","FR - France","FR - France","FR - Ranska","FR - France","FR - France","FR - France","FR - France","FR - France","FR - France","FR - France"]
[null,"DE - Germany","DE - Germany","DE - Germany","DE - Alemanha","DE - Germany","DE - Germany","DE - Germany","DE - Germany","DE - Saksa","DE - Germany","DE - Germany","DE - Germany","DE - Germany","DE - Germany","DE - Germany","DE - Germany"]
[null,"GR - Greece","GR - Greece","GR - Greece","GR - Grécia","GR - Greece","GR - Greece","GR - Greece","GR - Greece","GR - Kreikka","GR - Greece","GR - Greece","GR - Greece","GR - Greece","GR - Greece","GR - Greece","GR - Greece"]
[null,"GG - Guernsey","GG - Guernsey","GG - Guernsey","GG - Guernsey","GG - Guernsey","GG - Guernsey","GG - Guernsey","GG - Guernsey","GG - Guernsey","GG - Guernsey","GG - Guernsey","GG - Guernsey","GG - Guernsey","GG - Guernsey","GG - Guernsey","GG - Guernsey"]
[null,"HU - Hungary","HU - Hungary","HU - Hungary","HU - Hungria","HU - Hungary","HU - Hungary","HU - Hungary","HU - Hungary","HU - Unkari","HU - Hungary","HU - Hungary","HU - Hungary","HU - Hungary","HU - Hungary","HU - Hungary","HU - Hungary"]
[null,"IS - Iceland","IS - Iceland","IS - Iceland","IS - Islândia","IS - Iceland","IS - Iceland","IS - Iceland","IS - Iceland","IS - Islanti","IS - Iceland","IS - Iceland","IS - Iceland","IS - Iceland","IS - Iceland","IS - Iceland","IS - Iceland"]
[null,"IE - Ireland","IE - Ireland","IE - Ireland","IE - Irlanda","IE - Ireland","IE - Ireland","IE - Ireland","IE - Ireland","IE - Irlanti","IE - Ireland","IE - Ireland","IE - Ireland","IE - Ireland","IE - Ireland","IE - Ireland","IE - Ireland"]
[null,"IM - Isle of Man","IM - Isle of Man","IM - Isle of Man","IM - Ilha de Man","IM - Isle of Man","IM - Isle of Man","IM - Isle of Man","IM - Isle of Man","IM - Man saaret","IM - Isle of Man","IM - Isle of Man","IM - Isle of Man","IM - Isle of Man","IM - Isle of Man","IM - Isle of Man","IM - Isle of Man"]
[null,"IT - Italy","IT - Italy","IT - Italy","IT - Itália","IT - Italy","IT - Italy","IT - Italy","IT - Italy","IT - Italia","IT - Italy","IT - Italy","IT - Italy","IT - Italy","IT - Italy","IT - Italy","IT - Italy"]
[null,"JE - Jersey","JE - Jersey","JE - Jersey","JE - Jersey","JE - Jersey","JE - Jersey","JE - Jersey","JE - Jersey","JE - Jersey","JE - Jersey","JE - Jersey","JE - Jersey","JE - Jersey","JE - Jersey","JE - Jersey","JE - Jersey"]
[null,"KZ - Kazakhstan","KZ - Kazakhstan","KZ - Kazakhstan","KZ - Cazaquistão","KZ - Kazakhstan","KZ - Kazakhstan","KZ - Kazakhstan","KZ - Kazakhstan","KZ - Kasakstan","KZ - Kazakhstan","KZ - Kazakhstan","KZ - Kazakhstan","KZ - Kazakhstan","KZ - Kazakhstan","KZ - Kazakhstan","KZ - Kazakhstan"]
[null,"LV - Latvia","LV - Latvia","LV - Latvia","LV - Letónia","LV - Latvia","LV - Latvia","LV - Latvia","LV - Latvia","LV - Latvia","LV - Latvia","LV - Latvia","LV - Latvia","LV - Latvia","LV - Latvia","LV - Latvia","LV - Latvia"]
[null,"LI - Liechtenstein","LI - Liechtenstein","LI - Liechtenstein","LI - Liechtenstein","LI - Liechtenstein","LI - Liechtenstein","LI - Liechtenstein","LI - Liechtenstein","LI - Liechtenstein","LI - Liechtenstein","LI - Liechtenstein","LI - Liechtenstein","LI - Liechtenstein","LI - Liechtenstein","LI - Liechtenstein","LI - Liechtenstein"]
[null,"LT - Lithuania","LT - Lithuania","LT - Lithuania","LT - Lituânia","LT - Lithuania","LT - Lithuania","LT - Lithuania","LT - Lithuania","LT - Liettua","LT - Lithuania","LT - Lithuania","LT - Lithuania","LT - Lithuania","LT - Lithuania","LT - Lithuania","LT - Lithuania"]
[null,"LU - Luxembourg","LU - Luxembourg","LU - Luxembourg","LU - Luxemburgo","LU - Luxembourg","LU - Luxembourg","LU - Luxembourg","LU - Luxembourg","LU - Luxembourg","LU - Luxembourg","LU - Luxembourg","LU - Luxembourg","LU - Luxembourg","LU - Luxembourg","LU - Luxembourg","LU - Luxembourg"]
[null,{"$f":"IF(LEN(TEXT(OFFSET(B36,0,langsel),\"\"))>0,TEXT(OFFSET(B36,0,langsel),\"\"),TEXT(C36,\"\"))","v":"MK - Macedonia, The Former Yugoslav Republic of"},"MK - Macedonia, The Former Yugoslav Republic of","MK - Macedonia, The Former Yugoslav Republic of","MK - Macedónia, The Former Yugoslav Republic of","MK - Macedonia, The Former Yugoslav Republic of","MK - Macedonia, The Former Yugoslav Republic of","MK - Macedonia, The Former Yugoslav Republic of","MK - Macedonia, The Former Yugoslav Republic of","MK - Makedonia, Entinen Jugoslavian Makedonian tasavalta","MK - Macedonia, The Former Yugoslav Republic of","MK - Macedonia, The Former Yugoslav Republic of","MK - Macedonia, The Former Yugoslav Republic of","MK - Macedonia, The Former Yugoslav Republic of","MK - Macedonia, The Former Yugoslav Republic of","MK - Macedonia, The Former Yugoslav Republic of","MK - Macedonia, The Former Yugoslav Republic of"]
[null,"MT - Malta","MT - Malta","MT - Malta","MT - Malta","MT - Malta","MT - Malta","MT - Malta","MT - Malta","MT - Malta","MT - Malta","MT - Malta","MT - Malta","MT - Malta","MT - Malta","MT - Malta","MT - Malta"]
[null,"MD - Moldova","MD - Moldova","MD - Moldova","MD - Moldávia","MD - Moldova","MD - Moldova","MD - Moldova","MD - Moldova","MD - Moldova","MD - Moldova","MD - Moldova","MD - Moldova","MD - Moldova","MD - Moldova","MD - Moldova","MD - Moldova"]
[null,"MC - Monaco","MC - Monaco","MC - Monaco","MC - Mónaco","MC - Monaco","MC - Monaco","MC - Monaco","MC - Monaco","MC - Monaco","MC - Monaco","MC - Monaco","MC - Monaco","MC - Monaco","MC - Monaco","MC - Monaco","MC - Monaco"]
[null,"ME - Montenegro","ME - Montenegro","ME - Montenegro","ME - Montenegro","ME - Montenegro","ME - Montenegro","ME - Montenegro","ME - Montenegro","ME - Montenegro","ME - Montenegro","ME - Montenegro","ME - Montenegro","ME - Montenegro","ME - Montenegro","ME - Montenegro","ME - Montenegro"]
[null,"MA - Morocco","MA - Morocco","MA - Morocco","MA - Morrocos","MA - Morocco","MA - Morocco","MA - Morocco","MA - Morocco","MA - Marokko","MA - Morocco","MA - Morocco","MA - Morocco","MA - Morocco","MA - Morocco","MA - Morocco","MA - Morocco"]
[null,"NL - Netherlands","NL - Netherlands","NL - Netherlands","NL - Holanda","NL - Netherlands","NL - Netherlands","NL - Netherlands","NL - Netherlands","NL - Alankomaat","NL - Netherlands","NL - Netherlands","NL - Netherlands","NL - Netherlands","NL - Netherlands","NL - Netherlands","NL - Netherlands"]
[null,"NO - Norway","NO - Norway","NO - Norway","NO - Noruega","NO - Norway","NO - Norway","NO - Norway","NO - Norway","NO - Norja","NO - Norway","NO - Norway","NO - Norway","NO - Norway","NO - Norway","NO - Norway","NO - Norway"]
[null,"PL - Poland","PL - Poland","PL - Poland","PL - Polónia","PL - Poland","PL - Poland","PL - Poland","PL - Poland","PL - Puola","PL - Poland","PL - Poland","PL - Poland","PL - Poland","PL - Poland","PL - Poland","PL - Poland"]
[null,"PT - Portugal","PT - Portugal","PT - Portugal","PT - Portugal","PT - Portugal","PT - Portugal","PT - Portugal","PT - Portugal","PT - Portugali","PT - Portugal","PT - Portugal","PT - Portugal","PT - Portugal","PT - Portugal","PT - Portugal","PT - Portugal"]
[null,"RO - Romania","RO - Romania","RO - Romania","RO - Roménia","RO - Romania","RO - Romania","RO - Romania","RO - Romania","RO - Romania","RO - Romania","RO - Romania","RO - Romania","RO - Romania","RO - Romania","RO - Romania","RO - Romania"]
[null,"RU - Russia","RU - Russia","RU - Russia","RU - Rússia","RU - Russia","RU - Russia","RU - Russia","RU - Russia","RU - Venäjä","RU - Russia","RU - Russia","RU - Russia","RU - Russia","RU - Russia","RU - Russia","RU - Russia"]
[null,"SM - San Marino","SM - San Marino","SM - San Marino","SM - San Marino","SM - San Marino","SM - San Marino","SM - San Marino","SM - San Marino","SM - San Marino","SM - San Marino","SM - San Marino","SM - San Marino","SM - San Marino","SM - San Marino","SM - San Marino","SM - San Marino"]
[null,"RS- Serbia","RS- Serbia","RS- Serbia","RS - Sérvia","RS- Serbia","RS- Serbia","RS- Serbia","RS- Serbia","RS- Serbia","RS- Serbia","RS- Serbia","RS- Serbia","RS- Serbia","RS- Serbia","RS- Serbia","RS- Serbia"]
[null,"SK - Slovakia","SK - Slovakia","SK - Slovakia","SK - Eslóvaquia","SK - Slovakia","SK - Slovakia","SK - Slovakia","SK - Slovakia","SK - Slovakia","SK - Slovakia","SK - Slovakia","SK - Slovakia","SK - Slovakia","SK - Slovakia","SK - Slovakia","SK - Slovakia"]
[null,"SI - Slovenia","SI - Slovenia","SI - Slovenia","SI - Eslóvenia","SI - Slovenia","SI - Slovenia","SI - Slovenia","SI - Slovenia","SI - Slovenia","SI - Slovenia","SI - Slovenia","SI - Slovenia","SI - Slovenia","SI - Slovenia","SI - Slovenia","SI - Slovenia"]
[null,"ES - Spain","ES - Spain","ES - Spain","ES - Espanha","ES - Spain","ES - Spain","ES - Spain","ES - Spain","ES - Espania","ES - Spain","ES - Spain","ES - Spain","ES - Spain","ES - Spain","ES - Spain","ES - Spain"]
[null,"SE - Sweden","SE - Sweden","SE - Sweden","SE - Suécia","SE - Sweden","SE - Sweden","SE - Sweden","SE - Sweden","SE - Ruotsi","SE - Sweden","SE - Sweden","SE - Sweden","SE - Sweden","SE - Sweden","SE - Sweden","SE - Sweden"]
[null,"CH - Switzerland","CH - Switzerland","CH - Switzerland","CH - Suiça","CH - Switzerland","CH - Switzerland","CH - Switzerland","CH - Switzerland","CH - Sveitsi","CH - Switzerland","CH - Switzerland","CH - Switzerland","CH - Switzerland","CH - Switzerland","CH - Switzerland","CH - Switzerland"]
[null,"TR - Turkey","TR - Turkey","TR - Turkey","TR - Turquia","TR - Turkey","TR - Turkey","TR - Turkey","TR - Turkey","TR - Turkki","TR - Turkey","TR - Turkey","TR - Turkey","TR - Turkey","TR - Turkey","TR - Turkey","TR - Turkey"]
[null,"UA - Ukraine","UA - Ukraine","UA - Ukraine","UA - Ucrânia","UA - Ukraine","UA - Ukraine","UA - Ukraine","UA - Ukraine","UA - Ukraina","UA - Ukraine","UA - Ukraine","UA - Ukraine","UA - Ukraine","UA - Ukraine","UA - Ukraine","UA - Ukraine"]
[null,"GB - United Kingdom","GB - United Kingdom","GB - United Kingdom","GB - Reino Unido","GB - United Kingdom","GB - United Kingdom","GB - United Kingdom","GB - United Kingdom","GB - Yhdistynyt Kuningaskunta","GB - United Kingdom","GB - United Kingdom","GB - United Kingdom","GB - United Kingdom","GB - United Kingdom","GB - United Kingdom","GB - United Kingdom"]
[null,"VA - Vatican City","VA - Vatican City","VA - Vatican City","VA - Cidade do Vaticano","VA - Vatican City","VA - Vatican City","VA - Vatican City","VA - Vatican City","VA - Vatikani","VA - Vatican City","VA - Vatican City","VA - Vatican City","VA - Vatican City","VA - Vatican City","VA - Vatican City","VA - Vatican City"]
[null,"?? - Other Countries","?? - Other Countries","Andere Länder","?? - Outros Países","?? Autres pays","?? - Otros países","Altre Nazioni","?? - Andre lande","Muut maat","?? - inne państwa","?? - Andere landen","?? - Druge države","?? - Jiné země","?? - Egyéb ország","Andra länder?","Другие страны"]
[null,""]
[null,"RefRepType","RefRepType"]
[null,""]
[null,"Transport Service","Transport Service"]
[null,"Cleaning","Cleaning"]
[null,"CDI-tco","CDI-tco"]
[null,""]
[null,""]
[null,{"$f":"IF(LEN(TEXT(OFFSET(B68,0,langsel),\"\"))>0,TEXT(OFFSET(B68,0,langsel),\"\"),TEXT(C68,\"\"))","v":""}]
[null,"in rural or sparsely operated area","in rural or sparsely operated area"]
[null,"in light industrial, non-residential area","in light industrial, non-residential area"]
[null,"in heavy industrial area","in heavy industrial area"]
[null,"in densely populated area","in densely populated area"]
[null,"minimum 100 meters away from a watercourse for domestic use","minimum 100 meters away from a watercourse for domestic use"]
[null,""]
[null,""]
[null,""]
[null,"towards residential areas within 1 km","towards residential areas within 1 km"]
[null,"crosswind to a residential area","crosswind to a residential area"]
[null,"in upwind position to a residential area","in upwind position to a residential area"]
[null,""]
[null,""]
[null,""]
[null,"Yes","Yes","Ja ","Sim","Oui","Si","SI ","Ja","Kyllä","Tak","Ja","DA","Ano","Igen","Ja","ДА"]
[null,"No","No","Nein ","Não","Non","No","No ","Nej ","Ei","Nie","Neen","NE","Ne","Nem","Nej","НЕТ"]
[null,"N/A","N/A","Nicht anwendbar","N/A (Não aplicável)","N/A","N/A","N/A - Non Applicabile","N/A","Ei sovellettavissa","Nie dotyczy","NVT","N/A  \"ne pride v poštev\"","N/A","Nem alkalmazható","Inte tillämpligt","НЕ ПРИМЕНИМО (N/A)"]
[null,""]
[null,"Responsible Care type","Responsible Care type"]
[null,""]
[null,"ECTA","ECTA","ECTA","ECTA","GPCA","ECTA","ECTA","ECTA","ECTA","ECTA","ECTA","ECTA","ECTA","ECTA","ECTA","ECTA"]
[null,"FECC","FECC","FECC","FECC","FECC","FECC","FECC","FECC","FECC","FECC","FECC","FECC","FECC","FECC","FECC","FECC"]
[null,"CBA","CBA","CBA","CBA","CBA","CBA","CBA","CBA","CBA","CBA","CBA","CBA","CBA","CBA","CBA","CBA"]
[null,"VCH","VCH","VCH","VCH","VCH","VCH","VCH","VCH","VCH","VCH","VCH","VCH","VCH","VCH","VCH","VCH"]
[null,"VHCP","VHCP","VHCP","VHCP","VHCP","VHCP","VHCP","VHCP","VHCP","VHCP","VHCP","VHCP","VHCP","VHCP","VHCP","VHCP"]
[null,"Other","Other","Andere ","Outras Entidades","Autre","Otros","Altro","Andre","Muu ","Inny","Andere ","Drugo","Jiné","Egyéb","Andra","Другие"]
[null,""]
[null,"Type Of Cleaning","Type Of Cleaning"]
[null,""]
[null,"A : less than 100 / year","A : less than 100 / year","A: weniger als 100 / Jahr","A : menos de 100 / ano","A: moins que 100/année","A: menos de 100 por año","A: meno di 100 / anno","A: mindre end 100 /år","A: vähemmän kuin 100 / vuosi","A: mniej niż 100 / rok","A : minder dan 100 / jaar","A: manj kot 100/leto","A : méně než 100 / rok","A: kevesebb, mint 100/ év","A : Färre än 100 / år","A: менее 100 / год"]
[null,"B : 101 - 1000 /year","B : 101 - 1000 /year","B: 101 - 1000 / Jahr","B : 101 - 1.000 / ano","B: 101 - 1000/année","B: 101 - 1000 por año","B: da 101 a 1000 / anno","B: 101 - 1000 /år","B: 101 - 1000/vuosi","B: 101 - 1000 / rok","B : 101 - 1000 /jaar","B: 101 - 1000/leto","B : 101 - 1000 / rok","B: 101-1000/ év","B : 101 - 1000 /år","B: 101 - 1000 / год"]
[null,{"$f":"IF(LEN(TEXT(OFFSET(B100,0,langsel),\"\"))>0,TEXT(OFFSET(B100,0,langsel),\"\"),TEXT(C100,\"\"))","v":"C : 1001 - 10.000/year"},"C : 1001 - 10.000/year","C: 1010-10000 /Jahr","C : 1001 - 10.000 / ano","C: 1001 - 10.000/année","C: 1001 - 10000 por año","C: da 1001 a 10000 / anno","C: 1001 - 10.000 /år","C: 1001 - 10 000/vuosi","C: 1001 - 10000 / rok","C : 1001 - 10.000/jaar","C: 1001 - 10.000/leto","C : 1001 - 10.000 / rok","C: 1001-10000/év","C : 1001 - 10.000/år","C: 1001 - 10.000 / год"]
[null,"D : more than 10.000/yr","D : more than 10.000/yr","D: mehr als 10000 /Jahr","D : mais de 10.000 / ano","D: plus de 10.000/année","D: más de 10000 por año","D: più di 100000 / anno","D: mere end 10.000 /år","D: enemmän kuin 10 000/vuosi","D: powyżej 10000 / rok","D : meer dan 10.000/jaar","D: več kot 10.000/leto","D : více než 10.000 / rok","D: több, mint 10 000/év","D : Fler än 10.000/år","D: более 10.000 / год"]
[null,""]
[null,"Employes number","Employes number"]
[null,""]
[null,"Less than 10","Less than 10","weniger als 10","Menos de 10","Moins de 10","Menos de 10","meno di 10","Mindre end 10","Vähemmän kuin 10","Mniej niż 10","Minder dan 10","Manj kot 10","Méně než 10","Kevesebb, mint 10","Färre än 10","менее 10"]
[null,{"$f":"IF(LEN(OFFSET(B106,0,langsel))>0,OFFSET(B106,0,langsel),C106)","v":"10-50"},"10-50","10 bis 50","10 a 50","entre 10 et 50","Entre 10 y 50","da 10 a 50","10-50","10-50","10-50","10-50","Od 10 do 50","od 10 do 50","10-50","10-50","10 до 50"]
[null,{"$f":"IF(LEN(TEXT(OFFSET(B107,0,langsel),\"\"))>0,TEXT(OFFSET(B107,0,langsel),\"\"),TEXT(C107,\"\"))","v":"more than 50"},"more than 50","mehr als 50","mais de 50","plus de 50","Más de 50","più di 50","mere end 50","yli 50","więcej niż 50","meer dan 50","Več kot 50","více než 50","több, mint 50","Fler än 50","более 50"]
[]
[]
[null,"AE - United Arab Emirates","AE - United Arab Emirates","AE - United Arab Emirates","AE - United Arab Emirates","AE - United Arab Emirates","AE - United Arab Emirates","AE - United Arab Emirates","AE - United Arab Emirates","AE - United Arab Emirates","AE - United Arab Emirates","AE - United Arab Emirates","AE - United Arab Emirates","AE - United Arab Emirates","AE - United Arab Emirates","AE - United Arab Emirates","AE - United Arab Emirates"]
[null,"BH - Kingdom of Bahrain","BH - Kingdom of Bahrain","BH - Kingdom of Bahrain","BH - Kingdom of Bahrain","BH - Kingdom of Bahrain","BH - Kingdom of Bahrain","BH - Kingdom of Bahrain","BH - Kingdom of Bahrain","BH - Kingdom of Bahrain","BH - Kingdom of Bahrain","BH - Kingdom of Bahrain","BH - Kingdom of Bahrain","BH - Kingdom of Bahrain","BH - Kingdom of Bahrain","BH - Kingdom of Bahrain","AE - United Arab Emirates"]
[null,"KW - Kuwait","KW - Kuwait","KW - Kuwait","KW - Kuwait","KW - Kuwait","KW - Kuwait","KW - Kuwait","KW - Kuwait","KW - Kuwait","KW - Kuwait","KW - Kuwait","KW - Kuwait","KW - Kuwait","KW - Kuwait","KW - Kuwait","AE - United Arab Emirates"]
[null,"OM - Sultanate of Oman","OM - Sultanate of Oman","OM - Sultanate of Oman","OM - Sultanate of Oman","OM - Sultanate of Oman","OM - Sultanate of Oman","OM - Sultanate of Oman","OM - Sultanate of Oman","OM - Sultanate of Oman","OM - Sultanate of Oman","OM - Sultanate of Oman","OM - Sultanate of Oman","OM - Sultanate of Oman","OM - Sultanate of Oman","OM - Sultanate of Oman","AE - United Arab Emirates"]
[null,"QA - Qatar","QA - Qatar","QA - Qatar","QA - Qatar","QA - Qatar","QA - Qatar","QA - Qatar","QA - Qatar","QA - Qatar","QA - Qatar","QA - Qatar","QA - Qatar","QA - Qatar","QA - Qatar","QA - Qatar","AE - United Arab Emirates"]
[null,"SA - Kingdom of Saudi Arabia","SA - Kingdom of Saudi Arabia","SA - Kingdom of Saudi Arabia","SA - Kingdom of Saudi Arabia","SA - Kingdom of Saudi Arabia","SA - Kingdom of Saudi Arabia","SA - Kingdom of Saudi Arabia","SA - Kingdom of Saudi Arabia","SA - Kingdom of Saudi Arabia","SA - Kingdom of Saudi Arabia","SA - Kingdom of Saudi Arabia","SA - Kingdom of Saudi Arabia","SA - Kingdom of Saudi Arabia","SA - Kingdom of Saudi Arabia","SA - Kingdom of Saudi Arabia","AE - United Arab Emirates"]

{"sheet":"lang","index":13,"n_rows":833,"n_cols":17,"rows_kept":833,"cut":false,"hidden":true,"merged":[]}
[{"$f":"TEXT(OFFSET(A1,0,langsel),\"\")","v":"English"},"English","German","Portuguese","French","Spanish   ","ITALIAN   ","Danish    ","Finnish    ","POLISH    ","Dutch","SLOVENIAN ","CZECH     ","Hungarian","Swedish","Russian"]
[{"$f":"TEXT(OFFSET(A2,0,langsel),\"\")","v":"English"},"English","Deutsch ","Português","Français ","Español ","Italiano ","Dansk","Suomalainen","Polska","Nederlands","Slovensko","Česky","Magyar","Svenska","Русский"]
["Status, Headers and messages","Status, Headers and messages"]
[{"$f":"IF(ISERROR(IF(LEN(TEXT(OFFSET(A4,0,langsel),\"\"))>0,TEXT(OFFSET(A4,0,langsel),\"\"),TEXT(B4,\"\"))),IF(LEN(OFFSET(A4,0,langsel))>0,OFFSET(A4,0,langsel),B4),IF(LEN(TEXT(OFFSET(A4,0,langsel),\"\"))>0,TEXT(OFFSET(A4,0,langsel),\"\"),TEXT(B4,\"\")))","v":"Select language"},"Select language","Gewählte Sprache","Seleccione linguagem","Sélection de la langue","Seleccionar idioma","Scegliere Lingua","Vælg sprog","Valitse kieli","Wybierz język","Selecteer taal","Izberi jezik","Zvolte jazyk","Választott nyelv","Välj språk","Выберите язык"]
["Template Version ","Template Version ","Version Dokumentenvorlage","Versão \"template\"","Version du template","Versión del cuestionario","Versione del modello","Skabelons version","Mallin versio","Wersja szblonu","Template versie","Verzija obrazca","Šablona - verze","Verzió","Mall version","Версия документа"]
["Template Date","Template Date","Datum Dokumentenvorlage","Data do \"template\"","Date du template","Fecha del cuestionario","Data del modello","Skabelonsdato","Mallin päiväys","Data szblonu","Template datum","Datum obrazce","Šablona - datum","Dátum","Mall datum","Дата документа"]
["Document Status","Document Status","Dokumentenstatus","Estado (status) do documento","Status du document","Estado del documento","Stato del documento","Dokumentstatus","Asiakirjan tila","Status dokumentu","Status Document","Status dokumenta","Statut dokumentu","Dokumentum állapot","Dokument status","Статус документа"]
["Sheet","Sheet","Blatt","Folha","Feuille","Página","Foglio","Ark","Välilehti","Arkusz","Pagina","List","List","Oldal","Ark","Лист"]
["State","State","Status","Estado","Status","Estado del documento","Stato","Status","Tila","Status ","Status Document","Status","Statut","állapot","Status","Состояние"]
["General Information","General Information","Allgemeine Informationen","Informação Geral","Information générale","Información general","Informazioni generali","Generel information","Yleinen informaatio","Informacje ogólne","Algemene informatie","Splošne informacije","Všeobecné informace","Általános információk","Allmän information","Общая информация"]
["Transport Services","Transport Services","Transport Dienstleistungen","Serviços de Transporte","Service de Transport","Servicio de transporte","Servizi di Trasporto","Transportservices","Kuljetuspalvelut","Usługi transportowe","Vervoersdienst","Transportna storitev","Dopravní služby","Közúti szolgáltatások","Transporttjänster","Транспортные услуги"]
["Tank Cleaning","Tank Cleaning","Tankreinigung","Estação de Lavagem","Lavage de citerne","Estaciones de lavado","Stazione di Lavaggio","Tankrensning","Säiliön puhdistus","Myjnia cystern","Tankreiniging","Storitev čiščenja","Čistící stanice","Tartálytisztítás","Tankrengöring","Очистка цистерн"]
["ESAD","ESAD","ESAD","ESAD","ESAD","ESAD","ESAD","ESAD","ESAD","ESAD","ESAD","ESAD","ESAD","ESAD","ESAD","ESAD / Дистрибьюция"]
["Warehouse - GI","Warehouse - GI","Lagereibetrieb - GI","Armazém - GI (Informação Geral)","Entrepôt - G1","Almacenes - GI","Deposito - Gl","Lager - GI","Varasto - GI","Magazyn - GI","Magazijn - Gl","Skladišče - GI","Skladování - Gl","Raktár - GI","Lagerlokal - Allmän Information","Склад – общая информация"]
["Warehouse - 1","Warehouse - 1","Lagereibetrieb - 1","Armazém - 1","Entrepôt - 1","Almacenes - 1","Deposito - 1","Lager - 1","Varasto - 1","Magazyn - 1","Magazijn - 1","Skladišče - 1","Skladování - 1","Raktár - 1","Lagerlokal - 1","Склад – 1"]
["Warehouse - FCI","Warehouse - FCI","Lagereibetrieb - FCI","Armazém - FCI (Informação Contra Incêndios)","Entrepôt - FC1","Almacenes - FCI","Deposito - FCl","Lager - FCI","Varasto - FCI","Magazyn - FCI","Magazijn - FCl","Skladišče - FCI","Skladování - FCl","Raktár -FCI","Lagerlokal - Brandcellsinformation","Склад - Информация о противопожарных отсеков (ИПО)"]
["Warehouse - 2","Warehouse - 2","Lagereibetrieb - 2","Armazém - 2","Entrepôt - 2","Almacenes - 2","Deposito - 2","Lager - 2","Varasto - 2","Magazyn - 2","Magazijn - 2","Skladišče - 2","Skladování - 2","Raktár - 2","Lagerlokal - 2","Склад – 2"]
["Warehouse - 3","Warehouse - 3","Lagereibetrieb - 3","Armazém - 3","Entrepôt - 3","Almacenes - 3","Deposito - 3","Lager - 3","Varasto - 3","Magazyn 3","Magazijn - 3","Skladišče - 3","Skladování - 3","Raktár -3","Lagerlokal - 3","Склад – 3"]
["Warehouse","Warehouse","Lagereibetrieb","Armazém","Entrepôt","Almacenes ","Deposito","Lager","Varasto","Magazyn","Magazijn","Skladišče","Skladování","Raktár","Lagerlokal","Склад"]
["WH - II(1)","WH - II(1)","WH - II(1)","WH - II(1)","WH - II(1)","WH - II(1)","Deposito - II(1)","WH - II(1)","WH - II(1)","WH - II(1)","WH - II(1)","WH - II(1)","WH - II(1)","Rkt - II(1)","WH - II(1)","Склад – II(1)"]
["WH - FCI","WH - FCI","WH - FCI","WH - FCI","WH - FCI","WH - FCI","Deposito - FCI","WH - FCI","WH - FCI","WH - FCI","WH - FCI","WH - FCI","WH - FCI","Rkt - FCI","WH - FCI","Склад – ИПО"]
["WH - II(2)","WH - II(2)","WH - II(2)","WH - II(2)","WH - II(2)","WH - II(2)","Deposito - II(2)","WH - II(2)","WH - II(2)","WH - II(2)","WH - II(2)","WH - II(2)","WH - II(2)","Rkt - II(2)","WH - II(2)","Склад – II(2)"]
["WH - II(3)","WH - II(3)","WH - II(3)","WH - II(3)","WH - II(3)","WH - II(3)","Deposito - II(3)","WH - II(3)","WH - II(3)","WH - II(3)","WH - II(3)","WH - II(3)","WH - II(3)","Rkt - II(3)","WH - II(3)","Склад – II(3)"]
["Rail","Rail","Schienentransport","Ferroviário","Rail","Rail","Ferrovia","Jernbane","Rautatie","Kolej","Spoor","Železnica","Kolej","Vasút","Järnväg","Железнодорожный транспорт"]
["Corrupted","Corrupted","Korrumpiert","Corrompido (danificado)","Endommagé","Dañado","Corrotto","Ødelagt","Vahingoittunut","Błędny","Gecorrumpeerd","Popačeno","Zkaženo","Hibás","Skadad","Поврежденный"]
["Not yet completed","Not yet completed","Noch nicht vollständig","Preenchimento incompleto","Pas encore complété","Todavía sin completar","Non ancora completato","Endnu ikke fuldført","Ei vielä viimeistelty","Nie dokończony","Nog niet volledig","Nedokončano","Dosud nedokončeno","Még nem teljes","Ännu inte komplett","Пока не завершен"]
["Completed","Completed","Vollständig","Completo","Complété","Completado","Completato","Fuldført","Viimeistelty","Ukończony","Beëindigd","Končano","Dokončeno","Teljes","Komplett","Завершенный"]
["Overall","Overall","Gesamt","Geral","Globalement","Totalidad","Complessivo","Overordnet","Kokonaistilanne","Ogólnie","Algemeen","Vse","Celkově","Egész","Total","Общий"]
["Estimated assessment time (hours)","Estimated assessment time (hours)","Veranschlagte Dauer des Assessments (Stunden)","Tempo estimado da avaliação (horas)","Temps estimé pour l'évaluation (heures)","Tiempo estimado de evaluación (horas)","Tempo stimato di verifica (ore)","Skønnet assessment tid (timer)","Arvioitu arviointiaika (tuntia)","Szacunkowy czas (w godzinach)","Geschatte duur van de audit (uren)","Ocenjeni čas presoje (ur)","Odhadovaná doba hodnocení","Becsült audit idő (órában)","Uppskattad tid för granskning (timmar)","Расчетная оценка времени (в часах)"]
["This sheet needs to be answered","This sheet needs to be answered","Dieses Blatt muss beantwortet werden","Responda a esta folha","Il est nécessaire de répondre à cette feuille","Este apartado necesita ser contestado","Questo foglio necessita di essere compilato","Dette ark skal udfyldes","Tämä välilehti pitää täyttää","Ten arkusz wymaga odpowiedzi","Deze pagina moet ingevuld worden","Ta list je potrebno odgovoriti","Tento list musí být zodpovězen","Ezt az oldalt kötelező kitölteni","Detta ark måste besvaras","Этот лист должен быть заполнен"]
["This sheet doesn't need to be answered","This sheet doesn't need to be answered","Dieses Blatt muss nicht beantwortet werden","Não responda a esta folha","Il n'est pas nécessaire de réponder à cette feuille","Este apartado no necesita ser contestado","Questo foglio non necessita di essere compilato","Dette ark skal ikke udfyldes","Tätä välilehteä ei tarvitse täyttää","Ten arkusz nie wymaga odpowiedzi","Deze pagina moet niet ingevuld worden","Ta list ni potrebno odgovoriti","Tento list nemusí být zodpovězen","Ezt az oldalt nem kötelező kitölteni","Detta ark behöver inte besvaras","Этот лист не должен быть заполнен"]
["Integrity of this sheet was corrupted!","Integrity of this sheet was corrupted!","Vollständigkeit diese Blattes wird angezweifelt!","A integridade desta folha foi corrompida (danificada)","L'intégrité de cette feuille était endommagée","La integridad de este apartado está dañada","L'integrita di questo foglio è corrotta","Helheden af dette ark var ødelagt ","Tämän välilehden eheys on vahingoittunut","Brak ciągłości arkusza","De integriteit van deze pagina werd gecorrumpeerd!","Integriteta tega lista je popačena/neustrezna!","Celistvost tohoto listu byla porušena!","Az oldal nem egységesen van kitöltve!","Informationen i arket var skadad!","Целостность этой таблицы была повреждена!"]
["This sheet is completed","This sheet is completed","Dieses Blatt ist vollständig","Esta folha está completa","Cette feuille est complétée","Este apartado está completo","Questo foglio è completo","Dette ark er udfyldt","Tämä välilehti on viimeistelty","Ten arkusz jest gotowy","Deze pagina is beëindigd","List je končan","Tento list je kompletní","Az oldal kitöltése teljes","Detta ark är komplett","Этот лист завершен"]
["This sheet is not yet completed","This sheet is not yet completed","Dieses Blatt ist noch nicht vollständig","Esta folha não está completa","Cette feuille n'est pas encore complétée","Este apartado no está completo aún","Questo foglio non è completo","Dette ark er endnu ikke udfyldt","Tätä välilehteä ei ole vielä viimeistelty","Ten arkusz nie jest ukończony","Deze pagina is nog niet volledig","List še ni končan","Tento list ještě není kompletní","Az oldal még nincs teljesen kitöltve","Detta ark är inte komplett","Этот лист еще не завершен"]
["Integrity of the document was corrupted!","Integrity of the document was corrupted!","Vollständigkeit dieses Dokuments wird angezweifelt!","A integridade do documento foi corrompido (danificado)","L'intégrité du document était corrompu","La intgridad del documento está dañada","L'integrità di questo documento è corrotta","Helheden af dette dokument var ødelagt","Asiakirjan eheys on vahingoittunut","Brak ciągłości dokumentu","De integriteit van het document werd gecorrumpeerd!","Integriteta dokumenta je popačena/neustrezna!","Celistvost tohoto souboru byla porušena!","A dokumentum nem egységesen van kitöltve","Informationen i dokumentet var skadad!","Целостность документа была повреждена!"]
["The document is completed","The document is completed","Das Dokument ist vollständig","O documento está completo","Le document est complété","El documento está completo","Il documento è completo","Dette dokument er udfyldt","Tämä asiakirja on viimeistelty","Ten dokument jest gotowy","Het document is beëindigd","Dokument je kočan","Dokument je kompletní","A dokumentum kitöltése teljes","Dokumentet är komplett","Этот документ завершен"]
["The document is not yet completed","The document is not yet completed","Das Dokument ist nioch nicht vollständig","O documento não está completo","Le document n'est pas encore complété","El documento aún no está completo","Il documento non è ancora completo","Dette dokument er endnu ikke udfyldt","Tämä asiakirja ei ole vielä viimeistelty","Ten dokumnet nie jest ukończony","Het document is nog niet volledig","Dokument še ni končan","Dokument ještě není kompletní","A dokumentum még nincs teljesen kitöltve","Dokumentet är ännu inte komplett","Этот документ еще не завершен"]
["Gulf SQAS 2018","Gulf SQAS 2018","Gulf SQAS 2018","Gulf SQAS 2018","Gulf SQAS 2018","Gulf SQAS 2018","Gulf SQAS 2018","Gulf SQAS 2018","Gulf SQAS 2018","Gulf SQAS 2018","Gulf SQAS 2018","Gulf SQAS 2018","Gulf SQAS 2018","Gulf SQAS 2018","Gulf SQAS 2018","Gulf SQAS 2018"]
[{"$f":"IF(ISERROR(IF(LEN(TEXT(OFFSET(A39,0,langsel),\"\"))>0,TEXT(OFFSET(A39,0,langsel),\"\"),TEXT(B39,\"\"))),IF(LEN(OFFSET(A39,0,langsel))>0,OFFSET(A39,0,langsel),B39),IF(LEN(TEXT(OFFSET(A39,0,langsel),\"\"))>0,TEXT(OFFSET(A39,0,langsel),\"\"),TEXT(B39,\"\")))","v":"(Please, complete a PAD for every site to be assessed)"},"(Please, complete a PAD for every site to be assessed)","Bitte ein PAD für jeden Standort, der bewertet wird, ausfüllen ","(Por favor, complete o PAD para cada site a avaliar)","(Merci de compléter un PAD pour chaque site à évaluer) ","(Por favor, complete un PAD por cada sitio a ser evaluado)","(Si prega di compilare il PAD per ogni sito oggetto di verifica)","Udfyld venligst 1 PAD dokument for hver adresse, der skal have assesment","(Olkaa hyvä ja täyttäkää PAD jokaisesta arvioitavasta toimipisteestä)"," (Proszę  wypełnić PAD dla każdej z lokalizacji, która ma być audytowana)","(vul een PAD in voor elke te auditeren site a.u.b.)","Prosim izpolnite PAD dokument za vsako lokacijo, ki bo presojana","(Prosím, vyplňte PAD pro každé místo, které má být hodnoceno)","Kérjük a PAD-et minden auditált telephelyre külön töltse ki","(Vänligen fyll i en PAD för varje plats som skall granskas)","(Пожалуйста, заполните PAD для каждого места, которое надо быть оценено)"]
["ASSESSMENT INFORMATION AND SCOPE - Part I","ASSESSMENT INFORMATION AND SCOPE - Part I","ASSESSMENT INFORMATION UND BEREICH - TEIL 1","INFORMAÇÃO E ÂMBITO DA AVALIAÇÃO - Parte I","Information relative à l'évaluation et champ - Partie 1","Información de evaluación y alcance - Parte 1","INFORMAZIONI SULLA VERIFICA E SCOPO - Parte I","Assessment information og scope - Del I","ARVIOINNIN TIEDOT JA LAAJUUS - Osa I","INFORMACJE O OCENIE i ZAKRES - CZĘŚĆ I","AUDIT INFORMATIE EN TOEPASSINGSGEBIED - Deel I","INFORMACIJA O PRESOJI IN OBSEG - DEL I","Informace k hodnocení a rozsah hodnocení - část I","Audit információk és terület (scope) I. Rész","INFORMATION OCH OMFATTNING AV GRANSKNING - Del I","ИНФОРМАЦИЯ ПО ОЦЕНКЕ И ОХВАТ - Часть I"]
["ASSESSMENT INFORMATION AND SCOPE - Part II","ASSESSMENT INFORMATION AND SCOPE - Part II","ASSESSMENT INFORMATION UND BEREICH - TEIL 2","INFORMAÇÃO E ÂMBITO DA AVALIAÇÃO - Parte II","Information relative à l'évaluation et champ - Partie 2","Información de evaluación y alcance - Parte 2","INFORMAZIONI SULLA VERIFICA E SCOPO - Parte II","Assessment information og scope - Del II","ARVIOINNIN TIEDOT JA LAAJUUS - Osa II","INFORMACJE O OCENIE i ZAKRES - CZĘŚĆ II","AUDIT INFORMATIE EN TOEPASSINGSGEBIED - Deel II","INFORMACIJA O PRESOJI IN OBSEG - DEL II","Informace k hodnocení a rozsah hodnocení - část II","Audit információk és terület (scope) II. Rész","INFORMATION OCH OMFATTNING AV GRANSKNING - Del II","ИНФОРМАЦИЯ ПО ОЦЕНКЕ И ОХВАТ - Часть II"]
["(Items marked with a (*) and/or magenta background must always be completed)","(Items marked with a (*) and/or magenta background must always be completed)","(Punkte die mit (*) und/oder mit einem Hintergrund in Magenta markiert sind müssen immer vollständig sein)","(Items marcados com (*) e/ou a fundo de cor magenta têm de ser sempre preenchidos)","Les points marqués avec un astérisque (*) et/ou avec une couleur de fond magenta doivent toujours être complétés)","(Los elementos marcados con (*) y/o sombreados en magenta deben ser completados siempre)","Gli elementi con (*) e/o con lo sfondo color magenta devono essere sempre completati","(punkter markeret med (*) og/eller gul baggrund skal altid udfyldes)","(kohdat, jotka on (') merkitty ja/tai joilla on punainen tausta, on aina täytettävä)","(cześci oznaczone gwiadką i zaznaczone fioletowym tłem muszą być uzupełnione)","(Items voorzien van een (*) en/of met een magenta achtergrond moeten altijd ingevuld worden)","(Pozicije označene z zvezdico(*) in/ali škrlatno ozadje je obvezen odgovor)","(Obsah označený (*) a/nebo barevným podkladem musí být vyplněn)","A (*)-gal vagy lila háttérrel megjelölt elemek kitöltése kötelező","(objekt markerade med (*) och/eller magenta bakgrund måste alltid fyllas i)","(Поля, отмеченные звездочкой (*) и / или пурпурного фона, всегда надо пополнять)"]
["(For checkboxes \"checked\" means \"Yes\", \"unchecked\" - \"No\")","(For checkboxes \"checked\" means \"Yes\", \"unchecked\" - \"No\")","(Für Kontrollkästchen bedeutet \"kontrolliert\" \"Ja\", \"unkontrolliert\" bedeutet \"Nein\")","(As \"respostas assinaladas\" como \"verificado\" interpreta-se como \"Sim\" e as \"respostas não assinaladas\" - \"Não\"","Pour les cases d'option, \"vérifié\" veut dire \"Oui\", \"non vérfifé\"  - \"Non\")","(Para casillas \"comprobadas\" \"Yes\", para no comprobadas \"No\")","I campi marcati significano \"SI\" i campi non marcati \"NO\"","(afkrydsningsfelter som er afkrydset betyder \"ja\", og tomt felt betyder \"nej\")","(Valintaruuduissa \"valittu\" tarkoittaa \"Kyllä\", valitsematta jättäminen - \"Ei\"","(Pola sprawdzenia oznaczją ''sprawdone'' = TAK, ''nie sprawdozne\" = NIE","(Voor keuzevakjes betekent aanvinken \"Ja\" indien geverifieerd en \"Neen\" in het andere geval)","(V kvadratkih \"označeno\" pomeni \"da\" in \"ne označeno\" pomeni \"ne\")","(Pro políčka \"kontrolováno\" znamená \"Ano\", \"nekontrolováno\" - \"Ne\"","Az ellenőrződoboz bejelölése \"Igen\", üresen hagyása \"Nem\" választ jelent.","(För kryssrutor \"ikryssad menas \"Ja\", \"ej ikryssad\" - \"Nej\")","(Для флажков \"проверен\" означает \"Да\", \"непроверен\" - \"Нет\")"]
["Name ","Name ","Name","Nome","Nom","Nombre","Nome","Navn","Nimi","Nazwa","Naam","Ime","Jméno","Név","Namn","Имя"]
["N/A yet","N/A yet","Doch nicht anwendbar ","N/A - Não aplicável até à data","Encore N/A","N/A todavía","N/A ancora","Endnu N/A","Ei vielä sovellettavissa","Nie dotyczy jeszcze","Nog niet van toepassing","N/A  še ne pride v poštev ","N/A zatím","Még nem alkalmazható","Ej tillämpligt än","Еще не применимо"]
["Please check the next sheet","Please check the next sheet","Bitte überprüfen Sie das nächste Blatt","Por favor verifique a folha seguinte","Merci de vérifier la feuille suivante","Por favor compruebe el siguiente apartado","Si prega verificare il foglio seguente","Tjek venligst næste ark","Ole hyvä ja tarkasta seuraava välilehti","Sprawdź następny arkusz","Controleer de volgende pagina a.u.b.","Prosim preverite naslednji list","Prosím, zkontrolujte další list","Jelölje a következő oldalon","Vänligen kontrollera nästa ark","Пожалуйста, проверьте следующий лист"]
["General Information","General Information"]
[{"$f":"IF(ISERROR(IF(LEN(TEXT(OFFSET(A48,0,langsel),\"\"))>0,TEXT(OFFSET(A48,0,langsel),\"\"),TEXT(B48,\"\"))),IF(LEN(OFFSET(A48,0,langsel))>0,OFFSET(A48,0,langsel),B48),IF(LEN(TEXT(OFFSET(A48,0,langsel),\"\"))>0,TEXT(OFFSET(A48,0,langsel),\"\"),TEXT(B48,\"\")))","v":"Assessment information"},"Assessment information","Assessment Information","Informação sobre a avaliação","Information relative à l'évaluation","Información de la evaluación","Informazioni sulla verifica","Assessment information","Arvioinnin tiedot","Informacje ocenie","Audit Informatie","Informacija o presoji","Informace k hodnocení","Audit információk","Information om granskning","Информация по оценке"]
["Assessed Company","Assessed Company","Beurteiltes Unternehmen","Empresa avaliada","Société évaluée","Compañía evaluada","Azienda valutata","Assessed virksomhed","Arvioitava yritys","Auditowana Firma","Onderzocht bedrijf","Presojana organizacija","Hodnocená společnost","Az auditált cég","Granskat företag","Оцениваемая компания"]
["Name ","Name ","Name","Nome","Nom","Nombre","Ragione Sociale","Navn","Nimi","Nazwa","Naam","Ime","Název","Név","Namn","Имя"]
["(Use the same name used in the prenotification)","(Use the same name used in the prenotification)","Den gleichen Namen wie in der Prenotification benutzen","(Utilize o mesmo nome registado na pré-notificação)","(Utiliser le même nom que dans la prénotification)","(Use el mismo nombre usado en la prenotificacion)","(Usare lo stesso nome usato nella pre-notifica)","Anvend samme navn som i prenotificationen","(Käytä samma nimeä, joka oli ennakkoilmoituksessa)","(Użyj tej samej nazwy, która została wpisana na pr-notyfication).","(Gebruik dezelfde naam als in de prenotificatie)","(Uporabite isto ime kot pri prijavi)","(Použijte stejný název použitý v prenotification)","Pontosan azt a nevet írja be, mint amit az előregisztrációkor megadott.","(Använd samma namn som använts i föranmälan)","(Используйте то же имя, которое используется в предварительном уведомлении)"]
["Location (=Town/City)","Location (=Town/City)","Ort (= Stadt)","Localidade","Localité","Situación","Località","By","Paikkakunta","Lokalizacja (miasto)","Plaats (= stad/gemeente)","Lokacija (= kraj/mesto)","Místo","Hely (Város)","Ort ","Местонахождение (= город)"]
["Country","Country","Land","País","Pays","País","Paese","Land","Maa","Kraj","Land","Država","Země","Ország","Land","Государство"]
["(Select from the dropdown list)","(Select from the dropdown list)","(Aus der Aufklappliste auswählen)","(Seleccione a partir da lista)","(Sélectionner de la liste déroulante)","(Seleccione de la lista desplegable)","(Selezionare dal menù a tendina)","Vælg land fra drop-down menuen","(Valitse pudotusvalikosta)","(Wybierz z rozwijanej listy)","(kies uit de dropdown lijst)","(Izberite iz liste držav, ki so na voljo v seznamu)"," (Vyberte z rozbalovacího seznamu)","(Válassza ki a listából)"," (Välj från rullgardinsmenyn)","(Выберите из выпадающего списка)"]
["Postal code / P.O. Box","Postal code / P.O. Box","Postleitzahl","Código Postal","Code Postal","Código Postal","Codice Postale","Postnr.","Postinumero","Kod pocztowy","Postcode","Poštna številka","PSČ","Irányítószám","Postnummer","Почтовый код"]
["Postal Address","Postal Address","Anschrift","Morada","Adresse","Dirección","Indirizzo","Adresse","Osoite","Ulica","Adres","Naslov","Adresa","Postacím","Postadress","Почтовый адрес"]
["Phone","Phone","Telefon","Telefone","Téléphone","Teléfono","Telefono","Telefonnr.","Puhelin","Telefon","Telefoon","Telefon","Telefon","Telefon","Telefon","Телефон"]
["Website","Website","Webseite","Website (Sítio na internet)","Site Web","Website","Sito web","Hjemmeside","Internet sivu","Strona www","Website","Spletna stran","Webové stránky","Honlap","Web-sida","Веб-сайт"]
["1. Contact person","1. Contact person","1. Ansprechperson","Pessoa de contacto 1","Personne de contact 1","Persona de contacto 1","1ma persona da contattare","Kontaktperson 1","Yhteyshenkilö 1","Osoba kontaktowa 1","Contact persoon 1","Kontaktna oseba 1","Kontaktní osoba 1","1. Kapcsolattartó","1:a kontaktperson","1. Контактное лицо"]
["Email","Email","E-Mail","E-mail","E-mail","E-mail","E-mail 1ma persona","E-mail Kontaktperson 1","n sähköpostiosoite","E-mail osoby kontaktowej 1","E-mail","E-mail","E-mail","E-mail","E-mail","электронная почта"]
["2. Contact person","2. Contact person","2. Ansprechperson","Pessoa de contacto 2","Personne de contact 2","Persona de contacto 2","2nda persona da contattare","Kontaktperson 2","Yhteyshenkilö 2","Osoba kontaktowa 2","Contact persoon 2","Kontaktna oseba 2","Kontaktní osoba 2","2. Kapcsolattartó","2:a kontaktperson","2. Контактное лицо"]
["Email","Email","E-Mail","E-mail","E-mail","E-mail","E-mail 2nda persona","E-mail Kontaktperson 2","n sähköpostiosoite","E-mail osoby kontaktowej 2","E-mail","E-mail","E-mail","E-mail","E-mail","электронная почта"]
["3. Contact person","3. Contact person","3. Ansprechperson","Pessoa de contacto 3","Personne de contact 3","Persona de contacto 3","3rza persona da contattare","Kontaktperson 3","Yhteyshenkilö 3","Osoba kontaktowa 3","Contact persoon 3","Kontaktna oseba 3","Kontaktní osoba 3","3. Kapcsolattartó","3:e kontaktperson","3. Контактное лицо"]
["Email","Email","E-Mail","E-mail","E-mail","E-mail","E-mail 3rza persona","E-mail Kontaktperson 3","n sähköpostiosoite","E-mail osoby kontaktowej 3","E-mail","E-mail","E-mail","E-mail","E-mail","электронная почта"]
["Headquarter's Name","Headquarter's Name","Name Hauptsitz","Designação da Sede","Nom du Siège Central","Nombre de la oficina central","Ragione Sociale della sede principale","Hovedkontorets navn","Pääkonttorin nimi","Nazwa centrali Firmy (jednostki nadrzędnej)","Naam Hoofdzetel","Ime Centrale/Sedeža podjetja","Název ústředí","Központ neve (Anyacég)","Huvudkontorets namn","Имя штаб-квартиры"]
["Headquarter's Address","Headquarter's Address","Anschrift Hauptsitz","Morada da Sede","Adresse du Siège Central","Dirección de la oficina central","Indirizzo della sede principale","Hovedkontorets adresse ","Pääkonttorin osoite","Adres centrali Firmy (jednostki nadrzędnej)","Adres Hoofdzetel","Naslov Centrale","Adresa ústředí","Központ címe","Huvudkontorets adress","Адрес штаб-квартиры"]
[{"$f":"IF(ISERROR(IF(LEN(TEXT(OFFSET(A67,0,langsel),\"\"))>0,TEXT(OFFSET(A67,0,langsel),\"\"),TEXT(B67,\"\"))),IF(LEN(OFFSET(A67,0,langsel))>0,OFFSET(A67,0,langsel),B67),IF(LEN(TEXT(OFFSET(A67,0,langsel),\"\"))>0,TEXT(OFFSET(A67,0,langsel),\"\"),TEXT(B67,\"\")))","v":"Type of company"},"Type of company"]
[{"$f":"IF(ISERROR(IF(LEN(TEXT(OFFSET(A68,0,langsel),\"\"))>0,TEXT(OFFSET(A68,0,langsel),\"\"),TEXT(B68,\"\"))),IF(LEN(OFFSET(A68,0,langsel))>0,OFFSET(A68,0,langsel),B68),IF(LEN(TEXT(OFFSET(A68,0,langsel),\"\"))>0,TEXT(OFFSET(A68,0,langsel),\"\"),TEXT(B68,\"\")))","v":"Stand alone"},"Stand alone","Eigenständiges Unternehmen","Instalação única","Société Autonome","Evaluacion unica","Monosede",null,"Yksinomaan"," Pojedyncza lokalizacja","Stand alone","Samostojna organizacija","Samostatný","Önálló","Fristående","автономные"]
[{"$f":"IF(ISERROR(IF(LEN(TEXT(OFFSET(A69,0,langsel),\"\"))>0,TEXT(OFFSET(A69,0,langsel),\"\"),TEXT(B69,\"\"))),IF(LEN(OFFSET(A69,0,langsel))>0,OFFSET(A69,0,langsel),B69),IF(LEN(TEXT(OFFSET(A69,0,langsel),\"\"))>0,TEXT(OFFSET(A69,0,langsel),\"\"),TEXT(B69,\"\")))","v":"Headquarter"},"Headquarter","Hauptsitz","Sede","Siège central","Sede Central","Sede centrale",null,"pääkonttori","oddział","hoofdkwartier","sedež vodstva","ústředí","cégközpont","Huvudkontor","штаб"]
["For headquarter, name subsidiaries.","For headquarter, name subsidiaries."]
["Leave empty if company is not headquarter","Leave empty if company is not headquarter"]
[{"$f":"IF(ISERROR(IF(LEN(TEXT(OFFSET(A72,0,langsel),\"\"))>0,TEXT(OFFSET(A72,0,langsel),\"\"),TEXT(B72,\"\"))),IF(LEN(OFFSET(A72,0,langsel))>0,OFFSET(A72,0,langsel),B72),IF(LEN(TEXT(OFFSET(A72,0,langsel),\"\"))>0,TEXT(OFFSET(A72,0,langsel),\"\"),TEXT(B72,\"\")))","v":"Subsidiary"},"Subsidiary","Tochterunternehmen","Subsidiária (ou Filial/Delegação)","Filiale.","Filial","Sede secondaria",null,"tytäryhtiö","centrala","filiaal","podružnica","dceřinná společnost","leányvállalat","Dotterbolag","вспомогательные"]
[{"$f":"IF(ISERROR(IF(LEN(TEXT(OFFSET(A73,0,langsel),\"\"))>0,TEXT(OFFSET(A73,0,langsel),\"\"),TEXT(B73,\"\"))),IF(LEN(OFFSET(A73,0,langsel))>0,OFFSET(A73,0,langsel),B73),IF(LEN(TEXT(OFFSET(A73,0,langsel),\"\"))>0,TEXT(OFFSET(A73,0,langsel),\"\"),TEXT(B73,\"\")))","v":"For subsidiary, indicate the number of the report of the headquarter."},"For subsidiary, indicate the number of the report of the headquarter."]
[{"$f":"IF(ISERROR(IF(LEN(TEXT(OFFSET(A74,0,langsel),\"\"))>0,TEXT(OFFSET(A74,0,langsel),\"\"),TEXT(B74,\"\"))),IF(LEN(OFFSET(A74,0,langsel))>0,OFFSET(A74,0,langsel),B74),IF(LEN(TEXT(OFFSET(A74,0,langsel),\"\"))>0,TEXT(OFFSET(A74,0,langsel),\"\"),TEXT(B74,\"\")))","v":"Leave empty if company is not subsidiary"},"Leave empty if company is not subsidiary"]
["Is the assessed management system also applicable for subsidiaries? ","Is the assessed management system also applicable for subsidiaries? ","Ist das beurteilte Management System auch für Tochtergesellschaften anwendbar?","A avaliação também se aplica a empresas do grupo (subsidiárias ou delegações)?","Le système de gestion audité est-il auusi applicable aux filiales ?","¿El sistema de gestión evaluado es también aplicado en fliales?","Il sistema di gestione verificato è applicabile anche per le sedi secondarie","Anvendes det assessede ledelsessystem i under afdelinger?","Ulottuuko johtamisjärjestelmä myös tytäryhtiöihin?","Czy państwa system zarządzania jest wzajemnie zależny z systemem centrali?","Is het geauditeerde management systeem ook op dochterondernemingen van toepassing?","Ali sistem upravljanja velja tudi za podružnice?","Je hodnocený systém managementu aplikovatelný také na pobočky?","Az irányítási rendszert alkalmazzák a leányvállaltok is?","Är det granskade ledningssystemet tillämpligt även för dotterföretag","Применяется ли оцениваемая система управления тоже в дочерних компаниях?"]
["If Yes, name them","If Yes, name them","Wenn ja, bitte benennen","Se sim, refira-as","Si oui, lesquelles ?","En caso afirmativo, nombrarlas","Se si, elencarle","Hvis ja, nævn hvilke","Jos kyllä, luettele ne","Jeśli tak, proszę opisać zależności","Indien ja, geef hun naam","Če da, jih navedite","Pokud ano, uveďte jejich názvy.","Ha igen, nevezze meg ezeket","Om Ja, namnge dem","Если ДА, назовите их"]
["Are you depending of a headquarter with mutual management system? ","Are you depending of a headquarter with mutual management system? ","Sind Sie abhängig von einem Hauptsitz mit einem gemeinsamen Management System?","O sistema de gestão tem requisitos que são geridos pela Sede (sistema de gestão dependente da Sede)?","Etes-vous dépendant d'un système de gestion du siège central ? ","¿De pende la empresa de una oficina central con un sistema de gestión compartido?","Dipendete da una sede principale con un sistema di gestione comune","Er denne lokation afhængig af et hovedkontor med samme ledelsessystem?","Onko teillä on yhteinen johtamisjärjestelmä pääkonttorin kanssa, joka on arvioitu? ","Czy państwa system zarządzania jest wzajemnie zależny z systemem centrali (jakie raporty są wysyłane)?","Hangt u af van een hoofdzetel met gemeenschappelijk management systeem?","Ali je skupni sistem upravljanja s centalo/sedežem podjetja?","Je váš systém managementu závislý na systému managementu ústředí?","Az anyacéggel közös irányítási rendszert működtet?","Är ni beroende av ett huvudkontor med gemensamt ledningssystem?","Вы в зависимости от штаб-квартиры с общей системой управления?"]
["If yes, indicate the number of the report of the headquarter.","If yes, indicate the number of the report of the headquarter.","Wenn ja, bitte geben Sie die Berichtsnummer des Hauptsitzes an ","Se sim, indique o número do relatório da Sede","Si oui, veuillez indiquer le numéro de rapport du siège,","En caso afirmativo, indicar el número del informe de la oficina central","Se si, indicate il numero di report dalla sede principale","Hvis ja, angiv antal rapportnummeret fra hovedkontoret.","Jos kyllä, ilmoita pääkonttorin raportin numero.","Jeśli tak, proszę opisać system raportowania","Indien ja, geeft het rapport nummer van de hoofdzetel","Če da, navedite številko poročila centrale","Pokud ano, uveďte číslo hodnotící zprávy ústředí.","Ha igen, adja meg az elkészített jelentések számát","Om ja, notera rapportens nummer gällande för huvudkontoret","Если ДА, укажите номер доклада о штаб-квартире"]
["Company Membership","Company Membership","Mitgliedschaften des Unternehmens","Entidades  associadas","De quoi est membre la société ?","Asociaciones a las que pertenece la empresa","Appartenenza ad associazioni di categoria","Virksomhedens medlemskab","Yrityksen jäsenyydet","Członkostwo w organizacjach","Lidmaatschappen van het bedrijf","Članstvo organizacije v združenjih","Členství organizace","Cég tagsága szervezetekben","Företagets medlemskap","Членство компании"]
["GPCA","GPCA","GPCA","GPCA","GPCA","GPCA","GPCA","GPCA","GPCA","GPCA","GPCA","GPCA","GPCA","GPCA","GPCA","GPCA"]
["Total number of employees for all assessed activities ","Total number of employees for all assessed activities ","Gesamtzahl der Mitarbeiter für alle bewerteten Aktivitäten","Número total de de empregados das actividades avaliadas ","Nombre total d'employés pour toutes les activités évaluées","Número total de empleados en el total de las actividades evaluadas","Numero totale di dipendenti per tutte le attività oggetto di verifica","Totale antal ansatte for alle assessede aktiviteter","Henkilöstön kokonaismäärä kaikkien arvioitavien toimintojen osalta","Ilość pracowników zatrudnionych w obszarach objętych oceną","Totaal aantal medewerkers voor alle geauditeerde activiteiten","Skupno število zaposlenih za vse presojane aktivnosti","Celkový počet pracovníků pro všechny hodnocené aktivity","Az auditált tevékenységhez kapcsolódó létszám","Totalt antal anställda för all verksamhet som granskas","Общее количество сотрудников для всех оцениваемых деятельности"]
["Assessor","Assessor","Assessor","Assessor","Evaluateur","Evaluador","Ispettore ","Assessor","Pääarvioija","Audytor","Auditor","Presojevalec","Hodnotitel","Auditor","Granskare","Оценщик"]
["This section is intentionally left blank","This section is intentionally left blank","Dieser Teil ist absichtlich frei gelassen","Esta secção foi intencionalmente deixada em branco","Cette section est laissée intentionnellement blanche","Esta sección se ha dejado en vacía intencionadamente","Questa sezione è intenzionalmente lasciata in bianco","Dette afsnit er bevidst tomt","Tämä osa on tarkoituksella jätetty tyhjäksi","Miejsce na notatki","Deze sectie werd bewust blanco gehouden","Ta sekcija se namenoma pusti prazna","Tato sekce je záměrně ponechána nevyplněna","Ez a rész szándékosan üres","Denna sektion är initiallt tom","Этот раздел намеренно оставлен пустой"]
["Assessment","Assessment","Assessment","Avaliação","Evaluation","Evaluación","Valutazione","Assessment ","Arviointi ","Audyt","Audit type","Presoja","Hodnocení","Audit","Granskning","Оценка"]
["First assessment","First assessment","Erstassessment","Primeira avaliação","Première évaluation","Primera evaluación","Prima valutazione","Første assessment","Ensimmäinen arviointi","Pierwszy audyt","Eerste audit","Prva presoja","První hodnocení","Első audit","Första granskning","Первая оценка"]
["Re-assessment","Re-assessment","Folgeassessment","Avaliação de renovação","Réévaluation","Re-evaluación","Ri-valutazione","Re-assessment","Uusinta-arviointi","Ponowny audyt","Herhalingsaudit","Ponovna presoja","Re-hodnocení","Ismétlő audit","Förnyad granskning","Переоценка"]
["Report number ","Report number ","Berichtsnummer","Relatório número","Numéro de rapport","Informe numero","Rapporto numero","Rapportnr. ","Raporttiin numero:","Numer raportu:","Rapport nummer","Številka poročila","Report Number","Report száma","Rapport nummer","Номер отчета"]
["(of previous assessment). Please, note that the previous report will be automatically archived","(of previous assessment). Please, note that the previous report will be automatically archived","(vom vorhergehenden Assessment). Bitte beachten, dass der vorhergehende Bericht automatisch archiviert wird","(de anteriores avaliações)\nAtenção, o relatório da avaliação anterior será automaticamente arquivado)","(de l'évaluation précédente). Merci de noter que le rapport précédent sera automatiquement archivé.","(de la evaluacion previa). Por favor, tenga en cuenta que el informe anterior sera automaticamente archivado","(della verifica precedente).                      Il report precedente sarà automaticamente archiviato","(Fra sidste assesment). Den gamle rapport vil autmatisk blive arkiveret","(edellisen arvioinnin) Huomatkaa, että aikaisempi raportti automaattisesti arkistoidaan"," Poprzedni raport, zostanie automatycznie zarchiwizowany.","(van de vorige audit). Weet dat het vorige rapport automatisch wordt gearchiveerd","(številka prejšne presoje) Prosim upoštevajte, da bo prejšna presoja avtomatsko arhivirana","(z předchozího hodnocení). Prosím, vezměte na vědomí, že předchozí zpráva bude automaticky archivována.","az előző report száma. Vegye figyelembe, hogy az előző report automatikusan archiválva lesz.","(för föregående granskning). Vänligen notera att föregående rapport arkiveras automatsikt","(из предыдущей оценки). Пожалуйста, обратите внимание, что предыдущий отчет будет автоматически архивируются"]
["Leave empty for first assessment","Leave empty for first assessment"]
["Assessed company profile","Assessed company profile","Profil des beurteilten Unternehmens","Perfil da empresa avaliada","Profil de la société évaluée","Perfil de la compañía evaluada","Profilo della società verificata","Assesset virksomhedsprofil","Arvioidun yrityksen profiili","Rodzaj prowadzonej działalności","Profiel van het geauditeerde bedrijf","Profil presojane družbe","Profil hodnocené organizace","Az auditált cég bemutatása","Företagsprofil för granskat företag","Профиль оцениваемой компании"]
["Key Contacts","Key Contacts","Ansprechpersonen des beurteilten Unternehmens","Contactos da empresa avaliada","Contacts principaux de la société évaluée","Contactos principales de la compañía evaluada","Contatti principali dell'azienda valutata","Nøgle kontaktpersoner ved den assessede virksomhed","Arvioitavan yrityksen avainhenkilöt ","Osoby kontaktowe","Voornaamste contacten van het geauditeerd bedrijf","Kontaktne osebe v org.","Kontakty hodnocené organizace","Legfontosabb kapcsolattartók","Huvudkontaktpersoner","Основные контакты"]
["Location","Location","Standort","Localidade","Localisation","Ubicación","Località","Adresse","Paikka ","Miejsce pracy (miasto)","Locatie","Lokacija","Místo","Hely ","Plats","Расположение"]
[{"$f":"IF(ISERROR(IF(LEN(TEXT(OFFSET(A93,0,langsel),\"\"))>0,TEXT(OFFSET(A93,0,langsel),\"\"),TEXT(B93,\"\"))),IF(LEN(OFFSET(A93,0,langsel))>0,OFFSET(A93,0,langsel),B93),IF(LEN(TEXT(OFFSET(A93,0,langsel),\"\"))>0,TEXT(OFFSET(A93,0,langsel),\"\"),TEXT(B93,\"\")))","v":"General Manager"},"General Manager","Geschäftsführender Direktor","Presidente / Director Geral","Directeur Général","Director General","Direttore Generale","Direktør","Toimitusjohtaja","Dyrektor naczelny","Algemeen directeur","Glavni direktor","Generální manager","Ügyvezető","Företagsledare","Генеральный директор"]
["Operations Manager","Operations Manager","Betriebsleiter","Responsável de Operações","Responsable des Opérations","Director de operaciones","Direttore Operativo","Produktionschef","Operatiivinen johtaja","Dyrektor operacyjny","Manager Operaties","Operativni direktor","Operations manager","Termelési vezető","Produktionschef","Оперативный менеджер"]
["Quality Assurance Manager","Quality Assurance Manager","Qualitätsmanger","Responsável da Qualidade","Responsable Qualité","Coordinador de Calidad","Responsabile Sistema Qualità","Kvalitetschef","Laatujohtaja","Szef zapewnienia jakości","Manager Kwaliteitszorg","QA Menedžer","QA Manager","Minőségbiztosítási vezető","Kvalitetschef","Менеджер по обеспечению качества"]
["Safety & Health Manager","Safety & Health Manager","Sicherheitsmanager (Arbeitssicherheit)","Responsável da Segurança e Saúde","Responsable Hygiène et Sécurité","Coordinador de seguridad e higiene","Responsabile Sistema RSPP","Sikkerheds- og sundhedschef","TTT johtaja ","Szef służby BHP","Manager Veiligheid en Gezondheid","VZD Menedžer","SH manager","Munkavédelmi és munkabiztonsági vezető","Chef säkerhet-hälsa","Менеджер по безопасности и здоровье"]
["Environmental Manager","Environmental Manager","Umweltschutzbeauftragter/-manager","Responsável do Ambiente","Responsable Environnement","Coordinador de medioambiente","Responsabile Sistema Ambientale","Miljøchef","Ymp. Johtaja ","Specjalista ds. Ochrony Środowiska","Manager Milieuzorg","Okoljski menedžer","Env. manager","Környezetvédelmi vezető","Miljöchef","Менеджер по экологии"]
["Dangerous Goods Safety Advisor","Dangerous Goods Safety Advisor","Gefahrgutbeauftragter","Conselheiro de Segurança","Conseiller Sécurité Matières Dangereuses","Consejero de Seguridad para las mercancías peligrosas","Consulente trasporto merci pericolose (DGSA)","Sikkerhedsrådgiver","Turvallisuusneuvonantaja","DGSA","Veiligheidsadviseur voor het vervoer van gevaarlijke goederen (DGSA)","Svetovalec za prevoz nevarega blaga","DGSA","Veszélyesáru biztonsági tanácsadó","Säkerhetsrådgivare farligt gods","Консультант по вопросам безопасности перевозки опасных грузов"]
["Number Certificate DGSA","Number Certificate DGSA","Nummer der Schulungsbescheinigung des Gefahrgutbeauftragten","Número do Certificado do Conselheiro de Segurança","Numéro de certificat","Número de certificado de Consejero de Seguridad","Numero del certificato DGSA","Sikkerhedsrådgiverens certifikatnr. ","Turv.neuvnantajan tod. Numero","Numer świadectwa DGSA","Nummer certificaat DGSA","Številka certifikata svetovalca","Číslo certifikátu DGSA","A veszélyesáru biztonsági tanácsadó regisztrációs száma","Certifikatsnummer för säkerhetsrådgivare fraligt gods","Номер свидетльства о подготовке консультанта по вопросам безопасности"]
["Valid until","Valid until","Gültig bis:","Válidade até","Valable jusque","Fecha de validez","Scadenza certificato","Gyldig indtil","Voimassa saakka","Świadectwo DGSA ważne do:","Geldig tot","Velja do","Platnost do","Érvényessége","Giltigt till","Действительно до:"]
["Security Advisor","Security Advisor","Sicherheitsmanager","Responsável da Segurança Infra-estruturas","Conseiller à la sûreté ","Asesor de seguridad","Responsabile per la Security","Sikringschef","Turvatoimien neuvonantaja","Szef ochrony","Beveiligingsadviseur","Varnostni svetovalec","Bezpečnostní poradce","Biztonsági tanácsadó","Säkerhetsrådgivare","Советник по охране"]
["Quality Management and Environmental Management System Certification","Quality Management and Environmental Management System Certification","Zertifizierung des Qualitäts- und Umweltschutzmanagement-Systems","Certificação","Certification du Système de Management de la Qualité et de l'Environnement","Certificación","Certificazioni","Certificering","Paikka ","Certyfikaty","Certificaties","Certifikati sistemov kakovosti in ravnanja z okoljem","Certifikace","A minőségi és környezet irányítási rendszer tanúsítványai","Kvalitet och miljöcertifiering ","Сертификация системы управления качества и управления экологии"]
["Type","Type","Typ","Tipo de norma (referencial)","Type","Tipo","Tipo","Type","Sertifikaatin laji","Typ","Type","Tip","Typ","Típus","Typ","Тип"]
["Certification body","Certification body","Zertifizierer","Organismo de certificação","Organisme de certification","Organismo certificador","Ente di Certificazione","Certificerende organ","Sertifiointilaitos","Jednostka certyfikacyjna","Certificering Instantie","Certifikacijska organizacija","Certifikační společnost","Tanúsító szervezet","Certifieringsorgan","Орган по сертификации"]
["Scope","Scope","Bereich","Âmbito","Champ","Alcance","Scopo","Scope","Laajuus","Zakres usług objętych certyfikatem","Reikwijdte","Obseg ","Rozsah","Terület (scope)","Omfattning","Область действия / охват"]
["Registration Number","Registration Number","Registrierungs-Nummer","Número de certificado","N° d'enregistrement","Número de registro","Numero di registrazione","Registreringsnummer","Rekisteröintinumero","Numer certyfikatu","Nummer (referentie) van het certificaat","Registracijska številka","Registrační číslo","Regisztrációs szám","Registrering nummer","Регистрационный номер"]
["Expiry Date","Expiry Date","Ablaufdatum","Válidade até","Valable jusque","Fecha de caducidad","Data di scadenza","Gyldig indtil","Voimassa saakka","Certyfikat ważny do:","Geldig tot","Velja do","Platnost do","Érvényessége","Utgångsdatum","Срок действия"]
["Activities Assessed","Activities Assessed","Beurteilte Aktivitäten","Actividades avaliadas ","Activités évaluées","Actividades evaluadas","Attività verificate","Auditerede aktiviteter","Arvioitavat toiminnot","Data ważności","Geauditeerde activiteiten","Presojane aktivnosti","Hodnocené aktivity","Auditált tevékenység","Granskade aktiviteter","Оценненые  (аудитированные) деятельности"]
["Road Transport","Road Transport","Straßentransportdienstleistungen","Transporte rodoviário","Service de transport routier","Transporte por carretera","Trasporto Stradale","Vejtransport","Maantiekuljetukset","Transport drogowy","Vervoer over de weg","Cestni transport","Silniční doprava","Közúti szállítás","Vägtransport","Автомобильный транспорт"]
["Intermodal transport services","Intermodal transport services","Intermodale Transportdienstleistungen","Serviço de transporte intermodal","Services de transport intermodal","Servicios de transporte intermodal","Servizi di trasporto intermodale","Intermodale transportservices","Intermaodaalipalvelut","Usługi transportu multimodalnego","Intermodale vervoersdienst","Intermodalne transportne storitve","Intermodální dopravní služby","Intermodális szállítás","Intermodal transportservice","Интермодальные транспортные услуги"]
["Tank cleaning","Tank cleaning","Tank Reinigung","Estação de lavagem","Lavage de citernes","Lavadero de cisternas","Stazione di Lavaggio","Tankrens","Säiliöpesu","Myjnia cystern","Tankreiniging","Čiščenje cistern","Čistící stanice","Tartálytisztítás","Tankrengöring","Очистка цистерн"]
["Intermodal terminal","Intermodal terminal","Intermodal Terminal","Terminal intermodal ","Terminal intermodal","Terminal de tranferencia intermodal","Terminal Intermodale","Intermodale terminaler","Intermodali terminaali","Terminal intermodalny","Intermodale terminal","Intermodalni terminali","Intermodální terminal","Intermodális terminál","Intermodal terminal","Интермодальный терминал"]
["Road transport and Intermodal terminal can't be selected together","Road transport and Intermodal terminal can't be selected together"]
["Warehouse activities","Warehouse activities","Lageraktivitäten","Actividades de armazenagem","Activités de stockage","Actividades de almacenamiento","Attività di deposito prodotti imballati","Lagerhotel aktiviteter","Varastointipalvelut ","Magazyny","Magazijn activiteit","Skladiščenje","Skladovací činnosti","Raktár tevékenység","Lagerverksamhet","Складские деятельности"]
["Chemical distribution","Chemical distribution","Chemische Distribution","Distribuição produtos químicos","Distribution chimique","Distribución de químicos","Distributore prodotti chimici","Kemisk distribution","Kemikalien jakelu ","Dystrybutor materiałów chemicznych","Distributie van chemicaliën","Distribucija kemikalij","Distribuce chemikálií","Vegyianyag disztribúció","Kemikaliedistribution","Дистрибьюция (распространение) химических веществ"]
["Rail transport ","Rail transport ","Bahntransporte","Transporte ferroviário","Transport par rail","Transporte férreo","Trasporto Ferroviario","Jernbanetransport ","Rautatiekuljetukset","Transport kolejowy","Vervoer per spoor","Železniški transport","Železniční doprava","Vasúti szállítás","Järnvägstransport","Железнодорожный транспорт"]
["(Rail Carrier)","(Rail Carrier)","(Eisenbahntransportunternehmen)","(Transporte Ferroviário)","(Transporteur ferroviaire)","(Operador Ferroviario)","( Vagone Ferroviario)","(Togoperatør)","(Rautatiekuljettaja)"," (Przewoźnik kolejowy)","(Vervoer per spoor)","(Železniški prevoznik)","(Železniční dopravce)","Vasúti szállítmányozók","(Järnvägstransportör)","(Железнодорожный перевозчик)"]
["Responsible Care","Responsible Care","Responsible Care","Responsible Care","Responsible care","Responsible care","Responsible Care","Responsible care","Vastuu huomisesta -ohjelma","Program ,,Odpowiedzialność i troska''","Responsible care ","Responsible care/Odgovorna skrb","Responsible care ","Felelős Gondoskodás","Responsible Care","Responsible Care (RC) / Ответственная Забота"]
["Is the company a member of an approved Responsible Care Programme?","Is the company a member of an approved Responsible Care Programme?","Ist das Unternehmen ein Mitglied eines anerkannten Responsible Care Programms?","A empresa é membro de um Programa \"Responsible Care\"?","Est-ce que la Société est membre d'un programme Responsible Care approuvé ? ","¿La compañía es miembro del Programa Responsible Care?","L'azienda è associata ad un Programma - Responsible Care - approvato?","Er virksomheden medlem af et godkendt Responsible Care Program?","Onko yritys jäsenenä Vastuu huomisesta -ohjelmassa?","Czy firma uczestniczy w programie ,,Odpowiedzialność i troska''?","Is het bedrijf lid van een erkend Responsible Care programma? ","Ali je organizacija član odobrenega programa \"Odgovorna skrb\" -\"Responsible Care\"?","Je organizace členem schváleného  Responsible Care Programu?","Tagja a cég elfogadott Felelős Gondoskodás programnak?","Är företaget medlem i ett godkänt Resposible Care program?","Является ли компания членом утвержденной программы \"Ответственная забота\"?"]
["If yes, which?","If yes, which?","Wenn ja, welches?","Se sim, qual?","Si oui, lequel ?","En caso afirmativo, ¿de cual?","Se si, quale?","Hvis ja, hvilken","Jos kyllä, mikä ohjelma ? ","Jeśli tak, to w którym?","Indien ja, hetwelk ?","Če da, katerega?","Pokud ano, kterého?","Ha igen, melyiknek?","Om Ja, vilket?","Если ДА, то какая?"]
["Leave empty if is not a member","Leave empty if is not a member"]
["For Other, specify","For Other, specify","Für  andere, bitte genau angeben","Em caso de outro, especificar","Autre, spécifier","Para otro, especificar","Per altri, specificare","Andet, specificér","Muiden osalta, yksilöi","Jeśli w innym, proszę opisać","Voor andere: specificeer","Za druge, navedi","Pro další uveďte specifikaci","Egyébnek, éspedig:","För andra, specificera","Для других, укажите"]
["Leave empty if not Other","Leave empty if not Other"]
["Infrastructure","Infrastructure","Infrastruktur","Infra-estrutura","Infrastructure","Infraestructuras","Infrastrutture","Infrastruktur","Infrastruktuuri","Infrastruktura","Infrastructuur","Infrastruktura","Infrastruktura","Infrastruktúra","Infrastruktur","Инфраструктура"]
["Office building","Office building","Bürogebäude","Edifício administrativo","Bâtiments et bureaux","Edificios de oficina","Costruzioni ad uso uffici","Kontorbygning","Toimistorakennus","Budynek biurowy","Kantoorgebouw","Upravna stavba","Kancelářské budovy","Irodaépületek","Kontorsbyggnad","Административное здание (Офисы)"]
["Parking of empty vehicles/tanks/containers","Parking of empty vehicles/tanks/containers","Abstellbereich für leere Fahrzeuge/ Tanks/Container","Parque para veículos vazios/cisternas/contentores","Parking pour véhicules, citernes, conteneurs vides","Estacionamiento para vehículos/cisternas/contenedores vacíos","Parcheggio per veicoli/cisterne/container vuoti","Parkering af tomme biler/tankvogne/containere","Tyhjien ajoneuvojen/säliöiden/konttien pysäköinti ","Parking dla pojazdów bez ładunku ciężarówki/cysterny/kontenery","Parking van lege voertuigen/tanks/containers ","Parkiranje praznih vozil/cistern/kontejnerjev","Parkování prázdných vozidel/cisteren/kontejnerů","Üres járművek/tartályok/konténerek tárolása","Parkering av tomma fordon/tankbilar/containers","Парковка порожних транспортных средств / цистерн / контейнеров"]
["Parking of loaded vehicles/tanks/containers","Parking of loaded vehicles/tanks/containers","Abstellbereich für beladene Fahrzeuge/ Tanks/Container","Parque para veículos carregados/cisternas/contentores","Parking pour véhicules, citernes, conteneurs remplis","Estacionamiento para vehículos/cisternas/contenedores cargados","Parcheggio per veicoli/cisterne/container carichi","Parkering af lastede biler/tankvogne/containere","Kuormattujen ajoneuvojen/säiliöiden/konttien pysäköinti ","Parking dla pojazdów z ładunkiem ciężarówki/cysterny/kontenery","Parking van geladen voertuigen/tanks/containers ","Parkiranje natovorjenih vozil/cistern/kontejnerjev","Parkování naložených vozidel/cisteren/kontejnerů","Töltött járművek/tartályok/konténerek tárolása","Parkering av lastade fordon/tankbilar/containers","Парковка загруженных транспортных средств / цистерн / контейнеров"]
["Toilets for own employees","Toilets for own employees","Toiletten für eigene Arbeitnehmer","Instalações sanitárias para os trabalhadores","Commodités pour le personnel","Aseos para trabajadores propios","Bagni per i propri dipendenti ","Toiletter til ansatte","WC:t omalle henkilöstölle ","Toaleta dla własnych pracowników","Toiletten voor eigen personeel","Sanitarije za lastne uslužbence","Toalety pro vlastní zaměstnance","Személyzeti WC","Toaletter för anställda","Туалеты для собственных сотрудников"]
[{"$f":"IF(ISERROR(IF(LEN(TEXT(OFFSET(A129,0,langsel),\"\"))>0,TEXT(OFFSET(A129,0,langsel),\"\"),TEXT(B129,\"\"))),IF(LEN(OFFSET(A129,0,langsel))>0,OFFSET(A129,0,langsel),B129),IF(LEN(TEXT(OFFSET(A129,0,langsel),\"\"))>0,TEXT(OFFSET(A129,0,langsel),\"\"),TEXT(B129,\"\")))","v":"Toilets for visiting operators/drivers"},"Toilets for visiting operators/drivers","Toiletten für Mitarbeiter von Fremdfirmen/Fahrer","Instalações sanitárias para visitantes ou motoristas subcontratados","Commodités pour les visiteurs/chauffeurs","Aseos para visitantes/conductores","Bagni per gli operatori in visita / autisti ","Toiletter til besøgende operatører/chauffører","WC:t vieraileville henkilöille/kuljettajille ","Toaleta dla gości","Toiletten voor bezoekende operateuren/chauffeurs ","Sanitarije za obiskovalce operaterje/voznike","Toalety pro cizí zaměstnance/řidiče","Vendég WC látogatóknak/sofőröknek","Toaletter för besökande operatörer/förare","Туалеты для посетителей (операторов / водителей)"]
["Showers for own employees","Showers for own employees","Duschgelegenheiten für eigene Beschäftigte","Chuveiros para os trabalhadores","Douches pour les employés","Duchas para trabajadores propios","Docce per i propri dipendenti","Brusere til ansatte","Suihkut omalle henkilöstölle ","Prysznice dla własnych pracowników","Stortbaden voor eigen personeel ","Tuši za lastne uslužbence","Sprchy pro vlastní zaměstnance","Személyzeti zuhany","Duschar för anställda","Душ для собственных сотрудников"]
["Showers for visiting operators/drivers","Showers for visiting operators/drivers","für Beschäftigte/Fahrer","Chuveiros para visitantes ou motoristas","Douches pour les visiteurs et les chauffeurs","Duchas para visitantes/conductores","Docce per gli operatori in visita / autisti ","Brusere for besøgende operatører/chauffører","Suihkut vieraileville henkilöille/kuljettajille","Prysznice dla gości","Stortbaden voor bezoekende operateuren/chauffeurs","Tuši za obiskovalce operaterje/voznike","Sprchy pro cizí zaměstnance/řidiče","Vendég zuhany látogatóknak/sofőröknek","Duschar för besökande operatörer/förare","Душ для посетителей (операторов / водителей)"]
["Canteen present for visiting operators/drivers","Canteen present for visiting operators/drivers","Kantine für Besucher/Fahrer vorhanden?","Refeitório para visitantes ou motoristas","Cantine pour les visiteurs et chauffeurs","Cantina para operarios externos y conductores","Mensa disponibile per gli operatori in visita / autisti","Kantine tilgængelig for besøgende  operatører/chauffører","Kanttiini vieraileville henkilöille/kuljettajille ","Pomieszczenie socjalne z kuchnią dla gości","Kantine aanwezig voor bezoekende operateuren/chauffeurs ","Menza za obiskovalce operaterje/voznike","Kantýna pro cizí zaměstnance/řidiče","Étkező látogatóknak, sofőröknek","Matsal öppen för besökande operatörer/förare","Столовая для посетителей (операторов / водителей)"]
["Temporary storage of packaged products","Temporary storage of packaged products","Vorrübergehende Lagerung verpackter Güter","Armazenamento temporário de produtos embalados","Stockage temporaire des produits emballés","Almacenamiento temporal de mercancías envasadas","Deposito temporaneo di merci imballate","Midlertidig opbevaring af emballerede produkter","Kappaletavaroiden tilapäinen varasto ","Czasowe składowanie sztuk przesyłki","Tijdelijke opslag van verpakte producten ","Začasno skladiščenje kosovnega blaga","Přechodné skladování baleného zboží","Csomagolt áruk átmeneti tárolója","Tillfällig lagring av förpackade produkter","Кратковременное хранение упакованных продуктов (кросс-докинг)"]
["Fuel storage and refuelling","Fuel storage and refuelling","Treibstofflagerbereich und Tankstelle","Armazenamento de combustível e abastecimento","Stockage de carburant et aire de remplissage","Almacenamiento de combustible y abastecimiento","Deposito carburante e stazione di rifornimento","Brændstoflager  og brændstofpåfyldning","Polttoainevarasto ja tankkaus","Składowanie paliw i tankowanie","Opslag van brandstof en tanken","Skladišče goriva in črpalka","Skladování pohonných hmot a čerpací stanice","Üzemanyagtároló és benzinkút","Bränslelager och bränsletankning","Топливный склад и бензоколонки (дозаправка)"]
["Waste storage/treatment","Waste storage/treatment","Abfall-Lagerung /-Behandlung","Armazenamento e tratamento de resíduos","Stockage et traitement des déchets","Almacenamiento/Tratamiento de residuos","Stoccaggio / trattamento rifiuti","Opbevaring af affald /affaldshåndtering","Jätevarasto / jätekäsittely ","Postępowanie z odpadami","Opslag/behandeling van afval ","Skladiščenje/predelava odpadkov","Skladování/zpracování odpadů","Hulladéktároló/kezelő","Avfallslagring/behandling","Хранение / переработка отходов"]
["Railway connection","Railway connection","Eisenbahnanschluß","Ligação ferroviária","Connexion ferroviaire","Conexión con vía férrea","Connessione Ferroviaria ","Forbindelse til jernbane","Rautatieyhteys","Połączenie z linią kolejową","Aansluiting spoor","Povezava z železnico","Železniční přípojka","Vasúti kapcsolat","Järnvägsförbindelse","Железнодорожная связь"]
["Waste water connection","Waste water connection","Waste water connection","Waste water connection","Waste water connection","Waste water connection","Waste water connection","Waste water connection","Waste water connection","Waste water connection","Waste water connection","Waste water connection","Waste water connection","Waste water connection","Waste water connection","Waste water connection"]
["Company provided employee accommodation","Company provided employee accommodation"]
["Employee transportation (to/from work)","Employee transportation (to/from work)"]
["Incident response","Incident response","Reaktion bei Zwischenfällen","Resposta a incidentes","Réponse encas d'incident","Respuesta ante incidentes","Risposta agl'incidenti","Hændelsesreaktionstid","Häiriötilanteiden hallinta","Reakcja na incydenty","Reageren op incidenten","Odziv pri incidentih","Odezva na neshody","Vészhelyzeti válasz","Incidenthantering","Реагирование на инциденты"]
["Description of onsite incident response team and equipment","Description of onsite incident response team and equipment","Beschreibung des firmeneigenen Zwischenfall Reaktion Teams und dessen Ausrüstung","Descrição da resposta a incidentes e dos equipamentos existentes nas instalações","Description du service d'intervention et de l'équipement disponible en cas d'incident sur site","Descripción del equipo interno de respuesta ante incidentes y su equipamiento","Descrizione della squadra interna di risposta agl'incidenti ed equipaggiamento","Beskrivelse af onsite beredskab og udstyr","Kuvaus toimipaikan suojeluryhmästä ja välineistä","Opis brygady reagującej na incydenty i posiadanago wyposażenia","Beschrijving van het team voor reageren op incidenten op de locatie","Opis tima in opreme za ukrepanje ob incidentih na lokaciji","Popis týmu řešícího neshody na pracovišti a zařízení ","A telephelyi vészhelyzetre reagáló csapat és eszközök bemutatása","Beskrivning av anläggningens incidentinsatsstyrka och utrustning","Описание собственной группы реагирования и оборудования на месте инцидента"]
["Description of the local fire brigade (manpower, equipment, response time)","Description of the local fire brigade (manpower, equipment, response time)","Beschreibung der örtlichen Feuerwehr (Mannstärke, Ausrüstung, Reaktionszeit)","Descrição da brigada de incêndio local (pessoas, equipamentos, tempo de resposta)","Description de la brigade locale de pompiers (nombre de personnes, équipement, temps de réponse)","Descripción de los bomberos locales (personal disponible, equipamiento, tiempo de respuesta)","Descrizione della stazione locale Vigili del Fuoco (uomini, equipaggiamento, tempo d'intervento)","Beskrivelse af den lokale brandvæsen (mandskab, udstyr, udrykningstid)","Kuvaus paikallisesta palokunnasta (henkilömäärä, välineistö, vasteaika jne.) ","Opis lokalnej brygady straży pożarnej (ilośc osób, wyposażenie, czas reakcji)","Beschrijving van de lokale brandweer (mankracht, uitrusting, responstijd) ","Opis lokalne gasilske ekipe (Število ljudi, oprema, odzivni čas)","Popis místního požárního sboru (lidé,zařízení, doba reakce)","A helyi tűzoltóság bemutatása (emberi erőforrás, eszközök, felvonulási idő)","Beskrivning av lokala brandförsvaret (manskap, utrustning, insatstid)","Описание местных пожарных (рабочая сила, оборудование, время отклика)"]
["Emergency equipment","Emergency equipment","Notfallausrüstung","Equipamento de emergência","Equipement d'urgence","Equipo de emergencia","Equipaggiamento d'emergenza","Nødudstyr","Pelastusvälineistö ","Sprzęt ratunkowy","Nooduitrusting","Oprema za izredne razmere","Havarijní zařízení","Vészhelyzeti eszközök","Nödfallsutrsutning","Аварийное оборудование"]
["Description of emergency equipment that can be used for off-site emergencies.","Description of emergency equipment that can be used for off-site emergencies.","Beschreibung der Notfallausrüstung, die für Notfälle außerhalb des Standortes benutzt werden kann","Descrição do equipamento de emergência que pode ser usado fora da empresa","Description de l'équipement d'intervention disponible pour les urgences extérieures au site.","Descripción de los equipos de emergencia que pueden ser usados para emergencias fuera de las propias instalaciones","Descrizione dell'equipaggiamento d'emergenza che può essere impiegato per le emergenze esterne.","Beskrivelse af nødudstyr som kan anvendes til nødssituationer off-site.","Kuvaus pelastuslaitteistosta, jota voidaan käyttää toimipaikan ulkopuolisissa hätätilanteissa. ","Opis wypsażania, ktre może być użyte w sytuacjach awaryjnych poza firmą","Beschrijving van de nooduitrusting die gebruikt kan worden voor interventie buiten de locatie ","Opis opreme, ki se lahko uporablja za intervencije izven lokacije","Popis havarijního zařízení, které může být použito pro havárii mimo organizaci.","Vészhelyzeti eszközök leírása, amiket telephelyen kívül is elérhetők","Beskrivning av nödfallsutrustning som kan användas vid olyckor utanför anläggningen","Описание аварийного оборудования, которое может быть использовано за пределами объекта в чрезвычайных ситуациях."]
["Valid operating license","Valid operating license","Gültige Betriebsgenehmigung","Validade da Licença / Alvará","Licence d'exploitation valide ","Licencia de actividad","Autorizzazione ad operare in corso di validità ","Gyldig arbejdstilladelse","Voimassaoleva toimilupa","Ważnosć pozwolenia na działaność","Geldige exploitatievergunning","Veljavno obratovalno dovoljenje","Platná provozní licence ","Érvényes működési engedély/telepengedély","Giltigt verksamhets tillstånd","Действующая оперативная лицензия"]
["Number","Number","Nummer","N. Licença / Alvará","Numéro","Numero","Numero","Nummer","Numero","Numer","Nummer","Številka","Číslo","Száma","Nummer","Номер"]
["(answer N.A. if is is not needed)","(answer N.A. if is is not needed)","(Antwort N.A., wenn es nicht  benötigt wird)","(responda N.A., se não for aplicável)","(répondre N.A. si pas nécessaire)","(responda N.A. si no es necesario)","(rispondere N.A. se non ricorre)","Svar N.A., hvis dette ikke findes","(vastaus NA, ei sovellettavissa, jos ei tarvita)"," odpowedz N.A, jeśli nie jest to wymagane","(antwoord N.A. indien niets dient ingevuld te worden)","(Odgovorite N/A, če ni potrebno)"," (odpověď N.A. pokud není potřebné)","Jelölje NA-val ha nem alkalmazható"," (svara N.A. om det inte behövs)","(ответ \"не применимо\", если не требуется)"]
["Scope","Scope","Bereich","Âmbito da Licença / Alvará","Champ","Alcance","Scopo","Scope","Laajuus","Zakres","Reikwijdte","Obseg","Rozsah","Területe","Omfattning","Область действия / охват"]
["(answer N.A. if it is not needed)","(answer N.A. if it is not needed)","(Antwort N.A., wenn es nicht benötigt wird)","(responda N.A., se não for aplicável)","(répondre N.A. si pas nécessaire)","(responda N.A. si no es necesario)","(rispondere N.A. se non ricorre)","Svar N.A., hvis dette ikke findes","(vastaus NA, ei sovellettavissa, jos ei tarvita)"," odpowedz N.A, jeśli nie jest to wymagane","(antwoord N.A. indien niets dient ingevuld te worden)","(Odgovorite N/A, če ni potrebno)"," (odpověď N.A. pokud není potřebné)","Jelölje NA-val ha nem alkalmazható"," (svara N.A. om det inte behövs)","(ответ \"не применимо\", если не требуется)"]
["Validity until ","Validity until ","Gültigkeit bis","Válidade até","Valable jusque","Fecha de validez hasta","Data scadenza ","Gyldig indtil","Voimassa saaka","Ważne do","Geldig tot","Veljavno do","Platnost do","Érvenyessége","Giltigt till","Действительна до:"]
["(answer \"indefinite\" if it has no expiration date)","(answer \"indefinite\" if it has no expiration date)","(Antwort \"Unbestimmt\", wenn es kein Verfallsdatum gibt)","(responda \"Indefinido\", se não existir data de validade)","(répondre \"indéfini\" s'il n'y a pas de date de péremption)","(responda \"indefinido\" si no tiene fecha de caducidad)","(rispondere \"indefinito\" se non c'è una data di scadenza)","Svar  \"ikke-defineret\", hvis der ikke er en udløbsdato","(Vastaa \"indefinite\" - jatkuu, jos ei ole päättymispäivää)"," odpowedz ,,nieokreślony'', jeśl brak daty ważności","(antwoord \"onbeperkt\" indien het geen vervaldatum heeft)","(Odgovorite \"nedoločeno\", če ni datuma veljavnosti;","(odpověď \"indefinite\" pokud nemá expirační datum)","Irjon \"indefinite\"-et, ha nincs lejárati dátum. ","(svara  \"obestämt\" om det inte finns något utgångsdatum)","(ответ \"неопределенная\", если она не имеет срока годности)"]
["Are all activities within the scope of the assessment mentioned in the operating license?","Are all activities within the scope of the assessment mentioned in the operating license?","Sind alle Geschäftstätigkeiten im Bereich des Assessments in der Betriebsgenehmigung erwähnt?","Todas as actividades da avaliação estão referidas no âmbito da Licença / Alvará","Toutes les activités concernées par l'évaluation sont-elles mentionnées dans la licence d'exploitation ?","La licencia de actividad menciona todas las actividades evaluadas dentro de esta auditoria?","Tutte le attività svolte ed oggetto di valutazione sono provviste delle autorizzazioni ad operare?","Er alle aktiviteter indenfor assessment scopet nævnt i driftstilladelsen?","Ovatko kaikki arvioitavat toiminnat mainittu toimiluvassa? ","Czy wszytkie działalności objęte auditem pokrywają się z zakresem pozwoleń?","Zijn alle activiteiten van de reikwijdte van de audit vermeld in de exploitatievergunning? ","Ali so vse presojane aktivnosti navedene v obratovalnem dovoljenju?","Jsou všechny aktivity uvedené v rozsahu hodnocení uvedené v provozní licenci?","Valamennyi auditált tevékenység meg van említve a működési engedélyben/telepengedélyben?","Är alla aktiviteter som omfattas av granskningen mämnda i driftstillståndet?","Все ли деятельности в рамках этой оценки включены в оперативную лицензию?"]
["If not 'Yes' please specify","If not 'Yes' please specify","Wenn nicht 'Ja', bitte genau beschreiben","Se não 'Sim', por favor especifique","Si non 'Oui', spécifier lesquelles","En caso contrario 'Si' especificar cuales","Se no 'SI', specificare","Hvis ikke 'Ja', beskriv hvorfor","Jos ei ole 'Kyllä', yksilöi","Jeśli nie 'Tak', proszę opisać","Indien niet 'Ja', verduidelijk.","Če ne 'DA', navedite katere niso","Pokud ne 'Ano', upřesněte","Ha nem 'Igen', nevezze meg ezeket","Om inte 'Ja', specificera","Если не 'ДА', пожалуйста, уточните"]
["Issuing Government Agency","Issuing Government Agency","Issuing Government Agency","Issuing Government Agency","Issuing Government Agency","Issuing Government Agency","Issuing Government Agency","Issuing Government Agency","Issuing Government Agency","Issuing Government Agency","Issuing Government Agency","Issuing Government Agency","Issuing Government Agency","Issuing Government Agency","Issuing Government Agency","Issuing Government Agency"]
["Leave empty for Yes answer","Leave empty for Yes answer"]
["Transport Services","Transport Services"]
[{"$f":"IF(ISERROR(IF(LEN(TEXT(OFFSET(A157,0,langsel),\"\"))>0,TEXT(OFFSET(A157,0,langsel),\"\"),TEXT(B157,\"\"))),IF(LEN(OFFSET(A157,0,langsel))>0,OFFSET(A157,0,langsel),B157),IF(LEN(TEXT(OFFSET(A157,0,langsel),\"\"))>0,TEXT(OFFSET(A157,0,langsel),\"\"),TEXT(B157,\"\")))","v":"Site information"},"Site information","Standort Informationen","Informação do sítio internet","Information sur le site","Información de la instalación","Informazioni sul sito","Information om lokationen","Toimipaikan tiedot","Informacja o lokalizacji","Informatie betreffende de locatie","Informacije o lokaciji","Informace o místě","A telephely bemutatása","Anläggningsinformation","Сведения о местонахождении"]
["Operational activities present at the site","Operational activities present at the site","Betriebliche Tätigkeiten am Standort","Actividades operacionais referidas no sítio internet","Activités opérationnelles présentes sur le site","Actividades operacionales presentes en la instalación","Attività operative presenti nel sito","Operative aktiviteter på lokationen","Toimipaikalla olevat toiminnat","Działalności operacyjne prowadzone w lokalizacji","Operationele activiteiten uitgevoerd op de locatie ","Operativne aktivnosti, ki se izvajajo na lokaciji","Provozní činnosti vykonávané na místě","A telephelyen végzett tevékenységek","Aktiviteter som sker på anläggningen","Оперативные деятельности на месте"]
[" (any activity mentioned in 0.3.2)"," (any activity mentioned in 0.3.2)","(Jede Aktivität die in 0.3.2 aufgeführt ist)","(qualquer actividade mencionada em 0.3.2)","(n'importe quelle activité mentionnée au 0.3.2)","(cualquier actividad mencionada en 0.3.2)","(ogni attività menzionata al 0.3.2)","Enhver aktivitet nævnt i 0.3.2","(jokainen toiminta, joka on mainittu kohdassa 0.3.2)"," jakakolwiek działalność wspomniana w 0.3.2","(elke activiteit vermeld onder 0.3.2)","( vse aktivnosti omenjene v 0.3.2 )"," (jakékoliv činnosti uvedené v 0.3.2)","Bármely tevékenység, amit a 0.3.2-ben megjelölt"," (någon aktivitet som anges i 0.3.2)","(любой деятельности, упомянутых в 0.3.2)"]
["Main Activities","Main Activities","Haupttätigkeiten","Actividades principais","Principales activités","Principales actividades","Attività principali","Primære aktiviteter","Pääasialliset palvelut","Główna działaność","Kernactiviteiten","Glavne aktivnosti","Hlavní činnosti","Főtevékenységek","Huvudaktiviteter","Основные деятельности"]
["Road transport service bulk liquids","Road transport service bulk liquids","Straßentransportdienstleitungen flüssige Massengüter ","Serviços de transporte rodoviário de granéis líquidos","Transport routier de liquides en citernes (plutôt que vrac)","Transporte por carretera de líquidos a granel","Servizi di trasporto stradale prodotti liquidi sfuso","Vejtransport i tank","Maantiekuljetuspalvelut nesteille bulkkina ","Transport drogowy materiałów płynnych luzem","Wegtransport vloeistoffen in bulk","Cestni transport trekočin v cisternah","Služby silniční dopravy volně ložených kapalných látek","Ömlesztett folyadékok közúti szállítása","Vägtransport flytande produkter","Автотранспортные услуги, жидкости навалом"]
["Road transport service bulk solids","Road transport service bulk solids","Straßentransportdienstleitungen feste Massengüter ","Serviços de transporte rodoviário de granéis sólidos","Transport routier de solides en vrac ","Transporte por carretera de sólidos a granel","Servizi di trasporto stradale prodotti solidi sfuso","Vejtransport i silotanke","Maantiekuljetuspalvelut kiinteille aineille bulkkina ","Transport drogowy materiałów stałych luzem","Wegtransport vaste stoffen in bulk","Cestni transport praškastih materialov/razsutega tovora","Služby silniční dopravy volně ložených sypkých látek","Ömlesztett szilárd anyagok közúti szállítása","Vägtransport fasta produkter i bulk","Автотранспортные услуги, сыпучих (твердые навалом)"]
["Road transport service packed goods","Road transport service packed goods","Straßentransportdienstleisungen verpackte Güter","Serviços de transporte rodoviário de produtos embalados","Transport routier de produits emballés ","Transporte por carretera de mercancía envasada","Servizi di trasporto stradale prodotti imballati","Vejtransport emballeret gods","Maantiekuljetuspalvelut kappaletavaroille","Transport drogowy towarów pakowanych","Wegtransport verpakte goederen","Cestni transport pakiranega blaga","Služby silniční dopravy baleného zboží","Csomagolt áruk közúti szállítása","Vägtransport förpackad gods","Автотранспортные услуги, упакованные грузы"]
["Intermodal transport","Intermodal transport","Intermodale Transporte","Transporte intermodal","Transport intermodal ","Transporte intermodal","Trasporti Intermodali","Intermodal transport","Intermodaalikuljetukset ","Tranport intermodalny","Intermodaal transport","Intermodalni transport","Intermodální doprava","Intermodális szállítás","Intermodal transport","Интермодальный транспорт"]
["Freight forwarder","Freight forwarder","Spediteur","Transporte da responsabilidade do expedidor","Transitaire","Transitario","Casa di Spedizione","Spedition","Huolitsija","Spedycja","Gecommissioneerd vervoerder (Freight forwarder)","Špediter","Zasilatelství","Spedició","Speditör","Экспедитор"]
["Transporting Hazardous Chemicals","Transporting Hazardous Chemicals","Transporting Hazardous Chemicals","Transporting Hazardous Chemicals","Transporting Hazardous Chemicals","Transporting Hazardous Chemicals","Transporting Hazardous Chemicals","Transporting Hazardous Chemicals","Transporting Hazardous Chemicals","Transporting Hazardous Chemicals","Transporting Hazardous Chemicals","Transporting Hazardous Chemicals","Transporting Hazardous Chemicals","Transporting Hazardous Chemicals","Transporting Hazardous Chemicals","Transporting Dangerous Chemicals"]
["Subactivities","Subactivities","Nebenaktivitäten","Actividades secundárias","Sous-activités","Actividades secundarias","Attività secondarie ","Sekundære aktiviteter","Lisäpalvelut","Dodatkowa działaność","Andere activiteiten","Pomožne aktivnosti","Vedlejší činnosti","Melléktevékenységek","Sidoaktiviteter","Дополнительные деятельности"]
["Temporary storage - transfer ","Temporary storage - transfer ","Zeitweise Lagerung - Umschlag","Armazenamento temporário - transferências","Stockage temporaire - transfert","Almacén temporal de transferencia","Deposito temporaneo / trasferimento","Midlertidig opbevaring - omlæsning","Väliaikainen varastointi - siirto ","Czasowe składowanie - transfer","Tijdelijke opslag - transfer","Začasno skladiščenje - transfer","Přechodné skladování - překládání","Átmeneti tárolás, átfejtés","Tillfällig lagring - transfer","Временное хранение (кросс-докинг)"]
["Maintenance workshop","Maintenance workshop","Werkstatt","Oficina de manutenção","Atelier de maintenance","Taller  de mantenimiento","Officina di manutenzione","Værksted","Huoltokorjaamo ","Warsztat","Onderhoudswerkplaats","Vzdrževalna delavnica","Dílna údržby","Javítóműhely","Verkstad","Мастерская (техническое обслуживание)"]
["Transfer (intermodal) terminal","Transfer (intermodal) terminal","Umschlagsterminal (Intermodal)","Terminal de transferência intermodal","Terminal de transfer (intermodal) ","Terminal intermodal de transferencia","Terminal trasferimento (intermodale)","Omlæsning (intermodal) terminaler","Intermodaali siirtoterminaali ","Terminal przeładunkowy - intermodalny","(Intermodale) Transfer Terminal","Transferni (intermodalni) terminal","Překládkový (intermodální) terminál","Transfer (intermodális) terminál","Transfer (intermodal) terminal","Трансферный (интермодальный) терминал"]
["Fixed storage tanks present (also tanks for fuel station)","Fixed storage tanks present (also tanks for fuel station)","Feste Lagertanks vorhanden ( auch Tanks für Kraftstoff-Tankstellen)","Tanques fixos de armazenagem existentes (incluindo tanques para bombas de abastecimento de combustível)","Réservoirs de stockage fixes présents (y compris les réservoirs pour la station-service) ","Tanques fijos de almacenamiento (incluyendo tanques de almacenaje de carburantes)","Serbatoi fissi presenti (anche serbatoi diesel per la stazione di rifornimento mezzi)","Faste opbevaringstanke installeret (også tanke til brændstof)","Toimipailakka olevat kiinteät säiliöt (myös polttoainesäiliöt)","Obecność stałych zbiorników na materiały płynne (w tym zbiorniki stacji paliw)","Vaste voorraadtanks aanwezig (ook voor tanks van het tankstation)","Stabilni skladiščni rezervoarji (tudi rezervoarji z gorivom za črpalko )","Stabilní zásobní nádrže (vč. zásobníků čerpací stanice)","Rögzített tároló tartályok (az üzemanyagtartályok is)","Stationära lagertankar finns (även tankar för tankstation)","Встроенные резервуары хранения налицо (в том числе для АЗС)"]
["Tankcontainer heating","Tankcontainer heating","beheizte Tankcontainer ","Cisternas/contentores com aquecimento","Chauffage pour conteneur-citerne ","Calentamiento  de contenedores cisterna","Riscaldamento Tankcontainer","Opvarmning af tanke/tankcontainere ","Säiliökonttien lämmitys ","Podgrzewanie produktów w tankkontenerach","Tankcontainer opwarming","Ogrevanje kontejnerskih cistern","Vyhřívání cisternových kontejnerů","Tankkonténer kifűtés","Tankcontainer värmning","Обогрев контейнеров-цистерн"]
["Tank and/or trailer repair","Tank and/or trailer repair","Tank und/oder Trailer reparatur","Reparação de cisternas ou reboques/semireboques","Atelier de réparation pour citerne et remorque","Reparación de cisternas y/o trailers","Riparazione cisterne e/o semirimorchi","Reparationer af tanke og/eller trailere","Säliöiden ja/tai trailerien korjausta ","Naprawy zbiorników lub naczep","Herstelling van tanks en/of trailers","Poravila cistern in/ali vozil","Opravy cisteren a/nebo návěsů","Tartály vagy tréler javítás","Reparation av tankar och/eller trailer","Ремонт цистерн и/или прицепов"]
["Empty container handling ","Empty container handling ","Leercontainer Handling","Movimentação de contentores vazios","Manutention de conteneurs vides  ","Manipulacion de contenedores vacíos","Movimentazione container vuoti","Håndtering af tomme containere","Tyhjien konttien käsittelyä ","Operowanie pustymi kontenerami","Manipulatie van lege containers","Rokovanje s praznimi kontejnerji","Manipulace s prázdnými kontejnery","Üres konténer kezelés","Hantering av tomma containers","Обработка порожних контейнеров"]
["Full container handling ","Full container handling ","Vollcontainer Handling","Movimentação de contentores carregados","Manutention de conteneurs remplis ","Manipulacion de contenedores llenos","Movimentazione container carichi","Håndtering af lastede containere","Täysinäisten konttien käsittelyä ","Operowanie ładownymi kontenerami","Manipulatie van geladen containers","Rokovanje s polnimi kontejnerji","Manipulace s plnými kontejnery","Rakott konténer kezelés","Hantering av fyllda containers","Обработка полных контейнеров"]
["Airfreight (linked)","Airfreight (linked)","Luftfracht (verbunden)","Ligação a transporte aéreo","Fret aérien (lié)","Carga aérea","Spedizioni aeree ","Luftfragt ","Lentorahtiin liittyvää palvelua ","Obsługa przesyłek lotniczych","Luchtvracht (gekoppeld)","Letalski tovor ( povezava )","Nákladní letecká doprava (linková)","Légi szállítás (kapcsolódó)","Flygfrakt (länkad)","Авиаперевозки (связанные)"]
["Shuttle service ","Shuttle service ","Pendelverkehr","Serviço ida e volta (shuttle)","Service de navette","Servicios regulares de recogida y entrega","Servizio autobus","Containerteminal","Menopaluu palveluita ","Wahadła","Shuttle dienst","Povezovalne storitve (shuttle)","Kyvadlová doprava","Ingajárat (shuttle)","Service med pendeltrafik","Челночная (шаттл-) перевозка"]
["Geographical coverage","Geographical coverage","Geographischer Bereich","Cobertura geográfica","Couverture géographique","Area geográfica","Copertura geografica","Geografisk dækning","Maantieteellinen kattavuus ","Zakres geograficzny","Geografische reikwijdte ","Geografsko pokritje","Geografické pokrytí","Földrajzi terület","Geografisk täckning","Географический охват"]
["National transport","National transport","Nationale Transporte","Transporte nacional","Tranport national","Transporte Nacional","Trasporti nazionali","National transport","Kansalliset kuljetukset","Transport krajowy","Nationaal transport","Transport v državi","Vnitrostátní doprava","Belföldi szállítás","Nationell transport","Внутренние (национальные) перевозки"]
["International transport","International transport","Internationale Transporte","Transporte internacional","Transport International","Transporte Internacional","Trasporti internazionali","International transport","Kansainväliset kuljetukset ","Transport międzynarodowy","Internationaal transport","Mednarodni transport","Mezinárodní doprava","Nemzetközi szállítás","Internationell transport","Международные перевозки"]
["Member of GCC","Member of GCC","Member of GCC","Member of GCC","Member of GCC","Member of GCC","Member of GCC","Member of GCC","Member of GCC","Member of GCC","Member of GCC","Member of GCC","Member of GCC","Member of GCC","Member of GCC","Member of GCC"]
["Type of operators/ drivers ","Type of operators/ drivers ","Arten der Unterauftragnehmer / Unternehmer / Fahrer","Tipo de operadores / motoristas","Types de chauffeurs et de sous-traitance","Tipo de operarios/conductores","Tipi di operatori / autisti ","Type af driftspersonale/ chauffører ","Operatiivisten henkilöiden / kuljettajien työsuhde ","Rodzaje operatorów / kierowców","Type operateurs/ chauffeurs","Tip operaterjev/voznikov","Typ obsluh / řidičů","A kezelők/sofőrök típusa","Typ av driftpersonal/ förare","Тип операторов / водителей"]
["Own company drivers","Own company drivers","Eigene Fahrer","Motoristas trabalhadores da empresa","Chauffeurs appartenant à la société ","Conductores propios","Propri autisti dipendenti ","Egne chauffører","Yrityksen omia kuljettajia ","Zatrudnieni kierowcy","Eigen Chauffeurs","Lastni vozniki","Vlastní řidiči - zaměstnanci","Saját alkalmazott sofőrök","Egna anställda förare","Собственные водители"]
["Number of own company drivers","Number of own company drivers","Anzahl eigene Fahrer","Número de motoristas próprios","Nombre de chauffeurs appartenant à la société","Número de conductores propios","Numero dei propri autisti dipendenti","Antal egne chauffører","Yrityksen omien kuljettajien lukumäärä ","Ilośc zatrudnionych kierowców","Aantal eigen chauffeurs","Število lastnih voznikov","Počet vlastních řidičů","Saját alkalmazott sofőrök száma","Antal egna anställda förare","Количество собственных водителей"]
["Leave empty if there are no own drivers","Leave empty if there are no own drivers"]
["Fully integrated subcontractors","Fully integrated subcontractors","Voll integrierte Unterauftragnehmer / Unternehmer","Subcontratados totalmente integrados","Sous-traitants complètement intégrés","Subcontratistas completamente integrados","Sub-vettori completamente integrati","Fuld Integrerede underleverandører","Täysin integroituja alihankkijoita ","W pełni zintegorwani przewoźnicy","Volledig geïntegreerde onderaannemers","Polno integrirani podizvajalci/vozniki ( vključeni v planiranje, usposabljanje...)","Plně integrovaní poddopravci","Teljesen integrált alvállalkozók","Helt integrerade underleverantörer","Полностью интегрированные субподрядчики"]
["Number of fully integrated drivers","Number of fully integrated drivers","Anzahl der vollintergrierten Fahrer","Número de motoristas totalmente integrados","Nombre de sous-traitants complètement intégrés","Numero de conductores completamente integrados","Numero degli autisti completamente integrati","Antal af fuld integrerede underleverandører","Täysin integroitujen alihankkijoiden lukumäärä","Ilośc kierowców przewoźników w pełni zintegrowanych","Aantal volledig geïntegreerde onderaannemers","Število polno integriranih podizvajalcev/voznikov","Počet řidičů plně integrovaných poddopravců","Teljesen integrált sofőrök száma","Antal helt integrerade förare","Количество полностью интегрированных водителей"]
["Leave empty if there are no fully integrated drivers","Leave empty if there are no fully integrated drivers"]
["Non-integrated subcontractors","Non-integrated subcontractors","Nicht integrierte Unterauftragnehmer / Unternehmer","Subcontratados não integrados","Sous-traitants non intégrés","Subcontratistas no integrados","Sub-vettori non integrati","Ikke-integrerede underleverandører","Integroimattomia alihankkijoita ","Przewoźnicy nie-zintegrowani","Niet-geïntegreerde onderaannemers","Ne integrirani podizvajalci","Neintegrovaní poddopravci","Nem integrált alvállalkozók","Ej integrerade underleverantörer","Неинтегрированные субподрядчики"]
["Average of non-integrated drivers per day","Average of non-integrated drivers per day","Durchschnitt nicht integrierter Fahrer pro Tag","Média diária de motoristas não integrados","Moyenne journalière des sous-traitants ponctuels ","Media diaria de conductores no integrados","Media giornaliera degli autisti non integrati","Gennemsnitlig ikke-integrerede chauffører pr. dag","Integroimattomian alihankkijoiden keskimääräinen lukumäärä päivän aikana ","Średnia, dzienna ilość kierowców pracujących u przewoźników nie-zintegorowanych","Gemiddeld aantal niet-geïntegreerde onderaannemers per dag","Povprečje ne integriranih podizvajalcev/voznikov na dan","Průměrně neintegrovaných řidičů denně","A nem integrált sofőrök átlagos száma egy napon","Genomsnitt antal ej integrerade förare per dag","Среднее количество неинтегрированных водителей в день"]
["Leave empty if there are no non-integrated subcontractors","Leave empty if there are no non-integrated subcontractors"]
["Spot subcontracting","Spot subcontracting","Spotdienstleister","Subcontratação esporádica (spot)","Sous-traitance ponctuelle","Subcontratación eventual","Sub-vettori occasionali","Spot leverandører","Spot alihankkijoita","Podzlecanie poprzez giełdę (lub inne formy, jednorazowych zleceń)","Spot onderaanneming","Naključni podizvajalci ( v zadnjem hipu, telefonski imenik...)","Místní poddopravci","Alkalmi alvállalkozás","Enstaka (spot) underleverantörer","Спот-субподрядчики"]
["Average of spot drivers per day","Average of spot drivers per day","Durchschnitt Spot Fahrer pro Tag","Média diária de motoristas esporáricos (spot)","Moyenne journalière des sous-traitants ponctuels","Media diaria de conductores eventuales","Media giornaliera autisti occasionali","Gennemsnitlig spot chauffører pr. dag","Spot alihankkijoiden lukumäärä päivän aikana ","Średnia, dzienna ilość kierowców pracująych jako przewoźnicy z giełdy/jednorazowych zleceń","Gemiddeld aantal spot onderaannemers per dag","Povprečje naključnih voznikov na dan","Průměrně místních řidičů denně","Az alkalmi alvállalkozó sofőrök átlagos száma egy napon","Genomsnitt antal \"spot\" förare per dag","Среднее значение спот-водителей в день"]
["Leave empty if there are no spot subcontractors","Leave empty if there are no spot subcontractors"]
["Number of office employees","Number of office employees","Anzahl derBüroangestellten","Número de trabalhadores da área administrativa","Nombre d'employés","Número de empleados de oficina","Numero dei dipendenti in ufficio","Antal kontorpersonale","Toimistohenkilöiden lukumäärä ","Ilość pracowników w biurach","Aantal kantoormedewerkers","Število zaposlenih v pisarnah/administraciji","Počet kancelářských zaměstnanců","Irodai alkalmazottak száma","Antal kontorsanställda","Количество служащих в офисе"]
[{"$f":"IF(ISERROR(IF(LEN(TEXT(OFFSET(A196,0,langsel),\"\"))>0,TEXT(OFFSET(A196,0,langsel),\"\"),TEXT(B196,\"\"))),IF(LEN(OFFSET(A196,0,langsel))>0,OFFSET(A196,0,langsel),B196),IF(LEN(TEXT(OFFSET(A196,0,langsel),\"\"))>0,TEXT(OFFSET(A196,0,langsel),\"\"),TEXT(B196,\"\")))","v":"Number of operators (others than drivers)"},"Number of operators (others than drivers)","Anzahl der Arbeiter (andere als Fahrer)","Número de operadores (excluindo motoristas)","Nombre d'opérateurs (autres que les chauffeurs)","Número de operarios (distintos de conductores)","Numero di operatori (diversi da autisti)","Antal driftspersonale (udover chauffører)","Operatiivisten henkilöiden (muut kuin kuljettajat) lukumäärä","Ilość pracowników - operatorów (poza kierowcami)","Aantal operateurs (andere dan chauffeurs)","Število operativnega osebja ( brez voznikov)","Počet obsluh (jiní než řidiči)","Kezelők száma (akik nem sofőrök)","Antal operatörer (andra än förare)","Количество операторов (другие чем водителей)"]
["Percentage transported","Percentage transported","Prozentualer Anteil der durchgeführten Transporte","Percentagem de transportes efectuados","Pourcentage transporté ","Porcentaje transportado","Percentuale (sul tonnellaggio totale) trasportato","Procent transporteret","Prosenttiosuus kuljetuksista ","Procentowy udział w transportach realizowany przez","Getransporteerd percentage","Odstotek prevozov","Přepravovaný podíl (%)","A szállított áru arányában","Procent transporterat","Процентная доля проведенных перевозок"]
["Own company drivers","Own company drivers","Eigene Fahrer","Motoristas trabalhadores da empresa","Chauffeurs appartenant à la société","Por conductores propios","Propri autisti dipendenti","Egne chauffører","Yrityksen omilla kuljettajilla ","Zatrudnionych kierowców","Eigen chauffeurs","Lastni vozniki","Vlastními řidiči - zaměstnanci","Saját sofőrök által","Egna anställda förare","Собственные водители"]
["Fully integrated subcontractors","Fully integrated subcontractors","Voll integrierte Unterauftragnehmer / Unternehmer","Subcontratados totalmente integrados","Sous-traitants complètement intégrés","Por subcontratistas completamente integrados","Sub-vettori completamente integrati","Fuld Integrerede underleverandører","Täysin integroiduilla alihankkijoilla ","Kierowców przewoźników w pełni zintegorowanych","Volledig geïntegreerde onderaannemers","Polno integrirani vozniki/podizvajalci ","Plně integrovanými poddopravci","Teljesen integrált alvállalkozók","Helt integrerade underleverantörer","Полностью интегрированные субподрядчики"]
["Non-integrated subcontractors","Non-integrated subcontractors","Nicht integrierte Unterauftragnehmer / Unternehmer","Subcontratados não integrados","Sous-traitants non intégrés","Por subcontratistas no integrados","Sub-vettori non integrati","Ikke-integrerede underleverandører","Integroimattomilla alihankkijoilla ","Kierowców przewoźników nie-zintegorowancyh","Niet-geïntegreerde onderaannemers","Ne integrirani vozniki/podizvajalci","Neintegrovanými poddopravci","Nem integrált alvállalkozók","Ej integrerade underleverantörer","Неинтегрированные субподрядчики"]
["Spot subcontracting","Spot subcontracting","Spotdienstleister","Subcontratação esporádica (spot)","Sous-traitants ponctuels","Por subcontratistas eventuales","Sub-vettori occasionali","Spot leverandører","Spot alihankkijoilla ","Zleceń jednorazowych","Spot onderaanneming","Naključno izbrani vozniki/podizvajalci","Místními poddopravci","Alkalmi alvállalkozás","Enstaka (spot) underleverantörer","Спот-субподрядчики"]
["Type of transport transported by subcontractor","Type of transport transported by subcontractor","Arten der von den Unterauftragnehmer / Unternehmern durchgeführten Transporte ","Tipo de transporte efectuado pelo subcontratado","Type de transport sous-traité","Tipo de transporte transportado por subcontratista","Tipo di trasporto effettuato dai Sub-vettori","Type af transport transporteret af underleverandører","Alihankkijoiden kuljettamat tavaralajit","Rodzaje transportów relizowanych przez przewoźników ","Type van transport uitgevoerd door de onderaannemers","Tip transporta, ki ga izvajajo podizvajalci","Typ přeprav provedených poddopravci","Az alvállalkozók által szálított áru tipusa ","Typ av transport transporterad av underleverantör","Вид перевозки от субподрядчиков"]
["Bulk","Bulk","Massengüter","Granéis","en vrac","a granel","Sfuso","Tanktransporter","Bulkki","luzem","Bulk","Razsuto","Volně","Ömlesztett","Bulk","Массовый груз"]
["Packed","Packed","verpackte Güter ","Embalados","emballé","envasado","Imballato","Stykgods","Pakatut ","w sztukach przesyłki","Verpakte ","Pakiranano","Balené","Csomagolt","Förpackad","Тара (упаковки)"]
["Liquid","Liquid","flüssige","Líquidos","Liquide","Líquido","Liquido","væsker","Nesteet","Ciekłe ","Vloeistoffen","Tekočine","kapaliny","Folyékony","Vätska","Жидкости"]
["Solid","Solid","feste","Sólidos","Solide","Sólido","Solido","faste stoffer","Kiinteät","Stałe","Vaste stoffen","V trdnem stanju","sypké/pevné látky","Szilárd","Fast gods","Твердые вещества"]
["Gas","Gas","gasförmige","Gás","Gaz","Gas","Gas","gasser","Kaasu","Gazy","Gas","Plin ","plyny","Gáz","Gas","Газы"]
["Products","Products","Produkte","Produtos","Produits","Productos","Prodotti","Produkter","Tuotteet","Produkty","Producten","Proizvodi","Produkty","Termékek","Produkter","Продукты"]
["Tonnage chem. transported/handled per year","Tonnage chem. transported/handled per year","Gesamttonnage der transportierten chemischen Produkte pro Jahr? ","Tonelagem de produtos químicos transportados por ano","Tonnage des produits chimiques transportés/ manutentionnés par an","Tonelaje de químicos transportados/cargados por año","Tonnellaggio prodotti chimici trasportati / movimentati annualmente","Tons kemikalier transporteret pr. år","Vuosittain kuljetettu/käsitelty kemikaalien tonnimäärä","Tonaż materiałów chemicznych transportowanych/obslugiwancyh rocznie","Tonnage chemicaliën vervoerd/behandeld per jaar","Letna tonaža transportiranih/obdelanih kemikalij","Tonáž chemikálií, které jsou dopravovány/se kterými je manipulováno / rok","A kezelt/szállított termékek mennyisége (tonnában) egy évben","Antal ton kemikalier som transporteras/hanteras per år","Общий тоннаж транспортированных / обработанных химических продуктов в год?"]
["Are dangerous goods transported/handled?","Are dangerous goods transported/handled?","Werden Gefahrgüter transportiert / gehandelt?","Os produtos transportados são perigosos?","Des matières dangereuses sont-elles transportées ou manutentionnées ?","¿Se transportan/cargan mercancías peligrosas?","Sono trasportati / movimentati prodotti chimici pericolosi","Transporteres farligt gods?","Kuljetetaanko / käsitelläänkö vaarallisia aineita?","Czy materiały niebezpieczne są transportowane/obsługiwane?","Worden gevaarlijke goederen vervoerd/behandeld ?","Ali se prevaža/obdeluje nevarno blago?","Jsou dopravovány / Je manipulováno s nebezpečnými látkami?","Veszélyes árut is kezel/szállít?","Transporteras/hanteras farligt gods?","Есть транспортированные / обработанные опасные грузы?"]
["If yes : ","If yes : ","Wenn ja:","Se sim :","Si oui,:","En caso afirmativo: ","Se si:","Hvis ja: ","Jos kyllä:  ","Jeśli tak:","indien ja: ","če da:","Pokud ano:","Ha igen:","Om ja :","Если ДА:"]
["% dangerous goods in regard to the total tonnage","% dangerous goods in regard to the total tonnage","Prozentanteil der gefährlichen Güter an der Gesamttonnage","% de mercadorias perigosas sobre a tonelagem total","Quel pourcentage du tonnage total est effectué en matières dangereuses ?","% sobre el tonelaje total","quale %  sul tonnellagio totale è rappresentata da prodotti ADR","% farligt gods i forhold til det totale tons","%-osuus vaarallisia aineita kokonaiskuljetuksista ","jaki jest odsetek materiałów niebezpiecznych w całkowitym tonażu?","% gevaargoed t.o.v. totaal tonnage","% nevarnega blaga glede na celotno tonažo","% nebezpečných látek vzhledem k celkovému množství","A teljes mennyiséghez képest %-ban","% farligt gods i förhållande till totala antalet ton","Процентная доля опасных грузов в общем тоннаже"]
[{"$f":"IF(ISERROR(IF(LEN(TEXT(OFFSET(A213,0,langsel),\"\"))>0,TEXT(OFFSET(A213,0,langsel),\"\"),TEXT(B213,\"\"))),IF(LEN(OFFSET(A213,0,langsel))>0,OFFSET(A213,0,langsel),B213),IF(LEN(TEXT(OFFSET(A213,0,langsel),\"\"))>0,TEXT(OFFSET(A213,0,langsel),\"\"),TEXT(B213,\"\")))","v":"Leave empty if dangerous goods are not transported/handled"},"Leave empty if dangerous goods are not transported/handled"]
["Don't answer \"Yes\" if dangerous goods are not transported/handled","Don't answer \"Yes\" if dangerous goods are not transported/handled"]
[{"$f":"IF(ISERROR(IF(LEN(TEXT(OFFSET(A215,0,langsel),\"\"))>0,TEXT(OFFSET(A215,0,langsel),\"\"),TEXT(B215,\"\"))),IF(LEN(OFFSET(A215,0,langsel))>0,OFFSET(A215,0,langsel),B215),IF(LEN(TEXT(OFFSET(A215,0,langsel),\"\"))>0,TEXT(OFFSET(A215,0,langsel),\"\"),TEXT(B215,\"\")))","v":"Don't answer \"Yes\" if product is not transported/handled"},"Don't answer \"Yes\" if product is not transported/handled"]
["Class of products transported","Class of products transported","Welche Gefahrgutklassen werden transportiert?","Classes dos produtos transportados","Classes de matières dangereuses transportées","Clases de los productos transportados","Classe dei prodotti trasportati","Klassificering af transporteret produkter","Kuljetettujen aineiden vaarallisuusluokka ","Klasa transportowanych produktów","Klassen van getransporteerde gevaarlijke goederen","Razredi blaga, ki se prevaža","Třída přepravovaných produktů","A szállított osztályok:","Klassificering av transporterade produkter","Какие классы опасных грузов перевозится?"]
["Class 1 : Explosive substances and articles","Class 1 : Explosive substances and articles","Klasse 1: Explosive Stoffe und Gegenstände mit Explosivstoff","Classe 1 : Matérias e objectos explosivos","Classe 1 :   Matières et objets explosibles","Clase 1: Materias y objetos explosivos","Class 1 : Materie e sostanze esplosive ","Klasse 1 : Explosive stoffer og genstande","Luokka 1 : Räjähteet","Klasa 1 Materiały i przedmioty wybuchowe","Klasse 1: Ontplofbare stoffen en voorwerpen","Razred 1: eksplozivne snovi in predmeti","Třída 1 - Výbušné látky a předměty","1. osztály: robbanóanyagok","Klass 1 : Explosiva ämnen och föremål","Класс 1: Взрывчатые вещества и изделия"]
["Class 2 : Gases","Class 2 : Gases","Klasse 2: Gase","Classe 2 : Gases","Class 2 : Gaz","Clase 2: Gases","Class 2 : Gas","Klasse 2 : Gasarter","Luokka 2 : Kaasut","Klasa 2: Gazy","Klasse 2: Gassen","Razred 2: plini","Třída 2 - Plyny","2. osztály: Gázok","Klass 2 : Gaser","Класс 2: Газы"]
["Are these products High Consequence Dangerous Goods?","Are these products High Consequence Dangerous Goods?","Sind dies gefährliche Güter mit hohem Gefahrpotenzial (HCDG - High Consequence Dangerous Goods)","Estes produtos são MPAR - mercadorias perigosas de alto risco (ADR 1.10) ?","Ces produits sont-ils des marchandises dangereuses à haut risque (MDHR)","Son estos productos Mercancías peligrosas de alto riesgo (1.10 ADR)?","Ci sono prodotti catalogati ad Alto Rischio?","Er disse produkter HCGD gods?","Ovatko nämä tuotteet suuren vaaran omaavia aineita?","Czy są to produkty dużego ryzyka?","Zijn deze producten Gevaarlijke Goederen met Hoog Risico (HCDG) ?","Ali je to blago s potencialno hudimi posledicami?","Jsou tyto produkty HCDG látky?","Ezek nagy közbiztonsági kockázatú áruk?","Är dessa produkter högriskprodukter?","Являются ли эти продукты грузы повышенной опасности (HCGD)?"]
["Flammable gases : tank > 3000l or Toxic gases (excl. Aersols)","Flammable gases : tank > 3000l or Toxic gases (excl. Aersols)","Entzündbare Gase: Tank > 3000l oder Giftige Gase (exkl. Aerosole)","Gases Inflamáveis: cisterna > 3000l ou gases tóxicos (excluindo aerosóis)","Gaz inflammables : citernes >3000l ou gaz toxiques (excl. Aérosols)",":cisterna > 3000 l Gas Tossico","Gas infiammabili : cisterna > 3000 Lt o Gas Tossici (esclusi Aerosol)\n \n","Brandfarlige gasser : tank > 3000L eller giftige gasser (ekskl. Aersols)","Syttyvät kaasut: säiliö > 3000l tai myrkyllisiä kaasuja (poislukien aerosolit)","Gazy palne: cysterny pow 3000l lub gazy toksyczne (za wyjątkiem aeorozoli)","Ontvlambare gassen: tank > 3000l of toxische gassen (uitgezonderd aërosolen)","Vnetljivi plini: cisterna>3000l ali strupeni plini (razen aerosoli)","Hořlavé plyny: nádrž >3000 l nebo Toxické plyny (mimo aerosolů)","Gyúlékony gázok  > 3000l vagy toxikus gázok, (kivéve areoszolok)","Brandfarliga gaser : tank > 3000lit Giftiga gaser (exkl. Aerosoler)","Воспламеняющиеся газы: цистерна > 3000л или Токсичные газы (за исключением аэрозолей)"]
["Class 3 : Flammable liquids","Class 3 : Flammable liquids","Klasse 3: Entzündbare flüssige Stoffe","Classe 3 : Líquidos inflamáveis","Classe 3 : liquides inflammables","Clase 3: Líquidos inflamables","Class 3 : Liquidi infiammabili","Klasse 3 : Brandfarlige væsker","Luokka 3 : Palavat nesteet","Klasa 3: Materiały ciekłe zapalne","Klasse 3: Brandbare vloeistoffen","Razred 3: vnetljive tekočine","Třída 3 - Hořlavé kapaliny","3. osztály: Gyúlékony folyadékok","Klass 3 : Brandfarliga vätskor","Класс 3: Легковоспламеняющиеся жидкости"]
["Are these products High Consequence Dangerous Goods?","Are these products High Consequence Dangerous Goods?","Sind dies gefährliche Güter mit hohem Gefahrpotenzial (HCDG - High Consequence Dangerous Goods)?","Estes produtos são MPAR - mercadorias perigosas de alto risco (ADR 1.10) ?","Ces produits sont-ils des produits dangereux à haut risque","Son estos productos Mercancías peligrosas de alto riesgo (1.10 ADR)?","Ci sono prodotti catalogati ad Alto Rischio ?","Er disse produkter HCGD gods?","Ovatko nämä tuotteet suuren vaaran omaavia aineita?","Czy są to produkty dużego ryzyka?","Zijn deze producten Gevaarlijke Goederen met Hoog Risico (HCDG) ?","Ali je to blago s potencialno hudimi posledicami?","Jsou tyto produkty HCDG látky?","Ezek nagy közbiztonsági kockázatú áruk?","Är dessa produkter högriskprodukter?","Являются ли эти продукты грузы повышенной опасности (HCGD)?"]
["Flammable liquids of packaging groups I and II : tanks > 3000l or Desenitized explosives","Flammable liquids of packaging groups I and II : tanks > 3000l or Desenitized explosives","Brennbare Flüssifgkeiten der Verpackungsgruppen I und II : Tanks > 3000l oder Densibilisierte explosive Stoffe","Líquidos inflamáveis dos grupos de embalagem - GE I e GE II: Cisternas > 3000l ou explosivos dessensibilizados","Liquides inflammables des groupes d'emballage I et II : citernes > 3000l ou liquides explosibles désensibilisés","Líquidos inflamables de grupo de embalaje I y II: cisternas > 3000L o explosivos desensibilizados.","Liquidi infiammabili del gruppo di imballagio I e II: cisterne > 3000l o esplosivi desensibilizzati.","Brandfarlige væsker af emballagegruppe I og II : tanke > 3000L eller  desensibiliserede sprængstoffer","Pakkausluokkien I ja II palavat nesteet säiliöissä > 3000l tai epäherkistetyt kiinteät räjähdysaineet ","Ciecze palne w grupach pakowania I lub II: cysterny pow 3000 l. Materiały wybuchowe odczulone","Ontvlambare vloeistoffen van verpakkingsgroep I en II: tanks > 3000l of ongevoelig gemaakte explosieven","Vnetljive tekočine embalažne skupine I in II: cisterne>3000l ali desenzibilizirani eksplozivi","Hořlavé kapaliny obalové skupiny I a II: nádrže >3000 l nebo Znecitlivělé výbušné látky","Gyúlékony folyadékok I és II csomagolási csoport: tartályok  > 3000l vagy érzéketlenített robbanóanyagok","Brandfarliga vätskor i förpackningsgrupp I och II : tank > 3000lit Okänsliggjorda flytande explosivämnen","Легковоспламеняющиеся жидкости, группы упаковки I и II: цистерна > 3000л или Десенсибилизированные взрывчатые вещества"]
["Class 4.1. : Flammable solids,  self-reactive substances and solid desensitized explosives.","Class 4.1. : Flammable solids,  self-reactive substances and solid desensitized explosives.","Klasse 4.1: Entzündbare feste Stoffe, selbstzersetzliche Stoffe und desensibilisierte Stoffe explosive feste Stoffe","Classe 4.1. : Matérias sólidas inflamáveis,  matérias auto-reactivas e matérias explosivas dessensibilizadas sólidas","Class 4.1. : Matières solides inflammables, matières autoréactives et matières solides explosibles désensibilisées","Clase 4.1: Sólidos inflamables, autoreactivos y explosivos desensibilizados","Class 4.1. : Solidi infiammabili, materie autoreattive ed esplosivi solidi desensibilizzati","Klasse 4.1. : Brandfarlige stoffer, selvantændelige stoffer og desensibiliserende sprængstoffer.","Luokka 4.1. : Helposti syttyvät kiinteät aineet","Klasa 4.1: Materiały stałe zapalne, materiały samoreaktywne i materiały wybuchowe stałe odczulone","Klasse 4.1: Brandbare vaste stoffen, zelfontledende stoffen en vaste ontplofbare stoffen in niet-explosieve toestand","Razred 4.1. : Vnetljive trdne snovi, samo reaktivne snovi in trdni desenz. eksplozivi","Třída 4.1 - Hořlavé tuhé látky,  samovolně se rozkládající látky a znecitlivěné tuhé výbušné látky.","4.1 osztály: Gyúlékony szilárd anyagok, önreaktív anyagok, szilárd érzéketlenített robbanóanyagok","Klass 4.1. : Brandfarliga fasta ämnen, självreaktiva ämnen och fasta okänsliggjorda explosivämnen","Класс 4.1: Легковоспламеняющиеся твердые вещества, самореактивные вещества и твердые десенсибилизированные взрывчатые вещества"]
["Are these products High Consequence Dangerous Goods?","Are these products High Consequence Dangerous Goods?","Sind dies gefährliche Güter mit hohem Gefahrpotenzial (HCDG - High Consequence Dangerous Goods)?","Estes produtos são MPAR - mercadorias perigosas de alto risco (ADR 1.10) ?","Ces produits sont-ils des marchandises dangereuses à haut risque (MDHR)","Son estos productos Mercancías peligrosas de alto riesgo (1.10 ADR)?","Ci sono prodotti catalogati ad Alto Rischio ?","Er disse produkter HCGD gods?","Ovatko nämä tuotteet suuren vaaran omaavia aineita?","Czy są to produkty dużego ryzyka?","Zijn deze producten Gevaarlijke Goederen met Hoog Risico (HCDG) ?","Ali je to blago s potencialno hudimi posledicami?","Jsou tyto produkty HCDG látky?","Ezek nagy közbiztonsági kockázatú áruk?","Är dessa produkter högriskprodukter?","Являются ли эти продукты грузы повышенной опасности (HCGD)?"]
["Desensitized explosives","Desensitized explosives","Desensibilisierte explosive Stoffe","Exposivos dessensibilizados","Matières explosibles désensibilisés","Explosivos desensibilizados","Esplosivi desensibilizzati","Desensibiliserede sprængstoffer","Epäherkistetyt kiinteät räjähdysaineet ","Materiały wybuchowe odczulone","Ongevoelig gemaakte explosieven","Desenzibilizirani eksplozivi","Znecitlivělé výbušné látky","Érzéketlenített robbanóanyagok","Okänsliggjorda explosivämnen","Десенсибилизированные взрывчатые вещества"]
["Class 4.2. : Substances liable for spontaneous combustion","Class 4.2. : Substances liable for spontaneous combustion","Klasse 4.2: Selbstentzündliche Stoffe","Classe 4.2. : Matérias espontaneamente inflamáveis","Class 4.2. : Matières sujettes à l'inflammation spontanée","Clase 4.2: Materias que reaccionan de forma espontánea","Class 4.2. : Materie soggette ad accensione spontanea","Klasse 4.2. : Letantændelige stoffer","Luokka 4.2. : Helposti itsestään syttyvät aineet","Klasa 4.2 Materiały samozapalne","Klasse 4.2: Voor zelfontbranding vatbare stoffen","Razred 4.2. : Snovi, ki se spontano vnamejo","Třída 4.2 - Samozápalné látky","4.2 osztály: Öngyulladó anyagok","Klass 4.2 : Självantändande ämnen","Класс 4.2: Вещества, способные к самовозгоранию"]
["Are these products High Consequence Dangerous Goods?","Are these products High Consequence Dangerous Goods?","Sind dies gefährliche Güter mit hohem Gefahrpotenzial (HCDG - High Consequence Dangerous Goods)?","Estes produtos são MPAR - mercadorias perigosas de alto risco (ADR 1.10) ?","Ces produits sont-ils des produits dangereux à haut risque","Son estos productos Mercancías peligrosas de alto riesgo (1.10 ADR)?","Ci sono prodotti catalogati ad Alto Rischio ?","Er disse produkter HCGD gods?","Ovatko nämä tuotteet suuren vaaran omaavia aineita?","Czy są to produkty dużego ryzyka?","Zijn deze producten Gevaarlijke Goederen met Hoog Risico (HCDG) ?","Ali je to blago s potencialno hudimi posledicami?","Jsou tyto produkty HCDG látky?","Ezek nagy közbiztonsági kockázatú áruk?","Är dessa produkter högriskprodukter?","Являются ли эти продукты грузы повышенной опасности (HCGD)?"]
["Packing group I : Tank > 3000l","Packing group I : Tank > 3000l","Verpackungsgruppe I : Tank > 3000 l ","Grupo de embalagem GE I : Cisterna > 3000l","Groupe d'emballage I: citerne > 3000l","Grupo de embalaje I: cisterna > 3000L","Gruppo di imballaggio I: Cisterna > 3000l ","Emballagegruppe I: Tank > 3000L","Pakkausryhmä I: Säiliö > 3000l","Grupa pakowania I: cysterny pow 3000 l","Verpakkingsgroep I : Tank > 3000l ","Embalažna skupina I: cisterna>3000l","Obalová skupiny I : nádrže > 3000 l","I. Csomagolási csoport: tartály > 3000l","Förpackningsgrupp I : Tank > 3000 lit ","Вещества группы упаковки I: цистерна > 3000л"]
["Class 4.3. : Substances which in contact with water, emit flammable gases","Class 4.3. : Substances which in contact with water, emit flammable gases","Klasse 4.3: Stoffe, die in Berührung mit Wasser entzündbare Gase entwickeln","Classe 4.3. : Matérias que, em contacto com a àgua, libertem gases inflamáveis","Class 4.3. : Matières qui, au contact de l'eau, dégagent des gaz inflammables","Clase 4.3: Materias que en contacto con el agua desprenden gases inflamables","Class 4.3. : Materie che al contatto con l'acqua, sviluppano gas infiammabili","Klasse 4.3. : Stoffer som ved kontakt med vand, udgiver brandfarlige gasser","Luokka 4.3. : Aineet, jotka veden kanssa kosketukseen joutuessaan kehittävät palavia kaasuja","Klasa 4.3 Materiały wytwarzające w zetknięciu z wodą gazy palne","Klasse 4.3: Stoffen die in contact met water ontbrandbare gassen ontwikkelen","Razred 4.3. : Snovi, ki ob stiku z vodo sproščajo vnetljive pline","Třída 4.3 - Látky, ve styku s vodou vyvíjející hořlavé plyny","4.3. osztály: Vízzel gyúlékony gázokat képző anyagok","Klass 4.3. : Ämnen som utvecklar brandfarlig gas vid kontakt med vatten","Класс 4.3: Вещества, выделяющие легковоспламеняющиеся газы при соприкосновении с водой"]
[{"$f":"IF(ISERROR(IF(LEN(TEXT(OFFSET(A231,0,langsel),\"\"))>0,TEXT(OFFSET(A231,0,langsel),\"\"),TEXT(B231,\"\"))),IF(LEN(OFFSET(A231,0,langsel))>0,OFFSET(A231,0,langsel),B231),IF(LEN(TEXT(OFFSET(A231,0,langsel),\"\"))>0,TEXT(OFFSET(A231,0,langsel),\"\"),TEXT(B231,\"\")))","v":"Are these products High Consequence Dangerous Goods?"},"Are these products High Consequence Dangerous Goods?","Sind dies gefährliche Güter mit hohem Gefahrpotenzial (HCDG - High Consequence Dangerous Goods)?","Estes produtos são MPAR - mercadorias perigosas de alto risco (ADR 1.10) ?","Ces produits sont-ils des produits dangereux à haut risque","Son estos productos Mercancías peligrosas de alto riesgo (1.10 ADR)?","Ci sono prodotti catalogati ad Alto Rischio ?","Er disse produkter HCGD gods?","Ovatko nämä tuotteet suuren vaaran omaavia aineita?","Czy są to produkty dużego ryzyka?","Zijn deze producten Gevaarlijke Goederen met Hoog Risico (HCDG) ?","Ali je to blago s potencialno hudimi posledicami?","Jsou tyto produkty HCDG látky?","Ezek nagy közbiztonsági kockázatú áruk?","Är dessa produkter högriskprodukter?","Являются ли эти продукты грузы повышенной опасности (HCGD)?"]
["Packing group I : Tank > 3000l","Packing group I : Tank > 3000l","Verpackungsgruppe I : Tank > 3000 l","Grupo de embalagem GE I : Cisterna > 3000l","Groupe d'emballage I: citerne > 3000l","Grupo de embalaje I: cisterna > 3000L","Gruppo di imballaggio I: Cisterna > 3000l ","Emballagegruppe I: Tank > 3000L","Pakkausryhmä I: Säiliö > 3000l ","Grupa pakowania I: cysterny pow 3000 l","Verpakkingsgroep I : Tank > 3000l","Embalažna skupina I: cisterna>3000l","Obalová skupiny I : nádrže > 3000 l ","I. Csomagolási csoport: tartály > 3000l","Förpackningsgrupp I : Tank > 3000 lit ","Вещества группы упаковки I: цистерна > 3000л"]
["Class 5.1. : Oxidizing substances","Class 5.1. : Oxidizing substances","Klasse 5.1: Entzündend (oxydierend) wirkende Stoffe","Classe 5.1. : Matérias comburentes","Class 5.1. : Matières comburantes","Clase 5.1: Materias comburentes","Class 5.1. : Materie comburenti ","Klasse 5.1. : Brandnærende stoffer","Luokka 5.1. : Hapettavat aineet","Klasa 5.1 Materiały utleniajace","Klasse 5.1: Oxiderende stoffen","Razred 5.1. : Oksidirajoče snovi","Třída 5.1 - Látky podporující hoření","5.1. osztály Gyújtó hatású (oxidáló) anyagok","Klass 5.1. : Oxiderande ämnen","Класс 5.1: Окисляющие вещества"]
["Are these products High Consequence Dangerous Goods?","Are these products High Consequence Dangerous Goods?","Sind dies gefährliche Güter mit hohem Gefahrpotenzial (HCDG - High Consequence Dangerous Goods)?","Estes produtos são MPAR - mercadorias perigosas de alto risco (ADR 1.10) ?","Ces produits sont-ils des produits dangereux à haut risque","Son estos productos Mercancías peligrosas de alto riesgo (1.10 ADR)?","Ci sono prodotti catalogati ad Alto Rischio ?","Er disse produkter HCGD gods?","Ovatko nämä tuotteet suuren vaaran omaavia aineita?","Czy są to produkty dużego ryzyka?","Zijn deze producten Gevaarlijke Goederen met Hoog Risico (HCDG) ?","Ali je to blago s potencialno hudimi posledicami?","Jsou tyto produkty HCDG látky?","Ezek nagy közbiztonsági kockázatú áruk?","Är dessa produkter högriskprodukter?","Являются ли эти продукты грузы повышенной опасности (HCGD)?"]
["Oxidizing liquids of packing group I : Tank > 3000l or Perchlorates, ammonium nitrate, ammonium nitrate fertilisers and ammonium nitrate emulsions or suspensions or gels : Tanks > 3000l or Bulk > 3000l","Oxidizing liquids of packing group I : Tank > 3000l or Perchlorates, ammonium nitrate, ammonium nitrate fertilisers and ammonium nitrate emulsions or suspensions or gels : Tanks > 3000l or Bulk > 3000l","Oxidierende Flüssigkeiten der Verpackungsgruppe I : Tank > 3000l oder Perchlorate, Ammoniumnitrat, ammoniumnitrathaltige Düngemittel und Ammoniumnitrat-Emulsionen oder - Suspensionen oder Gele: Tank > 3000 l oder Bulk > 3000 kg","Líquidos comburentes do grupo de embalagem GE I : Cisternas > 3000l Percloratos, nitrato de amónio, adubos de nitrato de amónio e nitrato de amónio em emulsão, suspensão ou gel : Cisternas > 3000l ou granéis > 3000kg","Liquides comburants du groupe d'emballage I: Citerne> 3000l  Perchlorates, nitrate d'ammonium, engrais au nitrate d'ammonium et nitrate d'ammonium en émulsion, suspension ou gel: citerne >3000l ou vrac > 3000kg","Líquidos oxidantes de grupo de embalaje I: cisternas > 3000L o a granel Percloratos, nitrato amónico, fertilizantes de nitrato amónico o emulsiones, suspensiones o geles de nitrato amónico: cisternas > 3000L o a granel > 3000KG","Oxidizing liquidi del gruppo di imballaggio I: Cisterne > 3000l o  Perclorati, nitrato ammonico, nitrato ammonico fertilizzante e nitratto ammonico emulsione o in sospensione o gel: Cisterne > 3000l o liquido > 3000 kg.","Brandnærende væsker af emballagegruppe I: Tank > 3000L eller uemballeret Perchlorates, ammonium nitrat, ammonium nitrat gødning og ammonium nitrat emulsioner eller suspensioner eller gel: Tanke > 3000L eller uemballeret > 3000 KG","Pakkausryhmän I hapettavat nesteet: Säiliö > 3000l tai bulkkina Perkloratit, ammoniumnitraatti, ammoniumnitraatti lannoitteet ja ammoniumnitraatti emulsiot tai suspensiot tai geelit: Säiliöt > 3000l tai Bulkkina > 3000kg","Ciecze utleniajace grupa pakowanai I: cysterny pow 3000 l. Nadchlorany, azotan amonowy, nawozy na bazie azotanu amonowego oraz azotan amonowy w emulsji, zawiesinie lub żelu: W cysternach powyżej 3000 l lub luzem powyżej 3000 kg,","Oxiderende vloeistoffen van verpakkingsgroep I: Tank > 3000l. Perchloraten, ammoniumnitraat, meststoffen op basis van ammoniumnitraat, ammoniumnitraat emulsies, suspensies of gels: Tank > 3000l of bulk > 3000kg","Oksidativne tekočine embalažne skupine I: cisterna>3000l ali razsuto; Perklorati,amonijevi nitrati in gnojila z amonijevim nitratom;\nEmulzije ali suspenzije ali geli: cisterne>3000l ali razsuto>3000kg","Oxidující kapaliny obalové skupiny I : nádrže > 3000 l nebo chloristany, dusičnan amonný, hnojiva s dusičnanem amonným a emulse, suspenze nebo gely  dusičnanu amonného: Nádrže > 3000 l nebo volně ložené > 3000 kg ","Gyújtó hatású foyladékokra I. Csomagolási csoport:tartály > 3000l\nPerklorátok, ammóniumnitrát, ammónium nitrát műtrágyák, és ammónium nitrát emulziók, szuszpenziók vagy gélek: tartály > 3000l vagy ömlesztve > 3000 kg","Oxiderande vätskor i förpackningsgrupp I: Tank > 3000 lit.  Perklorater, ammoniumnitrat, ammoniumnitrathaltiga gödselmedel samt ammoniumnitratemulsioner eller -suspensioner eller -geler ; Tank > 3000 lit eller bulk > 3000 kg ","Жидкие окисляющие вещества группы упаковки I: цистерна > 3000л или\nПерхлораты, нитрат аммония, аммиачно-нитратные удобрения и эмульсии, суспензии или гели нитрата аммония: цистерна > 3000л или навалом > 3000 кг"]
["Class 5.2. : Organic peroxides","Class 5.2. : Organic peroxides","Klasse 5.2. Organische Peroxide","Classe 5.2. : Peróxidos organicos","Class 5.2. : Peroxydes organiques","Clase 5.2: Peróxidos Orgánicos","Perchlorates, ammonium nitrate, ammonium nitrate fertilisers and ammonium nitrate emulsions or suspensions or gels : Tanks > 3000l or Bulk > 3000l","Klasse 5.2. : Organiske peroxider","Luokka 5.2. : Orgaaniset peroksidit","Klasa 5.2 Nadtlenki organiczne","Klasse 5.2: Organische peroxiden","Razred 5.2. : Organski peroksidi","Třída 5.2 - Organické peroxidy","5.2 osztály: szerves peroxidok","Klass 5.2. : Organiska peroxider","Класс 5.2: Органические пероксиды"]
["Class 6.1. : Toxic substances","Class 6.1. : Toxic substances","Klasse 6.1: Giftige Stoffe","Classe 6.1. : Matérias tóxicas","Class 6.1. : Matières toxiques","Clase 6.1: Sustancias tóxicas","Class 6.1. : Materie tossiche","Klasse 6.1. : Giftige stoffer","Luokka 6.1. : Myrkylliset aineet ","Klasa 6.1 Materiały trujące","Klasse 6.1: Giftige stoffen","Razred 6.1. : Strupene snovi","Třída 6.1 - Toxické látky","6.1 osztály: mérgező anyagok","Klass 6.1. : Giftiga ämnen","Класс 6.1: Токсичные вещества"]
["Are these products High Consequence Dangerous Goods?","Are these products High Consequence Dangerous Goods?","Sind dies gefährliche Güter mit hohem Gefahrpotenzial (HCDG - High Consequence Dangerous Goods)?","Estes produtos são MPAR - mercadorias perigosas de alto risco (ADR 1.10) ?","Ces produits sont-ils des produits dangereux à haut risque","Son estos productos Mercancías peligrosas de alto riesgo (1.10 ADR)?","Ci sono prodotti catalogati ad Alto Rischio ?","Er disse produkter HCGD gods?","Ovatko nämä tuotteet suuren vaaran omaavia aineita?","Czy są to produkty dużego ryzyka?","Zijn deze producten Gevaarlijke Goederen met Hoog Risico (HCDG) ?","Ali je to blago s potencialno hudimi posledicami?","Jsou tyto produkty HCDG látky?","Ezek nagy közbiztonsági kockázatú áruk?","Är dessa produkter högriskprodukter?","Являются ли эти продукты грузы повышенной опасности (HCGD)?"]
["Toxic substances of packing group I","Toxic substances of packing group I","Giftige Stoffe der Verpackungsgruppe I","Matérias tóxicas do grupo de embalagem GE I","Matières toxiques du groupe d'emballage I","Sustancias tóxicas de grupo de embalaje I","Sostanze tossiche del gruppo di imballaggio I","Giftige stoffer af emballagegruppe I","Pakkausluokan I myrkylliset aineet","Substancje trujace grupa pakowania I","Toxische stoffen van verpakkingsgroep I","Strupene sn+M218ovi embalažne skupine I","Toxické látky obalové skupiny I","I. Csomagolási csoport toxikus anyagokra","Giftiga ämnen i förpackningsgrupp I","Токсичные вещества группы упаковки I"]
["Class 6.2. : Infectious substances","Class 6.2. : Infectious substances","Klasse 6.2: Ansteckungsgefährliche Stoffe","Classe 6.2. : Matérias infecciosas","Class 6.2. : Matières infectieuses","Clase 6.2: Sustancias infecciosas","Class 6.2. : Materie infettanti","Klasse 6.2. : Smittefarlige stoffer","Luokka 6.2. : Tartuntavaaralliset aineet","Klasa 6.2: Materiały zakaźne","Klasse 6.2: Infectueuze stoffen (besmettelijke stoffen)","Razred 6.2. : Kužne snovi","Třída 6.2 - Infekční látky","6.2. osztály : Fertőzésveszélyes anyagok","Klass 6.2. : Smittoförande ämnen","Класс 6.2: Инфекционные вещества"]
["Are these products High Consequence Dangerous Goods?","Are these products High Consequence Dangerous Goods?","Sind dies gefährliche Güter mit hohem Gefahrpotenzial (HCDG - High Consequence Dangerous Goods)?","Estes produtos são MPAR - mercadorias perigosas de alto risco (ADR 1.10) ?","Ces produits sont-ils des produits dangereux à haut risque","Son estos productos Mercancías peligrosas de alto riesgo (1.10 ADR)?","Ci sono prodotti catalogati ad Alto Rischio ?","Er disse produkter HCGD gods?","Ovatko nämä tuotteet suuren vaaran omaavia aineita?","Czy są to produkty dużego ryzyka?","Zijn deze producten Gevaarlijke Goederen met Hoog Risico (HCDG) ?","Ali je to blago s potencialno hudimi posledicami?","Jsou tyto produkty HCDG látky?","Ezek nagy közbiztonsági kockázatú áruk?","Är dessa produkter högriskprodukter?","Являются ли эти продукты грузы повышенной опасности (HCGD)?"]
["Infectious substances of Cat A ","Infectious substances of Cat A ","Ansteckungsgefährliche Stoffe der Kategorie A ","Matérias infecciosas da Categoria A","Matières infectieuses de la catégorie A ","Sustancias infecciosas de categoría A","Sostanze infettanti di Categoria A","Smittefarlige stoffer af Kat. A","Kategoria A:n tartuntavaaralliset aineet","Substancje zakaźne Kat A","Infectueuze stoffen van de categorie A","Kužne snovi kategorije A","Infekční látky Kategorie A","A kategóriájú fertőzésveszélyes anyagok","Smittförande ämnen i kategori A","Инфекционные вещества категории А"]
["Class 7 : Radioactive material","Class 7 : Radioactive material","Klasse 7: Radioaktive Stoffe","Classe 7 : Matérias radioactivas","Class 7 : Matières radioactives","Clase 7: Materias radiactivas","Class 7 : Materiali radioattivi","Klasse 7 : Radioaktive materiale","Luokka 7 : Radioaktiiviset aineet","Klasa 7: Materiały promieniotwórcze","Klasse 7: Radioactieve stoffen","Razred 7 : Radioaktivne snovi","Třída 7 - Radioaktivní látky","7. osztály: radioaktív anyagok","Klass 7 : Radioaktiva ämnen","Класс 7: Радиоактивные материалы"]
["Are these products High Consequence Dangerous Goods?","Are these products High Consequence Dangerous Goods?","Sind dies gefährliche Güter mit hohem Gefahrpotenzial (HCDG - High Consequence Dangerous Goods)?","Estes produtos são MPAR - mercadorias perigosas de alto risco (ADR 1.10) ?","Ces produits sont-ils des produits dangereux à haut risque","Son estos productos Mercancías peligrosas de alto riesgo (1.10 ADR)?","Ci sono prodotti catalogati ad Alto Rischio ?","Er disse produkter HCGD gods?","Ovatko nämä tuotteet suuren vaaran omaavia aineita?","Czy są to produkty dużego ryzyka?","Zijn deze producten Gevaarlijke Goederen met Hoog Risico (HCDG) ?","Ali je to blago s potencialno hudimi posledicami?","Jsou tyto produkty HCDG látky?","Ezek nagy közbiztonsági kockázatú áruk?","Är dessa produkter högriskprodukter?","Являются ли эти продукты грузы повышенной опасности (HCGD)?"]
["Radioactive material see ADR table 1.10.5.for specs ","Radioactive material see ADR table 1.10.5.for specs ","Radioaktive Stoffe sieheAngaben in  ADR Tabelle 1.10.5","Matérias radioactivas (ver ADR tabela 1.10.5 para especif.)","Matières radioactives (voir tableau 1.10.5 pour les spécifications)","Material radiactivo: ver tabla 1.10.5 para explicación","Materiali radioattivi vedere ADR tab. 1,10,5 per gli aspetti","Radioaktivt materiale se tabel 1.10.5 for specifikation","Radioaktiiviset aineet, katso ADR talukkosta 1.10.5 yksilöinti","Materiały radioaktywne patrz tabela ADR 1.10.5 ","Radioactieve stoffen: zie ADR tabel 1.10.5 voor specificaties","Radioaktivne snovi glej ADR tabelo 1.10.5. za specifikacijo","Radioaktivní materiály viz ADR 1.10.5 pro specifikaci","A radioaktív anyagokról ld. Az ADR. 1.10.5. táblázatát","Radioaktivt material se ADR tabell 1.10.5 för specificering","Радиоактивные материалы, как указано в таблице 1.10.5 ADR / ДОПОГ"]
["Class 8 : Corrosive substances","Class 8 : Corrosive substances","Klasse 8: Ätzende Stoffe","Classe 8 : Matérias corrosivas","Class 8 : Matières corrosives","Clase 8: Sustancias corrosivas","Class 8 : Materie corrosive","Klasse 8 : Ætsende stoffer","Luokka 8 : Syövyttävät aineet","Klasa 8 Materiały żrące","Klasse 8: Bijtende stoffen","Razred 8 : Jedke snovi","Třída 8 - Žíravé látky","8. osztály: Maró (korrozív) anyagok","Klass 8 : Frätande ämnen","Класс 8: Коррозионные вещества"]
["Are these products High Consequence Dangerous Goods?","Are these products High Consequence Dangerous Goods?","Sind dies gefährliche Güter mit hohem Gefahrpotenzial (HCDG - High Consequence Dangerous Goods)?","Estes produtos são MPAR - mercadorias perigosas de alto risco (ADR 1.10) ?","Ces produits sont-ils des produits dangereux à haut risque","Son estos productos Mercancías peligrosas de alto riesgo (1.10 ADR)?","Ci sono prodotti catalogati ad Alto Rischio?","Er disse produkter HCGD gods?","Ovatko nämä tuotteet suuren vaaran omaavia aineita?","Czy są to produkty dużego ryzyka?","Zijn deze producten Gevaarlijke Goederen met Hoog Risico (HCDG) ?","Ali je to blago s potencialno hudimi posledicami?","Jsou tyto produkty HCDG látky?","Ezek nagy közbiztonsági kockázatú áruk?","Är dessa produkter högriskprodukter?","Являются ли эти продукты грузы повышенной опасности (HCGD)?"]
["Packing group I : Tank > 3000l","Packing group I : Tank > 3000l","Verpackungsgruppe I : Tank > 3000 l","Grupo de embalagem GE I : Cisterna > 3000l ","Groupe d'emballage I : citerne > 3000l ou vrac (sans objet dans l'ADR au § 1.10.5)","Grupo de embalaje I: cisterna > 3000L","Gruppo di imballaggio I: Cisterna > 3000l ","Emballagegruppe I: Tank > 3000L","Pakkausluokka I: Säiliö > 3000l ","Grupa pakowania I: cysterna pow 3000 l","Verpakkingsgroep I : Tank > 3000l","Embalažna skupina I: cisterna>3000l ","Obalová skupina I : nádrže > 3000 l","I. Csomagolási csoport: tartály > 3000l","Förpackningsgrupp I : Tank > 3000 lit","Коррозионные вещества группы упаковки I: цистерна > 3000л"]
["Class 9 : Miscellaneous dangerous substances and articles","Class 9 : Miscellaneous dangerous substances and articles","Klasse 9: Verschiedene gefährliche Stoffe und Gegenstände","Classe 9 : Matérias e objectos perigosos","Class 9 : Matières et objets dangereux divers","Clase 9: Materias y objetos con riesgos diversos","Class 9 : Materie e sostanze pericolose diverse","Klasse 9 : Diverse farlige stoffer og varer","Luokka 9 : Muut vaaralliset aineet ja esineet","Klasa 9: Różne materiały i przedmioty niebezpieczne","Klasse 9: Diverse gevaarlijke stoffen en voorwerpen","Razred 9 : Različne nevarne snovi in predmeti","Třída 9 - Jiné nebezpečné látky a předměty","9. osztály: egyéb veszélyes anyagok és tárgyak","Klass 9 : Övriga farliga ämnen och föremål","Класс 9: Прочие опасные вещества и изделия"]
["CMR : Category carcinogenic, mutagenic and reprotoxical","CMR : Category carcinogenic, mutagenic and reprotoxical","CMR: Kategorie krebserregend, erbgutverändernd und fortplanzungsgefährdend","CMR : Matérias categoria cancerígenos, mutagénicos e reprotoxical","CMR : Catégorie cancérigène, mutagène et reprotoxique","Categoria Cancerígena, mutagénica y tóxico para la reproducción","CMR : Categorie cangerogeni, mutageni e teratogeni","CMR : Kategori kræftfremkaldende, mutationsfremmende og reproduktionsgiftige","CMR : Karsinogeeniset, mutageeniset ja lisääntymiselle vaaralliset aineet","CMR: Kategoria: rakotwórczy, działający mutagennie i działający szkodliwie na rozrodczość","CMR : Categorie carcinogeen, mutageen and toxisch voor de voortplanting","CMR : kategorija rakotvorno, mutageno in reprotoksično","CMR : Categorie karcinogenní,  mutagenní and reprotoxické","CMR: Karcinogén, mutagén, reprotoxikus","CMR : Kategori cancerogen, mutagen och reproduktionstoxisk","CMR: Категория канцерогенные, мутагенные и репротоксичные вещества"]
["Does the company handle/transport HCDG goods (ADR 1.10)?","Does the company handle/transport HCDG goods (ADR 1.10)?","Das Unternehmen hantiert mit / transportiert HCDG Güter (ADR 1.10)?","A empresa movimenta/transporta  MPAR - mercadorias perigosas de alto risco (ADR 1.10)?","La société manutentionne-t-elle ou transporte-t-elle des marchandises dangereuses à haut risque MDHR (ADR 1.10)?","Manipula o transporta la empresa mercancías peligrosas de alto riesgo (1.10 ADR)?","L'azienda movimenta / trasporta prodotti ad Alto Rischio (ADR 1,10)?","Håndterer/transporterer virksomheden HCDG gods (ADR 1.10)?","Käsitteleekö/kuljettaako yritys suuren vaaran omaavia aineita (ADR 1.10)?","Czy firma transportuje lub obsługuje materiały niebezpieczne dużego ryzyka (1.10 ADR)?","Behandelt/vervoert het bedrijf Gevaarlijke Goederen met Hoog Risico (HCDG)","Ali rokujete z / transportirate blago s potencialno hudimi posledicami (po 1.10 ADR )?","Manipuluje/transportuje organizace HCDG látky (ADR 1.10)?","Kezel a cég nagy közbiztonsági kockázatú árut? (ADR. 1.10)","Hanterar/transporterar företaget farligt gods med hög riskponential (ADR 1.10)?","Компания обрабатывает / транспортирует грузы повышенной опасности (HCDG) (ADR / ДОПОГ 1.10)?"]
["Handling of food contact products ","Handling of food contact products ","Umgang mit Vorprodukten für Nahrungsmittel","Movimentação em contacto com produtos alimentares","Manutention de produits destinés au contact alimentaire ","Trabaja la empresa con productos que van a entrar en contacto con alimentos","Movimentazione prodotti a contatto con alimentari","Håndtering af produkter i kontakt med fødevarer","Elintarvikkeisiin kosketuksissa olevien tuotteiden käsittely ","Operowanie produktami mającymi kontakt z żywnością","Behandeling van producten die in contact komen met voedingsmiddelen","Rokovanje s proizvodi, ki so v kontaktu z živili","Manipulace s látkami přicházející do kontaktu s potravinami","Élelmiszerrel érintkező termékek kezelése","Hantering av produkter i kontakt med livsmedel","Обработка сырья для пищевых продуктов"]
["Handling of food products ","Handling of food products ","Umgang mit Nahrungsmitteln","Movimentação de produtos alimentares","Manutention de produits alimentaires","Trabaja con productos alimentarios","Movimentazione prodotti alimentari","Håndtering af fødevarer","Elintarvikkeiden käsittely ","Operowanie produktami spożywczymi","Benadeling van voedingsmiddelen","Rokovanje s prehrambenimi proizvodi","Manipulace s potravinami","Élelmiszer kezelése","Hantering av livsmedel","Обработка пищевых продуктов"]
["Handling of feed products ","Handling of feed products ","Umgang mit Futtermitteln","Movimentação de produtos para alimentação animal","Manutention de nourriture animale","Trabaja con productos alimentarios para animales","Movimentazione mangimi ","Håndtering af foderstoffer","Rehujen käsittely ","Operowanie paszą dla zwierząt","Behandeling van dierenvoeders","Rokovanje s krmili","Manipulace s krmivy","Állati takarmány kezelése","Hantering av foderprodukter","Обработка кормов"]
["The company chooses to be assessed against the Food(contact) & Feed chapter","The company chooses to be assessed against the Food(contact) & Feed chapter","Das Unternehmen hat beschlossen sich nach den Kapitel Nahrungsmittel (Kontakt) & Futtermittel bewerten zu lassen","A empresa decidiu ser avaliada pelo Capítulo - Alimentares e Contacto com Alimentos","La société choisit d'être évaluée selon les chapitres relatifs au contact avec des produits alimentaires et à l'alimentation animale","La compañía elige ser evaluada por el capítulo Productos Alimentarios y Alimentos para animales","L'organizzazione sceglie di essere verificata a fronte del capitolo Alimenti (contatto) e Mangimi","Virksomheden vælger at blive assessed op imod afsnittet for Fødevarer (kontakt) & Foder","Yritys haluaa arvioitavan myös elintarvikkeita (kosketus) ja rehuja koskevat vaatimukset","Firma wybiera ocenę według rozdziałów Spożywcze / Karma dla zwierząt","Het bedrijf kiest om geauditeerd te worden voor het hoofdstuk voeding, stoffen in contact met voeding en dierenvoeder","Družba se odloči, da bo presojana tudi glede na poglavje Hrana (kontakt) & Krmila","Organizace si vybrala hodnocení podle Kapitoly pro Potraviny (s potravinami přicházející do kontaktu) a Krmiva","A cég az élelmiszer/takarmány szekcióban is auditálandó","Företaget väljer att granskas mot kapitlet rörande livsmedel(kontakt) och foder","Компания решила пройти оценку по разделу, который относится к пищевым продуктам (контакт) и кормам."]
["Don't answer \"Yes\" if Food (contact) or feed products are not handled","Don't answer \"Yes\" if Food (contact) or feed products are not handled"]
["Handling of chlorinated solvents","Handling of chlorinated solvents","Umgang mit chlorierten Lösemitteln","Movimentação de solventes clorados","Manutention de solvants chlorés","Trabaja con disolventes clorados","Movimentazione solventi clorurati","Håndtering af klorbehandlet opløsningsmidler","Kloorattujen liuottimien käsittely ","Operowanie rozpuszczalnikami na bazie chloru","Behandeling van gehalogeneerde solventen","Rokovanje s kloriranimi topili","Manipulace s chlorovanými rozpouštědly","Klórtartalmú oldószerek kezelése","Hantering av klorerade lösningsmedel","Обработка хлорированных растворителей"]
["Handling of Pharma products","Handling of Pharma products","Umgang mit Pharmazeutischen Produkten","Movimentação de produtos farmacêuticos","Manutention de produits Pharma","Carga de productos farmaceúticos","Movimenta prodotti Farmaceutici","Håndtering af pharmaceutiske produkter","Lääketuotteiden käsittely","Operwanie materiałami farmaceutycznymi","Behandeling van farmaceutische producten","Rokovanje s farmacevtskimi proizvodi","Manipulace s farmaceutickými produkty","Gyógyszeripari termékek kezelése","Hantering av pharmaceutiska produkter","Обработка фармацевтических продуктов"]
["Handling of Cosmetic products","Handling of Cosmetic products","Umgang mit kosmetischen Produkten","Movimentação de produtos cosméticos","Manutention de produits cosmétiques","Carga de productos cosméticos","Movimenta prodotti Cosmetici","Håndtering af kosmetiske produkter","Kosmeettisten tuotteiden käsittely","Oprowanie materiałami kosmetycznymi","Behandeling van cosmetica","Rokovanje s ko+M262zmetičnimi proizvodi","Manipulace s kosmickými produkty","Kozmetikai termékek kezelése","Hantering av kosmetiska produkter","Обработка косметической продукции"]
["Allergen free business","Allergen free business","Allergen freie Tätigkeiten","Comercialização livre de alergénicos","Activité exempte d'allergènes","Productos hipoalergénicos","Prodotti commerciali liberi da allergeni","Allergen fri virksomhed","Alergeenivapaa toiminta","Operacje wolne od alergenów","Allergeen vrij ","Poslovanje brez alergenov","Bezalergenní činnosti","Allergénmentes áruk","Allergenfri verksamhet","Деятельности, свободные от аллергена"]
["Type of equipment","Type of equipment","Art des Equipments","Tipo de equipamento","Type d'équipement","Tipo de Equipos","Tipo di equipaggiamento","Type af materiel","Laitteiden lajit ","Rodzaj wyposażenia","Type van uitrusting","Tip opreme","Typy zařízení","Eszközök tipusa","Typ av utrustning","Тип оборудования"]
["Own company trucks","Own company trucks","Eigene Zugmaschinen ","Veículos da empresa","Camions appartenant à la société ","Tractoras propias de la empresa","Propri automezzi","Egne biler","Yrityksen omia autoja","Własne pojazdy silnikowe","Eigen trekkers van het bedrijf","Lastni tovornjaki","Tahače vlastní organizace","Saját tulajdonú félpótkocsi","Egna bilar","Собственные грузовики"]
["Own company trailers","Own company trailers","Eigene Trailer","Reboque/Semi-reboques da empresa","Remorques appartenant à la société ","Trailers propios de la empresa","Propri semirimorchi","Egne trailere","Yrityksen omia trailereita ","Własne naczepy","Eigen opleggers van het bedrijf","Lastna vozila za priklop cistern/kontejnerjev","Návěsy vlastní organizace","Saját tulajdonú vontató","Egna trailers/släp","Собственные прицепы"]
[{"$f":"IF(ISERROR(IF(LEN(TEXT(OFFSET(A264,0,langsel),\"\"))>0,TEXT(OFFSET(A264,0,langsel),\"\"),TEXT(B264,\"\"))),IF(LEN(OFFSET(A264,0,langsel))>0,OFFSET(A264,0,langsel),B264),IF(LEN(TEXT(OFFSET(A264,0,langsel),\"\"))>0,TEXT(OFFSET(A264,0,langsel),\"\"),TEXT(B264,\"\")))","v":"Own company tanks"},"Own company tanks","Eigene Tanks","Cisternas da empresa","Citernes appartenant à la société ","Cisternas propios de la empresa","Proprie cisterne","Egne tankvogne","Yrityksen omia säiliöitä ","Własne cysterny","Eigen tanks van het bedrijf","Lastne mobilne cisterne","Cisterny vlastní organizace","Saját tulajdonú tartály","Egna tankbilar/tanktrailers","Собственные цистерны"]
["Own company containers","Own company containers","Eigene Container","Contentores da empresa","Conteneurs appartenant à la société ","Contenedores propios de la empresa","Propri container","Egne containere","Yrityksen omia kontteja ","Własne kontenery","Eigen containers van het bedrijf","Lastni mobilni kontejnerji","Kontejnery vlastní organizace","Saját tulajdonú konténer","Egna containers","Собственные контейнеры"]
["Subcontractor services includes :","Subcontractor services includes :","Die Dienstleistungen der Unterauftragnehmer / Unternehmer umfassen:","Serviços subcontratados incluem :","Les services sous-traités incluent :","Los servicios subcontratados incluyen:","I servizi dei sub-vettori includono:","Service fra underleverandør inkluderer :","Alihankkijan palvelut käsittävät :","Podzlecamy usługi na:","Dienstverlening van onderaannemers omvat: ","Storitve podizvajalcev vključujejo:","Služby dodavatelů zahrnují :","Alvállalkozói tevékenység kiterjed:","Service från underleverantörer inkluderar :","Услуги субподрядчиков включают:"]
["Trucks ","Trucks ","Zugmaschinen","Veículos","Camions ","Tractoras","Automezzi","Biler","Autot ","Pojazdy silnikowe","Trekkers","Tovornjake","Tahače ","Vontatók","Bilar","Грузовики"]
["Trailers /tanks","Trailers /tanks","Trailer / Tanks","Reboque/Semi-reboques/cisternas","Remorques/Citernes","Trailers/cisternas","Semirimorchi / Cisterne","Trailere /tankvogne","Trailerit / säiliöt ","Naczepy / cysterny","Opleggers/tanks","Vlečna vozila/cisterne","Návěsy / cisterny","Fél/pótkocsik, tartályok","Trailers /tanksläp/tankbilar","Прицепы / цистерны"]
["Containers ","Containers ","Container","Contentores","Conteneurs ","Contenedores","Container","Containere","Kontit ","Kontenery","Containers ","Kontejnerje","Kontejnery","Konténerek","Containers","Контейнеры"]
["Tank cleaning","Tank cleaning"]
[{"$f":"IF(ISERROR(IF(LEN(TEXT(OFFSET(A271,0,langsel),\"\"))>0,TEXT(OFFSET(A271,0,langsel),\"\"),TEXT(B271,\"\"))),IF(LEN(OFFSET(A271,0,langsel))>0,OFFSET(A271,0,langsel),B271),IF(LEN(TEXT(OFFSET(A271,0,langsel),\"\"))>0,TEXT(OFFSET(A271,0,langsel),\"\"),TEXT(B271,\"\")))","v":"Sub activities"},"Sub activities","Nebenaktivitäten","Actividades secundárias","Activités secondaires","Subactividades","Sub Attività","Øvrige aktiviteter","Lisäpalvelut","Aktywności pomocnicze","Nevenactiviteiten","Pomožne aktivnosti","Vedlejší činnosti","Melléktevékenységek","Sidoaktiviteter","Дополнительные деятельности"]
["Maintenance workshop","Maintenance workshop","Werkstatt","Oficina de manutenção","Atelier de Maintenance","Taller de mantenimiento","Officina di manutenzione","Værksted","Huoltokorjaamo","Warsztat","Onderhoudswerkplaats","Vzdrževalna delavnica","Dílna údržby","Javítóműhely","Verkstad","Мастерская (техническое обслуживание)"]
["Transfer (intermodal) terminal","Transfer (intermodal) terminal","Umschlags (Intermodal) Terminal","Terminal de transferência intermodal","Terminal de transfert (intermodal) ","Terminal de transferencia intermodal","Terminal trasferimento (intermodale)","Omlæsning (intermodal) terminaler","Intermodaaliterminaali ","Terminal przeładunkowy - intermodalny","(Intermodale) Transfer Terminal","Transferni(intermodalni) terminl","Překládkový (intermodální) terminál","Transfer (intermodális) terminál","Transfer (intermodal) terminal","Трансферный (интермодальный) терминал"]
["Fixed storage tanks present ","Fixed storage tanks present ","Feste Lagertanks vorhanden ","Tanques de armazenagem","Réservoirs de stockage fixes présents ","Tanques fijos presentes","Presenza di serbatoi deposito fissi ","Faste opbevaringstanke installeret","Kiinteitä säiliöitä alueella","Zbiorniki stałe","Vaste opslagtanks aanwezig","Stabilni skladiščni rezervoarji","Stabilní zásobní nádrže","Rögzített tároló tartályok","Stationära lagertankar finns ","Встроенные резервуары хранения налицо"]
["Tankcontainer heating","Tankcontainer heating","beheizte Tankcontainer","Cisternas/contentores com aquecimento","Chauffage pour conteneur-citerne ","Calentamiento de contenedores cisterna","Riscaldamento Tankcontainer","Opvarmning af tanke/tankcontainere","Säiliökonttien lämmitys","Podgrzewanie produktów w tankkontenerach","Tankcontainer opwarming","Ogrevanje kontejnerskih cistern","Ohřev cisternových kontejnerů","Tankkonténer kifűtés","Uppvärmning av containers","Обогрев контейнеров-цистерн"]
["Tank and/or trailer repair","Tank and/or trailer repair","Tank und/oder Trailerreparatur","Reparação de cisternas ou reboques/semireboques","Atelier de réparation pour citerne et remorque","Reparación de cisternas y/o trailers","Riparazione semirimorchi / cisterne","Reparationer af tanke og/eller trailere","Säliöiden ja/tai trailerien korjausta","Naprawy zbiorników lub naczep","Herstelling van tanks en/of opleggers","Poravila cistern in/ali vozil","Opravy cisteren a návěsů","Tartály vagy tréler javítás","Reparation av tankar och/eller trailer","Ремонт цистерн и/или прицепов"]
["Empty container handling ","Empty container handling ","Umschlag Leercontainer ","Movimentação de contentores vazios","Manutention de conteneurs vides  ","Manipulación de contenedores vacíos","Movimentazione container vuoti ","Håndtering af tomme containere","Tyhjien konttien käsittelyä ","Operowanie pustymi kontenerami","Behandeling van lege containers","Rokovanje s praznimi kontejnerji","Manipulace s prázdnými kontejnery","Üres konténer kezelés","Hantering av tomma containers","Обработка порожних контейнеров"]
["Full container handling ","Full container handling ","Umschlag Vollcontainer","Movimentação de contentores carregados","Manutention de conteneurs remplis ","Manipulación de contenedores llenos","Movimentazione container pieni","Håndtering af lastede containere","Täysinäisten konttien käsittelyä","Operowanie ładownymi kontenerami","Behandeling van geladen containers","Rokovanje s polnimi kontejnerji","Manipulace s plnými kontejnery","Rakott konténer kezelés","Hantering av fyllda containers","Обработка полных контейнеров"]
["Type of operators","Type of operators","Arten von Mitarbeitern","Tipo de operadores","Types d'opérateurs","Tipo de operarios","Tipi di Operatori","Type of operatører","Käyttöhenkilöstö","Rodzaje operatorów","Type operateurs","Tip operaterjev/delavcev","Typ operátorů","Kezelők/mosók tipusa","Typ av operatörer","Тип операторов"]
["Own company operators","Own company operators","Eigene Mitarbeiter","Trabalhadores/operadores da empresa","Opérateurs appartenant à la société ","Operarios propios de la compañía","Propri operatori","Egne operatører","Yrityksen omat käyttöhenkilöt","Zatrudnieni operatorzy myjni","Operateurs eigen aan het bedrijf","Lastni operaterji/delavci","Operátoři vlastní organizace","Saját alkalmazott kezelők/mosók","Egna operatörer","Собственные операторы"]
["Number of own operators","Number of own operators","Anzahl eigener Arbeiter","Número de operadores/trabalhadores próprios","Nombre d'opérateurs appartenant à la société","Número de operarios propios","Numero propri operatori","Antal af egne operatører","Omien käyttöhenkilöiden lukumäärä","Ilość zatrudnionych operatorów","Aantal eigen operateurs","Število lastnih operaterjev","Počet vlastních operátorů","Saját alkalmazott kezelők száma","Antal egna operatörer","Количество собственных операторов"]
["Leave empty if there are no own operators","Leave empty if there are no own operators"]
["Temporary operators","Temporary operators","Leiharbeiter","Operadores em trabalho temporário","Opérateurs temporaires","Operarios temporales","Operatori temporanei","Midlertidig operatører","Tilapäiset käyttöhenkilöt","Operatorzy zatrudnieni sezonowo (czasowo)","Tijdelijke operateurs","Začasni operaterji/delavci","Operátoři na přechodnou dobu","Ideiglenes kezelők/mosók","Tillfälliga operatörer","Временные операторы"]
["Average of temporary operators","Average of temporary operators","Durchschnitt Leiharbeiter","Número médio de operadores em trabalho temporário","Nombre d'opérateurs temporaires","Media de operarios temporales","Media operatori temporanei","Gennemsnitlig midlertidig operatører","Tilapäisten operaattoreiden keskim. Lukumäärä","Średnia ilość operatorów sezonowych (czasowych)","Gemiddeld aantal tijdelijke operateurs","Povprečno število začasnih operaterjev","Průměr operátorů na přechodnou dobu","Ideiglenes kezelők/mosók átlagos száma","Genomsnitt antal tillfälliga operatörer","Среднее значение временных операторов"]
[{"$f":"IF(ISERROR(IF(LEN(TEXT(OFFSET(A285,0,langsel),\"\"))>0,TEXT(OFFSET(A285,0,langsel),\"\"),TEXT(B285,\"\"))),IF(LEN(OFFSET(A285,0,langsel))>0,OFFSET(A285,0,langsel),B285),IF(LEN(TEXT(OFFSET(A285,0,langsel),\"\"))>0,TEXT(OFFSET(A285,0,langsel),\"\"),TEXT(B285,\"\")))","v":"Leave empty if there are no temporary operators"},"Leave empty if there are no temporary operators"]
["Number of office employees","Number of office employees","Anzahl des Büropersonals","Número de trabalhadores da área administrativa","Nombre d'employés de bureau","Número de empleados de oficina","Numero dipendenti in ufficio","Antal af kontorpersonale","Toimistohenkilöiden lukumäärä","Ilość pracowników w biurach","Aantal kantoorbedienden","Število zaposlenih v pisarnah/administraciji","Počet kancelářských pracovníků","Irodai alkalmazottak száma","Antal kontorsanställda","Количество служащих в офисе"]
["Number of employees","Number of employees","Anzahl der Beschäftigten","Número de trabalhadores da empresa","Nombre d'employés","Número de empleados ","Numero generale dipendenti","Antal ansatte","Työntekijöiden lukumäärä","Ilość pracowników","Aantal bedienden","Število zaposlenih","Počet zaměstnanců","Alkalmazottak száma","Antal anställda","Количество служащих"]
["Cleaning infrastructure","Cleaning infrastructure","Reinigungsinfrastruktur","Infra-estrutura de lavagem","Infrastructure de lavage","Infraestructuras de lavado","Infrastrutture di lavaggio","Rengøring infrastruktur","Puhdistuslaitteisto","Infrastruktura myjni","Reinigingsinfrastructuur","Infrastruktura v pralnici","Infrastruktura čistící stanice","Tisztító berendezések","Rengöring infrasturktur","Инфраструктура для очистки"]
["Separate cleaning bays food","Separate cleaning bays food","Getrennte Reinigungsbahnen für Nahrungsmittel","Linhas de lavagem de produtos alimentares separadas","Séparation des travées de nettoyages pour produits alimentaires","Pistas separadas para alimentación","Piste separate per lavaggio Alimentari","Seperate rengøringsbaner for fødevarer","Erilliset pesupaikat elintarvilleille","Oddzielne stanowisko do mycia po produktach spożywczych","Gescheiden reinigingsbanen voor voedingsmiddelen (food)","Ločena čistilna steza za hrano","Oddělené čistící stání - potraviny","Élelmiszer mosásra elkülönített mosóhelyek","Separat rengöringslinje för livsmedel","Отдельная дорожка для очистки от пищи"]
["Number of separate cleaning bays food","Number of separate cleaning bays food","Anzahl der getrennten Reinigungsbahnen für Nahrungsmittel","Número de linhas de lavagem de produtos alimentares separadas","Nombre de travées de nettoyage pour produits alimentaires ","Número de pistas separadas para alimentación","Numero piste separate per Lavaggio Alimentari","Antal af seperate rengøringsbaner for fødevarer","Erillisten pesupaikkojen lukumäärä elintarvikkeille ","Ilośc stanowisk do mycia po produktach spożywczych","Aantal gescheiden reinigingsbanen voor voedingsmiddelen","Število ločenih čistilnih stez za hrano","Počet oddělených čistících stání - potraviny","Élelmiszer mosásra elkülönített mosóhelyek száma","Antal separata rengöringslinjer för livsmedel","Количество отдельных дорожек для очистки от пищи"]
[{"$f":"IF(ISERROR(IF(LEN(TEXT(OFFSET(A291,0,langsel),\"\"))>0,TEXT(OFFSET(A291,0,langsel),\"\"),TEXT(B291,\"\"))),IF(LEN(OFFSET(A291,0,langsel))>0,OFFSET(A291,0,langsel),B291),IF(LEN(TEXT(OFFSET(A291,0,langsel),\"\"))>0,TEXT(OFFSET(A291,0,langsel),\"\"),TEXT(B291,\"\")))","v":"Leave empty if there are no separate cleaning buys food"},"Leave empty if there are no separate cleaning buys food"]
["Separate cleaning bays chemicals","Separate cleaning bays chemicals","Getrennte Reinigungsbahnen für Chemkalien","Linhas de lavagem de produtos químicos separadas","Séparation des travées de nettoyages pour produits chimiques","Pistas separadas para químicos","Piste separate per Lavaggio Chimici","Seperate rengøringsbaner for kemikaler","Erilliset pesupaikat kemikaleille ","Oddzielne stanowisko do mycia po produktach chemicznych ","Gescheiden reinigingsbanen voor chemie","Ločena čistilna steza za kemikalije","Oddělené čistící stání - chemikálie","Vegyianyagok mosására elkülönített mosóhelyek","Separat rengöringslinje för kemikalier","Отдельная дорожка для очистки от химических продуктов"]
["Number of separate cleaning bays chemicals","Number of separate cleaning bays chemicals","Anzahl der getrennten Reinigungsbahnen für Chemikalien","Número de linhas de lavagem de produtos químicos separadas","Nombre de travées de nettoyage pour produits chimiques ","Número de pistas separadas para químicos","Numero piste separate per Lavaggio Chimici","Antal af seperate rengøringsbaner for kemikaler","Erillisten pesupaikkojen lukumäärä kemikaleille","Ilośc stanwisk do mycia po produktach chemicznych","Aantal gescheiden reinigingsbanen voor chemie","Število ločenih čistilnih stez za kemikalije","Počet oddělených čistících stání - chemikálie","Vegyianyagok mosására elkülönített mosóhelyek száma","Antal separata rengöringslinjer för kemikalier","Количество отдельных дорожек для очистки от химических продуктов"]
["Leave empty if there are no separate cleaning buys food","Leave empty if there are no separate cleaning buys food"]
["Spinners","Spinners","Spülköpfe","Spinners (cabeças giratórias)","Buses","Rotativos","Testine","Spulehoveder","Pesurit","Głowice","Reinigingskoppen","Čistilne glave (spinners)","Čistící hlavy","Mosófejek","Spolhuvuden","Головки для полоскания (спиннеры)"]
["Steam boilers","Steam boilers","Heizkessel","Caldeiras a vapor","Chaudières à vapeur","Calderas de vapor","Caldaie","Dampkedel","Höyrynkehittimet ","Kotły parowe","Stoomketels","Parni kotli","Parní bojlery","Gőzfejlesztők","Ångpannor","Паровые котлы"]
["Steam boilers pressure","Steam boilers pressure","Betriebsdruck","Pressão da caldeira de vapor","Pression de la chaudière à vapeur ","Presión de las calderas de vapor","Pressione caldaie","Dampkedeltryk","Höyrynkehittemen paine","Ciśnienie w kotle parowym","Stoomketeldruk","Tlak parnega kotla","Tlak parního bojleru","Gőzfejlesztők nyomása","Ångtryck","Давление паровых котлов"]
[{"$f":"IF(ISERROR(IF(LEN(TEXT(OFFSET(A298,0,langsel),\"\"))>0,TEXT(OFFSET(A298,0,langsel),\"\"),TEXT(B298,\"\"))),IF(LEN(OFFSET(A298,0,langsel))>0,OFFSET(A298,0,langsel),B298),IF(LEN(TEXT(OFFSET(A298,0,langsel),\"\"))>0,TEXT(OFFSET(A298,0,langsel),\"\"),TEXT(B298,\"\")))","v":"Leave empty if there are no steam boilers"},"Leave empty if there are no steam boilers"]
["bar","bar","bar","bar","bar","bar","bar","bar","bar","bar","bar","bar","bar","bar","bar","бар"]
["Cleaning water temperature range","Cleaning water temperature range","Temperaturbereich Reinigungswasser","Temperatura da água de lavagem","Gamme de température de l'eau de nettoyage ","Rango de temperatura del agua de lavado","Temperatura Acqua di Lavaggio  - range ","Temperatur interval for rengøringsvand","Pesuveden lämpötila-alue ","Zakres temeperatur wody do mycia","Reinigingswater - temperatuur bereik","Temperaturno področje vode za čiščenje","Rozsah teplot čistící vody","Mosóvíz hőmérséklet tartománya","Tvättvatten temperaturintervall ","Температурный диапазон воды для очистки"]
["°C","°C","° C","ºC","°C","°C","°C","°C","°C","°C","°C","°C","°C","°C","°C","°C"]
["Dryers","Dryers","Trockner","Secadores","Sécheurs","Secadoras","Asciugatori","Tørreanlæg","Kuivaajat","Suszarki","Drogers","Sušilci","Sušiče","Szárítók","Torkanläggning","Сушилки"]
["Pressure pumps","Pressure pumps","Hochdruckpumpen","Bombas de pressão","Pompes à pression","Presión de las bombas","Pressione Pompe","Højtrykpumper","Painepumput","Pompy ciśnieniowe","Hoge druk pompen","Tlačne črpalke","Tlaková čerpadla","Nagynyomású szivattyúk","Högtryckspumpar","Насосы высокого давления"]
["Leave empty if there are no pressure pumps","Leave empty if there are no pressure pumps"]
["Pressure pumps - pressure range","Pressure pumps - pressure range","Druckbereich","Bombas de pressão - valor da pressão","Pompes à pression-gamme de pression","Rango de presión de las bombas","Pressione pompe - pressione range","Højtrykpumper - tryk interval","Painepumput - painealue ","Pompy ciśnieniowe - zakres ciśnienia","Hoge druk pompen - druk bereik","Tlačne črpalke - tlaki","Tlaková čerpadla - rozsah tlaku","Szivattyúk nyomástartománya","Högtryckspumpar - tryckintervall","Насосы высокого давления - диапазон давления"]
["bar","bar","bar","bar","bar","bar","bar","bar","bar","bar","bar","bar","bar","bar","bar","бар"]
["Tank heating of loaded tanks","Tank heating of loaded tanks","Tank Beheizung","Aquecimento dos compartimentos das cisternas","Chauffage des citernes chargées","Calentamiento de cisternas llenas","Riscaldamento cistene cariche","Tankopvarmning af lastede tankvogne","Kuormassa olevien säliöiden lämmitys","Podgrzewanie produktów w cystenach i tankontenerach","Opwarming van geladen tanks","Ogrevanje polnih cistern","Ohřev naložených cisteren","Rakott tartályok kifűtése","Tankuppvärmning av lastade tankar","Обогрев загруженных цистерн"]
["Steam - pressure","Steam - pressure","Dampfdruck","Pressão de vapor","Vapeur - pression","Presión de vapor","Vapore - pressione","Damp - tryk","Höyrynpaine","Parowe - ciśnienie","Stoom - druk","Tlak pare","Pára - tlak","Gőznyomás","Ånga - tryck","Пар - давление"]
["bar","bar","bar","bar","bar","bar","bar","bar","bar","bar","bar","bar","bar","bar","bar","бар"]
["Hot water - temperature","Hot water - temperature","Temperatur Warmwasser","Água quente - temperatura","Eau chaude - temperature","Temperatura del agua caliente","Acqua calda - temperatura","Varmt vand - temperatur","Kuuman veden lämpötila","Gorąca woda - temeperatura wody","Heet water- temperatuur","Temperatura vroče vode","Horká voda - teplota","Melegvíz hőmérséklet","Hetvatten - temperatur","Горячая вода - температура"]
["°C","°C","° C","ºC","°C","°C","°C","°C","°C","°C","°C","°C","°C","°C","°C","°C"]
["Electrical","Electrical","Elektro","Corrente eléctrica","Le système électrique","Eléctrica","Elettrico","Elektrisk opvarmning","Sähkö","Elektryczne","Elektrisch","Električno","Elektřina","Elektromos","Elektricitet","Электричество"]
[{"$f":"IF(ISERROR(IF(LEN(TEXT(OFFSET(A313,0,langsel),\"\"))>0,TEXT(OFFSET(A313,0,langsel),\"\"),TEXT(B313,\"\"))),IF(LEN(OFFSET(A313,0,langsel))>0,OFFSET(A313,0,langsel),B313),IF(LEN(TEXT(OFFSET(A313,0,langsel),\"\"))>0,TEXT(OFFSET(A313,0,langsel),\"\"),TEXT(B313,\"\")))","v":"Leave empty if there are no tank heating of loaded tanks"},"Leave empty if there are no tank heating of loaded tanks"]
["Provision of Nitrogen","Provision of Nitrogen","Stickstoffversorgung","Capacidade de armazenamento de azoto","Fourniture d'azote ","Provisión de nitrógeno","Fornitura di Azoto","Fyldning med nitrogen","Typen saatavuus","Dostępność azotu","Stikstof voorzieningen","Dušik na razpolago","Poskytování dusíku","Nitrogénellátás","Tillgång till nitrogen","Подача азота"]
[{"$f":"IF(ISERROR(IF(LEN(TEXT(OFFSET(A315,0,langsel),\"\"))>0,TEXT(OFFSET(A315,0,langsel),\"\"),TEXT(B315,\"\"))),IF(LEN(OFFSET(A315,0,langsel))>0,OFFSET(A315,0,langsel),B315),IF(LEN(TEXT(OFFSET(A315,0,langsel),\"\"))>0,TEXT(OFFSET(A315,0,langsel),\"\"),TEXT(B315,\"\")))","v":"De-gassing"},"De-gassing","Entgasung","Desgaseificação","Dégazage","Desgasificación","Degasificazione ","Afgasning","Kaasunpoisto","Odgazowanie","Ontgassing","Razplinjevanje","Odplynování","Gáztalanítás","Avgasning","Дегазация"]
["Periodic testing","Periodic testing","Wiederkehrende Prüfung","Testes periódicos","Test périodique ","Revisiones periódicas","Esecuzione Test periodici","Periodisk testning","Säännölliset testaukset","Przeglądy okresowe","Periodieke testen","Občasno preizkušanje","Periodické kontroly","Időszaki felülvizsgálat (hatósági)","Periodisk testning","Периодические проверки и испытания"]
["Vapour Control Systems","Vapour Control Systems","Dampf- Kontrollsysteme","Sistemas de Controlo de Vapor","Système de contrôle des vapeurs ","Sistemas de control de vapor","Sistema di controllo vapori","Damp kontrolsystem","Höyryjen keräilyjärjestelmä","System nadzorowania oparów","Gaswasinstallatie","Sistem upravljanja za paro","Jednotka odtahu/čištění plynů","Légtér ellenőrző rendszer","Hanteringssystem för ångor","Системы управления паров"]
["Other Site Activities","Other Site Activities","Weitere Standortaktivitäten","Outras actividades existentes","Autres activités du site ","Otras actividades en el centro","Altre attività svolte nel sito","Andre aktiviteter på lokationen","Muut toimipaikan toiminnot ","Pozostała działaność w lokalizacji","Andere site installaties","Druge aktivnosti na lokaciji","Další činnosti v místě","Egyéb telephelyi tevékenységek","Andra aktiviteter på platsen","Другие деятельности на месте"]
["Type and number of cleanings","Type and number of cleanings","Arten der Reinigung","Tipo de lavagem","Type de lavage","Tipo de lavados","Tipi di lavaggio","Type af rengøring","Puhdistettavat yksiöt","Rodzaje usług mycia","Type van reiniging","Tip čiščenja","Typy čištění","Mosástípusok","Typ av rengöring","Тип очистки"]
["Roadtankers","Roadtankers","Tankfahrzeuge","Cisternas","Citernes routières","Cisternas","Cisterne Stradali","Tankbiler","Maantiesäiliöt","Cysterny","Roadtankers","Cisterne","Silniční cisterny","Tartálykocsik","Tankfordon","Автоцистерны"]
["Tankcontainers","Tankcontainers","Tankcontainer","Cisternas/Contentores","Conteneurs-citernes","Contenedores cisterna","Tankcontainers","Tankcontainer","Säiliökontit","Tankkontenery","Tankcontainers","Kontejner cisterne","Cisternové kontejnery","Tankkonténerek","Tankcontainers","Контейнеры-цистерны"]
["Railtankcars (RTC's)","Railtankcars (RTC's)","Tankbahnwaggons","Vagão ferroviário com cisterna (RTC's)","Wagons-citernes","Vagones de tren cisterna","Carri Ferroviari (RTC's)","Jernbanetankvogne (RTC's)","Rautatiesäiliöt","Wagony (RTC's)","Railtankcars (RTC's)","Vagonske cisterne (RTC's)","Železniční cisternové vozy (RTC's)","Vasúti tartálykocsik (RTC)","Järnvägstankvagn","Железнодорожные цистерны (RTC)"]
["IBC's","IBC's","IBC's","IBC's","GRV's","IBC's (GRGs)","IBC's","IBC's","IBC's","DPPL","IBC's","IBC kontejnerji","IBC kontejnery","IBC-k","IBC's","Контейнеры средней грузоподъемности для массовых грузов - КСГМГ (IBCs)"]
["Other","Other","Andere","Outros","Autres","Otros","Altro","Andre","Muut","Pozostałe","Andere","Drugo","Jiné","Egyéb ","Andra","Другие"]
["Specify","Specify","Genau angeben","especifique","specifier","especificar","specificare","Specificér","yksilöi","opisz","specificeer","navedi","specifikujte","Adja meg","Specificera","Укажите:"]
["Leave empty if there are no other cleanings","Leave empty if there are no other cleanings"]
["Products","Products","Produkte","Produtos","Produits","Productos","Prodotti","Produkter","Tuotteet","Produkty","Producten","Proizvodi","Produkty","Termékek","Produkter","Продукты"]
["Tonnage chem. cleaned per year","Tonnage chem. cleaned per year","Gesamttonnage der chemischen Produkte pro Jahr? ","Lavagens efectuadas (tonelagem de produtos químicos por ano)","Tonnage des produits chimiques nettoyés par an","Tonelaje de químicos lavados por año","Tonnellaggio di prodotti chimici lavati per anno","Tons kemikalier renset pr. år","Vuosittain puhdistettujen yksiköiden kantavuus tonneissa","Tonaż materiałów chemicznych czyszcozny rocznie","Aantal reinigingen per jaar","Letna tonaža kemikalij očiščeno","Tonáž chemikálií čištěných za rok","Tisztított áru mennyisége évente","Uppskatta tonnaget av kemikalier som rengörs per år","Тоннаж очищенных химических продуктов в год"]
["Are product recipients; tank trucks, tank containers etc., that previously contained Dangerous Goods, cleaned?","Are product recipients; tank trucks, tank containers etc., that previously contained Dangerous Goods, cleaned?","Sind alle Reinigungsmittel aus dem Tank entfernt?","Os recipientes vazios de matérias perigosas são lavados?","Les conteneurs vides, ayant contenus des produits dangereux sont-ils nettoyés?","¿Son lavados recipientes que han contenido mercancías peligrosas? ","Contenitori vuoti da prodotti ADR lavati?","Bliver tomme containere, som har transporteret farligt gods rengjort?","Ovatko puhdistettavat yksiköt tyhjiä vaarallisista aineista?","Are recepients empty from dangerous goods cleaned?","Worden lege recipiënten van gevaarlijke goederen gereinigd?","Ali so sprejemne posode za nevarne snovi očiščene?","Jsou prázdné nádržky od nebezpečných látek čištěny?","Leürített, veszélyes árut szállító tartályt tisztítanak?","Blir mottagna tömda tankar som innehållit farligt gods rengjorda?","Пустые резервуары очищены от опасных грузов?"]
["If yes : ","If yes : ","Wenn ja:","Se sim :","Si oui,:","En caso afirmativo: ","Se si:","Hvis ja: ","Jos kyllä:  ","Jeśli tak:","indien ja: ","če da:","Pokud ano:","Ha igen:","Om Ja, vilket?","Если ДА:"]
["% dangerous goods","% dangerous goods","Prozentualer Anteil gefährlicher Güter","% de mercadorias perigosas","Quel pourcentage du tonnage total est effectué en matières dangereuses ?","% de mercancías peligrosas","% prodotti ADR","% farligt gods","% vaarallisia aineita","% materiałów niebezpiecznych","% gevaarlijke goederen","% nevarnega blaga","% nebezpečných látek","A veszélyes áruk aránya %","% farligt gods","Процентная доля опасных грузов"]
["Leave empty if recepients empty from dangerous goods are not cleaned","Leave empty if recepients empty from dangerous goods are not cleaned"]
["Don't answer \"Yes\" if recepients empty from dangerous goods are not cleaned","Don't answer \"Yes\" if recepients empty from dangerous goods are not cleaned"]
["Class 1 : Explosive substances and articles","Class 1 : Explosive substances and articles","Klasse 1: Explosive Stoffe und Gegenstände mit Explosivstoff","Classe 1 : Matérias e objectos explosivos","Classe 1 :   Matières et objets explosibles","Clase 1: Materias y objetos explosivos","Class 1 : Materie ed Oggetti esplosivi ","Klasse 1 : Explosive stoffer og genstande","Luokka 1 : Räjähteet","Klasa 1 Materiały i przedmioty wybuchowe","Klasse 1: Ontplofbare stoffen en voorwerpen","Razred 1: eksplozivne snovi in predmeti","Třída 1 - Výbušné látky a předměty","1. osztály: robbanóanyagok","Klass 1 : Explosiva ämnen och föremål","Класс 1: Взрывчатые вещества и изделия"]
["Class 2 : Gases","Class 2 : Gases","Klasse 2: Gase","Classe 2 : Gases","Class 2 : Gaz","Clase 2: Gases","Class 2 : Gas","Klasse 2 : Gasarter","Luokka 2 : Kaasut","Klasa 2: Gazy","Klasse 2: Gassen","Razred 2: plini","Třída 2 - Plyny","2. osztály: Gázok","Klass 2 : Gaser","Класс 2: Газы"]
["Class 3 : Flammable liquids","Class 3 : Flammable liquids","Klasse 3: Entzündbare flüssige Stoffe","Classe 3 : Líquidos inflamáveis","Classe 3 : liquides inflammables","Clase 3: Líquidos inflamables","Class 3 : Liquidi  infiammabili","Klasse 3 : Brandfarlige væsker","Luokka 3 : Palavat nesteet","Kalsa 3: Materiały ciekłe zapalne","Klasse 3: Brandbare vloeistoffen","Razred 3: vnetljive tekočine","Třída 3 - Hořlavé kapaliny","3. osztály: Gyúlékony folyadékok","Klass 3 : Brandfarliga vätskor","Класс 3: Легковоспламеняющиеся жидкости"]
["Class 4.1. : Flammable solids,  self-reactive substances and solid desensitized explosives.","Class 4.1. : Flammable solids,  self-reactive substances and solid desensitized explosives.","Klasse 4.1: Entzündbare feste Stoffe, selbstzersetzliche Stoffe und desenbilisierte Stoffe explosive feste Stoffe","Classe 4.1. : Matérias sólidas inflamáveis,  matérias auto-reactivas e matérias explosivas dessensibilizadas sólidas","Class 4.1. : Matières solides inflammables, matières autoréactives et matières solides explosibles désensibilisées","Clase 4.1: Sólidos inflamables, autoreactivos y explosivos desensibilizados","Class 4.1. : Solidi infiammabili, materie autoreattive ed esplosivi solidi desensibilizzati","Klasse 4.1. : Brandfarlige stoffer, selvantændelige stoffer og desensibiliserende sprængstoffer.","Luokka 4.1. : Helposti syttyvät kiinteät aineet","Klasa 4.1: Materiały stałe zapalne, materiały samoreaktywne i materiały wybuchowe stałe odczulone","Klasse 4.1: Brandbare vaste stoffen, zelfontledende stoffen en vaste ontplofbare stoffen in niet-explosieve toestand","Razred 4.1. : Vnetljive trdne snovi, samo reaktivne snovi in trdni desenz. eksplozivi","Třída 4.1 - Hořlavé tuhé látky,  samovolně se rozkládající látky a znecitlivěné tuhé výbušné látky.","4.1 osztály: Gyúlékony szilárd anyagok, önreaktív anyagok, szilárd érzéketlenített robbanóanyagok","Klass 4.1 : Brandfarliga fasta ämnen, självreaktiva ämnen och fasta okänsliggjorda explosivämnen","Класс 4.1: Легковоспламеняющиеся твердые вещества, самореактивные вещества и твердые десенсибилизированные взрывчатые вещества"]
["Class 4.2. : Substances liable to spontaneous combustion","Class 4.2. : Substances liable to spontaneous combustion","Klasse 4.2: Selbstentzündliche Stoffe","Classe 4.2. : Matérias espontaneamente inflamáveis","Class 4.2. : Matières sujettes à l'inflammation spontanée","Clase 4.2: Materias que reaccionan de forma espontánea","Class 4.2. : Materie soggette ad accensione spontanea","Klasse 4.2. : Letantændelige stoffer","Luokka 4.2. : Helposti itsestään syttyvät aineet","Klasa 4.2 Materiały samozapalne","Klasse 4.2: Voor zelfontbranding vatbare stoffen","Razred 4.2. : Samovnetljive snovi","Třída 4.2 - Samozápalné látky","4.2 osztály: Öngyulladó anyagok","Klass 4.2 : Självantändande ämnen ","Класс 4.2: Вещества, способные к самовозгоранию"]
["Class 4.3. : Substances which in contact with water, emit flammable gases","Class 4.3. : Substances which in contact with water, emit flammable gases","Klasse 4.3: Stoffe, die in Berührung mit Wasser entzündbare Gase entwickeln","Classe 4.3. : Matérias que, em contacto com a àgua, libertem gases inflamáveis","Class 4.3. : Matières qui, au contact de l'eau, dégagent des gaz inflammables","Clase 4.3: Materias que en contacto con el agua desprenden gases inflamables","Class 4.3. :Materie che al contatto con l'acqua, sviluppano gas infiammabili","Klasse 4.3. : Stoffer som ved kontakt med vand, udgiver brandfarlige gasser","Luokka 4.3. : Aineet, jotka veden kanssa kosketukseen joutuessaan kehittävät palavia kaasuja ","Klasa 4.3 Materiały wytwarzające w zetknięciu z wodą gazy palne","Klasse 4.3: Stoffen die in contact met water ontbrandbare gassen ontwikkelen","Razred 4.3. : Snovi, ki ob stiku z vodo sproščajo vnetljive pline","Třída 4.3 - Látky, ve styku s vodou vyvíjející hořlavé plyny","4.3. osztály: Vízzel gyúlékony gázokat képző anyagok","Klass 4.3 : Ämnen som utvecklar brandfarlig gas vid kontakt med vatten","Класс 4.3: Вещества, выделяющие легковоспламеняющиеся газы при соприкосновении с водой"]
["Class 5.1. : Oxidizing substances","Class 5.1. : Oxidizing substances","Klasse 5.1: Entzündend (oxydierend) wirkende Stoffe","Classe 5.1. : Matérias comburentes","Class 5.1. : Matières comburantes","Clase 5.1: Materias comburentes","Class 5.1. : Materie comburenti","Klasse 5.1. : Brandnærende stoffer","Luokka 5.1. : Hapettavat aineet","Klasa 5.1 Materiały utleniające","Klasse 5.1: Oxiderende stoffen","Razred 5.1. : Oksidirajoče snovi","Třída 5.1 - Látky podporující hoření","5.1. osztály Gyújtó hatású (oxidáló) anyagok","Klass 5.1 : Oxiderande ämnen","Класс 5.1: Окисляющие вещества"]
["Class 5.2. : Organic peroxides","Class 5.2. : Organic peroxides","Klasse 5.2: Organische Peroxide","Classe 5.2. : Peróxidos organicos","Class 5.2. : Peroxydes organiques","Clase 5.2: Peróxidos Orgánicos","Class 5.2. : Perossidi organici","Klasse 5.2. : Organiske peroxider","Luokka 5.2. : Orgaaniset peroksidit ","Klasa 5.2 Nadtlenki organiczne","Klasse 5.2: Organische peroxiden","Razred 5.2. : Organski peroksidi","Třída 5.2 - Organické peroxidy","5.2 osztály: szerves peroxidok","Klass 5.2 : Organiska peroxider","Класс 5.2: Органические пероксиды"]
["Class 6.1. : Toxic substances","Class 6.1. : Toxic substances","Klasse 6.1: Giftige Stoffe","Classe 6.1. : Matérias toxicas","Class 6.1. : Matières toxiques","Clase 6.1: Sustancias tóxicas","Class 6.1. : Materie tossiche","Klasse 6.1. : Giftige stoffer","Luokka 6.1. : Myrkylliset aineet","Klasa 6.1 Materiały trujące","Klasse 6.1: Giftige stoffen","Razred 6.1. : Strupene snovi","Třída 6.1 - Toxické látky","6.1 osztály: mérgező anyagok","Klass 6.1 : Giftiga ämnen","Класс 6.1: Токсичные вещества"]
["Class 6.2. : Infectious substances","Class 6.2. : Infectious substances","Klasse 6.2: Ansteckungsgefährliche Stoffe","Classe 6.2. : Matérias infecciosas","Class 6.2. : Matières infectieuses","Clase 6.2: Sustancias infecciosas","Class 6.2. : Materie infettanti","Klasse 6.2. : Smittefarlige stoffer","Luokka 6.2. : Itartuntavaaralliset aineet","Klasa 6.2: Materiały zakaźne","Klasse 6.2: Infectueuze stoffen (besmettelijke stoffen)","Razred 6.2. : Kužne snovi","Třída 6.2 - Infekční látky","6.2. osztály : Fertőzésveszélyes anyagok","Klass 6.2 : Smittförande ämnen","Класс 6.2: Инфекционные вещества"]
["Class 7 : Radioactive material","Class 7 : Radioactive material","Klasse 7: Radioaktive Stoffe","Classe 7 : Matérias radioactivas","Class 7 : Matières radioactives","Clase 7: Materias radiactivas","Class 7 : Materiali radioattivi","Klasse 7 : Radioaktive materiale","Luokka 7 : Radioaktiiviset aineet","Klasa 7: Materiały promieniotwórcze","Klasse 7: Radioactieve stoffen","Razred 7 : Radioaktivne snovi","Třída 7 - Radioaktivní látky","7. osztály: radioaktív anyagok","Klass 7 : Radioaktiva ämnen","Класс 7: Радиоактивные материалы"]
["Class 8 : Corrosive substances","Class 8 : Corrosive substances","Klasse 8: Ätzende Stoffe","Classe 8 : Matérias corrosivas","Class 8 : Matières corrosives","Clase 8: Sustancias corrosivas","Class 8 : Materie corrosive","Klasse 8 : Ætsende stoffer","Luokka 8 : Syövyttävät aineet","Klasa 8 Materiały żrące","Klasse 8: Bijtende stoffen","Razred 8 : Jedke snovi","Třída 8 - Žíravé látky","8. osztály: Maró (korrozív) anyagok","Klass 8 : Frätande ämnen","Класс 8: Коррозионные вещества"]
["Class 9 : Miscellaneous dangerous substances and\narticles","Class 9 : Miscellaneous dangerous substances and\narticles","Klasse 9: Verschiedene gefährliche Stoffe und Gegenstände","Classe 9 : Matérias e objectos perigosos","Class 9 : Matières et objets dangereux divers","Clase 9: Materias y objetos con riesgos diversos","Class 9 : Materie ed oggetti pericolosi diversi","Klasse 9 : Diverse farlige stoffer og genstande","Luokka 9 : Muut vaaralliset aineet ja esineet","Klasa 9: Różne materiały i przedmioty niebezpieczne","Klasse 9: Diverse gevaarlijke stoffen en voorwerpen","Razred 9 : Različne nevarne snovi in predmeti","Třída 9 - Jiné nebezpečné látky a předměty","9. osztály: egyéb veszélyes anyagok és tárgyak","Klass 9 : Övriga farliga ämnen och föremål","Класс 9: Прочие опасные вещества и изделия"]
["CMR : Category carcinogenic, mutagenic and reprotoxical","CMR : Category carcinogenic, mutagenic and reprotoxical","CMR: Kategorie krebserregend, erbgutverändernd und fortplanzungsgefährdend","CMR : Matérias categoria cancerígenos, mutagénicos e reprotoxical","CMR : Catégorie cancérigène, mutagène et reprotoxique","Categoria Cancerígena, mutagénica y tóxico para la reproducción","CMR : Categorie cangerogeni, mutageni e teratogeni","CMR : I411 kræftfremkaldende, mutationsfremmende og reproduktionsgiftige","CMR : Karsinogeeniset, mutageeniset ja lisääntymiselle vaaralliset aineet","CMR: Kategoria: rakotwórczy, działający mutagennie i działający szkodliwie na rozrodczość","CMR : Categorie carcinogeen, mutageen and toxisch voor de voortplanting","CMR : kategorija rakotvorno, mutageno in reprotoksično","CMR : Kategorie karcinogenní,  mutagenní and reprotoxické","CMR: Karcinogén, mutagén, reprotoxikus","CMR : Kategori cancerframkallande, mutagena och reproduktionstoxiska","CMR: Категория канцерогенные, мутагенные и репротоксичные вещества"]
["Handling of food contact products ","Handling of food contact products ","Umgang mit Vorprodukten für Nahrungsmittel","Movimentação em contacto com produtos alimentares","Manutention de produits destinés à entrer en contact avec les aliments  ","Trabajan  con productos que entran en contacto con alimentos","Movimentazione prodotti a contatto con alimentari ","Håndtering af produkter i kontakt med fødevarer","Elintarvikkeisiin kosketuksissa olevien tuotteiden käsittely ","Operowanie produktami mającymi kontakt z żywnością","Behandeling van producten die in contact komen met voedingsmiddelen","Rokovanje s proizvodi, ki so v kontaktu z živili","Manipulace s látkami přicházející do kontaktu s potravinami","Élelmiszerrel érintkező termékek kezelése","Hantering av produkter i kontakt med livsmedel","Обработка сырья для пищевых продуктов"]
["Handling of food products ","Handling of food products ","Umgang mit Nahrungsmitteln","Movimentação de produtos alimentares","Manutention de produits alimentaires ","Trabajan con productos alimentarios","Movimentazione prodotti alimentari","Håndtering af fødevarer","Elintarvikkeiden käsittely","Operowanie produktami spożywczymi","Benadeling van voedingsmiddelen","Rokovanje s prehrambenimi proizvodi","Manipulace s potravinami","Élelmiszer kezelése","Hantering av livsmedel","Обработка пищевых продуктов"]
[{"$f":"IF(ISERROR(IF(LEN(TEXT(OFFSET(A350,0,langsel),\"\"))>0,TEXT(OFFSET(A350,0,langsel),\"\"),TEXT(B350,\"\"))),IF(LEN(OFFSET(A350,0,langsel))>0,OFFSET(A350,0,langsel),B350),IF(LEN(TEXT(OFFSET(A350,0,langsel),\"\"))>0,TEXT(OFFSET(A350,0,langsel),\"\"),TEXT(B350,\"\")))","v":"Handling of feed products "},"Handling of feed products ","Umgang mit Futtermitteln","Movimentação de produtos para alimentação animal","Manutention de nourriture animale","Trabajan con productos de alimentación animal","Movimentazione mangimi ","Håndtering af foderstoffer","Rehujen käsittely","Operowanie paszą dla zwierząt","Behandeling van dierenvoeders","Rokovanje s krmili","Manipulace s krmivy","Állati takarmány kezelése","Hantering av foderprodukter","Обработка кормов"]
[{"$f":"IF(ISERROR(IF(LEN(TEXT(OFFSET(A351,0,langsel),\"\"))>0,TEXT(OFFSET(A351,0,langsel),\"\"),TEXT(B351,\"\"))),IF(LEN(OFFSET(A351,0,langsel))>0,OFFSET(A351,0,langsel),B351),IF(LEN(TEXT(OFFSET(A351,0,langsel),\"\"))>0,TEXT(OFFSET(A351,0,langsel),\"\"),TEXT(B351,\"\")))","v":"The company chooses to be assessed against the Food(contact) & Feed chapter"},"The company chooses to be assessed against the Food(contact) & Feed chapter","Das Unternehmen hat beschlossen sich nach den Kapitel Nahrungsmittel (Kontakt) & Futtermittel bewerten zu lassen","A empresa decidiu ser avaliada pelo Capítulo - Alimentares e Contacto com Alimentos","La société choisit d'être évaluée selon les chapitres relatifs au contact avec des produits alimentaires et à l'alimentation animale","La compañía elige ser evaluada por el capítulo Productos Alimentarios y Alimentos para animales","L'organizzazione sceglie di essere verificata a fronte del capitolo Alimenti (contatto) e Mangimi","Virksomheden vælger at blive assesset op imod afsnittet for Fødevarer (kontakt) & Foder","Yritys haluaa arvioitavan myös elintarvikkeita (kosketus) ja rehuja koskevat vaatimukset","Firma wybiera ocenę według rozdziałów Spożywcze / Karma dla zwierząt","Het bedrijf kiest om geauditeerd te worden voor het hoofdstuk voeding, stoffen in contact met voeding en dierenvoeder","Družba se odloči, da bo presojana tudi glede na poglavje Hrana (kontakt) & Krmila","Organizace si vybrala hodnocení podle Kapitoly pro Potraviny (s potravinami přicházející do kontaktu) a Krmiva","A cég az élelmiszer/takarmány szekcióban is auditálandó","Företaget väljer att granskas mot kapitlet rörande livsmedel(kontakt) och foder","Компания решила пройти оценку по разделу, который относится к пищевым продуктам (сырья) и кормам."]
[{"$f":"IF(ISERROR(IF(LEN(TEXT(OFFSET(A352,0,langsel),\"\"))>0,TEXT(OFFSET(A352,0,langsel),\"\"),TEXT(B352,\"\"))),IF(LEN(OFFSET(A352,0,langsel))>0,OFFSET(A352,0,langsel),B352),IF(LEN(TEXT(OFFSET(A352,0,langsel),\"\"))>0,TEXT(OFFSET(A352,0,langsel),\"\"),TEXT(B352,\"\")))","v":"Handling of chlorinated solvents"},"Handling of chlorinated solvents","Umgang mit chlorierten Lösemitteln","Movimentação de solventes clorados","Manutention de solvants chlorés","Trabaja con disolventes clorados","Movimentazione solventi clorurati","Håndtering af klorbehandlede opløsningsmidler","Kloorattujen liuottimien käsittely","Operowanie rozpuszczalnikami na bazie chloru","Behandeling van gehalogeneerde solventen","Rokovanje s kloriranimi topili","Manipulace s chlorovanými rozpouštědly","Klórtartalmú oldószerek kezelése","Hantering av klorerade lösningsmedel","Обработка хлорированных растворителей"]
[{"$f":"IF(ISERROR(IF(LEN(TEXT(OFFSET(A353,0,langsel),\"\"))>0,TEXT(OFFSET(A353,0,langsel),\"\"),TEXT(B353,\"\"))),IF(LEN(OFFSET(A353,0,langsel))>0,OFFSET(A353,0,langsel),B353),IF(LEN(TEXT(OFFSET(A353,0,langsel),\"\"))>0,TEXT(OFFSET(A353,0,langsel),\"\"),TEXT(B353,\"\")))","v":"Allergen free business"},"Allergen free business","Allergen freie Tätigkeiten","Comercialização livre de alergénicos","Activité exempte d'allergènes","Trabaja con productos hipoalergénicos","Prodotti commerciali liberi da allergeni","Allergenfri virksomhed","Alergeenivapaa toiminta","Operacje wolne od alergenów","Allergeen vrij ","Poslovanje brez alergenov","Bezalergenní činnosti","Allergénmentes áruk","Allergenfri verksamhet","Деятельности, свободные от аллергена"]
["ESAD","ESAD"]
[{"$f":"IF(ISERROR(IF(LEN(TEXT(OFFSET(A355,0,langsel),\"\"))>0,TEXT(OFFSET(A355,0,langsel),\"\"),TEXT(B355,\"\"))),IF(LEN(OFFSET(A355,0,langsel))>0,OFFSET(A355,0,langsel),B355),IF(LEN(TEXT(OFFSET(A355,0,langsel),\"\"))>0,TEXT(OFFSET(A355,0,langsel),\"\"),TEXT(B355,\"\")))","v":"Sub activities"},"Sub activities","Nebenaktivitäten","Actividades secundárias","Activités secondaires","Subactividades","Sub Attività","Underaktiviteter","Lisäpalvelut","Aktywności pomocnicze","Nevenactiviteiten","Pomožne aktivnosti","Vedlejší činnosti","Melléktevékenységek","Sidoaktiviteter","Дополнительные деятельности"]
["Distributor Standard Activities (Di)","Distributor Standard Activities (Di)","Händler Standardaktivitäten (Di)","Actividades regulares do distribuidor (Di)","Activités standard du distributeur (Di)","Actividades estándar de distribuidor (Di)","Attività di Distribuzione standard (Di)","Standard Aktiviteter for distributør (Di)","Jakelijan perustoiminnot (Di)","Podstawowa Działalność Dystrybutora (Di)","Distributeur Standaard Activiteiten (Di)","Standardne aktivnosti distributerja(Di)","Standardní činnosti distributora (D)","Disztribúciós alap tevékenység (Di)","Standardaktiviteter för Distributör (Di)","Дистрибьютор - стандартная деятельность (Di)"]
["Site assessment (S)","Site assessment (S)","Standortbeurteilung (S)","Local da avaliação (S)","Evaluation du Site (S)","Evaluación de las instalaciones (S)","Verifica del Sito (S)","Assessment af Lokation(S)","Toimipaikan arviointi (S)","Audit lokalizacji (S)","Onderzoek van de locatie (S)","Presoja lokacije(S)","Hodnocení na místě (S)","Telephely értékelés (S)","Granskning av anläggningen (S)","Оценка местонахождения (S)"]
["Site name","Site name","Standortname","Nome da localidade","Nom du site ","Denominación del centro","Nome del Sito","Lokationsnavn","Toimipaikan nimi","Nazwa lokalizacji","Naam locatie","Ime lokacije","Název místa","Telephely neve","Anläggningens namn","Название местонахождения"]
["Leave empty if site not assessed","Leave empty if site not assessed"]
["Combined with Di (only applicable if Di is not included in current assessment)","Combined with Di (only applicable if Di is not included in current assessment)","verbunden mit Di (nur anwendbar wenn Di nicht im laufenden Assessment enthalten ist)","Combinada com Di (apenas aplicável se Di não estiver incluído na presente avaliação)","Combiné avec Di (seulement applicable si Di n'est pas inclus dans l'évaluation actuelle)","Combinado con Di (solo aplicable si Di no está incluido en la evaluación actual)","Insieme a Dì (applicabile solo se Di non è incluso nella presente verifica)","Kombineret med Di (kun anvendelig hvis Di ikke er inkluderet i den nuværende assessment)","Yhdistettynä Di-osioon (vain jos Di ei sisälly muuten arviointiin)","Połączony z Di (ma zastosowanie jeśli Di nie jest częścią bieżacej oceny)","Gecombineerd met Di (enkel van toepassing indien Di niet in deze audit inbegrepen is)","Kombinirano z Di ( pride v poštev le če Di ni vključen v to presojo )","Kombinováno s Di (aplikovatelné jen pokud Di není zahrnuto v současném hodnocení)","Di modullal kombinálva (csak akkor, ha ebben az auditban a Di modul nem szerepel)","Kombinerat med Di (gäller endast om Di inte är inkluderat i gällande granskning)","Комбинация с Di (применимо только, если Di не включено в текущих оценках)"]
[{"$f":"IF(ISERROR(IF(LEN(TEXT(OFFSET(A361,0,langsel),\"\"))>0,TEXT(OFFSET(A361,0,langsel),\"\"),TEXT(B361,\"\"))),IF(LEN(OFFSET(A361,0,langsel))>0,OFFSET(A361,0,langsel),B361),IF(LEN(TEXT(OFFSET(A361,0,langsel),\"\"))>0,TEXT(OFFSET(A361,0,langsel),\"\"),TEXT(B361,\"\")))","v":"Don't answer \"Yes\" if site not assessed or Di is included"},"Don't answer \"Yes\" if site not assessed or Di is included"]
["Di Report number","Di Report number","Di  Berichtsnummer","Di relatório número","numéro de rapport Di ","un informe Di","Rapporto (Di) numero","Di - Rapportnr. ","Di raporttiin numero:","Dumer raportu Di:","Di Rapport nummer","Di številka poročila","Di Report Number","Di report száma","Di Rapport nummer","Номер доклада от Di-оценки"]
[{"$f":"IF(ISERROR(IF(LEN(TEXT(OFFSET(A363,0,langsel),\"\"))>0,TEXT(OFFSET(A363,0,langsel),\"\"),TEXT(B363,\"\"))),IF(LEN(OFFSET(A363,0,langsel))>0,OFFSET(A363,0,langsel),B363),IF(LEN(TEXT(OFFSET(A363,0,langsel),\"\"))>0,TEXT(OFFSET(A363,0,langsel),\"\"),TEXT(B363,\"\")))","v":"Leave empty if is not combined with Di"},"Leave empty if is not combined with Di"]
["Handling of packaged goods (non hazardous) ","Handling of packaged goods (non hazardous) ","Umgang mit verpackten Gütern (Nicht Gefahrgut)","Movimentação de mercadorias embaladas (não perigosas)","Manutention de produits non-dangereux emballés  ","Manipulación de mercancía envasada (No peligrosa)","Movimentazione prodotti imballati (non pericolosi) ","Håndtering af emballerede varer (ikke sundhedsfarlige) ","Kappaletavaran käsittely (vaarattomat) ","Operowanie sztukami przesyłki (innymi niż niebezpieczne)","Behandeling van verpakte goederen (niet gevaarlijk)","Rokovanje s pakiranim blagom ( ne nevarno blago) ","Manipulace s baleným zbožím (bezpečným) ","Csomagolt áruk kezelése (nem veszélyes)","Hantering av förpackat gods (ej hälsofarligt)","Обработка упакованных грузов (неопасных)"]
["Handling of packaged goods (hazardous) ","Handling of packaged goods (hazardous) ","Umgang mit verpackten Gütern (Gefahrgut)","Movimentação de mercadorias embaladas (perigosas)","Manutention de produits dangereux emballés ","Manipulación de mercancía envasada (Peligrosa)","Movimentazione prodotti imballati (pericolosi) ","Håndtering af emballerede varer (sundhedsfarlige) ","Kappaletavaran käsittely (vaaralliset)","Operowanie sztukami przesyłki (niebezpiecznymi)","Behandeling van verpakte goederen (gevaarlijk)","Rokovanje s pakiranim blagom ( nevarno blago) ","Manipulace s baleným zbožím (nebezpečným) ","Csomagolt áruk kezelése (veszélyes)","Hantering av förpackat gods (hälsofarligt)","Обработка упакованных грузов (опасных)"]
["Handling of bulk solids","Handling of bulk solids","Umgang mit festen Massengütern","Movimentação de granéis sólidos","Manutention de solides en vrac ","Manipulación de sólidos a granel","Movimentazione sfuso solido","Håndtering af bulk tørgods","Kiinteän bulkin käsittely","Operowanie materiałami stałymi luzem","Behandeling van vaste stoffen in bulk","Rokovanje z razsutim blagom (nepakirano)","Manipulace s volně loženými pevnými látkami","Ömlesztett szilárd anyagok kezelése","Hantering av torrgods i bulk","Обработка массовых твердых грузов"]
["Handling of bulk liquids","Handling of bulk liquids","Umgang mit flüssigen Massengütern","Movimentação de granéis liquidos","Manutention de liquides en vrac ","Manipulación de líquidos a granel","Movimentazione sfuso liquido","Handling of bulk væsker","Nestemmäisen bulkin käsittely","Operowanie cieczami luzem","Behandeling van vloeistoffen in bulk","Rokovanje s tekočinami (nepakirano) ","Manipulace s volně loženými kapalinami","Ömlesztett folyadékok kezelése","Hantering av vätskor i bulk","Обработка массовых жидких грузов"]
["Handling of food (contact), feed, cosmetic or/and pharma (F) ","Handling of food (contact), feed, cosmetic or/and pharma (F) ","Umgang mit Nahrungsmitteln (Kontakt), Futtermitteln, Komestika und/oder pharmazeutischen Produkten ","Movimentação em contacto com produtos alimentares, de produtos para alimentação animal, para cosméticos e/ou fármacos (F)","Manutention de produits alimentaires (contact), de produits alimentaires pour animaux, de produits cosmétqiues et/ou de produits pharmaceutiques (F)  ","Manipulación de alimentos (contacto), alimentación animal, cosméticos o/y productos farmacéuticos","Movimentazione alimentari (contatto), mangimi, cosmetici o/e farmaceutici (F) ","Håndtering af fødevarer (kontakt), foderstoffer, kosmetik eller/og parmaseutika (F) ","Elintarvikkeiden (kosketus), rehujen, kosmetiikan tai / ja lääkeaineiden (F) käsittelyä ","Operowanie żywnością, paszą, materiałami kosmetycznymi i/lub farmaceutycznymi (F)","Behandeling van voedingsmiddelen (of producten die ermee in contact komen), dierenvoeder, cosmetica en/of farmaceutische producten ","Rokovanje s hrano (kontakt), krmili, kozmetiko in/ali farmacevtskimi proizvodi (F) ","Manipulace s potravinami (contact), krmivy, kosmetickými a/nebo farmaceutickými (F) látkami ","Élelmiszer(rel érintkező), takarmány kozmetikai vagy gógyszeripari termékek kezelése (F)","Hantering av livsmedel (kontakt med), foder, kosmetika och/eller pharmaceutiska (F)","Обработка пищевых продуктов (сырья), корма, косметики и / или фармацевтики (F)"]
["Handling of chlorinated solvents (Cs)","Handling of chlorinated solvents (Cs)","Umgang mit chlorinierten Lösemitteln (Cs)","Movimentação de solventes clorados (Cs)","Manutention de solvants chlorés (Cs)","Manipulación de disolventes clorados","Movimentazione solventi clorati  (Cs)","Håndtering af klorbehandlet opløsningsmidler (Cs)","Kloorattunen liuottimien käsittelyä (Cs)","Operowanie rozpuszczalnikami na bazie chloru  (Cs)","Behandeling van gechloreerde solventen (Cs) ","Rokovanje s kloriranimi topili (Cs)","Manipulace s chlorovanými rozpouštědly (Cs)","Klórtartalmú oldószerek kezelése (S)","Hantering av klorerade lösningsmedel (Cs)","Обработка хлорированных растворителей (Cs)"]
["Handling of GTDP (G)","Handling of GTDP (G)","Handhabung von GTDP (G)","Movimentação de GTDP (G)","Manutention de GTDP (G)","Manipulación de productos GTDP","Movimentazione GTDP (G)","Håndtering af GTDP (G)","Sovelletaanko hyvää kauppa- ja jakelutapaa (GTDP) (G)","Operowanie  GTDP (G)","Behandeling van GTDP (G)","Rokovanje z GTDP (G)","Manipulace s GTDP (G)","GTDP (Jó kereskedelmi és szállítási gyakorlat) alkalmazása","Hantering av GTDP (G)","Обработка по GTDP (Надлежащая практика торговли и дистрибьюции) (G)"]
["Section \"F\" need be checked together with \"G\".","Section \"F\" need be checked together with \"G\"."]
["Products","Products","Produkte","Produtos","Produits","Productos","Prodotti","Produkter","Tuotteet","Produkty","Producten","Proizvodi","Produkty","Termékek","Produkter","Продукты"]
["Class 1 : Explosive substances and articles","Class 1 : Explosive substances and articles","Klasse 1: Explosive Stoffe und Gegenstände mit Explosivstoff","Classe 1 : Matérias e objectos explosivos","Classe 1 :   Matières et objets explosibles","Clase 1: Materias y objetos explosivos","Class 1 : Materie ed Oggetti esplosivi ","Klasse 1 : Explosive stoffer og genstande","Luokka 1 : Räjähteet","Klasa 1 Materiały i przedmioty wybuchowe","Klasse 1: Ontplofbare stoffen en voorwerpen","Razred 1: eksplozivne snovi in predmeti","Třída 1 - Výbušné látky a předměty","1. osztály: robbanóanyagok","Klass 1 : Explosiva ämnen och föremål","Класс 1: Взрывчатые вещества и изделия"]
["Class 2 : Gases","Class 2 : Gases","Klasse 2: Gase","Classe 2 : Gases","Class 2 : Gaz","Clase 2: Gases","Class 2 : Gas","Klasse 2 : Gasarter","Luokka 2 : Kaasut","Klasa 2: Gazy","Klasse 2: Gassen","Razred 2: plini","Třída 2 - Plyny","2. osztály: Gázok","Klass 2 : Gaser","Класс 2: Газы"]
["Class 3 : Flammable liquids","Class 3 : Flammable liquids","Klasse 3. Entzündbare flüssige Stoffe","Classe 3 : Líquidos inflamáveis","Classe 3 : liquides inflammables","Clase 3: Líquidos inflamables","Class 3 : Liquidi  infiammabili","Klasse 3 : Brandfarlige væsker","Luokka 3 : Palavat nesteet","Kalsa 3: Materiały ciekłe zapalne","Klasse 3: Brandbare vloeistoffen","Razred 3: vnetljive tekočine","Třída 3 - Hořlavé kapaliny","3. osztály: Gyúlékony folyadékok","Klass 3 : Brandfarliga vätskor","Класс 3: Легковоспламеняющиеся жидкости"]
["Class 4.1. : Flammable solids,  self-reactive substances and solid desensitized explosives.","Class 4.1. : Flammable solids,  self-reactive substances and solid desensitized explosives.","Klasse 4.1: Entzündbare feste Stoffe, selbstzersetzliche Stoffe und desensibilisierte explosive feste Stoffe","Classe 4.1. : Matérias sólidas inflamáveis,  matérias auto-reactivas e matérias explosivas dessensibilizadas sólidas","Class 4.1. : Matières solides inflammables, matières autoréactives et matières solides explosibles désensibilisées","Clase 4.1: Sólidos inflamables, autoreactivos y explosivos desensibilizados","Class 4.1. : Solidi infiammabili, materie autoreattive ed esplosivi solidi desensibilizzati","Klasse 4.1. : Brandfarlige stoffer, selvantændelige stoffer og desensibiliserende sprængstoffer.","Luokka 4.1. : Helposti syttyvät kiinteät aineet","Klasa 4.1: Materiały stałe zapalne, materiały samoreaktywne i materiały wybuchowe stałe odczulone","Klasse 4.1: Brandbare vaste stoffen, zelfontledende stoffen en vaste ontplofbare stoffen in niet-explosieve toestand","Razred 4.1. : Vnetljive trdne snovi, samo reaktivne snovi in trdni desenz. eksplozivi","Třída 4.1 - Hořlavé tuhé látky,  samovolně se rozkládající látky a znecitlivěné tuhé výbušné látky.","4.1 osztály: Gyúlékony szilárd anyagok, önreaktív anyagok, szilárd érzéketlenített robbanóanyagok","Klass 4.1 : Brandfarliga fasta ämnen, självreaktiva ämnen och fasta okänsliggjorda explosivämnen","Класс 4.1: Легковоспламеняющиеся твердые вещества, самореактивные вещества и твердые десенсибилизированные взрывчатые вещества"]
["Class 4.2. : Substances liable for spontaneous combustion","Class 4.2. : Substances liable for spontaneous combustion","Klasse 4.2: Selbstentzündliche Stoffe","Classe 4.2. : Matérias espontaneamente inflamáveis","Class 4.2. : Matières sujettes à l'inflammation spontanée","Clase 4.2: Materias que reaccionan de forma espontánea","Class 4.2. : Materie soggette ad accensione spontanea","Klasse 4.2. : Letantændelige stoffer","Luokka 4.2. : Helposti itsestään syttyvät aineet","Klasa 4.2 Materiały samozapalne","Klasse 4.2: Voor zelfontbranding vatbare stoffen","Razred 4.2. : Snovi, ki se spontano vnamejo","Třída 4.2 - Samozápalné látky","4.2 osztály: Öngyulladó anyagok","Klass 4.2 : Självantändande ämnen ","Класс 4.2: Вещества, способные к самовозгоранию"]
["Class 4.3. : Substances which in contact with water, emit flammable gases","Class 4.3. : Substances which in contact with water, emit flammable gases","Klasse 4.3: Stoffe, die in Berührung mit Wasser entzündbare Gase entwickeln","Classe 4.3. : Matérias que, em contacto com a àgua, libertem gases inflamáveis","Class 4.3. : Matières qui, au contact de l'eau, dégagent des gaz inflammables","Clase 4.3: Materias que en contacto con el agua desprenden gases inflamables","Class 4.3. :Materie che al contatto con l'acqua, sviluppano gas infiammabili","Klasse 4.3. : Stoffer som ved kontakt med vand, udgiver brandfarlige gasser","Luokka 4.3. : Aineet, jotka veden kanssa kosketukseen joutuessaan kehittävät palavia kaasuja ","Klasa 4.3 Materiały wytwarzające w zetknięciu z wodą gazy palne","Klasse 4.3: Stoffen die in contact met water ontbrandbare gassen ontwikkelen","Razred 4.3. : Snovi, ki ob stiku z vodo sproščajo vnetljive pline","Třída 4.3 - Látky, ve styku s vodou vyvíjející hořlavé plyny","4.3. osztály: Vízzel gyúlékony gázokat képző anyagok","Klass 4.3 : Ämnen som utvecklar brandfarlig gas vid kontakt med vatten","Класс 4.3: Вещества, выделяющие легковоспламеняющиеся газы при соприкосновении с водой"]
["Class 5.1. : Oxidizing substances","Class 5.1. : Oxidizing substances","Klasse 5.1: Entzündend (oxidierend) wirkende Stoffe","Classe 5.1. : Matérias comburentes","Class 5.1. : Matières comburantes","Clase 5.1: Materias comburentes","Class 5.1. : Materie comburenti","Klasse 5.1. : Brandnærende stoffer","Luokka 5.1. : Hapettavat aineet","Klasa 5.1 Materiały utleniajace","Klasse 5.1: Oxiderende stoffen","Razred 5.1. : Oksidirajoče snovi","Třída 5.1 - Látky podporující hoření","5.1. osztály Gyújtó hatású (oxidáló) anyagok","Klass 5.1 : Oxiderande ämnen","Класс 5.1: Окисляющие вещества"]
["Class 5.2. : Organic peroxides","Class 5.2. : Organic peroxides","Klasse 5.2: Organische Peroxide","Classe 5.2. : Peróxidos organicos","Class 5.2. : Peroxydes organiques","Clase 5.2: Peróxidos Orgánicos","Class 5.2. : Perossidi organici","Klasse 5.2. : Organiske peroxider","Luokka 5.2. : Orgaaniset peroksidit ","Klasa 5.2 Nadtlenki organiczne","Klasse 5.2: Organische peroxiden","Razred 5.2. : Organski peroksidi","Třída 5.2 - Organické peroxidy","5.2 osztály: szerves peroxidok","Klass 5.2 : Organiska peroxider","Класс 5.2: Органические пероксиды"]
["Class 6.1. : Toxic substances","Class 6.1. : Toxic substances","Klasse 6.1: Giftige Stoffe","Classe 6.1. : Matérias toxicas","Class 6.1. : Matières toxiques","Clase 6.1: Sustancias tóxicas","Class 6.1. : Materie tossiche","Klasse 6.1. : Giftige stoffer","Luokka 6.1. : Myrkylliset aineet","Klasa 6.1 Materiały trujące","Klasse 6.1: Giftige stoffen","Razred 6.1. : Strupene snovi","Třída 6.1 - Toxické látky","6.1 osztály: mérgező anyagok","Klass 6.1 : Giftiga ämnen","Класс 6.1: Токсичные вещества"]
["Class 6.2. : Infectious substances","Class 6.2. : Infectious substances","Klasse 6.2: Ansteckungsgefährliche Stoffe","Classe 6.2. : Matérias infecciosas","Class 6.2. : Matières infectieuses","Clase 6.2: Sustancias infecciosas","Class 6.2. : Materie infettanti","Klasse 6.2. : Smittefarlige stoffer","Luokka 6.2. : Itartuntavaaralliset aineet","Klasa 6.2: Materiały zakaźne","Klasse 6.2: Infectueuze stoffen (besmettelijke stoffen)","Razred 6.2. : Kužne snovi","Třída 6.2 - Infekční látky","6.2. osztály : Fertőzésveszélyes anyagok","Klass 6.2 : Smittförande ämnen","Класс 6.2: Инфекционные вещества"]
["Class 7 : Radioactive material","Class 7 : Radioactive material","Klasse 7: Radioaktive Stoffe","Classe 7 : Matérias radioactivas","Class 7 : Matières radioactives","Clase 7: Materias radiactivas","Class 7 : Materiali radioattivi","Klasse 7 : Radioaktive materiale","Luokka 7 : Radioaktiiviset aineet","Klasa 7: Materiały promieniotwórcze","Klasse 7: Radioactieve stoffen","Razred 7 : Radioaktivne snovi","Třída 7 - Radioaktivní látky","7. osztály: radioaktív anyagok","Klass 7 : Radioaktiva ämnen","Класс 7: Радиоактивные материалы"]
["Class 8 : Corrosive substances","Class 8 : Corrosive substances","Klasse 8: Ätzende Stoffe","Classe 8 : Matérias corrosivas","Class 8 : Matières corrosives","Clase 8: Sustancias corrosivas","Class 8 : Materie corrosive","Klasse 8 : Ætsende stoffer","Luokka 8 : Syövyttävät aineet","Klasa 8 Materiały żrące","Klasse 8: Bijtende stoffen","Razred 8 : Jedke snovi","Třída 8 - Žíravé látky","8. osztály: Maró (korrozív) anyagok","Klass 8 : Frätande ämnen","Класс 8: Коррозионные вещества"]
["Class 9 : Miscellaneous dangerous substances and\narticles","Class 9 : Miscellaneous dangerous substances and\narticles","Klasse 9: Verschiedene gefährliche Stoffe und Gegenstände","Classe 9 : Matérias e objectos perigosos","Class 9 : Matières et objets dangereux divers","Clase 9: Materias y objetos con riesgos diversos","Class 9 : Materie ed oggetti pericolosi diversi","Klasse 9 : Diverse farlige stoffer og genstande","Luokka 9 : Muut vaaralliset aineet ja esineet","Klasa 9: Różne materiały i przedmioty niebezpieczne","Klasse 9: Diverse gevaarlijke stoffen en voorwerpen","Razred 9 : Različne nevarne snovi in predmeti","Třída 9 - Jiné nebezpečné látky a předměty","9. osztály: egyéb veszélyes anyagok és tárgyak","Klass 9 : Övriga farliga ämnen och föremål","Класс 9: Прочие опасные вещества и изделия"]
["Does the company handle/transport HCDG goods (ADR 1.10)?","Does the company handle/transport HCDG goods (ADR 1.10)?","Das Unternehmen hantiert mit / transportiert HCDG Güter (ADR 1.10)?","A empresa movimenta/transporta MPAR - mercadorias perigosas de alto risco (ADR 1.10)?","La société manutentionne-t-elle ou transporte-t-elle des marchandises dangereuses à haut risque MDHR (ADR 1.10)?","¿La empresa manipula/transporta mercancía peligrosa de alto riesgo (1.10 ADR)?","La società movimenta / trasporta prodotti HCDG (ADR 1.10)","Håndterer / transporterer virksomheden HCDG varer? (ADR 1.10)","Käsitteleekö / kuljettaako yritys suuren vaaran omaavia tuotteita ? (ADR 1.10)"," Czy firma operuje/transportuje materiały niebezpieczne dużego ryzyka (ADR 1.10)","Behandelt het bedrijf Gevaarlijke Goederen met Hoog Risico (HCDG) (ADR 1.10)?","Ali rokujete z / transportirate blago s potencialno hudimi posledicami(po 1.10 ADR )?","Manipuluje/transportuje organizace HCDG látky? (ADR 1.10)","CMR: Karcinogén, mutagén, reprotoxikus","Hanterar/transporterar företaget farligt gods med hög riskponential (ADR 1.10)?","Компания обрабатывает / транспортирует грузы повышенной опасности (HCDG) (ADR / ДОПОГ 1.10)?"]
["Activities","Activities","Aktivitäten","Actividades","Activités","Actividades","Attività","Aktiviteter","Toiminnat","Działalność","Activiteiten","Aktivnosti","Činnosti","Tevékenységek","Aktiviteter","Деятельности"]
["Drum/IBC filling line ","Drum/IBC filling line ","Fass/IBC-Befüllung","Linhas de encimento de tambores/IBC ","Ligne de remplissage pour fût/GRV  ","Línea de llenado de bidones/GRGs","Linee di riempimento Fusti/IBC  ","Tromle/IBC påfyldning","Tynnyreiden / IBC:n täyttölinja","Linia do napełniana bębnów i DPPL","Vullen van vaten / IBC","Polnilna linija za sode in IBC","Plnící linka na sudy/IBC kontejnery","Hordó/IBC töltő sor","Fat/IBC fyllnings linje","Линия для наполнения барабанов / КСГМГ"]
["Blending/mixing","Blending/mixing","Mischen","Produção de misturas (blending/mixing)","Mélange","Operaciones de mezclado","Miscellazione/mescolamento","Blanding/mixing","Sekoitusta ","Wykonywanie mieszanin","Blenden/mengen","Dodajanje/mešanje","Ředění/míchání","Keverés","Blandning/mixning","Смешивание"]
["Packaging","Packaging","Verpacken","Embalagem de produtos","Emballage","Envasado","Imballaggio","Emballering","Pakkausta","Pakowanie","Verpakken","Pakiranje","Balení","Csomagolás","Förpackning","Пакетирование / Упаковывание"]
["Type of operators","Type of operators","Art der Beschäftigten","Tipo de operadores","Type d'opérateurs ","Tipo de Operarios","Tipi di Operatore","Operatørtype","Työntekijöiden työsuhde ","Rodzaje operatorów","Type operateurs","Tip operaterjev/delavcev","Typy operátorů","Kezelők tipusa","Typ av operatörer","Тип операторов"]
["Own company operators","Own company operators","Eigene Beschäftigte","Trabalhadores/operadores da empresa","Opérateurs appartenant à la société ","Operarios propios de la empresa","Operatori propri","Egne virksomhedsoperatører","Omia työntekijöitä","Zatrudnieni operatorzy","Operateurs eigen aan het bedrijf","Lastni operaterji/delavci","Operátoři vlastní organizace","Saját alkalmazott kezelők","Egna operatörer","Собственные операторы"]
["Number of own operators","Number of own operators","Anzahl eigene Beschäftigte","Número de operadores/trabalhadores próprios","Nombre d'opérateurs appartenant à la société","Número de operarios propios","Numero di operatori propri","Antal af egne operatører","Omien työntekijöiden määrä","Ilość zatrudnionych operatorów","Aantal eigen operateurs","Število lastnih delavcev","Počet vlastních operátorů","Saját alkalmazott kezelők száma","Antal egna operatörer","Количество собственных операторов"]
["Temporary operators","Temporary operators","Leiharbeiter","Operadores em trabalho temporário","Opérateurs temporaires","Operarios temporales","Operatori temporanei","Midlertidige operatører","Tilapäisiä työntekijöitä","Operatorzy sezonowi (czasowi)","Tijdelijke operateurs","Začasni operaterji/delavci","Operátoři na přechodnou dobu","Ideiglenes kezelők","Tillfälliga operatörer","Временные операторы"]
["Average of temporary operators","Average of temporary operators","Durchschnitt Leiharbeiter","Número médio de operadores em trabalho temporário","Nombre d'opérateurs temporaires","Media de operarios temporales","Media degli operatori temporanei","Gennemsnitlig midlertidig operatørerators","Tilapäisten työntekijöiden keskimääräinen lukumäärä ","Średnia ilość operatorów sezonowych (czasowych)","Gemiddeld aantal tijdelijke operateurs","Povprečno začasnih delavcev","Průměr operátorů na přechodnou dobu","Ideiglenes kezelők átlagos száma","Genomsnitt antal tillfälliga operatörer","Среднее значение временных операторов"]
["Number of office employees","Number of office employees","Anzahl Büroangestellte","Número de trabalhadores da área administrativa","Nombre d'employés de bureau","Número de empleados de oficina","Numero dei dipendenti in ufficio","Antal kontorpersonale","Toimistohenkilöstön lukumäärä","Ilość pracowników w biurach","Aantal kantoorbedienden","Število pisarniških delavcev","Počet kancelářských pracovníků","Irodai alkalmazottak száma","Antal kontorsanställda","Количество служащих в офисе"]
["Total number of employees","Total number of employees","Anzahl Angestellte","Número de trabalhadores da empresa","Nombre d'employés","Número de empleados","Numero dei dipendenti","Antal ansatte","Henkilöstön lukumäärä","Ilość pracowników","Aantal bedienden","Število zaposlenih","Počet zaměstnanců","Alkalmazottak száma összesen","Total antal anställda","Общее количество служащих"]
["Warehouse","Warehouse"]
[{"$f":"IF(ISERROR(IF(LEN(TEXT(OFFSET(A399,0,langsel),\"\"))>0,TEXT(OFFSET(A399,0,langsel),\"\"),TEXT(B399,\"\"))),IF(LEN(OFFSET(A399,0,langsel))>0,OFFSET(A399,0,langsel),B399),IF(LEN(TEXT(OFFSET(A399,0,langsel),\"\"))>0,TEXT(OFFSET(A399,0,langsel),\"\"),TEXT(B399,\"\")))","v":"Activities"},"Activities","Aktivitäten","Actividades","Activités","Actividades","Attività","Aktiviteter","Toiminnat","Działalność","Activiteiten","Aktivnosti","Činnosti","Tevékenységek","Aktiviteter","Деятельности"]
["Handling of packaged goods (non hazardous) ","Handling of packaged goods (non hazardous) ","Umgang mit verpackten Güter (Nicht Gefahrgut)","Movimentação de mercadorias embaladas (não perigosas)","Manutention de produits non-dangereux emballés  "," Manipulación de mercancía envasada (no peligrosa)","Movimentazione prodotti imballati (non pericolosi)","Håndtering af emballerede varer (ikke sundhedsfarlige) ","Kappaletavaran käsittely (vaarattomat) ","Operowanie sztukami przesyłki (innymi niż niebezpieczne)","Behandeling van verpakte goederen (niet gevaarlijk) ","Rokovanje s pakiranim blagom ( ne nevarno blago) ","Manipulace s baleným zbožím (bezpečné) ","Csomagolt áruk kezelése (nem veszélyes)","Hantering av förpackat gods (ej hälsofarligt)","Обработка упакованных грузов (неопасных)"]
["Handling of packaged goods (hazardous) ","Handling of packaged goods (hazardous) ","Umgang mit verpackten Güter (Gefahrgut)","Movimentação de mercadorias embaladas (perigosas)","Manutention de produits dangereux emballés "," Manipulación de mercancía envasada (peligrosa)","Movimentazione prodotti imballati (pericolosi) ","Håndtering af emballerede varer (sundhedsfarlige) ","Kappaletavaran käsittely (vaaralliset)","Operowanie sztukami przesyłki (niebezpiecznymi)","Behandeling van verpakte goederen (gevaarlijk) ","Rokovanje s pakiranim blagom ( nevarno blago) ","Manipulace s baleným zbožím (nebezpečné) ","Csomagolt áruk kezelése (veszélyes)","Hantering av förpackat gods (hälsofarligt)","Обработка упакованных грузов (опасных)"]
["Handling of bulk solids","Handling of bulk solids","Umgang mit festen Massengütern ","Movimentação de granéis sólidos","Manutention de solides en vrac ","Manipulación de sólidos a granel","Movimentazione sfusi solidi","Håndtering af bulk gods","Kiinteän bulkin käsittely","Operowanie materiałami stałymi luzem","Behandeling van vaste stoffen in bulk","Rokovanje z razsutim tovorom","Manipulace s volně loženými pevnými látkami","Ömlesztett szilárd anyagok kezelése","Hantering av torrgods i bulk","Обработка массовых твердых грузов"]
["Handling of food contact products","Handling of food contact products","Umgang mit Vorprodukten? Nahrungsmittel","Movimentação em contacto com produtos alimentares","Manutention de produits destinés au contact alimentaire ","Manipulación de productos en contacto con alimentos","Movimentazione prodotti in contatto con gli alimenti","Håndtering af produkter som er i kontakt med fødevarer","Elintarvikkeiden kanssa kosketuksiin joutuvien tuotteiden käsittely","Operwanie produktami mającymi kontakt z żywnością","Behandeling van producten die in contact komen met voedingsmiddelen","Rokovanje s proizvodi, ki pridejo v kontakt s hrano","Manipulace s látkami přicházejícími do kontaktu s potravinami","Élelmiszerrel érintkező termékek kezelése","Hantering av produkter som kommer i kontakt med livsmedel","Обработка сырья для пищевых продуктов"]
["Handling of food products","Handling of food products","Umgang mit Nahrungsmittel","Movimentação de produtos alimentares","Manutention de produits alimentaires","Manipulación de productos alimentarios","Movimentazione prodotti alimentari","Håntering af fødevarer ","Elintarvikkeiden käsittely","Operowanie produktami spożywczymi","Benadeling van voedingsmiddelen","Rokovanje s prehrambenimi proizvodi","Manipulace  s potravinami","Élelmiszer kezelése","Hantering av livsmedelsprodukter","Обработка пищевых продуктов"]
["Handling of feed products","Handling of feed products","Umgang mit Futtermitteln","Movimentação de produtos para alimentação animal","Manutention de produits alimentaires pour animaux","Manipulación de productos de alimentación animal","Movimentazione mangimi","Håndtering af foderstoffer","Rehujen käsittely","Operowanie paszą dla zwierząt","Behandeling van dierenvoeders","Rokovanje s krmili","Manipulace s krmivy","Állati takarmány kezelése","Hantering av foderprodukter","Обработка корма"]
["The company chooses to be assessed against the Food(contact) & Feed chapter","The company chooses to be assessed against the Food(contact) & Feed chapter","Das Unternehmen hat beschlossen sich nach den Kapitel Nahrungsmittel (Kontakt) & Futtermittel bewerten zu lassen","A empresa decidiu ser avaliada pelo Capítulo - Alimentares e Contacto com Alimentos","La société choisit d'être évaluée selon les chapitres relatifs au contact avec des produits alimentaires et à l'alimentation animale","La compañía elige ser evaluada contra el capítulo Productos en contacto con Alimentos y Alimentos para animales","L'organizzazione sceglie di essere verificata a fronte del capitolo Alimenti (contatto) e Mangimi","Virksomheden vælger at blive auditeret op imod afsnittet for Fødevarer (kontakt) & Foder","Yritys haluaa arvioitavan myös elintarvikkeita (kosketus) ja rehuja koskevat vaatimukset","Firma wybiera ocenę według rozdziałów Spożywcze / Karma dla zwierząt","Het bedrijf kiest om geauditeerd te worden voor het hoofdstuk voeding, stoffen in contact met voeding en dierenvoeder","Družba se odloči, da bo presojana tudi glede na poglavje Hrana (kontakt) & Krmila","Organizace si vybrala hodnocení podle Kapitoly pro Potraviny (s potravinami přicházející do kontaktu) a Krmiva","A cég az élelmiszer/takarmány szekcióban is auditálandó","Företaget väljer att granskas mot kapitlet rörande livsmedel(kontakt) och foder","Компания решила пройти оценку по разделу, который относится к пищевым продуктам (сырья) и кормам."]
["Handling of chlorinated solvents","Handling of chlorinated solvents","Umgang mit chlorierten Lösemitteln","Movimentação de solventes clorados","Manutention de solvants chlorés","Manipulación de disolventes clorados","Movimentazione solventi clorati","Håndtering af klorbehandlede opløsningsmidler","Kloorattujen liuottimien käsittely","Operowanie rozpuszczalnikami na bazie chloru","Behandeling van gehalogeneerde solventen","Rokovanje s kloriranimi topili","Manipulace s chlorovanými rozpouštědly","Klórtartalmú oldószerek kezelése","Hantering av klorerade lösningsmedel","Обработка хлорированных растворителей"]
["Handling of Pharma products","Handling of Pharma products","Umgang mit pharmazeutischen Produkten","Movimentação de produtos farmacêuticos","Manutention de produits Pharma","Carga de productos farmaceúticos","Movimenta prodotti Farmaceutici","Håndtering af pharmaceutiske produkter","Lääkevalmisteiden käsittely","Obsługiwanie materiałów farmaceutycznych","Behandeling van farmaceutische producten","Rokovanje s farmacevtskimi proizvodi","Manipulace s farmaceutickými produkty","Gyógyszeripari termékek kezelése","Hantering av pharmaceutiska produkter","Обработка фармацевтических продуктов"]
["Handling of Cosmetic products","Handling of Cosmetic products","Umgang mit kosmetischen Produkten","Movimentação de produtos cosméticos","Manutention de produits cosmétiques","Carga de productos cosméticos","Movimenta prodotti Cosmetici","Håndtering af kosmetiske produkter","Kosmeettisten tuotteiden käsittely","Obslugiwanei materiałów kosmetycznych","Behandeling van cosmetica","Rokovanje s kozmetičnimi proizvodi","Manipulace s kosmickými produkty","Kozmetikai termékek kezelése","Hantering av kosmetiska produkter","Обработка косметической продукции"]
["Alergen free business","Alergen free business","Allergen freie Tätigkeiten","Comercialização livre de alergénicos","Activité exempte d'allergènes","Manipulación de productos hipoalergénicos","Prodotti commerciali liberi da allergeni","Allergen fri virksomhed","Allergeenivapaa toiminta","Operacje wolne od alergenów","Allergeen vrij ","Alergenov prosto poslovanje","Bezalerdinní činnosti","Allergénmentes áruk","Allergenfri verksamhet","Деятельности, свободные от аллергена"]
["Shuttle service","Shuttle service","Pendelverkehr","Serviço ida e volta (shuttle)","Service de navette","Servicios regulares de recogida y entrega","Servizio navetta","Container terminale ","Menopaluu kuljetukset","Wahadła","Shuttle dienst ","Povezovalne storitve (shuttle)","Výměna služba","Ingajárat (shuttle)","Pendeltrafikservice","Челночная перевозка"]
["Drum/IBC filling line ","Drum/IBC filling line ","Fass/IBC-Befüllung","Linhas de encimento de tambores/IBC ","Ligne de remplissage pour fût/GRV ","Línea de llenado de bidones/GRGs","Linea riempimento Fusti / IBC","Tromle/IBC påfyldning","Tynnyreiden /IBC:n täyttölinja ","Linia do napełniana bębnów i DPPL","Vullen van vaten / IBC","Polnilna linija za sode in IBC","Plnící linka pro sudy/IBC kontejnery","Hordó/IBC töltő sor","Fat/IBC fyllnings linje","Линия для наполнения барабанов / КСГМГ"]
["Blending/mixing","Blending/mixing","Mischen","Produção de misturas (blending/mixing)","Mélange","Operaciones de mezclado","Miscellazione / mescolamento","Blanding/mixing","Sekoitusta ","Wykonywanie mieszanin","Blenden/mengen","Dodajanje/mešanje","Ředění/míchání","Keverés","Blandning/mixning","Смешивание"]
["Packaging","Packaging","Verpacken","Embalagem de produtos","Emballages","Envasado","Imballaggio","Emballering","Pakkausta","Pakowanie","Verpakken","Pakiranje","Balení","Csomagolás","Förpackning","Пакетирование / Упаковывание"]
["Type of operators","Type of operators","Arten der Beschäftigten","Tipo de operadores","Type d'opérateurs ","Tipo de Operarios","Tipo di operatori","Operatørtype","Työntekijöiden työsuhde","Rodzaje operatorów","Type operateurs","Tip operaterjev/delavcev","Typ operátorů","Kezelők tipusa","Typ av operatörer","Тип операторов"]
["Own company operators","Own company operators","Eigene Beschäftigte","Trabalhadores/operadores da empresa","Opérateurs appartenant à la société ","Operarios propios de la empresa","Propri operatori","Egne virksomhedsoperatører","Yrityksen omat työntekijät","Zatrudnieni operatorzy","Operateurs eigen aan het bedrijf","Lastni operaterji/delavci","Operátoři vlastní organizace","Saját alkalmazott kezelők","Egna operatörer","Собственные операторы"]
["Number of own operators","Number of own operators","Anzahl eigene Beschäftigte","Número de operadores/trabalhadores próprios","Nombre d'opérateurs appartenant à la société","Número de empleados propios","Numero propri operatori","Antal af egne operatører","Omien työntekijöiden lukumäärä","Ilość zatrudnionych operatorów","Aantal eigen operateurs","Število lastnih delavcev","Počet vlastních operátorů","Saját alkalmazott kezelők száma","Antal egna operatörer","Количество собственных операторов"]
["Temporary operators","Temporary operators","Leiharbeiter","Operadores em trabalho temporário","Opérateurs temporaires","Operarios temporales","Operatori temporanei","Midlertidige operatører","Tilapäisiä työntekijöitä","Operatorzy sezonowi (czasowi)","Tijdelijke operateurs","Začasni operaterji/delavci","Operátoři na přechodnou dobu","Ideiglenes kezelők","Tillfälliga operatörer","Временные операторы"]
["Average of temporary operators","Average of temporary operators","Durchschnitt Leiharbeiter","Número médio de operadores em trabalho temporário","Nombre d'opérateurs temporaires","Media de operarios temporales","Media operatori temporanei","Gennemsnitlig midlertidig operatørerators","Tilapäisten työntekijöiden keskimääräinen lukumäärä","Średnia ilość operatorów sezonowych (czasowych)","Gemiddeld aantal tijdelijke operateurs","Povprečno začasnih delavcev","Průměr operátorů na přechodnou dobu","Ideiglenes kezelők átlagos száma","Genomsnitt antal tillfälliga operatörer","Среднее значение временных операторов"]
["Activities caried out by temporary operators","Activities caried out by temporary operators","Durch Leiharbeiter durchgeführte Tätigkeiten","Actividades efectuadas pelos operadores","Activités réalisées par les opérateurs temporaires ","Actividades desarrolladas por operarios temporales","Attività effettuate dagli operatori temporanei","Aktiviteter udført af midlertidige operatører","Tilapäisten työntekijöiden suorittamat tehtävät ","Działania prowadzone przez operatorów sezonowych (czasowych)","Activiteiten uitgevoerd door tijdelijke operateurs","Aktivnosti, ki jih izvajajo začasno zaposleni","Činnosti vykonávané operátory na přechodnou dobu","Ideiglenes kezelők által végzett tevékenységek","Aktiviterer som utförs av tillfälliga operatörer","Деятельности временных операторов"]
["Number of office employees","Number of office employees","Anzahl Büroangestellte","Número de trabalhadores da área administrativa","Nombre d'employés de bureau","Número de empleados de oficina","Numero degli impiegati in ufficio","Antal kontorpersonale","Toimistotyöntekijöiden määrä","Ilość pracowników w biurach","Aantal kantoorbedienden","Število pisarniških delavcev","Počet kancelářských zaměstnanců","Irodai alkalmazottak száma","Antal kontorsanställda","Количество служащих в офисе"]
["Number of employees","Number of employees","Anzahl Angestellte","Número de trabalhadores da empresa","Nombre d'employés","Número de empleados","Numero dei dipendenti","Antal ansatte","Työntekijöiden määrä","Ilość osób zatrudnionych ","Aantal bedienden","Število zaposlenih","Počet zaměstnanců","Alkalmazottak száma","Antal anställda","Количество служащих"]
["WH-II","WH-II"]
[{"$f":"IF(ISERROR(IF(LEN(TEXT(OFFSET(A424,0,langsel),\"\"))>0,TEXT(OFFSET(A424,0,langsel),\"\"),TEXT(B424,\"\"))),IF(LEN(OFFSET(A424,0,langsel))>0,OFFSET(A424,0,langsel),B424),IF(LEN(TEXT(OFFSET(A424,0,langsel),\"\"))>0,TEXT(OFFSET(A424,0,langsel),\"\"),TEXT(B424,\"\")))","v":"This complete document, together with the Fire Compartment data, is to be prepared by the Warehousing Company, well ahead of the Assessment, and to be provided to the assessor, for preparation of the assessment and entry in the system."},"This complete document, together with the Fire Compartment data, is to be prepared by the Warehousing Company, well ahead of the Assessment, and to be provided to the assessor, for preparation of the assessment and entry in the system.","Das gesamte Dokument zusammen mit den Angaben zu den Brandabschnitten ist durch den Lagereibetrieb im Voraus vor dem Assessment vorzubereiten und dem Assessor zur Vorbereitung des Assessment und zu dem Einstelllen ins System zur Verfügung zu stellen  ","Este documento completo, em conjunto com a Informação Contra Incêndios de cada área de armazenagem, é para ser efectuado pela empresa que possui o Armazém, bem antes da data da avaliação, e posteriormente enviada para o Assessor, para preparação da avaliação e seu registo no site SQAS","Ce document complet, ensemble avec les données relatives au compartiment Incendie, doit être préparé bien avant l'évaluation et transmis à l'évaluateur, pour la préparation de l'évaluation et l'entrée dans le système.","Este documento completo, junto a los datos de Compatimentación respecto al Fuego será preparado por la empresa de Almacanemiento, lo suficientemente antes de la evaluación para proveer con éste al evaluador, para la preparación de la evaluación y su entrada en el sistema","Questo documento completo, insieme ai dati sui compartimenti antincendio, deve essere compilato dalla Società di Deposito, prima della verifica, ed inviato all'auditor, per la preparazione della verifica ed inserito nel sistema. ","Dette komplette dokument skal udfyldes sammen med data fra brandafdelingen af lagervirksomheden minimum 3 uger før assessment og skal gives til assessorr til forberedelse af audit og adgang til system.","Varastoyrityksen tulee täyttää tämä osio yhdessä palosuojelua koskevan osion kanssa hyvissä ajoin ennen arviointia ja toimittaa nämä arvioijalle arvioinnin valmistelua varten ja liitettäväksi järjestelmään. ","Then dokument, łącznie ze szczegółami dotyczącymi kompry/przegrody ogniowej powinien byc opracowny przez firma magazynującą, przed auditem i przedstawiony audytorowi celem przygotowania się do oceny i wejścia do systemu.","Dit volledig document, tezamen met de gegevens betreffende de brandcompartimenten, dient  door het opslag- & overslagbedrijf voorbereid te worden, en voldoende lang op voorhand aan de auditor te worden overgemaakt, ter voorbereiding van de audit en invoeging in het systeem","Ta komleten dokument, skupaj s podatki o protipožarni zaščiti mora izpolniti presojana družba  en mesec pred izvedbo presoje in ga mora dostaviti presojevalcu za pripravo presoje in vnos v sistem.","Tento kompletní dokument, spolu s daty Požárního oddělení musí být připraven Organizací provozující skladování před hodnocením a musí být poskytnuta hodnotiteli pro přípravu hodnocení a vstup  do systému.","Ezt a dokumentumot a tűzszakaszok adataival együtt a raktárnak jóval az audit előtt el kell készítenie, és átadnia az auditornak, hogy az felkészülhessen az auditra és megismerhesse a rendszert.","Detta kompletta dokument tillsammans med Brandcells data skall, i god tid före granskningen fyllas i av det granskade företaget och översändas till granskaren, för dennes förberedelse.","Этот полный документ, вместе с данными противопожарного отсека, должен быть подготовлен в складской компании, задолго до начала оценки и должен быть предоставлен эксперте, для подготовки оценки и записи в системе."]
["It is envisaged that storage companies may have more than one warehouse building on the assessed site to store Foodstuff and/or Chemical products. For this reason the spreadsheet used to record warehouse details per building, contains five columns. ","It is envisaged that storage companies may have more than one warehouse building on the assessed site to store Foodstuff and/or Chemical products. For this reason the spreadsheet used to record warehouse details per building, contains five columns. ","E s ist vorauszusehen, dass Lagereibetriebe mehr als ein Lagerhaus zum Lagern von Nahrungsmitteln und / oder chemischen Produkten auf dem Firmengelände haben. Aus diesem Grund enthält das zu benutzende Arbeitsblatt fünf Spalten um Details der Lagerhäuser pro Gebäude aufzuzeichnen. ","Prevê-se que as empresas de armazenagem podem ter mais de um edifício de armazéns, no local a ser avaliado, para guardar produtos alimentares e / ou produtos químicos. Por isso, a folha Excel utilizada para registrar os detalhes do armazém por edifício, contém cinco colunas.\n\n","Il est envisagé que les compagnies de stockage peuvent avoir plus d'un bâtiment d'entreposage présent sur le site évalué afin de stocker des produits alimentaires et/ou des produits chimiques. Pour cette raison, la feuille d'excel utilisée pour enregistrer les caractéristiques des bâtiments d'entreposage comprend 5 colonnes.   ","Se prevé que las empresas de almacenamiento puedan tener más de una nave almacén en el sitio evaluado para almacenar producto alimenticio y / o productos químicos. Por esta razón, la hoja de cálculo utilizada para registrar los detalles de almacén por edificio, consta de cinco columnas.","E' previsto che  la Società di Deposito potrebbe avere più di un deposito all'interno del sito oggetto di verifica per il deposito di Alimenti e/o di prodotti chimici, per questa ragione il foglio usato per la registrazione dei dettagli dei depositti, contiene 5 colonne. ","Det er forudsat at lagervirksomheden kan have mere end én lagerbygning til opbevaring af Fødevarer og/eller kemiske produkter på den auditerede grund. Af denne grund indeholder sprøgeskemaet som anvendes til at omhandle lageroplysninger pr. bygning fem kolonner. ","Varastoyrityksellä saattaa olla enemmän kuin yksi varastorakennus arvioidulla toimipaikalla, joissa varastoidaan elintarvikkeita ja/tai kemiallisia tuotteita. Tästä syystä lomakkeessa on viisi saraketta, joihin kirjataan varastojen tiedot rakennuskohtaisesti","Firma magazynowa może posiadać więcej niż jeden budynek do składowania materiałów spożywczych i/lub chemicznych. Dlatego arkusz został podzielony na 5 części przeznaczonych do zapisania szczegółów dla poszczególnych budynków.","Er wordt van uit gegaan dat opslag- & overslagbedrijven meer dan één magazijn voor voedingsproducten en/of chemicaliën op de geauditeerde locatie kunnen hebben. Om deze reden bevat het werkblad voor invulling van de magazijndetails vijf kolommen. ","Predpostavlja se, da ima družba več stavb na lokaciji za skladiščenje hrane in/ali kemikalij. Zato razpredelnica za zapis podatkov o skladiščnih stavbah vsebuje pet stolpcev.","Je předpokládáno, že organizace provozující skladování může mít na hodnoceném  pracovišti více než jednu budovu skladu určenou na skladování Potravinových a Chemických produktů. Z tohoto důvodu je použita tabulka obsahující pět sloupečků k k zaznamenání detailů každé budovy  ","Lehetséges, hogy a cégnek több raktár épülete van az auditált telephelyen, élelmiszerek illetve vegyi anyagok tárolására. Ezért ez az űrlap épületenként rögzíti a raktárakat, 5 oszlopot tartalmaz.","Det är tänkt att lagringsföretag kan ha fler än en lagerbyggnad på den granskade platsen för lagring av livsmedel och/eller kemiska produket. Av denna orsak skall kalkylbladet som innehåller fem kolumner, användas för att registrera lagerdetaljer per byggnad. ","Предполагается, что на оцениваемой месте складские компаний могут иметь более одного складского здания для хранения пищевых и / или химических продуктов. По этой причине таблица, используемая для записи деталей о складских зданиях, содержит пять столбцов."]
["(if more buildings on premises, use additional sheet)","(if more buildings on premises, use additional sheet)","(wenn es mehr Gebäude auf dem Gelände gibt, benutzen Sie zusätzliche Blätter","(se existirem mais edifícios a avaliar, utilize folha suplementar)\n","(s'il y a plus de bâtiments sur le site, utiliser une autre feuille excel )","(si exieten más edificios en las instalaciones, usar una hoja adicional)","(se ci sono più depositi, usare ulteriori fogli)","Hvis der er flere bygninger på grunden, anvend flere ark.","(jos toimipaikalla on useampia varastorakennuksia, käyttäkää lisälehtiä)","(jeśli jest więcej budynków, proszę użyć dodatkowego arkusza)","(indien meer dan vijf magazijnen, gebruik dan bijkomende werkbladen)","(če se nahaja več zgradb uporabi dodatne liste)","(pokud je na místě více budov, použijte další list)","Ha több épület van, használjon további oldalakat (oszlopokat)","(om det finns fler byggnader på anläggningen, använd extra ark","(Если на месте есть несколько зданий, пожалуйста, используйте дополнительные листы.)"]
["Reference list of WH number versus site's identification of buildings","Reference list of WH number versus site's identification of buildings","Referenzliste der Lagerhaus-Nummern im Vergleich zu der Gebäudeidentifkation am Standort","Lista de referência do número de WH a avaliar versus número de identificação de cada edifício","Liste de référence de numéro WH versus l'identification des bâtiments du site","La lista de referencia del número de Almacanemiento frente a la identificación del emplazamiento de los edificios","La lista di riferimento del numero di deposito all'interno del sito, identifica il singolo deposito","Referenceliste af WH numre kontra lokationens identifikation af bygninger","Viiteluettelo WH-numeoiden ja rakennusten yksilöinnin välillä","Lista odnośnych numerów magazynu wobec oznaczeń na budynkach/","Referentielijst van magazijnnummer t.o.v. identificatie van gebouwen op de locatie","Navedi referenčni list WH in identifikacijo zgradbe na lokaciji","Referenční list označení skladů (WH) versus identifikace budov v místě hodnocení ","A raktárak sorszámának és telephelyi azonosítójának referencia listája","Referenslista över WH nummer kontra anläggningens identifikation av byggnaderna","Ссылочный список с WH-номерами против идентификации складских зданий на територии"]
["WH-number","WH-number","Lagerhaus-Nummer","Número de WH","Numéro WH","Número de Almacenamiento","Numero del deposito","WH nummer","WH-numero","Numer magazynu","Magazijnnummer","WH-številka","Sklad číslo (WH)","WH: a raktár sorszáma","Lagerlokal-nummer","WH-номер (номер склада)"]
["Site's identification of buildings","Site's identification of buildings","Gebäudeidentifkation am Standort","Número de identificação de cada edifício (compartimento) de armazenagem","Identification des bâtiments du site","Identificación del emplazamiento de los edificios","Identificazione del deposito nel sito","Lokationens identifikation af bygninger","Toimipaikan rakennusten yksilöinti","Identyfikacja na budynku","Identificatie van de gebouwen op de locatie","Identifikacija zgradbe na lokaciji","Identifikace budov v místě hodnocení","A telephelyen használt azonosítója","Anläggningens identifikation av byggnaderna","Идентификация складских зданий на територии"]
["WH1","WH1","WH1","WH1","WH1","WH1","Deposito1","WH1","WH1","WH1","WH1","WH1","WH1","WH1","WH1","WH1"]
["WH2","WH2","WH2","WH2","WH2","WH2","Deposito2","WH2","WH2","WH2","WH2","WH2","WH2","WH2","WH2","WH2"]
["WH3","WH3","WH3","WH3","WH3","WH3","Deposito3","WH3","WH3","WH3","WH3","WH3","WH3","WH3","WH3","WH3"]
["WH4","WH4","WH4","WH4","WH4","WH4","Deposito4","WH4","WH4","WH4","WH4","WH4","WH4","WH4","WH4","WH4"]
["WH5","WH5","WH5","WH5","WH5","WH5","Deposito5","WH5","WH5","WH5","WH5","WH5","WH5","WH5","WH5","WH5"]
["WH6","WH6","WH6","WH6","WH6","WH6","Deposito6","WH6","WH6","WH6","WH6","WH6","WH6","WH6","WH6","WH6"]
["WH7","WH7","WH7","WH7","WH7","WH7","Deposito7","WH7","WH7","WH7","WH7","WH7","WH7","WH7","WH7","WH7"]
["WH8","WH8","WH8","WH8","WH8","WH8","Deposito8","WH8","WH8","WH8","WH8","WH8","WH8","WH8","WH8","WH8"]
["WH9","WH9","WH9","WH9","WH9","WH9","Deposito9","WH9","WH9","WH9","WH9","WH9","WH9","WH9","WH9","WH9"]
["WH10","WH10","WH10","WH10","WH10","WH10","Deposito10","WH10","WH10","WH10","WH10","WH10","WH10","WH10","WH10","WH10"]
["WH11","WH11","WH11","WH11","WH11","WH11","Deposito11","WH11","WH11","WH11","WH11","WH11","WH11","WH11","WH11","WH11"]
["WH12","WH12","WH12","WH12","WH12","WH12","Deposito12","WH12","WH12","WH12","WH12","WH12","WH12","WH12","WH12","WH12"]
["WH13","WH13","WH13","WH13","WH13","WH13","Deposito13","WH13","WH13","WH13","WH13","WH13","WH13","WH13","WH13","WH13"]
["WH14","WH14","WH14","WH14","WH14","WH14","Deposito14","WH14","WH14","WH14","WH14","WH14","WH14","WH14","WH14","WH14"]
["WH15","WH15","WH15","WH15","WH15","WH15","Deposito15","WH15","WH15","WH15","WH15","WH15","WH15","WH15","WH15","WH15"]
["Please complete the appropriate boxes below for site or per warehouse-building :","Please complete the appropriate boxes below for site or per warehouse-building :","Bitte vervollständigen Sie die geeigneten Kästchen unterhalb für Standort oder für Lagergebäude","Por favor complete as células Excel apropriadas abaixo, para cada local a ser avaliado ou por cada edifício de armazenagem","Veuillez compléter les cadres appropriés pour le site ou par bâtiment d'entreposage","Por favor completar las casillas de debajo apropiadas para la instalación o los edificios de almacenamiento:","Si prega di completare gli appositi spazi sottostanti per sito o per singolo deposito:","Udfyld venligst de passende felter nedenfor pr. lokation eller lagerbygning","Ole hyvä ja täytä kyseeseen tulevat toimipaikkaa tai varastorakennuksia koskevat kohdat alla","Proszę uzupełnić odpowiednie  pola poniżej, w odniesieniu do lokalizacji lub budynku magazynu.","A.u.b. de onderstaande vakken invullen voor de locatie of per magazijn/gebouw","Odgovorite na spodnja vprašan ja za lokacijo ali za posamezno zgradbo na lokaciji:","Prosím vyplňte příslušná políčka pro hodnocené místo nebo budovy skladu:","Kérjük a telephelyre vagy raktáranként jelölje be a megfelelő helyeken:","Komplettera de passande rutorna nedan för anläggningen eller per lagerlokalsbyggnad :","Пожалуйста, заполните соответствующие поля ниже относительно места или отдельных складских зданий:"]
["(tick with \"Y\", \"N\", \"N/A\" or provide appropriate answer, eg number, add your comments in the yellow zone please)","(tick with \"Y\", \"N\", \"N/A\" or provide appropriate answer, eg number, add your comments in the yellow zone please)","Haken Sie ab mit \"Y\", N\"; \"N/A\" oder schreiben Sie eine geeignete Antwort und fügen Sie bitte ihre Kommentare in die gelbe Zone ein)","(preencha com \"S\", \"N\", \"N/A\" ou efectue uma adequada resposta, por exemplo, referindo o número da pergunta na zona amarela e adicione os seu comentários","marquer avec \"O\", \"N\", \"N/A\" ou fournir une réponse appropriée, ex un nombre, veuiller ajouter vos commentaires dans la zone jaune.","(indicar \"Y\", \"N\", \"N/A\" o una respuesta adecuada, ej: número, añadir comentarios en el área amarilla por favor)","Inserire \"Y\", \"N\", \"NA\" o inserire una risposta appropriata, per esempio numero, o aggiungere commenti nello spazio giallo.","(afkrys med \"J\", \"N\", \"N/A\" eller angiv venligst passende svar, f.eks. nummer, tilføj dine kommentarer i det gule felt)","(merkitse \"Y\" -kyllä, \"N\" - ei, \"N/A\" - ei sovellettavissa, tai kirjoita siihen kuuluva vastaus, ts. varaston numero ja kirjaa kommentit keltaiseen alueeseen)","(zaznacz \"Y'' - tak,  ''N'' - nie, ''N/A'' - nie dotyczy albo wpisz komentarz w zółtym plu - np. numer)","(duid aan \"J\", \"N\", \"NVT\" of geef een gepast antwoord, bvb. een getal. Zet uw opmerkingen in de gele zone a.u.b.)","(označite \"DA\", \"NE\" ali \"N/A - M512ne pride v poštev\", ali dajte ustrezen odgovor, to je število, dodajte prosim svoje komentarje v rumena polja)","(prosím označte -\"Y\",\"N\" nebo \"N/A\" nebo poskytněte příslušnou odpověď, např. počet, komentář přidaný ve žlutě označeném prostoru)","jelölje \"Y\"  \"N\" vagy \"N/A\"-val vagy adjon megfelelő választ, pl. Számot stb. A megjegyzéseket a sárga részbe lehet írni","(bocka för med \"Y\", \"N\", \"N/A\" eller lämna lämpliga svar, t ex nummer, addera dina kommentarer i den gula zonen","(Вы надо отметить с \"Y\", \"N\", \"N / A\" или предоставить соответствующий ответ, напр. количество; добавить свои комментарии в желтой зоне.)"]
["Site","Site","Standort","Local","Site","Instalación","Sito","Lokation","Toimipaikka","Lokalizacja","Locatie","Lokacija","Hodnocené  místo","Telephely","Anläggning","Территория"]
["General site data","General site data","Allgemeine Angaben zum Standort","Dados gerais do local","Données générales du site","Datos generales de la instalación","Dati generali del sito","Generelle lokationsdata","Toimipaikan yleiset tiedot","Ogólne informacje o lakalizacji","Algemene gegevens van de locatie","Splošni podatki o lokaciji","Všeobecné informace o hodnoceném místě","Általános telephely adatok","Generella data för anläggningen","Общие сведения о территории"]
["Is the warehouse owned ? ","Is the warehouse owned ? ","Ist das Lagerhaus Eigentum?","O armazém é propriedade da empresa ?","Est-ce que l'entrepôt est détenu ,","¿El almacén es en propiedad?","Il deposito è di proprietà ?","Ejes lageret?","Onko varastorakennus omistettu?","Czy magazyn jest własnością firmy?","Is het magazijn eigendom?","Je skladišče v lasti družbe?","Je sklad ve vlastnictví organizace?","A raktár saját tulajdonú?","Är lagerlokalen ägd?","Является ли склад собственность компании?"]
["Is the warehouse leased ? ","Is the warehouse leased ? ","Ist das Lagerhaus gemietet?","O armazém é arrendado ?","Est-ce que l'entrepôt est loué ?","¿El almacén está alquilado?","Il deposito è in leasing ?","Er lageret leaset?","Onko varastorakennus vuokrattu?","Czy magazyn jest wynajęty?","Wordt het magazijn gehuurd?","Je skladišče v najemu?","Je sklad pronajatý?","A raktár bérelt?","Är lagerlokalen leasad?","Является ли склад арендованный?"]
["Total warehouse space (sq. meters) ?","Total warehouse space (sq. meters) ?","Gesamte Fläche des Lagerhauses (Quadratmeter)?","Área total do armazém (m2) ?","Espace total d'entreposage (mètres carré)?","Espacio total de almacenamiento (metros cuadrados)","Spazio totale del deposito (metri quadrati)","Totale lagerplads (m2) ?","Varastorakennusten kokonaisala (neliömetreinä)?","Powierzchnia magazynu w metrach kwadratowych?","Totale magazijnoppervlakte (m²)","Celotna površina (m2)","Celková plocha skladu (m2)?","Teljes raktárterület (m2)","Total lageryta (m2)","Общая площадь склада (кв.м)(m2) ?"]
["Total silo space (cubic meters) ?","Total silo space (cubic meters) ?","Gesamte Silofläche (Kubikmeter)?","Volume total de armazenamento de granéis (m3) ?","Espace total des silos (mètres cube)","Volumen total de almacenamiento (metros cúbicos)","Spazio totale del silos (metri cubi)","Totale siloplads (m3) ?","Varastosiilojen kokonaistilavuus (kuutiometreinä)?","Pojemność silosów w metrach sześciennych?","Totale silo-inhoud (m³)","Celoten volumen silosov(m3)","Celková kapacita sil (m3)?","Teljes silókapacitás (m3)","Total silokapacitet (m3)","Общая вместимость бункера (куб.м)(m3) ?"]
["Open air packed storage space (sq. meters) ?","Open air packed storage space (sq. meters) ?","Freifläche (Quadratmeter)?","Área total do armazenamento de produtos embalados (m2) ?","Espace de stockage à l'air libre pour les produits emballés (mètres carré) ?","Espacio de almacenamiento exterior (metros cuadrados)","Spazio all'aperto destinato a deposito (metri quadrati) ","Udendørs stykgodsagerplads (m2)?","Kappaletavaran ulkovaraston ala (neliömetreissä)?","Powierzchnia placu używanego do składowania w metrach kwadratowych.","Oppervlakte opslag in open lucht (m²)","Zunanja površina za skladiščenje pakiranega blaga(m2)","Celková plocha skladu v otevřeném prostoru (m2)?","Nyitott csomagolt áru tároló (m2)","Lageryta utomhus för lagring av förpackat gods (kvadratmeter) ?","Открытое пространство для тары (кв.м)(m2) ?"]
["Are video cameras installed on site ?","Are video cameras installed on site ?","Sind Videokameras am Standort installiert?","Estão instaladas câmaras de video no local ?","Présence de caméras vidéo sur le site ?","¿Se han instalado videocámaras en la instalación?","Sono istallate telecamere all'interno del sito ?","Er der installeret videokameraer onsite ?","Onko videokameroita toimipaikalla?","Czy zainstalowano monitoring poprzez kamery?","Is er videobewaking op de locatie?","Ali je lokacija opremljena z video nadzorom?","Jsou na pracovišti instalovány kamery?","Van telepítve videokamera rendszer?","Finns videokameror installerade i anläggningen?","Установлены видеокамеры на територии?"]
["Is the registration office for visitors/contractors visiting the company clearly marked to indicate where they have to register ?","Is the registration office for visitors/contractors visiting the company clearly marked to indicate where they have to register ?","Ist das Eingangsbüro für Besucher/Subunternehmer die das Unternehmen besuchen deutlich gekennzeichnet um anzuzeigen wo sich diese regisitireren müssen?","O local de registo de visitas / subcontratados que entram na empresa está adequadamente identificado para indicar onde tem de ser efectuado o registo de entrada ?","Est-ce que le bureau d'enregistrement pour les visiteurs/sous-traitants, visitant la société est clairement signalé pour leur indiquer où ils doivent s'enregistrer ?","¿Está claramente señalizada e identificada la oficina para visitantes/subcontratistas para indicar donde se deben registrar?","E' chiaramente indicato l'uffico dove i visitatori ed i fornitori devono andare a registrarsi per poter accedere al sito ? ","Er receptionen for besøgende /leverandører som besøger virksomheden tydelig afmærket, så de ved hvor de skal henvende sig?","Onko yrityksessä käyvien vieraiden/sopimuskumppaneiden rekisteröimispiste selvästi merkitty, jotta he näkevät missä pitää ilmoittautua?","Czy jest dobrze oznakowana portiernia w której goście i podwykonawcy muszą zaresjstrować swoje wejście?","Is de aanmeldingsplaats voor bezoekers/contractanten duidelijk aangegeven?","Ali je pisarna za prijavo obiskovalcev/pogodbenikov jasno označena?","Je kancelář, kde se musí registrovat návštěvy a zákazníci jasně označena?","Van regisztrációs iroda a látogatóknak/partnereknek, egyértelműen jelezve, hogy hol kell regisztráltatniuk magukat?","Är registreringskontoret för besökare/entreprenörer som besöker företaget klart markerat för att visa var man skall registrera sig?","Имеет ли бюро для регистрации посетителей / подрядчиков четкое обозначение, чтобы показать, где они должны зарегистрироваться?"]
[{"$f":"IF(ISERROR(IF(LEN(TEXT(OFFSET(A456,0,langsel),\"\"))>0,TEXT(OFFSET(A456,0,langsel),\"\"),TEXT(B456,\"\"))),IF(LEN(OFFSET(A456,0,langsel))>0,OFFSET(A456,0,langsel),B456),IF(LEN(TEXT(OFFSET(A456,0,langsel),\"\"))>0,TEXT(OFFSET(A456,0,langsel),\"\"),TEXT(B456,\"\")))","v":"Is there a waiting room for contractors (drivers and accompanying persons) nearby the registration office ?"},"Is there a waiting room for contractors (drivers and accompanying persons) nearby the registration office ?","Gib es einen Warteraum für Subunternehmer (Fahrer und Begleitpersonal) nahe bei dem Eingangsbüro?","Existe uma sala de espera para os subcontratados (motoristas e acompanhantes), nas proximidades do local (escritório) de registo de entrada ?","Y a-t-il une salle d'attente pour les sous-traitants (chauffeurs et personnes qui accompagnent) à proximité du bureau d'enregistrement?","¿Hay una sala de espera cercana a la oficina de registro (para conductores y personas acompañantes)?","C'è una sala di attesa per i fornitori (autisti e persone in accompagnamento) nelle adiacenze dell'ufficio di registrazione accesso ?","Er der et venteværelse for leverandører (chauffører og ledsagere) i nærheden af receptionen ?","Onko sopimuskumppaneiden (kuljettajat ja heidän mukanaan olevat henkilöt) odotushuone lähellä rekisteröintipistettä?"," Czy jest, zlokalizowana blisko portierni, poczekalnia dla podwykonawców, kierowców i innych osób?","Is er een wachtruimte voor bezoekers/contractanten (chauffeurs en begeleidende personen) nabij de aanmeldingsplaats?","Ali je na razpolago čakalnica za pogodbenike ( voznike in spremljevalce) v bližini opisarne za prijavo?","Je čekárna pro zákazníky (řidiče a zaměstnance) v blízkosti registrační kanceláře?","Van a partnerek számára (sofőrök, kisérőszemélyzet) a regisztrációs iroda közelében várakozó helyiség?","Finns det ett väntrum för entreprenörer (förare och medföljande personer) i närheten av registreringskontoret?","Есть зал ожидания для подрядчиков (водителей и сопровождающих лиц) рядом с бюро регистрации?"]
["Is smoking prohibited in the storage areas ?","Is smoking prohibited in the storage areas ?","Ist das Rauchen in den Lagerbereichen verboten?","É proibido fumar nas áreas de armazenamento ?","Est-il interdit de fumer dans les aires de stockage ?","¿Está prohibido fumar en las áreas de almacenamiento?","E' vietato fumare nelle aree di deposito","Er der rygning forbudt i lagerområder ?","Onko tupakointi kielletty varastoalueilla?","Czy palenie jest zabronione na obszarze składowania?","Is roken verboden in de opslagruimten?","Ali velja prepoved kajenja v skladiščih?","Je v prostoru skladování zakázáno kouření?","Meg van tiltva a dohányzás a raktárterületeken?","Är rökning förbjuden inom lagerytan","Является курение запрещено в складских?"]
["Are warning signs posted for emergency and prohibitions (\"no smoking\", \"emergency exit\") ?","Are warning signs posted for emergency and prohibitions (\"no smoking\", \"emergency exit\") ?","Sind Warn- und Verbotsschilder angebracht (\"Rauchen verboten\", \"Notausgang\")?","Existem sinais de aviso para as situações de emergência e de proibições (\"proibido fumar\", \"saída de emergência\") ?","Est-ce que les signes d'avertissement pour les urgences et les interdictions sont en place (\" interdiction de fumer\", \"sortie de secours\") ?","¿Hay señales de peligro para emergencia y prohibiciones (\"salida de emergencia\", \"no fumar\"?","Sono affissi i segnali di avvertimento per le emergneze e le attività proibite (vietato fumare, uscita di emergenza) ?","Er der opsat advarselsskilte til nødstilfælde og forbud (\"rygning forbudt\", \"nødudgang\") ?","Onko varoituskyltit asetettu hätätilannetta ja kieltoja varten (\"tupakointi kielletty\", \"hätäuloskäynti\")?","Czy są znaki zakazu / ostrzeżeń (''zakaz palenia'', ''wyjscie ewakuacyjne'')","Zijn noodsignalen geplaatst alsook verbodstekens (\"verboden te roken\", \"nooduitgang\")?","Ali so nameščene varnostne oznake in prepovedi (\"prepovedano kajenje\", \"izhod v sili\")?","Jsou používány varovné symboly pro nebezpečí a zákazy (\"zákaz kouření\", \"únikový východ\")?","Vannak figyelmeztető táblák veszélyre és tilalmakra? (Dohányozni tilos, vészkijárat stb.)","Är varningsskyltar uppsatta för nödsituationer och förbud (\"Rökning förbjuden\", \"Nödutgång\")?","Есть предупреждающие и запрещающие знаки (\"Не курить\", \"Аварийный выход\")?"]
["Warehouse capacity","Warehouse capacity","Kapazität des Lagerhauses","Capacidade de armazenamento","Capacité d'entreposage","Capacidad del almacén","Capacità del deposito","Lagerkapacitet","Varaston kapasiteetti","Pojemność magazynu.","Magazijncapaciteit","Kapaciteta skladišča","Kapacita skladování","Raktárkapacitás","Lagerlokalens kapacitet","Емкость склада"]
["Warehouse space (sq. meters)","Warehouse space (sq. meters)","Fläche des Lagerhauses (Quadratmeter)","Área de armazenamento (m2)","Espace d'entreposage (mètres carré)","Espacio del almacén (metros cuadrados)","Spazio del deposito (metri quadrati)","Lagerplads (m2)","Varaston pinta-ala (neliömetriä)","Powierzchnia magazynu.","Magazijnruimte (m²)","Skladiščne površine (m2)","Plocha skladu (m2)","Raktár terület (m2)","Lagerlokalens yta (m2)","Площадь склада (кв.м)(m2)"]
["Category of products permitted to be stored","Category of products permitted to be stored","Kategorien von Produkten die gelagert werden dürfen ","Categoria de produtos autorizados a serem armazenados","Catégorie de produits autorisés à être entreposés ?","Categoría de productos de almacenamiento permitido","Categoria dei prodotti che possono essere immagazzinati","Kategori af produkter som kan oplagres","Varastossa sallittujen tuotteiden luokat","Kategorie produktów, których składowanie jest dozwolone.","Categorie van producten toegelaten voor opslag","Kategorija proizvodov, ki se lahko skladiščijo","Kategorie produktů, jejichž skladování je povoleno","Tárolható termék kategóriája","Kategori av produkter som är tillåtna att lagra","Категории товаров, разрешенный для хранения"]
["Foodstuffs","Foodstuffs","Nahrungsmittel","Géneros alimentícios","Produits alimentaires","Productos alimenticios","Alimentari","Fødevarer","Elintarvikkeet","Produkty spożywcze.","Voedingsmiddelen","Hrana","Potravinářské produkty","Élelmiszer ","Livsmedel","Пищевые продукты"]
["Solid chemicals (non - classified goods)","Solid chemicals (non - classified goods)","Feste chemische Produkte (nichtklassifizierte Güter)","Produtos químicos sólidos (mercadorias não classificadas)","Produits chimiques solides ( produits non classés)","Químicos sólidos (no clasificados)","Materie solide chimiche (prodotti non classificati)","Faste kemikalier (ikke klassificerede  varer)","Kiinteät kemikaalit (ei luokitellut)","Produkty chemicnze stałe (bez ADR).","Vaste chemicaliën (niet geclassificeerde goederen)","Trdne kemikalije ( nenevarne )","Chemikálie v pevném skupenství (neklasifikované zboží)","Szilárd vegyi anyag (nem osztályozott áruk)","Fasta kemikalier (ej klassificerat gods)","Твердые химические вещества (неклассифицированные товары)"]
["Liquid chemicals (non - classified goods)","Liquid chemicals (non - classified goods)","Flüssige chemische Güter (nichtklssifizierte Güter)","Produtos químicos líquidos (mercadorias não classificadas)","Produits chimiques liquides (produits non classés) ","Químicos líquidos (no clasificados)","Materie liquide chimiche (prodotti non classificati)","Flydende kemikalier (ikke klassificerede varer)","Nestemmäiset kemikaalit (ei luokitellut)","Produkty chemiczne ciekłe (bez ADR).","Vloeibare chemicaliën (niet geclassificeerde goederen)","Tekoče kemikalije (nenevarne)","Chemikálie v kapalném stavu (neklasifikované zboží)","Folyékony vegyi anyag (nem osztályozott áruk)","Flytande kemikalier (ej klassificerat gods)","Жидкие химические вещества (неклассифицированные товары)"]
["For classified goods, use the Transport Classification (3.4) and the Classification for hazardous substances (3.5), according to the applicable warehouse permits  :","For classified goods, use the Transport Classification (3.4) and the Classification for hazardous substances (3.5), according to the applicable warehouse permits  :","Für klassifizierte Güter benutzen Sie die Transport Klassifizierung (3.4) und die Klassifizierung für gefährliche Stoffe (3.5), übereinstimmend mit den anwendbaren Lagerhausgenehmigungen ","Para os produtos classificados, usar a classificação do transporte (3.4), e a classificação de substâncias perigosas (3.5), de acordo com a(s) autorização(ões) do armazém, conforme aplicável :","Pour les produits classés, utiliser les classifications de transport (3.4) et les classifications pour les produits dangereux (3.5), selon les permis d'entreposage applicables.","Para mercancías clasificadas, usar la Clasificación de Transporte (3.4) y la Clasificación de mercancías peligrosas (3.5) de acuerdo a los permisos del almacén:","Per i prodotti classificati, usare la Classificazione per il Trasporto (3,4) e la Classificazione per le sostanze pericolose (3,5), secondo le applicabili autorizzazioni possedute dai depositi:","For klassificerede varer, anvend Transport klassifikation (3.4) og klassifikationen for farlige stoffer (3.5) iht. lagerets tilladelse :","Luokitelluille aineille, käytä tiekuljetusten luokistusta (3.4) tai vaaraa osoittavien merkintöjen (3.5) mukaisesti, riippuen kyseisen varaston luvasta.","Dla materiałów sklasyfikowanych, proszę użyć klasyfikacji transportowej (3.4) i klasyfikacji dla substancji niebezpiecznych (3.4), w odniesieniu do pozwolenia na magazynowanie:","Voor geclassificeerde goederen, gebruik de classificatie voor transport (3.4) en de classificatie voor gevaarlijke goederen (3.5) in overeenstemming met de van toepassing zijnde vergunningen van de magazijnen :","Za nevarno blago se uporablja Transportna klasifikacija (3.4) ali klasifikacija za nevarne \nsnovi (3.5) glede na izdano dovoljenje:","Pro klasifikované zboží použijte Transportní klasifikaci (3.4) a Klasifikaci pro nebezpečné látky (3.5), podle aplikovatelných povolení ke skladování:","Osztályozott árukra alkalmazza  a 3.4 és a 3.5 szerinti osztályokat, a raktár engedélyeinek megfelelően","För klassificerat gods, använd Transportklassificering (3.4) och klassificering för farliga substanser (3.5), enligt tillämpligt lagringstillstånd ","Для классифицированных товаров, использовать транспортной классификации (3.4) и классификации опасных веществ (3.5), в соответствии с действующими разрешениями склада:"]
["Chemicals - classified as dangerous goods per Transport Classification (specify):","Chemicals - classified as dangerous goods per Transport Classification (specify):","Chemische Produkte - klassifiziert als Gefahrgüter durch Transport Klassifizierung (genau angeben):","Químicos - classificados como mercadorias perigosas por Classe de Transporte (especificar) :","Produits chimiques - classés comme produits dangereux selon les règles de classification du transport (spécifier)","Químicos - clasificados como mercancías peligrosas por la Clasificación de transporte (especificar):","Chimici - Classificati come prodotti pericolosi secondo la classificazione del trasporto: ","Kemikalier - klassificeret som farligt gods pr. transport klassifikation (uddyb):","Kemikaalit - luokitus tiekuljetusten luokituksen mukaisesti (yksilöi):","Substancje chemiczne - sklasyfikowane jako niebezpieczne w kalsyfikacji transportowej (wymień):","Chemicaliën - geklasseerd als gevaarlijke goederen per vervoersklasse (specificeer): ","Kemikalije -  klasificirane kot nevarno blago po Transportni klasifickaciji (navedite):","Chemikálie - klasifikované jako nebezpečné látky pro Transportní klasifikaci (specifikujte):","Vegyi anyagok - veszélyes áru osztályok szerint  (adja meg)","Kemikalier - klassificerade som farligt gods per Transportklass (specificera)","Химические вещества - классифицированны как опасные товары в транспортной классификации (указать):"]
["Class 1     - Explosive substances & articles","Class 1     - Explosive substances & articles","Klasse 1: Explosive Stoffe und Gegenstände mit Explosivstoff","Classe 1 : Matérias e objectos explosivos","Classe 1 :   Matières et objets explosibles","Clase 1: Materias y objetos explosivos","Class 1 : Materie ed Oggetti esplosivi ","Klasse 1 : Explosive stoffer og genstande","Luokka 1 : Räjähteet","Klasa 1 Materiały i przedmioty wybuchowe","Klasse 1: Ontplofbare stoffen en voorwerpen","Razred 1: eksplozivne snovi in predmeti","Třída 1 - Výbušné látky a předměty","1. osztály: robbanóanyagok","Klass 1 : Explosiva ämnen och föremål","Класс 1: Взрывчатые вещества и изделия"]
["Class 2     - Gases","Class 2     - Gases","Klasse 2: Gase","Classe 2 : Gases","Class 2 : Gaz","Clase 2: Gases","Class 2 : Gas","Klasse 2 : Gasarter","Luokka 2 : Kaasut","Klasa 2: Gazy","Klasse 2: Gassen","Razred 2: plini","Třída 2 - Plyny","2. osztály: Gázok","Klass 2 : Gaser","Класс 2: Газы"]
["Class 3     - Flammable liquids","Class 3     - Flammable liquids","Klasse 3. Entzündbare flüssige Stoffe","Classe 3 : Líquidos inflamáveis","Classe 3 : liquides inflammables","Clase 3: Líquidos inflamables","Class 3 : Liquidi  infiammabili","Klasse 3 : Brandfarlige væsker","Luokka 3 : Palavat nesteet","Kalsa 3: Materiały ciekłe zapalne","Klasse 3: Brandbare vloeistoffen","Razred 3: vnetljive tekočine","Třída 3 - Hořlavé kapaliny","3. osztály: Gyúlékony folyadékok","Klass 3 : Brandfarliga vätskor","Класс 3: Легковоспламеняющиеся жидкости"]
["Class 4.1  - Flammable solids ","Class 4.1  - Flammable solids ","Klasse 4.1: Entzündbare feste Stoffe, selbstzersetzliche Stoffe und desensibilisierte explosive feste Stoffe","Classe 4.1. : Matérias sólidas inflamáveis,  matérias auto-reactivas e matérias explosivas dessensibilizadas sólidas","Class 4.1. : Matières solides inflammables, matières autoréactives et matières solides explosibles désensibilisées","Clase 4.1: Sólidos inflamables, autoreactivos y explosivos desensibilizados","Class 4.1. : Solidi infiammabili, materie autoreattive ed esplosivi solidi desensibilizzati","Klasse 4.1. : Brandfarlige stoffer, selvantændelige stoffer og desensibiliserende sprængstoffer.","Luokka 4.1. : Helposti syttyvät kiinteät aineet","Klasa 4.1: Materiały stałe zapalne, materiały samoreaktywne i materiały wybuchowe stałe odczulone","Klasse 4.1: Brandbare vaste stoffen, zelfontledende stoffen en vaste ontplofbare stoffen in niet-explosieve toestand","Razred 4.1. : Vnetljive trdne snovi, samo reaktivne snovi in trdni desenz. eksplozivi","Třída 4.1 - Hořlavé tuhé látky,  samovolně se rozkládající látky a znecitlivěné tuhé výbušné látky.","4.1 osztály: Gyúlékony szilárd anyagok, önreaktív anyagok, szilárd érzéketlenített robbanóanyagok","Klass 4.1 : Brandfarliga fasta ämnen, självreaktiva ämnen och fasta okänsliggjorda explosivämnen","Класс 4.1: Легковоспламеняющиеся твердые вещества, самореактивные вещества и твердые десенсибилизированные взрывчатые вещества"]
["Class 4.2  - Substances liable to spontaneous combustion","Class 4.2  - Substances liable to spontaneous combustion","Klasse 4.2: Selbstentzündliche Stoffe","Classe 4.2. : Matérias espontaneamente inflamáveis","Class 4.2. : Matières sujettes à l'inflammation spontanée","Clase 4.2: Materias que reaccionan de forma espontánea","Class 4.2. : Materie soggette ad accensione spontanea","Klasse 4.2. : Letantændelige stoffer","Luokka 4.2. : Helposti itsestään syttyvät aineet","Klasa 4.2 Materiały samozapalne","Klasse 4.2: Voor zelfontbranding vatbare stoffen","Razred 4.2. : Snovi, ki se spontano vnamejo","Třída 4.2 - Samozápalné látky","4.2 osztály: Öngyulladó anyagok","Klass 4.2 : Självantändande ämnen ","Класс 4.2: Вещества, способные к самовозгоранию"]
["Class 4.3  - Substance, which in contact with water emit flammable gases","Class 4.3  - Substance, which in contact with water emit flammable gases","Klasse 4.3: Stoffe, die in Berührung mit Wasser entzündbare Gase entwickeln","Classe 4.3. : Matérias que, em contacto com a àgua, libertem gases inflamáveis","Class 4.3. : Matières qui, au contact de l'eau, dégagent des gaz inflammables","Clase 4.3: Materias que en contacto con el agua desprenden gases inflamables","Class 4.3. :Materie che al contatto con l'acqua, sviluppano gas infiammabili","Klasse 4.3. : Stoffer som ved kontakt med vand, udgiver brandfarlige gasser","Luokka 4.3. : Aineet, jotka veden kanssa kosketukseen joutuessaan kehittävät palavia kaasuja ","Klasa 4.3 Materiały wytwarzające w zetknięciu z wodą gazy palne","Klasse 4.3: Stoffen die in contact met water ontbrandbare gassen ontwikkelen","Razred 4.3. : Snovi, ki ob stiku z vodo sproščajo vnetljive pline","Třída 4.3 - Látky, ve styku s vodou vyvíjející hořlavé plyny","4.3. osztály: Vízzel gyúlékony gázokat képző anyagok","Klass 4.3 : Ämnen som utvecklar brandfarlig gas vid kontakt med vatten","Класс 4.3: Вещества, выделяющие легковоспламеняющиеся газы при соприкосновении с водой"]
["Class 5.1  - Oxidising substances","Class 5.1  - Oxidising substances","Klasse 5.1: Entzündend (oxydierend) wirkende Stoffe","Classe 5.1. : Matérias comburentes","Class 5.1. : Matières comburantes","Clase 5.1: Materias comburentes","Class 5.1. : Materie comburenti","Klasse 5.1. : Brandnærende stoffer","Luokka 5.1. : Hapettavat aineet","Klasa 5.1 Materiały utleniajace","Klasse 5.1: Oxiderende stoffen","Razred 5.1. : Oksidirajoče snovi","Třída 5.1 - Látky podporující hoření","5.1. osztály Gyújtó hatású (oxidáló) anyagok","Klass 5.1 : Oxiderande ämnen","Класс 5.1: Окисляющие вещества"]
["Class 5.2. - Organic peroxides","Class 5.2. - Organic peroxides","Klasse 5.2: Organische Peroxide","Classe 5.2. : Peróxidos organicos","Class 5.2. : Peroxydes organiques","Clase 5.2: Peróxidos Orgánicos","Class 5.2. : Perossidi organici","Klasse 5.2. : Organiske peroxider","Luokka 5.2. : Orgaaniset peroksidit ","Klasa 5.2 Nadtlenki organiczne","Klasse 5.2: Organische peroxiden","Razred 5.2. : Organski peroksidi","Třída 5.2 - Organické peroxidy","5.2 osztály: szerves peroxidok","Klass 5.2 : Organiska peroxider","Класс 5.2: Органические пероксиды"]
["Class 6.1  - Toxic substances","Class 6.1  - Toxic substances","Klasse 6.1: Giftige Stoffe","Classe 6.1. : Matérias toxicas","Class 6.1. : Matières toxiques","Clase 6.1: Sustancias tóxicas","Class 6.1. : Materie tossiche","Klasse 6.1. : Giftige stoffer","Luokka 6.1. : Myrkylliset aineet","Klasa 6.1 Materiały trujące","Klasse 6.1: Giftige stoffen","Razred 6.1. : Strupene snovi","Třída 6.1 - Toxické látky","6.1 osztály: mérgező anyagok","Klass 6.1 : Giftiga ämnen","Класс 6.1: Токсичные вещества"]
["Class 6.2  - Infectious substances","Class 6.2  - Infectious substances","Klasse 6.2: Ansteckungsgefährliche Stoffe","Classe 6.2. : Matérias infecciosas","Class 6.2. : Matières infectieuses","Clase 6.2: Sustancias infecciosas","Class 6.2. : Materie infettanti","Klasse 6.2. : Smittefarlige stoffer","Luokka 6.2. : Itartuntavaaralliset aineet","Klasa 6.2: Materiały zakaźne","Klasse 6.2: Infectueuze stoffen (besmettelijke stoffen)","Razred 6.2. : Kužne snovi","Třída 6.2 - Infekční látky","6.2. osztály : Fertőzésveszélyes anyagok","Klass 6.2 : Smittförande ämnen","Класс 6.2: Инфекционные вещества"]
["Class 7    - Radioactive material","Class 7    - Radioactive material","Klasse 7: Radioaktive Stoffe","Classe 7 : Matérias radioactivas","Class 7 : Matières radioactives","Clase 7: Materias radiactivas","Class 7 : Materiali radioattivi","Klasse 7 : Radioaktive materiale","Luokka 7 : Radioaktiiviset aineet","Klasa 7: Materiały promieniotwórcze","Klasse 7: Radioactieve stoffen","Razred 7 : Radioaktivne snovi","Třída 7 - Radioaktivní látky","7. osztály: radioaktív anyagok","Klass 7 : Radioaktiva ämnen","Класс 7: Радиоактивные материалы"]
["Class 8    - Corrosive substances","Class 8    - Corrosive substances","Klasse 8: Ätzende Stoffe","Classe 8 : Matérias corrosivas","Class 8 : Matières corrosives","Clase 8: Sustancias corrosivas","Class 8 : Materie corrosive","Klasse 8 : Ætsende stoffer","Luokka 8 : Syövyttävät aineet","Klasa 8 Materiały żrące","Klasse 8: Bijtende stoffen","Razred 8 : Jedke snovi","Třída 8 - Žíravé látky","8. osztály: Maró (korrozív) anyagok","Klass 8 : Frätande ämnen","Класс 8: Коррозионные вещества"]
["Class 9    - Miscellaneous dangerous substances & articles","Class 9    - Miscellaneous dangerous substances & articles","Klasse 9: Verschiedene gefährliche Stoffe und Gegenstände","Classe 9 : Matérias e objectos perigosos","Class 9 : Matières et objets dangereux divers","Clase 9: Materias y objetos con riesgos diversos","Class 9 : Materie ed oggetti pericolosi diversi","Klasse 9 : Diverse farlige stoffer og genstande","Luokka 9 : Muut vaaralliset aineet ja esineet","Klasa 9: Różne materiały i przedmioty niebezpieczne","Klasse 9: Diverse gevaarlijke stoffen en voorwerpen","Razred 9 : Različne nevarne snovi in predmeti","Třída 9 - Jiné nebezpečné látky a předměty","9. osztály: egyéb veszélyes anyagok és tárgyak","Klass 9 : Övriga farliga ämnen och föremål","Класс 9: Прочие опасные вещества и изделия"]
["Chemicals - classified as hazardous substances/ preparations (specify):","Chemicals - classified as hazardous substances/ preparations (specify):","Chemische Produkte - klassifiziert als gefährliche Substanzen / Zubereitungen (genau angeben):","Químicos - classificados como substâncias perigosas / preparações (especificar) :","Produits chimiques - classés  comme substances/préparations dangereuses  (spécifier)","Químicos - clasificados como sustancia o preparados peligrosos (especificar)","Chimici - classificati come sostanze pericolose / preparazioni (specificare):","Kemikalier - klassificeret som farlige stoffer / præparater (uddyb):","Kemikaalit - luokitus kemikaalilain luokituksen mukaisesti (yksilöi):"," Chemikalia - sklasyfikowane jako niebezpieczne substancje  / preparaty (wymień):","Chemicaliën - geklasseerd als gevaarlijke stoffen/bereidingen (specificeer):","Kemikalije - klasificirano kot nevarne snovi/preparati (navedite):","Chemikálie - klasifikované jako nebezpečné látky a přípravky (specifikujte):","Vegyi anyagok - veszélyes összetevők alapján (adja meg):","Kemikalier - klassificerade som farliga substanser/ beredningar (specificera)","Химические вещества - классифицированы как опасные вещества / препараты (указать):"]
["Oxidising (O, R7, R8, R9)","Oxidising (O, R7, R8, R9)","Oxidierend (O, R7, R8, R9)","Oxidantes (O, R7, R8, R9)","Comburant (O, R7, R8, R9)","Comburentes (O, R7, R8, R9)","Ossidanti (O, R7, R8, R9)","Brandnærende (O, R7, R8, R9)","Hapettava (O, R7, R8. R9)","Substancja utleniająca (O, R7, R8, R9)","Oxiderend (O, R7, R8, R9)","Oksidativne (O, R7, R8, R9)","Okysličující (O,R7,R8,R9)","Oxidatív, égést tápláló (O, R7, R8, R9)","Oxiderande (O, R7, R8, R9)","Окисляющие (O, R7, R8, R9)"]
["Extremely flammable  (F+, R12)","Extremely flammable  (F+, R12)","Hochentzündlich (F+, R12)","Extremamente inflamável (F+, R12)","Extrêmement inflammable  (F+, R12)","Extremadamente inflamables (F+, R12)","Estremamente infiammabile (F+, R12)","Yderst brandfarlige (F+, R12)","Erittäin helposti syttyvä (F+, R12)","Substancja skrajnie łatwopalna (F+, R12)","Zeer licht ontvlambaar (F+, R12)","Zelo lahko vnetljive  (F+, R12)","Extrémně hořlavé (F,R11,R15,R17)","Fokozottan tűzveszélyes (F+, R12)","Extremt brandfarliga (F+, R12)","Чрезвычайно легко воспламеняющиеся (F +, R12)"]
["Highly flammable (F, R11, R15, R17)","Highly flammable (F, R11, R15, R17)","Leicht Entzündlich (F, R11, R15, R17)","Altamente inflamável (F, R11, R15, R17)","Très inflammable (F, R11, R15, R17)","Muy inflamables (F, R11, R15, R17)","Altamente infiammabili (F, R11, R15, R17)","Meget brandfarlig (F, R11, R15, R17)","Helposti syttyvä (F, R11, R15, R17)","Substanncja wysoce łatwopalna (F, R11, R15, R17)","Licht ontvlambaar (F, R11, R15, R17)","Lahko vnetljive (F, R11, R15, R17)","Vysoce hořlavé (F,R11,R15,R17)","Tűzveszélyes (F, R11, R15, R17)","Mycket brandfarliga (F, R11, R15, R17)","Легковоспламеняющиеся (F, R11, R15, R17)"]
["Flammable (R10)","Flammable (R10)","Entzündlich (R10)","Inflamável (R10)","Inflammable (R10)","Inflamables (R10)","Infiammabile (R 10)","Brandfarlig (R10)","Syttyvä (R10)","Substancja palna (R10)","Ontvlambaar (R10)","Vnetljive(R10)","Hořlavé (R10)","Kismértékben tűzveszélyes (R10)","Brandfarliga (R10)","Воспламеняющиеся (R10)"]
["Very toxic (T+, R26, R27, R28)","Very toxic (T+, R26, R27, R28)","Sehr giftig (T+, R26, R27, R28)","Muito tóxico (T+, R26, R27, R28)","Très toxique (T+, R26, R27, R28)","Muy tóxicos (T+, R26, R27, R28)","Molto Tossico (T+, R26, R27, R 28)","Meget giftig (T+, R26, R27, R28)","Erittäin myrkyllinen (T+, R26, R27, R28)","Substancja bardzo toksyczna (T+, R26, R27, R 28)","Zeer toxisch (T+, R26, R27, R28)","Zelo strupene (T+, R26, R27, R28)","Velmi toxické (T+,R26,R27,R28)","Nagyon mérgező (T+, R26, R27, R28)","Mycket giftiga (T+, R26, R27, R28)","Очень токсичные (T +, R26, R27, R28)"]
["Toxic (T, R23, R24, R25)","Toxic (T, R23, R24, R25)","Giftig (T, R23, R24, R25)","Tóxico (T, R23, R24, R25)","Toxique (T, R23, R24, R25)","Tóxicos (T, R23, R24, R25)","Tossico (T, R23, R 21, R22, R42, R65)","Giftig (T, R23, R24, R25)","Myrkyllinen (T, R23, R24, R25)","Substancja toksyczna (T, R23, R24, R25)","Toxisch (T, R23, R24, R25)","Strupene (T, R23, R24, R25)","Toxické (T, R23, R24, R25)","Mérgező (T, R23, R24, R25)","Giftiga (T, R23, R24, R25)","Токсичные (T, R23, R24, R25)"]
["Harmful  (Xn, R20, R21, R22, R42, R65)","Harmful  (Xn, R20, R21, R22, R42, R65)","Gesundheitsschädlich (Xn, R20, R21, R22, R42, R65)","Nocivo  (Xn, R20, R21, R22, R42, R65)","Nocif  (Xn, R20, R21, R22, R42, R65)","Nocivos (Xn, R20, R21, R22, R42, R65)","Nocivo (Xn, R20, R21, R22, R42, R65)","Skadelig (Xn, R20, R21, R22, R42, R65)","Haitallinen (Xn, R20, R21, R22, R42, R65)","Substancja szkodliwa (Xn, R20, R21, R22, R42, R56)","Schadelijk  (Xn, R20, R21, R22","Škodljivel  (Xn, R20, R21, R22, R42, R65)","Škodlivé (Xn, R20, R21, R22, R42, R65)","Ártalmas (Xn, R20, R21, R22, R42, R65)","Skadliga (Xn, R20, R21, R22, R42, R65)","Вредные для здоровья (Xn, R20, R21, R22, R42, R65)"]
[{"$f":"IF(ISERROR(IF(LEN(TEXT(OFFSET(A488,0,langsel),\"\"))>0,TEXT(OFFSET(A488,0,langsel),\"\"),TEXT(B488,\"\"))),IF(LEN(OFFSET(A488,0,langsel))>0,OFFSET(A488,0,langsel),B488),IF(LEN(TEXT(OFFSET(A488,0,langsel),\"\"))>0,TEXT(OFFSET(A488,0,langsel),\"\"),TEXT(B488,\"\")))","v":"Corrosive  (C, R34, R35)"},"Corrosive  (C, R34, R35)","Ätzend (C, R34, R35)","Corrosivo  (C, R34, R35)","Corrosif  (C, R34, R35)","Corrosivos (C, R34, R35)","Corrosivo (Xì, R36, R37, R38, R41, R43)","Ætsende (C, R34, R35)","Syövyttävä (C, R34, R35)","Substancja żrąca (C, R34, R35)","Corrosief (C, R34, R35)","Jedke  (C, R34, R35)","Korozivní (C, R34, R35)","Égési sérülést okoz (C, R34, R35)","Frätande (C, R34, R35)","Коррозионные (C, R34, R35)"]
["Irritant  (Xi, R36, R37, R38, R41, R43)","Irritant  (Xi, R36, R37, R38, R41, R43)","Reizend (Xi, R36, R37, R38, R41, R43)","Irritante  (Xi, R36, R37, R38, R41, R43)","Irritant  (Xi, R36, R37, R38, R41, R43)","Irritantes (Xi, r36, r37, r38, r41, r43)","Irritante ( Xi, R36, R37, R38, R41, R43)","Irritament (Xi, R36, R37, R38, R41, R43)","Ärsyttävä (Xi, R36, R37, R38, R41, R43)","Substancja drażniąca (Xi, R36, R37, r38, R41, R43)","Irriterend (Xi, R36, R37, R38, R41, R43)","Dražljive  (Xi, R36, R37, R38, R41, R43)","Dráždivé (Xi, R36, R37, R38, R41, R43)","Irritatív (Xi, R36, R37, R38, R41, R43)","Irriterande (Xi, R36, R37, R38, R41, R43)","Раздражающие (Xi, R36, R37, R38, R41, R43)"]
["Dangerous for the environment (N, R50 to R59)","Dangerous for the environment (N, R50 to R59)","Umweltgefährdend (N, R50 bis R59)","Perigoso para o meio ambiente (N, R50 até R59)","Dangereux pour l'environnement (N, R50 to R59)","Peligrosos para el medio ambiente (N, R50 a R59)","Pericolosi per l'ambiente (N, da R50 a R 59)","Miljøfarlig (N, R50 til R59)","Ympäristölle vaarallinen (N, R50 - R59)","Substancja niebezpieczna dla środowiska (N, R50, R59)","Milieugevaarlijk (N, R50 to R59)","Škodljive za okolje (N, R50 do R59)","Nebezpečné pro životní prostředí (N, R50 až R59)","Ártalmas a környezetre (N, R50 bis R59)","Miljöfarligt (N, R50 till R59)","Опасные для окружающей среды (N, R50 на R59)"]
["Category carcinogenic, mutagenic and reprotoxical  (T with R45, R46, R49, R60, R61 or Xn with R40, R62, R63, R68)","Category carcinogenic, mutagenic and reprotoxical  (T with R45, R46, R49, R60, R61 or Xn with R40, R62, R63, R68)","Kategorie krebserregend, erbgutverändernd und fortpflanzungsgefährdend (T mit R45, R46, R49, R60, R61 oder Xn mit R40, R62, R63, R68)","Cancerigenos, mutagénicos e reprotoxical  (T com R45, R46, R49, R60, R61 ou Xn com R40, R62, R63, R68)","Catégorie carcinogène, mutagène and reprotoxique  (T avec R45, R46, R49, R60, R61 ou Xn avec R40, R62, R63, R68)","Carcinogénicos, Mutagénicos y Tóxicos para la reproducción (T con R45, R46, R49, R60, R61, o Xn con R40, R62, R63, R68)","Categoria carcinomi, mutageni e reproxtical (T con R45, R46, R49, R60, R61, o Xn con R40, R62, R63, R68)","Kategori for kræftfremkaldende, mutationsfremmende og reproduktionsgiftige (T med R45, R46, R49, R60, R61 eller Xn med R40, R62, R63, R68)","Karsinogeeninen, mutageeninen ja lisääntymiselle vaarallinen (T ja R45, R46, R49, R60, R61 tai Xn ja R40, R62, R63, R68)"," Kategoria mutugeniczna, rakotwórcza (T with R45, R46, R49, R60, R61 or Xn with R40, R62, R63, R68) ","Categorie kankerverwekkend, mutagenen en toxisch voor de voortplanting (T met R45, R46, R49, R60, R61 of Xn met R40, R62, R63, R68)","Karcinogeno, mutageno in retrotoksično  (T z R45, R46, R49, R60, R61 ali Xn z R40, R62, R63, R68)","Kategorie karcinogenní, mutagenní a reprotoxické (T s R45, R46, R49, R60, R,61 nebo Xn s R40, R62, R63, R68)","Karcinogén, mutagén, reprotoxikus (T mit R45, R46, R49, R60, R61 oder Xn mit R40, R62, R63, R68)","Kategori cancerogena, mutagena och reproduktionstoxiska (T med R45, R46, R49, R60, R61 eller Xn med R40, R62, R63, R68)","Категория канцерогенные, мутагенные и репротоксичные вещества (T с R45, R46, R49, R60, R61 или Xn с R40, R62, R63, R68)"]
["Fire Protection Management  (Fire Plan)","Fire Protection Management  (Fire Plan)","Brandchutz-Management (Brandschutzplan)","Plano de protecção contra incêndios (emergência)","Gestion de la Protection Incendie (Plan d'urgence en matière d'incendie)","Protección contra incendios (Plan contra incendios)","Gestione protezione antincendio ( Piano antincendio)","Brandbekæmpelse (Beredskabsplan)","Palosuojelu (Suojelusuunnitelma)","Instrukcja bezpieczeństwa pożarowego.","Brandbestrijding management (Brand Plan)","Požarni načrt","Management požární ochrany (Požární plán)","Tűzvédelmi rendszer (Tűzriadóterv)","Brandskyddsorganisation (Brandskyddsplan)","Управление пожарной охраны (Пожарный план)"]
["The site in general","The site in general","Der Standort im Allgemeinen","O local em geral","Le site en général","La instalación en general:","Il sito in generale","Lokationen generelt","Toimipaikka yleisesti","Lokalizacja - ogólnie.","De locatie in het algemeen","Lokacija splošno","Pracoviště obecně","A telephely általában","Anläggningen generellt","Территория (место) в целом"]
["Is the warehouse site accessible with fire trucks from at least two sides ?","Is the warehouse site accessible with fire trucks from at least two sides ?","Ist der Standort des Lagerhauses für Löschfahrzuege von wenigstens zwei Seiten zugänglich? ","O armazém (edifício) é acessível a camiões de bombeiros, pelo menos, dois lados ?","Est-ce que le site d'entreposage est accessible par les camions de pompiers de deux côtés ? ","¿Puden acceder desde dos lados diferentes los vehículos pesados de lucha contra incendios?","Il sito è accessibile ai mezzi antincendio almeno da due parti ?","Er lagerområdet tilgængelig for brandbiler fra mindst 2 sider ?","Pääsevätkö paloautot varastorakennuksen luo vähintäin kahdelta sivulta? ","Czy brygady straży pożarnej w wozach bojowych mają dostęp do magazynu z dwu stron?","Is de magazijnlocatie langs tenminste twee kanten toegankelijk voor brandweerwagens?","Ali je možen dostop v skladišče z gasilskimi vozili najmanj z dveh strani?","Je pracoviště skladu dostupné pro požární vozidla alespoň ze dvou stran?","A raktárak területe a tűzoltó autók számára legalább 2 irányból megközelíthető?","Är lageranläggningen tillgänglig för brandbilar från minst två sidor ?","Территория склада доступна ли для пожарных машин по крайней мере от двух сторон?"]
["Has a lightning strike survey been performed for the site ?","Has a lightning strike survey been performed for the site ?","Ist eine Blitzschutzanlage für den Standort vorhanden?","Foi realizada a avaliação da ocorrência de raios / relâmpagos no local?","A-t-on réalisé une étude sur les risques de foudre pour le site ?","¿Posee pararrayos?","Il sistema parafulmine per il sito è soggetto a verifica ?","Er der gennemført en lynnedslagsundersøgelse for lokationen ?","Onko toimipaikalla tutkittu salaman johtuminen maahan?","Czy były badania na temat ryzyka pioruna na stronie?","Is er een onderzoek betreffende blikseminslag op de locatie uitgevoerd?","Ali je bil izveden pregled strelovodne instalacije?","Byl proveden na pracovišti  průzkum výskytu blesků?","Villámvédelmi rendszer üzemel a telephelyen?","Har en utredning rörande blixtnedslag genomförts för anläggningen ?","Было ли проведено на месте обследование система молниезащиты?"]
["Tick which type(s) of fire department are responsible for the site :","Tick which type(s) of fire department are responsible for the site :","Bitte abhaken welche Art von Feuerwehr für den Standort zuständig ist:","Assinale qual o tipo(s) do corpo de bombeiros são responsáveis ​​pela interb«venção no local (edifício(s)) :","Cocher le type de service d'incendie qui est responsable pour le site :","Indicar cual de estos tipos de equipos contra incendios es reponsable de la instalación:","Identificare che tipologia di vigili del fuoco è responsabile per l'intervento sul sito:","Afkryds hvilken type brandafdeling, der er ansvarlige for lokationen :","Merkitse minkälainen pelastuslaitos vastaa toimipaikasta:","Zaznacz rodzaj straży pożarnej odpowiedzilnej za lokalziację:","Duid aan welk(e) type(s) brandinterventieploegen verantwoordelijk (is) zijn voor de locatie:","Označi katera gasilska enota je odgovorna za lokacijo?","Označte, které typy požárních oddělení jsou odpovědné pro pracoviště:","Jelölje, melyik szervezet felelős a tűzoltásért:","Bocka för vilken typ(typer) av brandkår som är ansvarig för anläggningen :","Отметьте тип (ы) пожарной команды, которая (ые) ответственная (ые) на территории:"]
["  - Municipal ?","  - Municipal ?","Städtische?"," - Municipal (ou Sapadores) ?","municipal ?","Municipal?","Municipale","Kommunal ?","- Kunnallinen ?"," Miejska?","- Gemeentelijke ?","Mestna?","Komunální ?","Városi"," - Kommunal ?","Муниципальная / городская ?"]
["  - Volunteer ?","  - Volunteer ?","Freiwillige?"," - Voluntário ?","volontaire ?","Voluntarios?","Volontari","Frivillig ?","- Vapaaehtoinen ?","Ochotnicza?","- Vrijwillige ?","Prostovoljna?","Dobrovolní ?","Önkéntes"," - Frivillig ?","Добровольческая ?"]
["  - On-site fire brigade ?","  - On-site fire brigade ?","Feuerwehr vor Ort?"," - Brigada de Incêndio existente no local ?","brigade de pompiers sur site ?","Brigada de bomberos propia?","Vigili del fuoco interni al sito","Onsite brandvæsen ?","- Toimipaikan oma ?","Firmowa?","- Bedrijfsbrandweer op de locatie ?","Lastna gasilska skupina na lokaciji?","Místní požární sbor ?","Telephelyi tűzoltóság"," - Anläggningens egen brandkår ?","Местная (на територии компании) ?"]
["Fire water supply :","Fire water supply :","Löschwasserversorgung","Fornecimento da rede de incêndio :","Approvisionnement en eau d'incendie :","Abastecimiento de agua contra incendios","Approvvigionamento di acqua:","Vandforsyning ved brand","Sammustusveden saatavuus:","Zasilanie w wodę PPOŻ:","Bevoorrading van bluswater :","Požarna voda:","Dodávka požární vody :","Tűzivíz ellátás:","Släckvattenkälla :","Противопожарное водоснабжение:"]
["Is the required fire water supply defined and guaranteed to at least 2.400 l/min ?","Is the required fire water supply defined and guaranteed to at least 2.400 l/min ?","Ist die erforderliche Löschwasserversorgung definiert und garantiert auf 2.400l/min.?","A rede de incêndio assegura pelo menos 2400 l / min de água","Est-ce que l'approvisonnement requis en eau d'incendie est défini et garanti à au moins 2400l/min ?","¿Está el abastecimiento de agua contra incendios proyectado y garantizado al menos a 2400L/minuto?","La fornitura di acqua è definita e garantita per almeno 2400 lt/min ? ","Er den påkrævede vandforsyning defineret og yder min. 2.400 l/min ?","Onko tarvittava sammutusveden saatavuus määritelty ja varmistettu saatavuuden olevan aianakin 2400 l/min ?","Czy żródło wody PPOŻ jest określone i czy zapewnia minimum 2400 l/minutę?","Is de vereiste bluswatervoorraad bepaald en gegarandeerd voor tenminste 2400 l/min ?","Ali je zahtevana in garantirana kapaciteta požarne vode najmanj 2400 l/min?","Je definovaná požadovaná dodávka vody a je její množství zaručeno v množství nejméně 2.400 l/min?","A szükséges tűzivíz mennyiséget meghatározták és biztosított legalább 2400 l/perc kapacitás?","Är nödvändig släckvattenkälla definierad och garanterar den minst 2400 lit/min ?","Является ли необходимое противопожарное водоснабжение определенное и гарантированное с 2,400 л / мин по крайней мере ?"]
["Is the required fire water supply (fire-hydrants, river, artificial static water supply, tanks, cisterns) on-site and off-site at a close range to the buildings on site (<150 m) and immediately available at any time and on-hand for at least two hours ?","Is the required fire water supply (fire-hydrants, river, artificial static water supply, tanks, cisterns) on-site and off-site at a close range to the buildings on site (<150 m) and immediately available at any time and on-hand for at least two hours ?","Ist die erforderliche Löschwasserversorgung (Hydranten, Fluss, Löschteich, Tanks, Zisternen) vor Ort oder außerhalb in nächster Nähe zu den Gebäuden des Standorts (< 150m) und sofort zu jeder Zeit und mindestens für zwei Stunden verfügbar?","A rede de incêndio assegura o fornecimento de água necessária (através de hidrantes, rio, abastecimento de água sistemas artificiais estáticos, tanques, cisternas) no local e no exterior numa faixa de edifícios na área envolvente (<150 m) e imediatamente disponível a qualquer momento e fácil acesso, pelo menos, durante duas horas ?","L'approvisionnement en eau d'incendie prescrites (bouches d'incendie, rivière, alimentation artificielle en eau statique, réservoirs, citernes) sur site et hors site dans une gamme à proximité des bâtiments sur le site (<150 m) et immédiatement disponibles à tout moment et sur la main pendant au moins deux heures?","Está el suministro de agua contra incendios requeridos (hidrantes, río, fuente de agua artificiales estáticos, tanques, cisternas) en la instalación y fuera de la instalación en un rango cercano a los edificios en el sitio (<150 m) e inmediatamente disponibles en cualquier momento y a mano durante al menos dos horas?","La fornitura di acqua (idranti antincendio, fiume, sistema di fornitura artificiale, serbatoi, cistene) all'interno o all'esterno (nelle immediate vicinanze < 150 mt) è immediatamente accessibile al bisogno e sufficiente per almeno due ore ?","Er den påkrævede vandforsyning (brandhane, flod, kunstig stillestående vandanlæg, tanke, cisterner) onsite og offsite tæt ved bygningerne onsite (<150 m) og til enhver tid omgående tilgængelig og i min. to timer ?","Ovatko vaadittavat sammutusveden saantipaikat ( palo-vesipostit, joki, sammutusveden tekoallas, säiliöt, vesisäiliöt) toimipaikalla ja sen ulkopuolella lähellä toimipaikan rakennuksia (<150 m) ja välittömästi käytettävissä joka hetki ja vähintäin kahden tunnin ajan?","Czy wymgane źródło wody PPOŻ  (hydranty, rzeka, sztuczny zbiornik, cysterna)  jest zlokalziowane na terenie firmy i poza nią w niewielkiej odległości od budynków (mniej niż 150 m). Czy źródlo to jest dostępne natychmiast i czy wystarcza na mninimum 2 godziny akcji?","Is de vereiste watervoorraad (hydranten, rivierwater, kunstmatige waterbekkens (regenputten …), tanks, citernes ) op de locatie en dichtbij de locatie (afstand < 150m) ten allen tijde beschikbaar gedurende tenminste twee uur ?","Ali je zahtevana požarna voda (hidranti, reka, statična zaloga, tanki, cisterne) na ali iz lokacije v bližini stavb na lokaciji (<150m) in takoj razpoložljiva kadarkoli v trajanju najmanj dve uri?","Je požadovaná dodávka požární vody (požární hydranty, řeka, vodojem, zásobníky, cisterny) v místě a mimo něj v těsné blízkosti budov pracoviště (< 150 m) a okamžitě k dispozici v kterýkoliv čas po dobu nejméně dvou hodin? ","A szükséges mennyiségű tüzivíz ellátás (tűzcsap, folyó, mesterséges tűzivíztározó, tartály vagy csatorna) rendelkezésre áll a telepen és azon kívül, az épületekhez közel (kevesebb, mint 150 m), azonnal elérhető, és legalább 2 órát rendelkezésre áll?","Är den nödvändiga vattenförsörjningen (vattenpost, flod, konstgjord vattendamm, tankar, cisterner ) inom och utom anläggningen belägen intill bygganderna på anläggningen (<150 m) och alltid omgående tillgängliga och tillhands under minst två timmar ?","Является ли необходимое противопожарное водоснабжение (пожарные гидранты, река, искусственное статическое водоснабжение, баки, цистерны) внутри и вне (недалеко от) территории компании (< 150 м) сразу же доступное в любое время и на руку, по крайней мере два часа?"]
["Detail Fire Protection Management for the warehouse buildings","Detail Fire Protection Management for the warehouse buildings","Einzelheiten des Brandschutz-Managements für die Lagerhaus Gebäude","Descrição da Gestão Contra Incêndios para os edifícios do armazém","Détailler la gestion de la protection incendie pour les bâtiments d'entreposage","Gestión contra incendios detallada para los edificios de almacenamiento","Dettagli del sistema di gestione antincendio per i depositi","Detaljer om plan for brandbeskyttelse af lagerbygninger","Varastorakennusten yksityiskohtainen palosuojelu","Szczegółowa instrukacja bezpieczeństwa pożarowego dla budynku magazynu","Detailleer het Brandbestrijding Management Systeem voor de magazijngebouwen.","Detaljni požarni načrt za zgradbe skladišča","Detailní Management požární ochrany pro budovy skladů","A raktárépületek részletes tűzvédelmi rendszere","Detaljerad Bransskyddsplan för lagerbyggnaderna","Подробности менеджмента пожарной защиты на здание склада"]
["Please complete the Fire Compartment Details on the worksheet \"Products Permitted to store\"","Please complete the Fire Compartment Details on the worksheet \"Products Permitted to store\"","Bitte vervollständigen Sie die Details über die Brandabschnitte auf dem Arbeitsblatt \"\"Info Brandabschnitte\"","Por favor, preencha os detalhes da Informação Contra Incêndios de cada área de armazenagem na(s) folha(s) Excel  \"FCI - Informação Contra Incêndios\"","Veuiller complétér les détails relatifs aux compartiments résistants au feu sur la feuille \"info compartiment résistant au feu\"","Por favor completar los detalles de lucha contra incendios en el apartado \"Información sobre Compartimentación contra incendios\"","Si prega di completare i dettagli dei compartimenti antincendio nel foglio \" informazioni compartimenti antincendio \"","Udfyld venligst detaljer omkring brandsektion i skemaet under \"info for brandsektion\" ","Ole hyvä ja täytä palo-osastojen yksityiskohdat välilehdelle \"Tieto palo-osastoista\"","Proszę wypełnić pole szczegóły dotyczące komory pożarowej w polu ''Informacja o komorze pożarowej''","A.u.b. vervolledig de brandcompartimenten details op het werkblad \"Brandcompartiment info\"","Izpolnite detajle o požarnih odsekih/conah na listu \"Informacije o požarnih odsekih\" (\"Fire Compartment Info\")","Prosím vyplňte detaily požárních oddělení v tabulce \"Informace o požárním oddělení\" ","Töltse ki a tűzszakaszokról szóló részt a \"tűzszakasz információk\" oldalon","Komplettera brandcellsdetaljer i kalkylbladet \"Brandskydds information\"","Пожалуйста, заполните подробности на листе \"Инфо о противопожарном отсеке\""]
["Warehouse access","Warehouse access","Zugang Lagerhaus","Acesso ao armazém","Accès aux entrepôts","Acceso al almacén","Accessi al Deposito","Adgang til lager","Pääsy varastoihin","Dostęp do magazynu","Magazijntoegang","Dostop do skladišča","Přístup do skladu","Raktár elérése","Tillträde till lagerlokal","Доступ до склада"]
["Are warehouses, open storage areas, tanks and silos on site accessible by fire trucks from at least two sides (1 long side, 1 front side)","Are warehouses, open storage areas, tanks and silos on site accessible by fire trucks from at least two sides (1 long side, 1 front side)","Sind Lagerhäuser, Freilagerflächen, Tanks und Silos am Standort von mindestens zwei Seiten ( 1 Längsseite, 1 Frontseite) für Löschfahrzeuge zugänglich?","Os armazéns, áreas de armazenamento aberto, tanques e silos existentes no local, estão acessíveis por camiões de bombeiros, pelo menos, de dois lados (pela frente, por um outro lado mais distante/longo)\n","Les entrepôts, les aires de stockage ouvertes, les réservoirs et les silos sur le site sont-ils accessibles par les camions d'incendie au moins par deux côtés (1 côté long, 1 face avant)","¿Están los almacenes, áreas de almacenamiento abiertas, tanques y silos de la instalación accesibles para vehículos contra incendios al menos desde 2 lados diferentes (lateral y frontal)?","Il Deposito, le aree di deposito all'aperto, i serbatoi ed i silos nel sito sono accessibili ai mezzi antincendio almeno da due lati (uno laterale ed uno frontale)","Er lager, åbne lagerområder, tanke og siloer onsite tilgængelige for brandbiler fra min. 2 sider (1 på siden, 1 foran)","Onko paloautoille pääsy vähintäin kahdelta sivulta toimipaikan varastorakennuksille, avoimille varastoalueille, säiliöiden ja siilojen luokse (yhdeltä pitkältä sivulta, yhdeltä etusivulta) ","Czy magazyny, miejsca składowania, zbiorniki i silosy są dostępne dla wozów bojowych straży pozarnej z minimum 2 stron (1 długi bok, 1 front)","Zijn magazijnen, buitenopslagplaatsen, tanks en silo's op de locatie toegankelijk voor brandweerwagens langs tenminste twee zijden (1 in langs- en 1 in dwarsrichting)","Ali so skladišča, zunanje skladiščne površine, rezervoarji in silosi dostopni z gasilskimi vozili najmanj z dveh strani (vzdolžno in prečno)","Jsou sklady, prostory otevřených skladů, zásobníky a sila na pracovišti přístupné pro požární vozidla nejméně ze dvou stran (1 dlouhá strana, 1 přední strana)","A raktárak, nyitott tárolóhelyek, tartályok és silók elérhetőek a tűzoltókocsik számára legalább 2 oldalról (1 hosszanti és 1 előoldal)","Är lagerbyggnader, öppen lageryta, tankar och silos på platsen, tillgängliga för brandfordon från minst två sidor (1 långsida, 1 kortsida)","Есть ли у складов открытые площадки хранения, танки и бункеры доступны для пожарных машин, по крайней мере двух сторон (1 длинной стороне, 1 лицевая сторона)?"]
["Retention measurements","Retention measurements","Rückhaltemaßnahmen","Medidas de retenção","Mesures de rétention","Medidas de retención","Misure di ritenzione","Tilbageholdelse af slukningsvand","Suojelutoimenpiteet","Pomiary wytrzymałości","Retentiemaatregelen","Zadrževalni ukrepi","Retenční opatření","Visszatartási idő","Kvarstående mätningar ","Меры для задержания отходов (от рассыпания, утечки и т.д.)"]
["Are measures taken inside and outside the warehouse to adequately contain contaminated fire water in compliance with local regulations  (eg. waterproof surface, volume of retention of 300 L per M2 of warehouse- and overflow in municipal water treatment plant) ?","Are measures taken inside and outside the warehouse to adequately contain contaminated fire water in compliance with local regulations  (eg. waterproof surface, volume of retention of 300 L per M2 of warehouse- and overflow in municipal water treatment plant) ?","Sind Maßnahmen innerhalb und außerhalb des Lagerhauses getroffen worden um kontaminertes Löschwasser gemäss den örtlichen Vorschriften angemessen auffangen zu können (z.B. abgedichteter Untergrund, Volumen der Rückhaltung 300 l per M2 des Lagerhauses und Überlauf in städtische Wasseraufbereitungsanlage)? ","São tomadas medidas, dentro e fora do armazém, para conter adequadamente água da extinção de incêndio contaminada, de acordo com os regulamentos locais (por exemplo, superfície impermeável, o volume de retenção de 300 litros por m2 em depósito e no colector municipal de tratamento de água) ?","Des mesures sont-elles prises à l'intérieur et à l'extérieur de l'entrepôt pour contenir de façon adéquate, l'eau contaminée d'incendie en conformité avec les réglementations locales (par exemple, la surface imperméable à l'eau, le volume de rétention de 300 L par M2 d'entrepôts et de débordement dans l'usine de traitement d'eau municipale)?","Han sido adoptadas medidas dentro y fuera del almacén, para contener el agua de extinción contaminada bajo cumplimiento de las normativas locales (por ejemplo, superficie resistente al agua, volumen de retención de 300 litros por m2 de almacén, y desbordamiento de las plantas municipales de tratamiento de agua)?","Sono messe in atto all'interno ed all'esterno del sito adeguate misure  di contenimento per l'acqua antincendio in conformità ai regolamenti locali (esempio impermeabilizzazione delle superfici, contenimento volume di acqua 300 Lt. X Mq superfice deposito e / o overflow nel sistema municipale di trattamento delle acque) ?   ","Er der taget forbehold indeni og uden for lageret for passende opsamling af forurenet vand i overensstemmelse med de lokale krav (f.eks. Vandtæt overflade, mængde af tilbageholdelse på 300 L pr. m2 af lageret og overløb til kommunal rensningsanlæg) ?","Onko tehty toimenpiteitä varastorakennuksen sisä- ja ulkopuolella, joilla riittävästi otetana talteen saastunut sammutusvesi paikallisten määräysten mukaisesti (ts. vedenpitävä lattiapinta, sammutusveden keräysaltaat 300 litraa per varastorakennuksen neliö ja ylimenevä osa kunnalliseen jätevesikäsittelyyn) ?","Czy podjęto działania wewnątrz i na zewnatrz magazynu aby odpowiedznio zabepieczyć skażoną wodę pożarową, zgodnie z lokalnymi przepisami (np. wodoszczelna powierzchnia o wytrzymłości 300L na m2 i zabezpiecznie przepływu do miejsckiej oczyszczalni)","Worden maatregelen, zowel binnen als buiten het magazijn, genomen om op geschikte wijze gecontamineerd bluswater op te vangen in overeenstemming met locale regelgeving (bvb. waterdichte vloeren, retentievolume 300 l /m² magazijnoppervlakte) en met overloop naar de gemeentelijke waterzuivering ?","Ali so izvedeni ukrepi za zadrževanje onesnažene požarne vode v skladu z zakonskimi zahtevami ( to je vodonepropustne površine, volumen zadrževanja 300l na m2 skladišča in preliv v mestno kanalizacijo s čistilno napravo)?","Jsou uvnitř a mimo sklady přijata odpovídající  opatření k zadržení kontaminované požární vody v souladu s místní legislativou (např. neprosákavý povrch, objem retence 300 l pro m2 skladu - a přepad do komunální čističky odpadních vod?","Végeztek méréseket a raktár területén kívül és belül arra vonatkozóan, hogy a szennyezet tűzivizet a helyi szabályozásnak megfelelően vissza tudja-e tartani a terület (pl. Vízzáró aljzat, térfogati visszatartás  300l/m2 rakterület, ill. a városi szennyvíztelep elárasztása esetére?)","Är åtgärder vidtagna i och utanför lagerlokaler att på ett tillfredställande sätt kvarhålla kontaminerat släckvatten i enlighet med lokala bestämmelser (tex vattentätt underlag, lagringsvolym 300 lit per M2 lager samt bräddavlopp till kommunalt avloppssreningsverk) ? ","Являются ли меры, принятые внутри и вне склада для адекватного задержания загрязненной от пожаротушения воды, в соответствии с местными правилами (например: водонепроницаемая поверхность; емкость для задержания остатки с объемам 300 л на м2 от складских; перелив к муниципальную станцию для очистки воды)?"]
["Are measures taken in the storage areas to adequately contain spilled product in compliance with local regulations (eg. liquid proof surface, volume of retention at least 3% of the column of the packaged products stored) ?","Are measures taken in the storage areas to adequately contain spilled product in compliance with local regulations (eg. liquid proof surface, volume of retention at least 3% of the column of the packaged products stored) ?","Sind Maßnahmen in den Lagerbereichen getroffen worden um ausgelaufene Produkte gemäss den örtlichen Vorschriften angemessen aufzufangen (z.B. abgedichteter Untergrund, Rückhaltevolumen mindestens 3% des Rauminhalts der gelagerten Verpackungen?","São tomadas medidas nas áreas de armazenamento para conter adequadamente o produto derramado em conformidade com os regulamentos locais (por exemplo, superfície impermeável, volume de retenção de pelo menos 3% da coluna dos produtos embalados armazenados) ?","Des mesures sont-elles prises dans les zones de stockage afin de contenir, de façon adéquate, du produit déversé, dans le respect des réglementations locales (par exemple la surface étanche aux liquides, le volume de rétention d'au moins 3% de la colonne des produits emballés stockées)?","¿Se toman medidas en las áreas de almacenamiento, para contener el producto derramado bajo cumplimiento de las normativas locales (por ejemplo, superficie estanca, volumen de retención de al menos 3% del volumen de los productos envasados ​​almacenados)?","Sono in atto nelle aree di immagazzinamento adeguate misure di contenimento per le perdite di prodotto in conformità ai regolamenti locali (esempio volume di contenimento di almeno il 3% della colonna dei prodotti imballati immagazzinati) ? ","Er der taget forbehold på lagerområdet for passende opsamling af tabte produkter i overensstemmelse med de lokale krav (f.eks. Væskeforseglet overflade, mængde af tilbageholdelse på min. 3% af kolonnen for opbevarede emballerede produkter) ?","Onko tehty toimenpiteitä varastoalueiden osalta, jotta voidaaan riittävästi kerätä vuotanut tuote paikallisten määräysten mukaisesti (ts. vedenpitävä alueen pinta, keräysmahdollisuus vähintäin suurimman kuljetetun tai kuormattavan / purettavan yksikön tilavuudelle) ?"," Czy podjęto dziłania, zgodnie z loklnymi przepisami w zakresie zatrzymania zanieczyszczonych materiałów (np. retencja nieprzepuszczlnej powierzchni na pozoiomie 3% słupa skłądownych materiałów)?","Worden in de opslagruimten maatregelen genomen om op geschikte wijze gemorst product op te vangen in overeenstemming met lokale regelgeving (bvb. vloeistofdichte vloeren, retentievolume tenminste 3 % van de kolomhoogte van de opgeslagen verpakte goederen) ?","Ali so izvedeni ukrepi za zadrževanje razlitih tekočin v skladu z zakonskimi zahtevami\n( nepropustne površine, volumen zadrževanja najmanj 3% stolpca pakiranih proizvodov)?","Jsou v areálu skladování přijata odpovídající opatření k zadržení rozlitého produktu v souladu s místní legislativou (např. neprosákavý povrch, objem retence 3 % výšky pro skladované balené produkty?","Végeztek méréseket arról, hogy a rakterület a kiömlött anyagokat a helyi szabályozás szerint meg tudja tartani (pl. Vízzáró aljzat, a tárolt mennyiség 3%-ának megfelelő térfogati visszatartó (kármentő)","Är åtgärder vidtagna på lagerytor att på ett tillfredställande sätt kvarhålla utspilld produkt i enlighet med lokala bestämmelser (tex vattentätt underlag, lagringsvolym minst 3% av volymen av det lagrade förpackade godset) ? ","Есть ли меры в складах в соответствии с местными правилами для адекватного задержания продуктов после утечки (например: водонепроницаемая поверхность; емкость для задерживания остатки не менее 3% от объема хранимых пакетов)?"]
["Are measures taken on aisles and loading/unloading areas to adequately contain spilled product (eg. liquid proof surface, volume of retention at least equal to the biggest package to be transported or loaded/unloaded) ?","Are measures taken on aisles and loading/unloading areas to adequately contain spilled product (eg. liquid proof surface, volume of retention at least equal to the biggest package to be transported or loaded/unloaded) ?","Sind Maßnahmen getroffen worden um auf Transportwegen und Be-und Entladebereichen ausgelaufene Produkte angemessen auffangen zu können (z.B. abgedichteter Untergrund, Rückhaltevolumen mindestens gleich der größten zu transportierenden oder geladenen oder entladenen Verpackung)?","São tomadas medidas sobre as formas de transporte e das áreas de carga / descarga para confinar adequadamente o produto derramado (por exemplo, superfície impermeável, volume de retenção, pelo menos, igual ao maior pacote a ser transportado ou carregado / descarregado) ?","Des mesures sont-elles prises sur les moyens de transport et dans les aires de chargement / déchargement, afin de contenir de façon adéquate, du produit déversé (par exemple surface étanche aux liquides, le volume de rétention au moins égal au plus grand colis à transporter ou à charger / décharger)?","Se han adoptado medidas sobre los medios de transporte y zonas de carga y descarga, para contener el producto derramado (por ejemplo, superficie estanca, el volumen de retención de por lo menos igual a la mayor carga/descarga posible?","Sono in atto nelle aree di movimentazione mezzi, nelle aree di carico / scarico dei prodotti, adeguate misure di contenimento per le perdite di prodotto in conformità ai regolamenti locali (esempio volume di contenimento almeno uguale al più grande imballo trasportato  o  caricato/scaricato)  ? ","Er der taget forbehold for transportveje og læsse/aflæsseområder for passende opsamling af tabte produkter (f.eks. Væskeforseglet overflade, mængde af tilbageholdelse på min. det der svarer til den største pakke der skal transporteres eller læsses/aflæsses) ?","Onko tehty toimenpiteitä autojen kuljetusväylillä ja kuormaus/purkaus alueilla, jotta voidaan riittävästi kerätä vuotanut tuote (ts. vedenpitävä alueen pinta, keräysmahdollisuus vähintäin suurimman kuljetetun tai kuormattavan / purettavan yksikön tilavuudelle) ?"," Czy podjeto działania w celu zabezpiecznie dróg tranportowych w obszarach załadunku / rozładunku tak aby zatrzymać zanieczyszony produkt (np. nieprzepuszczalna powierzchnia o retencji równej najwyższej ilości przewożonej lub obsłufiwanej)","Worden maatregelen genomen om op de rijstroken en laad/los plaatsen om op gepaste wijze gemorst product op te vangen (bvb. vloeistofdichte oppervlakken, retentievolume tenminste gelijk aan de grootste verpakkingsvorm die wordt vervoerd of geladen/gelost) ?","Ali je zagotovljeno zadrževanje razlitih tekočin na transportnih poteh in površinah za prekladanje ( nepropustne površine, zadrževalni volumen najmanj enak največji embalažni enoti, ki se transportira ali preklada)?","Jsou na dopravních cestách a v prostoru nakládky a vykládky přijata odpovídající opatření k zadržení rozlitého produktu (např. neprosákavý povrch, objem retence rovnající se nejméně největšímu obalu, který má být transportován, nakládán/vykládán?","Végeztek méréseket arról, hogy a szállítási utakon és a betöltő/leeresztési pontokon a kiömlött anyagot meg lehet tartani? (pl. Vízzáró aljzat, kármentő, legalább a legnagyobb szállított csomagolási egységnek megfelelő méretben)","Är åtgärder vidtagna på transportvägar och lastnings/lossningsytor att på ett tillfredställande sätt kvarhålla utspilld produkt (tex vattentätt underlag, lagringsvolym minst av den största förpackningen som transporteras eller lastas/lossas) ? ","Есть ли соответствующие меры на транспортных маршрутах и в районах погрузки и выгрузки для сбора утечки веществ (например, водонепроницаемые поверхности; емкости, для сбора продуктов после утечки, с объемом по крайней мере, равным по объему крупнейшей упаковки, предусмотренные для транспортировки , загрузке и выгрузке)?",{"$f":"IF(LEN(TEXT(OFFSET(A510,0,langsel),\"\"))>0,TEXT(OFFSET(A510,0,langsel),\"\"),TEXT(B510,\"\"))","v":"Are measures taken on aisles and loading/unloading areas to adequately contain spilled product (eg. liquid proof surface, volume of retention at least equal to the biggest package to be transported or loaded/unloaded) ?"}]
["Constructional fire protection","Constructional fire protection","Baulicher Brandschutz","Construção de acordo com os requistos legais de Segurança contra Incêndios em Edifícios","Mesures de protection contre les incendies de construction","Protección contra incendios constructiva","Protezione antincendio strutturale","Bygningsmæssig brandbeskyttelse","Rakenteellinen palosuojelu","Konstrukcyjne zabezpieczenia PPOŻ.","Constructieve bescherming tegen brand","Konstrukcijska protipožarna zaščita","Stavební požární ochrana","Konstrukciós tűzvédelem","Byggnadstekniskt brandskydd","Конструктивная противопожарная защита"]
["Is the warehouse separated by a safe distance from adjacent buildings in compliance with local regulations (eg. not less then 10 m or not less then 5 m in combination with an external fire wall) ?","Is the warehouse separated by a safe distance from adjacent buildings in compliance with local regulations (eg. not less then 10 m or not less then 5 m in combination with an external fire wall) ?","Ist das Lagerhaus in sicherer Entfernung zu angrenzenden Gebäuden gemäss den örtlichen Vorschriften (z.B. nicht weniger als 10 m oder nicht weniger als 5 m in Kombination mit einer außenliegenden Brandschutzwand?","Os depósitos / tanques estão separados por uma distância segura dos edifícios adjacentes, em conformidade com os regulamentos locais (por exemplo, não inferior a 10 metros, ou não inferior a 5 m, em combinação com uma parede de fogo externo) ?","Est-ce que l'entrepôt est séparé par une distance de sécurité des bâtiments adjacents en conformité avec les réglementations locales (par exemple pas moins de 10 m ou pas moins de 5 m en combinaison avec un pare-feu externe)?","¿Está el almacén separado por una distancia de seguridad de aedificaciones adyacentes en cumplimiento de las legislaciones locales (ej: no menos de 10 metros o no menos de 5 m en combinación con una pared externa resistente al fuego?","Il magazzino (deposito) è separato da una distanza di sicurezza da strutture adiacenti in accordo ai regolamenti locali (esempio non meno di 10 mt. O non meno di 5 mt in combinazione con una parete antincendio esterna) ? ","Har lageret en sikker distance fra nærliggende bygninger i overensstemmelse med lokale krav (f.eks. Ikke mindre end 10 m eller ikke mindre end 5 meter i kombinaton med en ekstern brandvæg) ?","Onko varastorakennus erotettu riittävällä turvallisuusvälillä muista rakennuksista paikallisten määräysten mukaisesti (ts. etäisyys vähintäin 10 m tai, jos on ulkoinen paloseinä, 5 m) ?","Czy magazyn jest oddzielny bezpieczym dystansem od sąsiadujacych budynków, zgodnie z lozalnymi przepisami (np. nie mniej niż 10 m albo nie mniej niż 5 metrów w kombinacji ze ścianą ogniową)","Ligt het magazijn op een veilige afstand van naburige gebouwen in overeenstemming met locale regelgeving (bvb. niet minder dan 10 m of niet minder dan 5 m in combinatie met een externe brandmuur) ?","Ali so odmiki skladišča od sosednjih objektov ustrezni in v skladu z zakonskimi zahtevami ( ne manj kot 10m in ne manj kot 5m v kombinaciji z zunanjim požarnim zidom )?","Je sklad oddělen bezpečnou vzdáleností od sousedních budov v souladu s místní legislativou (např. ne méně než 10 m nebo ne méně než 5 m v kombinaci s vnější protipožární stěnou)?","A raktár megfelelő biztonsági távolságra helyezkedik el a közeli épületektől, a helyi szabályoknak megfelelően? (pl. Legalább 10 méter, vagy legalább 5 méter és tűzgátló fal stb.)","Är lagerbyggnaderna separerade med säkert avstånd från angränsande byggnader i enlighet med lokala bestämmelser (t ex inte mindre än 10 m eller inte mindre än 5 m i kombination med yttre brandvägg) ?","Является ли склад на безопасном расстоянии до соседних зданий в соответствии с местным законодательством (например, не менее 10 м или не менее 5 м в сочетании с внешней огнестойкой стеной (Брандмауэр)?"]
["Are structural components like pillars, girders, floors and roof structure made of fire resistant materials (e.g. reinforced concrete) ?","Are structural components like pillars, girders, floors and roof structure made of fire resistant materials (e.g. reinforced concrete) ?","Sind bauliche Komponenten wie Säulen, Träger, Böden und Dachkonstruktionen aus feuerfesten Materialien hergestellt (z.B. Stahlbeton)?","Os componentes estruturais, como pilares, vigas, pisos e estrutura de telhado, foram construídos em materiais resistentes ao fogo (por exemplo, betão armado) ?","Est-ce que les composants structuraux comme des piliers, poutres, planchers et toiture en matériaux sont résistants au feu (p.ex. en béton armé)?","¿Los componentes estructurales (pilares, suelo, paredes, techos) son resistentes al fuego?","I componenti strutturali come i pilastri, le travi maestre, i pavimenti e le strutture del tetto sono resistenti al fuoco (esempio calcestruzzo rinforzato) ?","Er strukturmæssige komponenter såsom søjler, bærebjælker, gulve og loftstruktur udført i et brandhæmmende materiale (f.eks. armeret beton) ?","Ovat rakenteelliset komponentit, kuten pilarit, kannatinpalkit, lattiat ja katon rakenne tehty palonkestävästä materiaalista (t.s. teräsbetonista)","Czy elementy strukturalne takie jak słupy, opaski, podlogi, dach są wykonane z materialów odpornych na ogień?","Zijn structurele componenten zoals zuilen, raamkaders, vloeren en dakstructuren gemaakt uit brandvrije materialen (bvb. gewapend beton) ?","Ali so stebri, nosilci, plošče in strešna konstrukcija iz ognjeodpornih materialov ( kot je armirani beton)?","Jsou konstrukční prvky jako sloupy, trámy, podlahy a střechy udělány z ohně odolných materiálů (např. armovaného betonu)?","Az épület statikai elemei mint pl. Oszlopok, gerendák, födémek, tetőszerkezet tűzálló anyagokból épült (pl. Megerősített beton)","Är strukturella komponenter som perlare, balkar, golv och takkonstruktioner gjorda av brandresistent material (t ex armerad betong) ?","Структурные компоненты, такие как колонны, балки, перекрытия и крыши сделаны  ли из огнеупорных материалов (например, железобетон)?"]
["Are insulation and nonstructural components made of noncombustible materials ?","Are insulation and nonstructural components made of noncombustible materials ?","Sind Dämmung und nichttragende Komponenten aus nicht brennbaren Materialien hergestellt?","O isolamento e componentes não estruturais foram construídos em materiais não conburentes / ignífugos ?","L'isolation et les composants non structuraux sont faits en matériaux incombustibles ?","¿El aislamiento y los componentes no estructurales están fabricados con materiales no combustibles?","I componenti di isolamento e non strutturali sono fatti di materiale non combustibile ?","Er isolering og ikke strukturmæssige komponenter udført i ikke  brændbart materiale ?","Ovatko eristykset ja ei-kantavat rakenteet tehty palamattomasta materiaalista ","Czy izolacja jest wykonana z materiałów niepalnych?","Zijn isolatie en niet-structurele componenten vervaardigd uit onbrandbare stoffen ?","Ali je izolacija in ostali nenosilni deli  iz negorljivih materialov?","Je izolace a nekonstrukční prvky udělány z nehořlavých materiálů?","A szigetelés és a nem statikai részek nemgyúlékony anyagokból készültek?","Är isolering och icke strukturella komponenter gjorda av obrännbart material ? ","Изоляция и неструктурные компоненты  изготовлены ли из негорючих материалов?"]
["Are internal and external fire walls rated in accordance with local regulations (eg. wall made of noncombustible material like brick, concrete or reinforced concrete, wall thickness not less than 24 cm, wall minimum 50 cm above the roof or up to the roof and adjacent roof areas 5 m of noncombustible material,  doors and gates in the wall fire resistant and self-closing, no other openings in the walls) ?","Are internal and external fire walls rated in accordance with local regulations (eg. wall made of noncombustible material like brick, concrete or reinforced concrete, wall thickness not less than 24 cm, wall minimum 50 cm above the roof or up to the roof and adjacent roof areas 5 m of noncombustible material,  doors and gates in the wall fire resistant and self-closing, no other openings in the walls) ?","Sind innenliegende und außenliegende Brandschutzwände in Übereinstimmung mit den örtlichen Vorschriften bemessen (z.B. Wände bestehen aus nichtbrennbarem Material wie Backstein, Beton oder Stahlbeton, Wanddicke nicht weniger als 24 cm, Wand mindestens 50 cm über dem Dach überstehend oder bis zum Dach reichend und angrenzende Dachbereiche 5 m aus nichtbrennbarem Material bestehend, Türen und Tore in den Brandschutzwänden sind feuerfest und selbstschließend, keine anderen Öffnungen in den Wänden)?","As paredes corta fogo internas e externas foram avaliadas em conformidade com os regulamentos locais (ex. parede feita de material não combustível, como tijolo, cimento ou concreto armado, espessura da parede não inferior a 24 cm, mínimo de parede de 50 cm acima do telhado ou até ao telhado e áreas de telhado adjacentes de 5 m de material não combustível, portas e portões nas paredes corta fogo resistentes e de fecho automático, sem outras aberturas nas paredes) ?","Les murs pare-feu interne et externe ont-ils été évalués conformément à la réglementation locale (par exemple mur en matériau incombustible comme la brique, du béton ou béton armé, épaisseur de paroi d'au moins 24 cm, 50 cm de mur au minimum au-dessus du toit ou jusqu'au toit et à proximité des surfaces de toit,  5 m de matériaux incombustibles, portes et portails dans le mur pare-feu, résistants et à fermeture automatique, pas d'autres ouvertures dans les murs)?","¿Están las paredes internas y externas resistentes al fuego realizadas en conformidad con las normativas locales (por ejemplo, paredes de material no combustible como el ladrillo, hormigón o hormigón reforzado, espesor de pared no inferior a 24 cm, mínimo de pared de 50 cm por encima del techo o hasta el techo y adyacentes superficie de techo de 5 m de material no combustible, puertas y portones en la pared resistente al fuego y cierre automático, sin otras aberturas en las paredes)?","Le pareti antincendio interne ed esterne sono  in linea con i regolamenti locali (esempio parete fatta da materiale non combustibile come  mattoni, latterizzi, calcestruzzo o calcestruzzo rinforzato, spessore non inferiore a 24 cm., parete minimo di 50 cm superiore al tetto o sopra il tetto ed area adiacente di almeno 5 mt. di materiale non combustibile, porte e cancelli in materiale restistenti al fuoco e a chiusura automatica, no altre aperture nella parte) ?   ","Er interne og eksterne brandvægge fastsat i overensstemmelse med de lokale krav (f.eks. Vægge lavet af ikke brændbare materiale såsom mursten, beton, armeret beton, vægtykkelse er ikke mindre en 24 cm, vægge min. 50 cm over taget eller op til taget og nærliggende tagområder skal være af ikke brændbare materiale, døre og låger i vægge skal være brandhæmmende og selvlukkende, der må ikke være andre åbninger i væggene) ?","Ovatko paloseinät (väliseinät ja ulkoseinät) luokitettu paikallisen määräysten mukaisesti (ts. seinä tehty palamattomasta materiaalista, kuten tiilistä,  betonista tai teräsbetonista, seinän paksuus vähintään 24 cm, seinä vähintäin 50 cm kattoa korkeampi tai katolle saakka ja siihen liittyvä kattomateriaali vähintään 5 metrin alueelta palamattomasta materiaalista, ovet ja portit paloseinässä palamattomia ja itsesulkeutuvia, ei muita aukkoja seinissä) ?","Czy wewnętrzne i zewnetrzne ściany ogniowe są zgodne z lokalnymi przepisami? ","Zijn interne en externe brandwanden geklasseerd in overeenstemming met lokale regelgeving (bvb. muren uit onbrandbare materialen zoals baksteen, beton of gewapend beton - wanddikte tenminste 24 cm, wand minimum 50 cm boven het dak of tot top van het dak - aanpalende daken bevatten minimum 5 m onbrandbaar materiaal, deuren en andere openingen in de muren brandwerend gemaakt en zelfsluitend, geen andere doorvoeren in de wanden) ?","Ali so notranji in zunanji požarni zidovi v skladu z zakonskimi zahtevami ( stene iz negorljivih materialov kot opeka, beton, armirani beton; debelina stene najmanj 25cm, požarni zid najmanj 50cm nad streho ali do strehe če je ta v razdalji 5m iz negorljivih materialov; vrata v steni iz ognjeodpornega materiala in samo zaporna, drugih odrtin v steni ni)?","Jsou vnitřní a vnější protipožární stěny vypočítány v souladu s místní legislativou (např. stěny vyrobeny z nehořlavého materiálu jako cihly, beton nebo armovaný beton, tloušťka stěn ne méně než 24 cm, stěna minimálně 50 cm nad úroveň střechy a 5 m prostor sousedící se střechou z nehořlavého materiálu, dveře a brány ve stěně ohni odolné a samo se zavírající, žádné další otvory ve stěnách)?","A belső és külső tűzfalak minősítve vannak a helyi szabályok szerint (pl. A fal nem gyúlékony anyagból: tégla, beton, megerősített beton, falvastagság min 24 cm, fal magasság minimum 50 cm-rel a tető felett, ajtók és ablakok tűzgátlóak, és önzáródók, más nyílás a falon nincsen)?","Är inner - och yttre brandväggar klassade i enlighet med lokala bestämmelser (t ex väggar utförda i obrännbart material som tegel, betong, armerad betong, väggtjocklek inte mindre än 24 cm, väggar minimum oavnför tak  eller upp tilltak och angränsande takyta inom  5 m av obrännbart material, dörrar och portar  brandresistenta och självstängande, inga andra öppningar i väggarna) ?","Внутренние и внешние огнестойкие стены в соответствии  ли с местным законодательством (например, стены из негорючих материалов, как кирпич, бетон и железобетон; толщина стеной не менее 24 см; стены не менее 50 см над крышей или до крыши и прилегающих районах крыши 5 м из негорючих материалов; двери и ворот по крайней мере огнестойкие и самозакрывающиеся; никаких других отверстий в стенах)?"]
["Are adjacent rooms (incl. office, staff - and technical rooms) separated from the storage area with at least fire resistant walls (eg. made of noncombustible material like brick, concrete or reinforced concrete, wall thickness not less than 11.5 cm, doors and gates at least fire retardant and self closing, no other openings in the walls) ?","Are adjacent rooms (incl. office, staff - and technical rooms) separated from the storage area with at least fire resistant walls (eg. made of noncombustible material like brick, concrete or reinforced concrete, wall thickness not less than 11.5 cm, doors and gates at least fire retardant and self closing, no other openings in the walls) ?","Sind angrenzende Räume (inkl. Büro, Belegschafts- und Technikräume) vom Lagerbereich zumindest durch feuerfeste Wände getrennt ( z.B. Wände bestehen aus nichtbrennbarem Material, Beton oder Stahlbeton, Wanddicke nicht weniger als 11,5 cm, Türen und Tore sind mindestens feuerhemmend und selbstschließend, keine anderen Öffnungen in den Wänden)?","As salas adjacentes (incl. escritórios, vestiários, balneários e salas técnicas), estão separadas da área de armazenamento, por paredes,  com um mínimo de resistência ao fogo (por exemplo, construção em material não combustível, como tijolo, cimento ou cimento armado, espessura da parede não inferior a 11,5 cm, portas e portões corta fogo e pelo fecho automático, sem outras aberturas nas paredes) ?","Est-ce que les pièces adjacentes (y compris les bureaux, les locaux pour le personnel et les locaux techniques) sont séparés de la zone de stockage avec au moins des murs résistants au feu (par exemple en matériau incombustible comme la brique, du béton ou béton armé, épaisseur de paroi d'au moins 11,5 cm, les portes et portails, retardateurs au feu et à fermeture automatique, pas d'autres ouvertures dans les murs)?","¿Están las habitaciones adyacentes (incluido la de oficina, el personal y salas técnicas) separadas del área de almacenamiento con paredes resistentes al fuego (por ejemplo, de material no combustible como el ladrillo, hormigón o hormigón reforzado, espesor de pared no inferior a 11,5 cm,  puertas resistentes al fuego y cierre automático, sin otras aberturas en las paredes)?","Gli uffici adiacenti sono separati dalle aree di immagazzinamento almeno da pareti resistenti al fuoco (esempio costruiti da materiale non combustibile come latterizzi, calcestruzzo o calcestruzzo rinforzato, con uno spessore non inferiore a 11,5 cm. porte e cancelli almeno resistenti al fuoco a con chiusura automatica, senza aperture nella parete) ? ","Er nærliggende rum (inkl. kontor, medarbejder- og teknikerrum) adskilt fra lagerområdet med min. Brandhæmmende vægge (f.eks. Lavet af ikke brændbare materialer såsom mursten, beton eller armeret beton, vægtykkelse må ikke være mindre end 11,5 cm, døre og låger skal være brandhæmmende og selvlukkende, der må ikke være andre åbninger i væggene) ?","Ovatko varastorakennukseen liittyvät huoneet (ml. Toimisto, henkilöstö- ja tekniset tilat) erotettu varastoalueesta vähintäin paloseinillä (ts. tehty palamattomasta materiaalista, kuten tiilist. Betonista tai teräsbetonista, seinän paksuus vähintäin 11,5 cm, ovet ja portit vähintäin palosuojattuja ja itsestään sulkeutuvia, ei muita aukkoja seinissä) ?"," Czy sąsaiadujace pomieszczenia (w tym biuro, pomieszczenia pracowników i techników) są oddzielone od powierzchni magazynowej  minimum poprzez ściany ogniowe (np. wykoane z cegły, betonu o grubosci co najmnije 11,5 cm, drzwi i bramy są samozamykające, brak innych otworów w ścianach)?","Zijn aanpalende ruimten (incl. kantoren, staf- en technische ruimten, gescheiden van de opslagruimten door tenminste brandwerende wanden (bvb. gemaakt van onbrandbaar materiaal zoals baksteen, beton of gewapend beton - wanddikte tenminste 11,5 cm - deuren en toegangen tenminste brandvertragend en zelfsluitend - geen andere doorvoeren in de wand) ?","Ali so sosednji prostori ( pisarne, prostori za osebje in tehnični prostori ) ločeni od skladišča z ognjeodporno steno ( iz opeke, betona, armiranega betona; debeline najmanj 11,5 cm; ognjeodporna, samozaporna vrata; brez drugih odprtin v stenah )?","Jsou sousedící místnosti (kanceláře, administrativní a technické místnosti) odděleny od skladovacího prostoru alespoň ohni dolnými stěnami (postaveny z nehořlavého materiálu jako jsou cihly, beton, armovaný beton, tloušťka stěn není menší než 11,5 cm, dveře a brány nejméně oheň zpomalující a samo se zavírající, žádné další otvory ve stěnách)?","A közeli helyiségek (pl. Iroda, személyzeti és technikai helyiségek) szeparáltak a raktártól legalább egy tűzgátló fallal (pl. Nem éghető anyagból: tégla, beton, megerősített beton, legalább 11.5 cm falvastagság, tűzgátló, önzáródó ajtók és kapuk, egyéb nyílás nincsen a falon)?","Är angränsande rum (inkl. kontor, personal- och teknikrum) separerade från lagerytan med minst brandresistenta väggar (t ex gjorda av obrännbart material som tegel, betong eller armerad betong, väggtjocklek inte mindre än 11,5 cm, dörrar och portar minst brandhämmande och självstängande, inga andra öppningar i väggarna) ?","Смежные комнаты (включая офис, персонал - и технические помещения) отделенные ли от зоны хранения, по крайней мере огнестойкой стен (например, изготовлены ​​из негорючего материала, как кирпич, бетон и железобетон; толщина стен не менее 11,5 см; двери и ворот по крайней мере огнезащитные и самозакрывающиесях; никаких других отверстий в стенах)?"]
["Technical fire protection","Technical fire protection","Technischer Brandschutz","Protecção contra Incêndios","Protection Technique incendie ","Protección técnica contra incendios","Protezione antincendio tecnica","Teknisk brandbeskyttelse","Tekninen palosuojelu","Techniczne zabezpiecznia pożarowe","Technische brandbescherming","Tehnična požarna zaščita","Technická požární ochrana","Technikai tűzvédelem","Tekniskt brandskydd","Техническая противопожарная защита"]
["Is the warehouse equipped with an overall fire and smoke detection system with direct connection to a permanently manned office that will notify the local fire department without delay or if not, with a direct connection to the local fire department ?","Is the warehouse equipped with an overall fire and smoke detection system with direct connection to a permanently manned office that will notify the local fire department without delay or if not, with a direct connection to the local fire department ?","Ist das Lagerhaus mit einem umfassenden Feuer- und Rauchmeldesystem ausgestattet mit einer direkten Verbindung in ein ständig besetztes Büro, welches die örtliche Feuerwehr ohne Verzögerung benachrichtigt oder wenn nicht, mit einer direkten Verbindung zur örtlichen Feuerwehr?","O armazém está equipado com sistema contra incêndios e sistema de detecção de fumos com ligação directa e permanentemente ligada a um Responsável de Segurança que irá notificar o corpo de bombeiros local, de imediato, ou em alternativa ligação directa ao corpo de bombeiros local ?","Est-ce l'entrepôt est équipé d'un système global de détection incendie et de détection de fumée avec une connexion directe à un bureau occupé en permanence par du personnel qui en avisera le service d'incendie local sans délai ou, si non, avec une connexion directe au service d'incendie local?","¿Está equipado el almacén con un sistema de detección de humos y fuego conectado directamente con una oficina permanentemente dotada que notifique el hecho a un departamento contra incendios local o, si no, con una dirección directa con el departamento contra incendios?","Il deposito è equipaggiato con un sistema di rilevazione fumi ed incendio con connessione diretta con un ufficio permanentemente presidiato che possa comunicare direttamente e senza ritardi con il dipartimento antincedeio locale ? ","Er lageret udstyret med en overordnet brand- og røgalarmer med direkte forbindelse til konstant bemandet kontor, som uden forsinkelse vil alarmere det lokale brandvæsen, eller hvis dette ikke forefindes, med en direkte forbindelse til det lokale brandvæsen ?","Onko varastorakennuksessa kattava palo- ja savuhälytinjärjestelmä, josta on suora yhteys jatkuvasti miehitettyyn toimistoon, joka tekee paikalliselle pelastuslaitokselle viivyttelemättä ilmoituksen tai jos ei ole, suora yhteys paikalliseen pelastuslaitokseen?","Czy magazyn jest wyposażony w system wykrywanai dymu i ognia ze stałym połaczeniem z biurem nadzorujacym lub ze straża pożarną?","Is het volledig magazijn voorzien van een brand- en rookdetectiesysteem met directe verbinding naar een permanent bemand kantoor van waaruit de locale brandweer onmiddellijk wordt verwittigd of indien niet, met een directe verbinding naar de locale brandweer ?","Ali je skladišče opremljeno z detektorji ognja in dima z direktno povezavo s pisarno, ki je stralno zasedena in bo takoj obvestila gasilce; oziroma direktna povezava do gasilske enote?","Je sklad vybaven celkovým systémem detekce kouře a ohně s přímým spojením do trvale obsazeným pracovištěm, které neprodleně upozorní místní požární a pokud ne, s přímým spojením s místním požárním sborem?","Fel van szerelve a raktár egységes tűz és füst detektorokkal, ami egy állandóan felügyelt irodához kapcsolódik,ami azonnal közvetlenül riasztja a helyi tűzoltóságot, vagy ha nem, akkor közvetlen kapcsolat a helyi tűzoltósághoz?","Är lagerlokalen utrustad med ett övergripande brand- och rökvarningsssytem med direkt koppling till ett alltid bemannat kontor som utan dröjsmål kan kontakta den lokala brandkåren, eller har direktkontakt med den lokala brandkåren. ","Является ли склад оснащен пожарной и всеобъемлющей системы обнаружения дыма с прямым подключением к постоянно работающему офисе, от которого без промедления уведомляют местную пожарну, или если нет такого офиса, то с прямым подключением к местной пожарной?"]
["Is there a manual fire alarm system with a direct connection to the local fire brigade installed and is it readily accessible at any time ?","Is there a manual fire alarm system with a direct connection to the local fire brigade installed and is it readily accessible at any time ?","Ist dort ein manuelles Feueralarmsystem mit einer direkten Verbindung zur örtlichen Feuerwehr installiert und ist es zur jeder Zeit ohne weiteres erreichbar?","Existe um manual do sistema de alarme de incêndio com uma ligação directa ao Responsável de Segurança no local, e é facilmente acessível a qualquer momento ?","Yat-il un système d'alarme manuel avec une connexion directe à la brigade d'incendie locale et qui est aisément accessible à tout moment","¿Existe un sistema manual de alarma contra incendios conectado directamente con la brigada local y es accesible a todas horas?","Vi è sistema allarme antincendio manuale con contatto diretto con il dipartimento locale dei vigili del fuoco ed è sempre accessibile ?  ","Er der installeret et manuelt brandalarmsystem med en direkte forbindelse til det lokale brandvæsen og er det til enhver tid tilgængelig ?","Onko varastorakennuksessa käsikäyttöinen hälytysjärjestelmä, jolla on suora yhteys paikalliseen pelastuslaitokseen ja onko se käytettävissä joka hetki?","Czy jest uruchamiany ręcznie alarm pożarowy, połaczony ze strażą pożarną i czy jest dostępny w każdym momencie?","Is er een manueel brandmeldsysteem met directe verbinding naar de locale brandweer en is het vrij toegankelijk ten allen tijde ?","Ali obstaja ročni alarm v direktni povezavi z gasilsko enoto in ali je vedno dostopen?","Je instalován manuální požární výstražný systém s přímým spojením do místního požárního sboru a je vždy rychle dostupný? ","Van manuális tűzjelző rendszer ami közvetlenül kapcsolódik a helyi tűzoltósághoz és ez bármikor gyorsan elérhető?","Finns det ett manuellt brandlarmsystem med direktkontakt med lokala brandförsvaret och är det lätt åtkomligt vid alla tidpunkter?","Есть ли установленая ручная система пожарной сигнализации с прямым подключением к местной пожарной и является ли она легко доступна в любое время?"]
[{"$f":"IF(ISERROR(IF(LEN(TEXT(OFFSET(A520,0,langsel),\"\"))>0,TEXT(OFFSET(A520,0,langsel),\"\"),TEXT(B520,\"\"))),IF(LEN(OFFSET(A520,0,langsel))>0,OFFSET(A520,0,langsel),B520),IF(LEN(TEXT(OFFSET(A520,0,langsel),\"\"))>0,TEXT(OFFSET(A520,0,langsel),\"\"),TEXT(B520,\"\")))","v":"Is the warehouse equipped with an audible alarm system easily audible throughout the work area ?"},"Is the warehouse equipped with an audible alarm system easily audible throughout the work area ?","Ist das Lagerhaus mit einem akustischen Alarmsystem, im Arbeitsbereich durchweg laut hörbar, ausgestattet?","O armazém está equipado com um sistema de alarme sonoro facilmente audível em toda a área de trabalho ?","Est-ce l'entrepôt équipé d'un système d'alarme sonore facilement audible dans toute la zone de travail?","¿Está equipado el almacén con un sistema de alarma y una alarma sonora fácilmente audible en toda el área de trabajo?","Il deposito è equipaggiato con un sistema di allarme sonoro udibile in tutte le aree di lavoro ?","Er lageret udstyret med et hørbar alarmsystem som er hørbar overalt på arbejdsstederne ?","Onko varastorakennus varustettu äänihälytysjärjestelmällä, joka kuuluu hyvin koko työskentelyalueelle?","Czy magazyn jest wypsażony w sygnał alrmowy słuszalny w całym magazynie?","Is het magazijn uitgerust met  een geluid alarmsysteem dat op de volledige werkplek gehoord kan worden ?","Ali je skladišče opremljeno z zvočnim alarmom, ki je slišen na vseh delovnih površinah?","Je sklad vybaven zvukovým výstražným systémem slyšitelným v celém pracovním prostoru?","Van a raktrár területén hangos jelző rendszer, ami az egész területen könnyen hallható?","Är lagerlokalen utrustat med ett hörbart alarmsystem lätt hörbart över hela arbetsområdet ?","Является ли склад оснащен звуковой сигнализацией, легкая для восприятия всей рабочей области?"]
["Are smoke and heat vents installed in each fire compartment with an area not less than 2% of the storage area of the fire compartment ?","Are smoke and heat vents installed in each fire compartment with an area not less than 2% of the storage area of the fire compartment ?","Sind Rauch- und Wärmelüftungsklappen in jedem Brandabschnitt mit einer Größe von nicht weniger als 2% der Lagerfläche  des Brandabschnitts installiert? ","O sistema de desenfumagem e ventilação está instalado em cada compartimento do armazém, com uma área não inferior a 2% da área de armazenamento de cada compartimento ?","Y a-t-il des conduits de fumée et de chaleur installés dans chaque compartiment incendie avec une superficie d'au moins 2% de la zone de stockage du compartiment d'incendie?","¿Existe una ventilación contra incendios y calor con un área no menor del 2% del área de almacenamiento del sector de incendios?","Il sistema di ventilazione fumi e calore è istallato in ogni compartimento antincendio con un area non inferiore al 2% del volume di immagazzinamento del compartimento antincendio ?","Er der installeret aftræk til røg og varme i hver brandsektion med et areal på min. 2 % af lagerområdet i brandsektionen.","Onko savu- ja lämpäluukut asennettu jokaiseen palo-osastoon, ja onko niiden pinta-ala vähintäin 2 % palo-osaston pinta-alasta?","Czy system odprowadzania dymu i ciepła jest zainstalowany w każdej komorzez/przegrodzie ogniowej, na obszarze nie mniejszym niż 2% powierzchniu składowania?","Zijn rook en warmte afvoerkanalen in elk brandcompartiment geïnstalleerd met een oppervlakte van niet minder dan 2% van de opslagruimte van het brandcompartiment ?","Ali so nameščeni odvodi dima in toplote v vsakem požarnem odseku, s presekom, ki ni manjši od 2% skladiščne površine?","Jsou kouřové a tepelné ventilační otvory s plochou ne menší než 2 % požárního oddělení instalovány v každém požárním prostoru?","Füst és meleglevegő ventillátorok elérhetők minden tűzszakaszban nem kevesebb területtel, mint a tűzszakasz rakterületének 2% a?","Är rök- och värmeventilation installerad i varje brandcell med en yta av minst 2% av lagerytan i brandcellen ?","Есть ли установленные дымовые и тепловые вентиляционные отверстия в каждом пожарном отсеке с площадью не менее 2% от складской площадьи пожарного отсека?"]
["Are smoke vents automatically operated and is there in addition a button near the exit doors to operate these smoke vents manually ? ","Are smoke vents automatically operated and is there in addition a button near the exit doors to operate these smoke vents manually ? ","Funktionieren die Rauchlüftungsklappen automatisch und ist zusätzlich ein Knopf nahe der Ausgangstüren angebracht um diese Rauchlüftungsklappen manuell betätigen zu können?","O sistema de desenfumagem e ventilação é automático, e existe ainda, um botão perto da porta de saída para operar essas aberturas de fumo manualmente ?","Y a-t-il des évents automatiques de fumée, avec en plus, un bouton près de la porte de sortie pour faire fonctionner manuellement ces évents de fumée ?","¿Se puede operar manualmente este sistema de ventilación y se posee un botón cerca de cada salida de emergencias para este fin?","Il sistema di ventilazione dei fumi si attiva automaticamente ed in aggiunta vi è un pulsante di attivazione manuale posto vicino alle porte di uscita ?","Er aftræk til røg automatiske og er der tæt ved nødudgange tilmed en knap til manuel betjening af disse aftræk ?","Toimivatko savuluukut automaattisesti ja onko lisäksi avausnappi poistumisteiden lähellä, jotta savuluukut voidaan avata manuaalisesti?","Czy system odporwadzania dymu jest automatyczny i czy jest dodatkowy przycisk w pobliżu drzwi awaryjnych, uruchamiajacy system ręcznie? ","Worden rookafvoeren automatisch bediend en is er daarnaast ook een knop bij de uitgangen om deze afvoeren manueel te bedienen?","Ali odvodi dima delujejo avtomatsko in ali je v bližini izhoda gumb za ročno upravljanje z odvodi?","Jsou kouřové ventilační otvory ovládány automaticky a je v blízkosti únikových dveří tlačítko pro manuální ovládání těchto ventilačních otvorů?","A füstelszívók automatikusan működnek-e, és ezen kívül van-e a kijáratnál olyan gomb, amivel manuálisan működésbe hozható?","Drivs rökventilation automatiskt och är det i tillägg en knapp nära nödutgången varifrån man kan öppna ventilationen manuellt?","Работают ли дымовые отверстия автоматически и есть ли, кроме того, кнопка рядом с выходом для ручного привода этих дымовых отверстий?"]
["Are fire extinguishers and hose reels provided in accordance with local regulations as stated in the Fire Plan and are they highly visible, with unrestricted access at all times (eg. one hose reel or 1x50 kg or 4x12 kg fire extinguisher(s) with dry powder per 800 m2 of warehouse surface). ","Are fire extinguishers and hose reels provided in accordance with local regulations as stated in the Fire Plan and are they highly visible, with unrestricted access at all times (eg. one hose reel or 1x50 kg or 4x12 kg fire extinguisher(s) with dry powder per 800 m2 of warehouse surface). ","Sind Feuerlöscher und Schlauchtrommel in Übereinstimmung mit den örtlichen Vorschriften wie im Feuerwehrplan festgelegt vorhanden und sind sie gut sichtbar, jederzeit frei zugänglich (z.B. eine Schlauchtrommel oder 1x50 kg oder 4x12 kg Feuerlöscher mit Löschpulver je 800 m2 Lagerfläche).","Os extintores de incêndio e as mangueiras estão em conformidade com as regulamentações locais que constam no Plano de Segurança Contra Incêndios e são altamente visíveis, com acesso não restrito a todo o momento (por exemplo, um carretel de mangueira ou extintores de incêndio de 1x50 kg ou 4x12 kg (s) com pó químico seco por cada 800 m2 de superfície de armazém).","Est-ce que les extincteurs d'incendie et dévidoirs sont fournis conformément à la réglementation locale comme indiqué dans le Plan de lutte contre les incendies et sont-ils très visibles, avec un accès illimité à tout moment (par exemple Bobine de tuyau ou 1x50 ou 4x12 kg extincteur kg (s) avec la poudre sèche par 800 m2 de surface d'entrepôt)","¿Hay suficientes extintores y BIE´s de acuerdo con la legislación local, mencionados en el Plan contra incendios, visibles y accesibles en todo momento (ej: una BIE o un extintor de carro de 50kg o 4 extintores de 12kg de polvo seco por cada 800 m2 de superficie de almacenamiento)?","Gli estintori e le manichette antincendio sono posizionati in accordo ai regolamenti locali e identificati nel piano antincendio e sono altamente visibili, con accesso libero sempre (esempio una manichetta o 1 x 50kg. O 4 x 12 kg. Estintori a polvere per 800 mq di superfice del deposito)  ","Forefindes der brandslukkere og brandslanger i overensstemmelse med de lokale krav som foreskrevet i brandplanen og er de meget synlige og til enhver tid med uhindret adgang (f.eks. Én slangespole eller 1x50 kg eller 4x12 kg brandslukker(e) med tørpulver pr. 800 m2 af lagerets overflade).","Onko varastorakennuksessa palosammuttimet ja palopostit paikallisten määräysten mukaisesti kuten merkittynä suojelusuunnitelmaan ja ovatko ne selvästi nähtävissä, ja onko niille esteetön pääsy kaikkina aikoina ( ts. yksi letkukela tai 1x50 kg tai 4x12 kg jauhesammuttimet jokaista varaston 800 m2:n alaa kohti)","Czy gaśnice i węże są zapewnione, zgodnie z lokalnymi przepisami, według instrukcji bezpieczeństwa pożarowego, czy są dobrze widoczne i czy jest do nich dostęp przez cały czas?","Zijn brandblussers en haspels aanwezig in overeenstemming met lokale regelgeving en zoals bepaald in het Brand Plan en zijn zij goed zichtbaar, onbeperkt bereikbaar ten allen tijde (bvb. één haspel of 1x50 kg of 4x12 kg brandblussers met poeder per 800 m² magazijnoppervlakte) ","Ali so gasilniki in hidranti v skladu z zakonskmi zahtevami in izdelanim požarnim načrtom, ali so vidni in je do njih vedno neomejen dostop ( 1 hidrant ali 1X50kg ali 4X12kg gasilnik na prah na 800m2 skladišča)?","Jsou  hasící přístroje a hadicové navíječe provedeny v souladu s místní legislativou jak uvádí Požární plán a jsou viditelně označeny, s volným přístupem v kteroukoliv dobu (např. jeden hadicový navíječ nebo 1x50 kg nebo 4x12 kg hasicích práškových přístrojů na 800 m2 skladovací plochy)?  ","Tűzoltókészülékek és tömlők a helyi szabályozásnak és a tűzriadó tervnek megfelelően elérhetők, jól láthatók, akadálytalanul hozzáférhetők bármikor? (pl. Egy tömlőtekercs, 1x 50 kg vagy 4x12 kg porraloltó 800 m2 rakterülethez)","Är brandsläckare och brandslangar monterade i enlighet med lokala bestämmelser som framgår av brandskyddsplanen och är de väl synliga, med obegränsad tillgång hela tiden (t ex en brandslang eller 1x50 kg eller 4x12 kg brandsläckare med pulver per 800 m2 lageryta). ","Являются ли огнетушители и шланговые барабаны в соответствии с местными правилами, как указано в пожарной плане  и хорош ли они видны, с неограниченным доступом в любое время (например, один барабан шлангам   или 1x50 кг или 4x12 кг огнетушитель (ы) с сухим порошком за 800 м2 складской поверхности)?"]
["Are fire compartments storing products classified as toxic, oxidising, flammable or dangerous to the environment, equipped with fixed extinguishing systems (eg. water, foam) ?","Are fire compartments storing products classified as toxic, oxidising, flammable or dangerous to the environment, equipped with fixed extinguishing systems (eg. water, foam) ?","Sind Brandabschnitte, in denen Produkte lagern die als giftig, brennbar oder umweltgefährdend klassifiziert sind, mit festen Feuerlöscheinrichtungen (z.B. Wasser, Schaum) ausgestattet?","Os compartimentos corta fogo de armazenagem de produtos classificados como tóxicos, oxidantes, inflamáveis ​​ou perigosos para o ambiente, estão equipados com sistemas fixos de extinção (por exemplo, água, espuma) ?","Est-ce que les compartiments résistants au feu, pour le stockage de produits classés comme toxiques, comburants, inflammables ou dangereux pour l'environnement, sont équipés de dispositifs fixes d'extinction (par exemple eau, mousse)?","¿Los sectores que almacenan productos clasificados como tóxicos, comburentes, inflamables o peligrosos para el medio ambiente poseen protección fija contra incendios (agua, espuma)?","I comparimenti antincendio che conservano prodotti classificati come tossici, ossidanti, infiammabili, o dannosi per l'ambiente sono equipaggiati con sistemi fissi di estinzione antincendio (esempio acqua, foam) ? ","Er brandsektioner, hvor der opbevares produkter klassificeret som giftige, brandnærende, brandfarlige eller miljøfarlige udstyret med faste brandslukningssystemer (f.eks. Vand, skum) ?","Ovatko palo-osastot, joissa säilytetään myrkyllisisä, hapettavia, syttyviä tai ympäristölle vaarallisia aineita, varustettu kiinteillä sammutusjärjestelmillä (ts. vesi, vaahto) ?","Czy komory ogniowe przenaczone do składowania  materiałó kalsyfikowanych jako toksyczne, utleniającem palne lub niebezpieczne dla środowiska są wyposażone w zamontowany na stałe system gaśniczy?","Zijn brandcompartimenten met daarin opgeslagen producten geclassificeerd als toxisch, oxiderend, ontvlambaar of milieugevaarlijk, uitgerust met vaste blussystemen (bvb. sprinklers, schuimgeneratoren) ?","Ali so oddelki za skladiščenje strupenih, oksidativnih, vnetljivih ali okolju nevarnih proizvodov opremljeni s stabilnim sistemom za gašenje ( voda, pena )?","Jsou požární oddělení se skladovanými produkty klasifikovanými jako toxické, hořlavé nebo nebezpečné  k životnímu prostředí vybaveny stabilním hasicím systémem (např. hydrant, pěna) ?","Azok a szakaszok, ahol toxikus, égést tápláló, gyúlékony vagy környezetre veszélyes anyagokat tárolnak fel vannak szerelve fix tűzoltó rendszerrel? (pl. Víz, hab)?","Är brandceller där produkter lagras som klassificerade som toxiska, oxiderande, brandfarliga eller miljöfarliga, utrustade med fast brandsläckningssystem (t ex vatten, skum) ?","Пожарные отсеки для хранения продуктов, которые классифицируются как токсичные, окислительные, легковоспламеняющиеся или опасные для окружающей среды, оснащены ли фиксированной системы пожаротушения (например, вода, пена)?"]
["Are fire compartments storing products classified as toxic, oxidising, flammable or dangerous to the environment, equipped with an operating ventilation system, with an air exchange rate of at least twice/hour ?","Are fire compartments storing products classified as toxic, oxidising, flammable or dangerous to the environment, equipped with an operating ventilation system, with an air exchange rate of at least twice/hour ?","Sind Brandabschnitte, in denen Produkte lagern die als giftig, brennbar oder umweltgefährdend klassifiziert sind mit einem in Betriieb befindlichen Ventilationsystem, mindestens mit zweifachem Luftwechsel pro Stunde, ausgestattet?","Os compartimentos corta fogo, de armazenamento de produtos classificados como tóxicos, oxidantes, inflamáveis ​​ou perigosos para o ambiente, estão equipados com um sistema de ventilação, com uma taxa de renovação de ar de pelo menos duas vezes por hora ?","Est-ce que les compartiments résistants au feu, pour le stockage de produits classés comme toxiques, comburants, inflammables ou dangereux pour l'environnement, sont équipés d'un système de ventilation, avec un taux de renouvellement d'air d'au moins deux fois par heure?","¿Los sectores que almacenan productos clasificados como tóxicos, comburentes, inflamables o peligrosos para el medio ambiente están equipados con un sistema de ventilación que proporcione 2 cambios de aire por hora?","I comparimenti antincendio che conservano prodotti classificati come tossici, ossidanti, infiammabili, o dannosi per l'ambiente sono equipaggiati con sistemi di ventilazione con cambio di aria di almeno due volte all'ora ? ","Er brandsektioner, hvor der opbevares produkter klassificeret som giftige, brandnærende, brandfarlige eller miljøfarlige udstyret med et ventilationssystem med en luftudskiftningsrate på min to gange/time ?","Ovatko palo-osastot, joissa säilytetään myrkyllisisä, hapettavia, syttyviä tai ympäristölle vaarallisia aineita, varustettu toimivalla ilmanvaihtojärjestelmällä, jonka ilman vaihtomäär on vähintäin kaksi kertaa tunnissa ?","Czy komory pożarowe w których skałdowane sa materiały sklasyfikowane jako toksyczne, utleniajace, palne albo niebezpieczne dla środowiska są wyposażone w system wentylacji z wymiana powietrza minimum dwukrotnie w ciągu godziny?","Zijn brandcompartimenten met daarin opgeslagen producten geclassificeerd als toxisch, oxiderend, ontvlambaar of milieugevaarlijk, uitgerust met een werkend ventilatiesysteem met een luchtverversingsgraad van minimaal 2 per uur ?","Ali so oddelki za skladiščenje strupenih, oksidativnih, vnetljivih ali okolju nevarnih proizvodov opremljeni s prezračevalnim sistemom, ki zagotavlja najmanj dvakratno izmenjavo na uro?","Jsou požární oddělení se skladovanými produkty klasifikovanými jako toxické, hořlavé nebo nebezpečné  k životnímu prostředí vybaveny fungujícím ventilačním systémem schopným vyměnit vzduch minimálně  dvakrát za hodinu? stabilním hasicím systémem (např. hydrant, pěna) ?","Azok a szakaszok, ahol toxikus, égést tápláló, gyúlékony vagy környezetre veszélyes anyagokat tárolnak fel vannak szerelve szellőző berendezéssel, mely legalább óránként 2x légcserére képes?","Är brandceller där produkter lagras som klassificerade som toxiska, oxiderande, brandfarliga eller miljöfarliga, utrustade med ett fungeradnde ventilationssystem, men en luftomsättning om minst 2/timme ?","Пожарные отсеки для хранения продуктов, которые классифицируются как токсичные, окислительные, легковоспламеняющиеся или опасные для окружающей среды, оснащены ли вентиляционной системы в эксплуатацию, с по крайней мере два смен воздуха в час?"]
["Are charging stations for fork lift trucks placed in separate and vented rooms or inside the storage area with a protection distance of at least 5 m to any stored product or combustible material ?","Are charging stations for fork lift trucks placed in separate and vented rooms or inside the storage area with a protection distance of at least 5 m to any stored product or combustible material ?","Sind Ladestationen für Gabelstapler in separaten und belüfteten Räumen plaziert oder im Lagerbereich mit einem Sicherheitsabstand von mindestens 5 m entfernt von gelagerten Produkten oder brennbaren Materialien?","Os locais de carregamento de empilhadores, estão colocados em salas separadas e ventiladas ou dentro da área de armazenamento, com uma distância de protecção de pelo menos 5 m de qualquer tipo de produto armazenado ou materiais combustíveis ?","Est-ce que les stations de charge pour les chariots élévateurs à fourche sont placés dans une pièce séparée et ventilée ou à l'intérieur de la zone de stockage avec une distance de protection d'au moins 5 m de n'importe quel produit stocké ou de matériaux combustibles?","¿Las zonas de carga de baterías de carretillas elevadoras están separadas en habitaciones ventiladas o dentro de la zona de almacenamiento con una distancia de seguridad al menos de 5 metros hasta cualquier producto almacenado o material combustible?","La stazione di ricarica dei muletti è posta in una stanza separata e ventilata o all'interno del magazzino ad una distanza di protezione di almeno 5 mt. da ogni prodotto immagazzinato o materiale combustibile ? ","Er opladestationer for gaffeltrucks placeret i separate og ventilerede rum eller inde på lagerområder med en beskyttende afstand på min. 5 m til opbevarede produkter eller brændbare materialer ? ","Ovatko trukkien latausasemat sijoitettu erillisiisn ja ilmastoituihin huoneisiin tai varastoalueelle, jossa on vähintäin 5 m:n suoja-alue kaikkien varastoitujen tuotteiden tai palavan materiaalin välissä.?","Czy miejsca ładowania akumulatorów wózków widłowych są zlokalizowane w oddzielnym, wentylowanym pomieszczeniu lub na hali w odległości co najmnij 5 metrów od składowanych materiałów palnych.","Zijn laadstations voor vorklifttrucks geplaatst in afzonderlijke en geventileerde ruimten ofwel in de opslagruimte met een veiligheidsafstand van tenminste 5 m van elk opgeslagen product of brandbaar materiaal ?","Ali so polnilne postaje za viličarje v ločenih in prezračevanih prostorih ali v skladiščnih prostorih oddaljeni najmanj 5m od skladiščenih proizvodov ali vnetljivih snovi?","Jsou nabíjecí stanice pro vysokozdvižné vozíky umístěny v odděleném a ventilované místnosti anebo uvnitř skladového prostoru s ochrannou vzdáleností nejméně 5 m od jakéhokoliv skladovaného produktu nebo hořlavého materiálu?","Az elektromos targoncák töltési pontja egy külön jól szellőző helyiségben vagy a raktárban egy legalább 5 m biztonsági távolságra a tárolt anyagoktól található-e?","Är laddningsstationen för gaffeltruckar placerad i separat ventilerat rum eller inne i lagerutrymmet med ett skyddsavstånd på minst 5 meter till någon lagrad produkt eller brännbart material ? ","Зарядные станции для вилочных погрузчиков размещенны в отдельных и вентилируемых помещениях или в зоне хранения на защитном расстоянии не менее 5 м от любого хранимого продукта или от горючих материалов?"]
["Is the heating system in warehouses where flammable products are stored a hot-water heating system ? ","Is the heating system in warehouses where flammable products are stored a hot-water heating system ? ","Ist das Heizsystem in Lagerhäusern in denen brennbare Produkte lagern ein Heiss-Wasser-Heizsystem?","O sistema de aquecimento em armazéns onde ​​são armazenados produtos inflamáveis, porvém de um sistema de aquecimento de água quente ?","Est-ce que le système de chauffage dans les entrepôts où sont stockés des produits inflammables, est un système de chauffage à eau chaude?","¿El sistema de calefacción de los sectores con productos inflamables es por medio de agua caliente?","Il sistema di riscaldamento nei depositi che immagazzinano prodotti infiammabili è un sistema di riscaldamento a mezzo acqua calda ?","Er varmesystemet på lageret hvor brændbare produkter opbevares et varmtvands varmesytem ?","Onko palavien tuotteiden varastorakennuksen lämmitysjärjestelmä kuumavesilämmitys?","Czy system ogrzewania magazynów w których skałdowane są materiały palne jest wodny?","Is het verwarmingsysteem in magazijnen voor ontvlambare producten een heetwater verwarmingssysteem ?","Ali je v skladišču vnetljivih snovi nameščem toplovodni sistem ogrevanja?","Je topení ve skladu, kde jsou skladovány hořlavé produkty, provozováno jako horkovodní topení?","A gyúlékony anyagok raktrát melegvizes fűtőrendszerrel fűtik?","Är värmesystemet i lagerlokal där brandfarliga varor lagras ett hetvattensystem ?","Является ли система отопления в складских помещениях, где горючие продукты хранятся, система  отопления с горячей водой ?"]
["Is the surface temperature of the heating system lower than the ignition temperature of the product stored ?","Is the surface temperature of the heating system lower than the ignition temperature of the product stored ?","Ist die Oberflächentemperatur des Heizsystems niedriger als die Entzündungstemperatur des gelagerten Produkts?","A temperatura da superfície (das tubagens) do sistema de aquecimento é inferior a temperatura de ignição do produto armazenado ?","Est-ce que la température de surface du système de chauffage est inférieure à la température d'inflammation du produit stocké?","¿La temperatura de la superficie del sistema de calefacción es menor que la temperatura de ignición de los productos almacenados?","La temperatura di superfice del sistema di riscaldamento è più bassa del punto di accensione dei prodotti immagazzinati ? ","Er overflade temperaturen på varmesystemet lavere end antændingstemperaturen på de opbevarede produkter ?","Onko lämmitysjärjestelmän pintalämpötila alhaisempi kuin varastoitujen tuotteiden syttymislämpötila?","Czy powierzchnia grzewcza ma niższą temeperaturę, niż punkt zapłonu skałdowancyh materiałów?","Is de oppervlaktetemperatuur van het verwarmingssysteem lager dan het vlampunt van de opgeslagen producten ?","Ali je temperatura površine ogrevnih teles nižja od temperature vnetišča skladiščenega blaga?","Je povrchová teplota topení nižší než zápalná teplota skladovaných produktů?","A fűtőrendszer felszínén a hőmérséklet alacsonyabb, mint a tárolt anyagok gyulladási pontja?","Är yttertemperaturen på värmesystemet lägre än antändningstemperaturen på lagrade produkter ?","Температура поверхности системы отопления ниже ли чем температура воспламенения продукта хранения?"]
["Warehouse security","Warehouse security","Sicherheit Lagerhaus","Serviços de segurança do armazém (edifícios)","Sûreté de l'entrepôt","Protección del almacén","Security del deposito","Lagersikkerhed","Varastojen varkausturvallisuus","Bezpieczenstwo (ochrona) magazynu","Beveiliging van het magazijn","Varnost","Bezpečnost skladu","Raktárbiztonság","Säkerhet för lagerlokal","Безопасность / охрана склада"]
["Are doors and gates equipped with a locking system and is it assured that they are locked, when no persons are working in the warehouse ?","Are doors and gates equipped with a locking system and is it assured that they are locked, when no persons are working in the warehouse ?","Sind Türen und Tore mit einem Verschlussvorrichtung ausgestattet und ist sichergestellt, dass sie verschlossen sind wenn keine Personen im Lagerhaus arbeiten?","As portas e portões estão equipados com um sistema de travamento e é assegurado este bloqueio, quando não há pessoas a trabalhar no interior do armazém ?","Les portes et portails sont-ils équipés d'un système de verrouillage et est-il assuré qu'ils sont verrouillés, quand personne ne travaille dans l'entrepôt?","¿Están dotadas las puertas de un sistema de bloqueo asegurándose que están bloqueadas cuando ninguna persona trabaja en la zona de almacenamiento?","Le porte ed i cancelli sono dotati di un sistema di chiusura e ci si assicura che gli stessi sono chiusi quando non vi è personale che lavora nel deposito ? ","Er døre og låger udstyret med et låsesystem og sikres det, at disse er låst når der ikke er personer på lageret ?","Ovatko ovat ja portot varustettu lukistusjärjestelmällä ja onko varmistettu, että ne ovat lukossa, kun varastossa ei ole työskenteleviä henkilöitä?","Czy bramy maja zamki i czy jest pewność, że są zamknięte, gdy nikt wewnętrz nie pracuje?","Zijn deuren en toegangen voorzien van een afsluitsysteem en wordt er verzekerd dat zij afgesloten zijn wanneer een geen medewerkers aan de slag zijn in het magazijn?","Ali so vsa vrata opremljena s ključavnicami in ali je zagotovljeno, da so zaklenjena, kadar se v skladišču ne dela?","Jsou dveře a vrata vybaveny zámkem a je zabezpečeno, že jsou uzamčeny, když žádná osoba ve skladu nepracuje? ","Fel vannak szerelve az ajtók és a kapuk olyan zárrendszerrel, ami biztosítja, hogy zárva legyenek, amikor senki sem dolgozik a rakterületen?","Är dörrar och grindar försedda med låssystem och är det säkerställt att de är låsta, när ingen person arbetar i lagerlokalen?","Двери и ворот оснащены ли системой блокировки и обеспечено ли, что они на запоре, когда ни один человек не работает на склад?"]
["Are windows or other glass areas appropriately secured (e.g. by fixed grills) ?","Are windows or other glass areas appropriately secured (e.g. by fixed grills) ?","Sind Fenster oder andere Bereiche mit Glas ausreichend gesichert (z.B. feste Gitter)?","As janelas ou áreas envidraçadas, estão adequadamente protegidas (por exemplo, com grades fixas) ?","Les fenêtres ou autres zones vitrées sont-elles sécurisées de façon appropriée (par exemple par des grilles fixes)?","¿Son seguras las ventanas y otros vidrios (ej: con parrillas exteriores fijas)?","Le finestre o altre superfici vetrate sono propriamente messe in sicurezza (esempio griglie fisse) ? ","Er vinduer eller andre glasområder forsvarlig sikret (f.eks. ved jerngitre)","Ovatko ikkunat ja muut lasitetut alueet asianmukaisesti varmistettuja (t.s. kiinteillä kaltereilla) ?","Czy okna i inne powierzchnie szklane są zabezpieczone (np.. Poprzez siatki)","Zijn ramen of andere beglaasde zones voldoende beveiligd (bvb. door vaste roosters)","Ali so okna in ostale steklene površine ustrezno varovane ( na primer rešetke )?","Jsou okna anebo prosklené plochy vhodně zabezpečeny (např. pevnou mříží)?","Az ablakok és más üvegfelületek megfelelően védve vannak? (pl. Beépített rácsokkal)","Är fönster och andra glaspartier lämpligt säkrade (t.ex fasta galler)","Являются ли окна или другие стеклянные области обеспеченные надлежащим образом  (например, фиксированной решетки)?"]
["Is the warehouse secured with a burglar alarm system or by security personnel on-site ?","Is the warehouse secured with a burglar alarm system or by security personnel on-site ?","Ist das Lagerhaus mit einer Einbruchsmeldeanlage oder durch örtliches Sicherheitspersonal gesichert?","O armazém está protegido com um sistema de alarme ou pelo pessoal de segurança existente no local?\n","Est-ce que l'entrepôt est sécurisé avec un système d'alarme antivol ou par du personnel de sécurité sur place?","¿Está protegido el almacén con una alarma antirrobo o por personal de seguridad propio?","Il deposito è dotato di un sistema di allarme antiintrusione o da personale addetto alla security all'interno ? ","Er lageret udstyret med et tyverialarmsystem eller med sikkerhedsvagte onsite ?","Onko varastorakennus varustettu varashälytinjärjestelmällä tai paikalla olevalla turvahenkilöstöllä?"," Czy magazyn jest wyposażony w alarm włamaniowy albo nadzorowany przez ochronę zlokalizowaną na terenie firmy?","Is het magazijn voorzien van inbraakalarm of wordt het beveiligd door beveiligingspersoneel aanwezig op de locatie?","Ali je nameščen protivločmni alarm oziroma je zagotovljeno osebno varovanje?","Je sklad zabezpečen alarmem proti vloupání anebo místní bezpečnostní ostrahou? ","Védve van a raktár betörésvédelmi rendszerrel vagy telephelyen működő biztonsági személyzettel?","Är lagerlokalen säkrad med inbrottslarm eller med säkerhetspersonal på anläggningen ?","Является ли склад обеспечен системой охранной сигнализации или местных служб безопасности?"]
["Are burglar alarms transmitted automatically to security personnel or to a nearby police station ?","Are burglar alarms transmitted automatically to security personnel or to a nearby police station ?","Werden Einbruchsalarmmeldungen automatisch an das Sicherheitspersonal oder an eine nahegelegene Polizeidienststelle gesendet?","O sinal do alarme é transmitido automaticamente para o pessoal de segurança ou para uma esquadra de polícia próxima ?","Est-ce que les alarmes antivol sont reliées automatiquement au personnel de sécurité ou à un poste de police proche ?","¿La alarma antirrobo transmite automáticamente al personal de seguridad o a una estación de policía cercana?","Il sistema di allarme antintrusione trasmette automaticamente l'allarme al personale di security o alla più vicina stazione di polizia ?","Er tyverialarmsystemer automatisk overført til sikkerhedspersonale eller til nærliggende politistation ?","Välitetäänkö varashälytykset automaattisesti turvallisuushenkilöstölle tai läheiselle poliisiasemalle?","Czy sygnały alrmu włamaniowego są automatycznie przesyłane do ochrony lub policji?","Wordt inbraakalarm automatisch doorgezonden aan het beveiligingspersoneel of het nabijgelegen politiekantoor ?","Ali je protivlomni alarm povezan z varnostno službo oziroma bližnjo policijsko postajo?","Je hlášení bezpečnostního systému při vniknutí cizí osoby odesíláno automaticky bezpečnostní ostraze anebo na místní policejní stanici?","A riasztórendszer közvetelnül a biztonsági személyzetnek vagy a közeli rendőrségnek jelez?","Är inbrottslarm automatiskt kopplat till säkerhetspersonal eller till närbelägen polisstation ?","Охранная сигнализация передает ли автоматически сигнал местной службе безопасности или в ближайший полицейский участок?"]
["Warehouse construction","Warehouse construction","Aufbau Lagerhaus","Construção do armazém","Construction de l'entrepôt","Contrucción del almacén","Costruzione del deposito","Lagerkonstuktion","Varaston rakenne","Konstrukcja magazynu","Constructie van het magazijn","Konstrukcija skladišča","Konstrukce skladu","Raktár épületek","lagerlokal konstruktion","Конструкция складских "]
["Warehouse level:","Warehouse level:","Lagerhaus Ebenen","Pisos (andares) do armazém :","Niveau de l'entrepôt:","Nivel de almacenamiento","Livello del deposito:","Lagerniveau:","Varastonrakennuksen kerrokset","Poziomy skąładowania:","Magazijn verdieping:","Nivoji skladišča:","Úroveň skladu:","Raktár szint","Lagerlokal plan","Уровня склада:"]
["single story","single story","eingeschossig","único piso","De plain-pied","Un solo piso","Piano unico","Étplans","Yksikerroksinen","pojedynczy","enkele verdieping","Ena etaža","jednoduché skladování","egyszintes","En våning","одноэтажный"]
["multi story  (above ground floor)","multi story  (above ground floor)","mehrgeschossig (über Erdgeschoss)","vários pisos / compartimentos (acima do piso térreo)","Avec plusieurs étages ( au-dessus du rez-de-chaussée)","Varios pisos","multipiano  (sopra il piano terra)","Flere etages (udover stueplan)","Monikerroksinen (maanpinnan yläpuolella)","wiele poziomów (ponad ziemią)","multiverdiepingen (boven het gelijkvloers)","Več etaž (nad pritličjem)","více vrstvě skladování (nadzemní podlaží)","töbszintes (a talajszínt feleltt)","Flera våningar (ovan markplan)","несколько этажей (над землей)"]
["underground","underground","unterirdisch","abaixo do piso térreo","Sous-sol","Sótano","sottoterra","underjordisk","Maanalainen kerros","podziemne","ondergronds","Podzemno","podzemní","pince","Källare","под землей"]
["Supporting construction:","Supporting construction:","Tragkonstruktion","Materais de construção (componentes) :","Eléments de soutènement","Construcción de soporte","Rinforzi costruttivi:","Støttende konstruktion","Tukirakenteet","Konstrukcja podtrzymująca","Ondersteunende constructie","Podporna konstrukcija:","Podpůrné konstrukce:","Teherhordó falak:","Bärande konstruktion:","Несущая конструкция:"]
["concrete/bricks","concrete/bricks","Beton/ Backstein","cimento / tijolos","Béton/briques","hormigón/ladrillos","calcestruzzo / mattoni - latterizzi ","beton/mursten","betonia/tiiliä","beton/cegła","beton/baksteen","Beton/opeka","beton/cihly","beton/tégla","Betong/tegel","бетон / кирпич"]
["fire protected steel","fire protected steel","feuersicherer Stahl","protecção contra fogo em aço","Acier protégé contre le feu","acero resistente al fuego","acciaio a protezione incendio ","brandsikret stål","Palosuojattua terästä","stal odporan na ogień","brandbeveiligd staal","Jeklo ognjevarno zaščiteno","ohnivzdorná ocel","tűzvédett acél","brandskyddat stål","огнеупорная сталь"]
["metal","metal","Metall","metais","métal","metal","metallo","metal","metallia","metal","metaal","Kovina","kov","fém","Metall","металл"]
["wood","wood","Holz","madeiras","bois","madera","legno","træ","puuta","drewno","hout","Les","dřevo","fa","Trä","дерево"]
["other (please indicate)","other (please indicate)","Sonstiges ( bitte angeben)","outros (por favor indicar)","autre (veuiller indiquer quel type)","otro (por favor indicar)","altro (si prega indicare)","andet (angiv venligst)","muuta (ole hyvä ja ilmoita)","inny (jaki)","andere (beschrijf a.u.b.)","Drugo (prosim navedite)","jiné (prosím specifikujte)","egyéb (adja meg)","Annat (vänligen ange)","другое (уточните)"]
["External walls:","External walls:","Außenwände:","Paredes externas","murs externes","Paredes externas","Pareti esterne:","Eksterne vægge:","Ulkoseinät:","Ściany zewnętrzne","Buitenmuren:","Zunanje stene:","Vnější zdi:","Külső falak:","Ytterväggar","Внешние стены:"]
["concrete/bricks","concrete/bricks","Beton/Backstein","cimento / tijolos","béton/briques","hormigón/ladrillos","calcestruzzo / mattoni - latterizzi ","beton/mursten","betonia/tiiliä","beton/cegła","beton/baksteen","Beton/opeka","beton/cihly","beton/tégla","Betong/tegel","бетон / кирпич"]
["metal","metal","Metall","metais","métal","metal","metallo","metal","metallia","metal","metaal","Kovina","kov","fém","Metall","металл"]
["wood","wood","Holz","madeiras","bois","madera","legno","træ","puuta","drewno","hout","Les","dřevo","fa","Trä","дерево"]
["other (please indicate)","other (please indicate)","Sonstiges (bitte angeben)","outros (por favor indicar)","autre (veuiller indiquer quel type)","otro (por favor indicar)","altro (si prega indicare)","andet (angiv venligst)","muuta (ole hyvä ja ilmoita)","inny (jaki)","andere (beschrijf a.u.b.)","Drugo ( prosim opišite )","jiné (prosím specifikujte)","egyéb (adja meg)","Annat (vänligen ange)","другое (уточните)"]
["Internal walls:","Internal walls:","Innenwände:","Paredes internas","Murs internes","Paredes internas","Pareti interne: ","Interne vægge:","Väliseinät","Ściany wewnętrzne","Tussenmuren: ","Notranje stene:","Vnitřní zdi:","Belső falak","Innerväggar","Внутренние стены:"]
["concrete/bricks","concrete/bricks","Beton/Backstein","cimento / tijolos","béton/briques","hormigón/ladrillos","calcestruzzo / mattoni - latterizzi ","beton/mursten","betonia/tiiliä","beton/cegła","beton/baksteen","Beton/opeka","beton/cihly","beton/tégla","Betong/tegel","бетон / кирпич"]
[{"$f":"IF(ISERROR(IF(LEN(TEXT(OFFSET(A552,0,langsel),\"\"))>0,TEXT(OFFSET(A552,0,langsel),\"\"),TEXT(B552,\"\"))),IF(LEN(OFFSET(A552,0,langsel))>0,OFFSET(A552,0,langsel),B552),IF(LEN(TEXT(OFFSET(A552,0,langsel),\"\"))>0,TEXT(OFFSET(A552,0,langsel),\"\"),TEXT(B552,\"\")))","v":"metal"},"metal","Metall","metais","métal","metal","metallo","metal","metallia","metal","metaal","Kovina","kov","fém","Metall","металл"]
["wood","wood","Holz","madeiras","bois","madera","legno","træ","puuta","drewno","hout","Les","dřevo","fa","Trä","дерево"]
["other (please indicate)","other (please indicate)","Sonstiges (bitte angeben)","outros (por favor indicar)","autre (veuiller indiquer quel type)","otro (por favor indicar)","altro (si prega indicare)","andet (angiv venligst)","muuta (ole hyvä ja ilmoita)","inny (jaki)","andere (beschrijf a.u.b.)","Drugo ( prosim opišite )","jiné (prosím specifikujte)","egyéb (adja meg)","Annat (vänligen ange)","другое (уточните)"]
["Roof and supporting construction material:","Roof and supporting construction material:","Dach und Material Tragkonstruktion:","Telhado e materiais de construção (componentes) :","Toit et matériau de construction porteur","Techo y material de soporte","Tetto e materiale di supporto alla costruzione ","Tag og andet støttende konstruktionsmateriale:","Katto ja tukirakenteet","Dach i konstukcja podtrzymująca:","Materiaal van dak en ondersteuning","Streha in podporna konstrukcija:","Střecha a podpěrný konstrukční materiál:","Tetőszerkezet anyaga:","Tak och tillhörande konstruktionsmaterial","Материал крыши и несущей конструкции:"]
["tiles","tiles","Ziegel","telhas","tuiles","azulejos","tegole","tegl","laattoja","dachówka","tegels","Opečni strešniki","tašky","cserép","Kakel","кирпич, черепицы"]
["metal","metal","Metall","metais","métal","metal","metallo","metal","metallia","metal","metaal","Kovina","kov","fém","Metall","металл"]
["wood","wood","Holz","madeiras","bois","madera","legno","træ","puuta","drewno","hout","Les","dřevo","fa","Trä","дерево"]
["other (please indicate)","other (please indicate)","Sonstiges (bitte angeben)","outros (por favor indicar)","autre (veuiller indiquer quel type)","otro (por favor indicar)","altro (si prega indicare)","andet (angiv venligst)","muuta (ole hyvä ja ilmoita)","inny (jaki)","andere (beschrijf a.u.b.)","Drugo (prosim opišite)","jiné (prosím specifikujte)","egyéb (adja meg)","Annat (vänligen ange)","другое (уточните)"]
["Floor:","Floor:","Boden:","Piso :","Sol:","Suelo","Pavimento:","Gulv:","Lattia","Podłoga:","Vloer:","Tla:","Podlaha:","Aljzat","Golv","Пол:"]
["concrete","concrete","Beton","cimento","Béton","hormigón","calcestruzzo","beton","betonia","beton ","beton","Beton/opeka","beton","beton","Betong","бетон"]
["asphalt","asphalt","Asphalt","asfalto","Asphalte","asfalto","asfalto","asfalt","asfalttia","asfalt","asfalt","Asfalt","asfalt","aszfalt","Asfalt","асфальт"]
["paved","paved","geplastert","pavimento","Pavé","pavimentado","pavimentato","brolagt","päällystetty","bruk","geplaveid","Tlakovano","dlažba","burkolt felület","Stensatt","мощеный"]
["impervious","impervious","undurchlässig","impermeabilização","Imperméable","impermeable","impervio","uigennemtrængelig","läpäisemätön","nieprzepuszczlny ","ondoordringbaar","Nepropustna","nepropustná","vízzáró felület","Ogenomtränglig","непромокаемый"]
["other (please indicate)","other (please indicate)","Sonstiges (bitte angeben)","outros (por favor indicar)","autre (veuiller indiquer quel type)","otro (por favor indicar)","altro (si prega indicare)","andet (angiv venligst)","muuta (ole hyvä ja ilmoita)","inny (jaki)","andere (beschrijf a.u.b.)","Drugo (prosim opišite)","jiné (prosím specifikujte)","egyéb (adja meg)","Annat (vänligen ange)","другое (уточните)"]
["Insulation - walls:","Insulation - walls:","Dämmung - Wände:","Isolamento - paredes :","isolation - murs:","Aislamiento - Muros","Pareti di isolamento","Isolering - vægge:","Eristys - seinät:","izolacja - ściany","Isolatie - muren:","Izolacija - stene:","Izolace - stěny:","Szigetelés  - falak","Isolering - väggar","Изоляция - из стены:"]
["polyurethane","polyurethane","Polyurethan","poliuretano","polyuréthane","Poliuretano","poliuretano","polyuretan","polyuretaani","poliuretan","polyurethaan","Poliuretan","polyuretan","Poliuretán","Polyuretan","полиуретан"]
["asbestos","asbestos","Asbest","asbestos","amiante","Asbestos","amianto","asbest","asbestia","asbest","asbest","Azbest","azbest","azbeszt","Asbest","асбест"]
["glass fiber","glass fiber","Glasfiber","fibra de vidro","fibre de verre","Fibra de vidrio","fibre di vetro","glasfiber","lasikuitua","wata szklana","glasvezel","Steklena vlakna","skelné vlákno","üveggyapot","Glasfiber","стекловолокно"]
["other (please indicate)","other (please indicate)","Sonstiges (bitte angeben)","outros (por favor indicar)","autre (veuiller indiquer quel type)","otro (por favor indicar)","altro (si prega indicare)","andet (angiv venligst)","muuta (ole hyvä ja ilmoita)","inny (jaki)","andere (beschrijf a.u.b.)","Drugo (prosim opišite)","jiné (prosím specifikujte)","egyéb (adja meg)","Annat (vänligen ange)","другое (уточните)"]
["Insulation - roof:","Insulation - roof:","Dämmung - Dach:","Isolamento - telhado :","Isolation - toit :","Aislamiento - Techo","Isolamento - tetto","Isolering - tag:","Eristys - katto:","izolacja - dach","Isolatie - Dak","Izolacija - streha:","Izolace  - střecha","Szigetelés - tető","Isolering - tak","Изоляция - на крыше:"]
["polyurethane","polyurethane","Polyurethan","poliuretano","poyuréthane","Poliuretano","poliuretano","polyuretan","polyuretaani","poliuretan","polyurethaan","Poliuretan","polyuretan","Poliuretán","Polyuretan","полиуретан"]
["asbestos","asbestos","Asbest","asbestos","amiante","Asbestos","amianto","aspest","asbestia","azbest","asbest","Azbest","azbest","azbeszt","Asbest","асбест"]
["glass fiber","glass fiber","Glasfiber","fibra de vidro","fibre de verre","Fibra de vidrio","fibre di vetro","glasfiber","lasikuitua","wata szklana","glasvezel","Steklena vlakna","skelné vlákno","üveggyapot","Glasfiber","стекловолокно"]
["other (please indicate)","other (please indicate)","Sonstiges (bitte angeben)","outros (por favor indicar)","autre (veuiller indiquer quel type)","otro (por favor indicar)","altro (si prega indicare)","andet (angiv venligst)","muuta (ole hyvä ja ilmoita)","inny (jaki)","andere (beschrijf a.u.b.)","Drugo (prosim opišite)","jiné (prosím specifikujte)","egyéb (adja meg)","Annat (vänligen ange)","другое (уточните)"]
["Is the warehouse construction code in line with \"natural disaster guidelines\", if any ?","Is the warehouse construction code in line with \"natural disaster guidelines\", if any ?","Stehen die Baugesetze für das Lagerhaus im Einklang mit den \"Richtlinien für Naturkatastrophen\", wenn überhaupt?","O código de construção do armazém, está de acordo com \"orientações de desastres naturais\", se aplicável ?","Est-ce que le code de construction de l'entrepôt est en ligne avec les \"recommandations sur les catastrophes naturelles\", le cas échéant ?","¿La construcción del almacén está en línea con las guías de desastres naturales, si procede?","Il codice di  costruzione del deposito è in linea con la \" linea guida dei disastri naturali \" se c'è ? ","Er kontruktionsforeskriften for lageret i overensstemmelse med \"naturkatastrofe vejledningen\", hvis en sådan forefindes ?","Onko varastorakennuksen rakennelujuus yhdenmukainen \"luonnon katasrofin ohjeiden\" kanssa, jos sellainen on?","Czy konstrukcja magazynu odpowiada zasadom zabezpiecznia przed katastrofami naturalnymi (jeśli takie zasady są określone)","Is de constructie van het magazijn conform richtlijnen \"Natuurrampen\" indien die er zijn?","Ali je konstrukcija skladišča v skladu z \"navodili za naravne nesreče\" v kolikor obstajajo?","Je klasifikace konstrukce skladu v souladu s \"návody pro přírodní pohromy\" pokud existují?","A raktár építési módja összhangban van a \"Természeti katasztrófák útmutató\" -val, ha létezik?","Är lagrets konstruktion i linje med \"naturkatastrof riktlinjer\", om någon ?","Существуют  ли строительные нормы и правила для склада в соответствии с \"Руководящими принципами для стихийных бедствий\", если вообще таковые имеются?"]
["Electrical equipment","Electrical equipment","Elektrische Ausstattung","Equipamento eléctrico","Equipement électrique","Equipamiento eléctrico","Impianto elettrico:","Elektrisk udstyr","Sähkölaitteet","Wyposażenie elektryczne","Elektrische uitrusting","Električna oprema","Elektrické zařízení","Elektromos berendezések","Elektrisk utrustning","Электротехническое оборудование"]
["Is the electrical installation in accordance with the local regulations and standards ?","Is the electrical installation in accordance with the local regulations and standards ?","ist die elektrische Ausstattung in Übereinstimmung mit den örtlichen Vorschriften und Standards?","A instalação eléctrica, está em conformidade com os regulamentos e padrões locais ?","Est-ce que l'installation électrique est en accord avec les réglementations locales et les standards ?","¿Está la instalación eléctrica construida de acuerdo a las normativas y estándares locales?","L'impianto elettrico è stato istallato in accordo ai regolamenti locali o standards ?","Er de elektriske installationer i overensstemmelse med de lokale krav og standarder ?","Ovatko sähköasennukset paikallisten määräysten ja normien mukaiset?","Czy instalcja elektryczna jest zgodna z lokalnymi przepisami?","Is de elektrische installatie conform met de lokale regelgeving en standaarden?","Ali je električna instalacija v skladu z zakonskimi zahtevami in standardi?","Je elektrická instalace v souladu s místní legislativou a standardy?","Az elektromos berendezések a helyi szabályoknak és szabványoknak megfelelőek?","Överensstämmer den elektriska installationen med lokala regler och standards ?","Является ли электротехническое оборудование в соответствии с местными нормами и стандартами?"]
["Is the electrical installation (inclusive lighting) in accordance to the explosion protection regulations ?","Is the electrical installation (inclusive lighting) in accordance to the explosion protection regulations ?","Ist die elektrische Installation (inklusive Beleuchtung) in Übereinstimmung mit den Explosionsschutzbestimmungen?","A instalação elétrica (incluindo a iluminação), está em conformidade com os regulamentos de protecção contra explosões ?","Est-ce que l'installation électrique (y compris l'éclairage) est conforme avec les réglementations sur la protection contre les explosions ?","¿Está construida la instalación eléctrica (incluida iluminación) de acuerdo a la normativa de protección contra explosiones?","Il sistema elettrico (incluso il sistema di illuminazione) è in linea con i regolamenti di protezione esplosione ?","Er de elektriske installationer (inkl. belysning) i overensstemmelse med eksplosionsbeskyttelseskravene ?","Ovatko sähköasennukset (mukaan lukien valaistus) atex-säännösten mukaiset?","Czy instalacja elektryczna (w tym oświetlenie) jest zgodna z przepsiami dotyczcymi wypsażenia przeciwwybuchowego?","Is de elektrische installatie (inclusief verlichting) conform aan de regelgeving betreffende explosiegevaar?","Ali je električna instalacija (vključno razsvetljava) v skladu s predpisi o Ex zaščiti?","Je elektrická instalace (vč. osvětlení) v souladu s předpisy platnými pro prevenci výbuchu? ","Az elektromos berendezések (beleértve a világítást is) megfelelnek a robbanásbiztos építészeti előírásoknak?","Är den elektriska installationen (inklusive belysning) i enlighet med föreskrifter för explosionsskydd ?","Есть электрические установки (включая освещение) в соответствии с правилами взрывобезопасности?"]
["Is the coverage of lighting 100 % ? (yes and/or indicate %)","Is the coverage of lighting 100 % ? (yes and/or indicate %)","Beträgt die Reichweite der Ausleuchtung 100% (ja und/oder Prozentzahl angeben)","A cobertura do sistema de iluminação é a 100% ? (sim e / ou indicar %)","Est-ce que la couverture d'éclairage est à 100% ? ( oui et/ou non indiquer le %)","¿La iluminación cubre el 100%? (\"Si\" o indicar %)","La copertura dell'illuminazione è del 100 % (si o indicare la % di copertura)","Er belysning 100 % ? (ja og /eller angiv %)","Kattaako valaistus 100 % varastoalueesta? (kyllä ja/tai ilmoita %-osuus)","Czy oświetlenie obejmuje 100% magazynu, jeśli nie, proszę podac ile procent?","Is er overal verlichting d.w.z. 100 % (antwoord ja of geeft het percentage)","Ali je osvetjenost 100%? ( da in/ali navedite %)","Je osvětlením pokryto 100% plochy? (ano a / nebo uveďte %)","A terület  100%a meg van világítva? (Y vagy N vagy a megvilágított terület %)","Är täckningen av belysning 100 % ? (ja och/eller ange %)","Является ли покрытие освещения на 100%? (да и / или указать%)?"]
["Are safety lights installed in storage areas with safety lamps at least 1.5 m away from the product ?","Are safety lights installed in storage areas with safety lamps at least 1.5 m away from the product ?","Sind in den Lagerbereichen Sicherheitslampen mindestens 1,5 m von den Lagerprodukten entfernt installiert?","Existe iluminação de segurança instalada em áreas de armazenamento com lâmpadas de segurança, pelo menos, com 1,5 m de distância do produto ?","Est-ce qu' un éclairage de sécurité est installé dans les entrepôts, avec les lampes de sécurité qui sont éloignées au moins de 1,5 m de tout produit?","¿Se instalan lámparas de seguridad con bombillas de seguridad  como mucho a 1,5 m del producto almacenado?","Le luci di sicurezza istallate nelle aree di immagazzinamento con luci di sicurezza almeno a 1,5 mt. dai prodotti ?","Er der installeret sikkerhedslamper på lagerområdet med en afstand på min. 1,5 m til produkter ?","Onko hätävalot asennettu varastoalueille vähintään 1,5 metrin etäisyydelle tuotteista?","Czy oświetlneie bezpieczne jest zainstalowane minimum 1,5 m od skłądowancyh materiałów?","Is veiligheidsverlichting geplaatst in de opslagruimten met veiligheidslampen tenminste 1,5 m verwijderd van de producten?","Ali je varnostna razsvetljava nameščena in ali so varnostna svetila najmanj 1,5m od skladiščenih proizvodov?","Jsou instalováno bezpečnostní osvětlení v prostoru skladu bezpečnostními lampami nejméně 1,5 m od skladovaného produktu?","A rakterületen biztonsági lámpák vannak, legalább 1.5 méterre a termékektől?"," Är säkerhetsbelysning t.ex-lampor installerade i lagerutrymmena (om nödvändigt) eller annan belysning, som är skyddad mot kollision och med ett avstånd om  minst 1,5 m till produkterna ? ","Установлены ли безопасные лампы в складе по крайней мере 1,5 м от складированных товаров?"]
["Is lightning protection installed ?","Is lightning protection installed ?","Ist Blitzschutz installiert?","A protecção contra raios está instalada ?","Y a-t-il une protection contre la foudre ?","¿Se ha instalado protección de la iluminación?","E ' installata la protezione dai fulmini ?","Er der installeret lynnedslagsbeskyttelse ?","Onko valaistuksen suojaus tehty?","Czy zainstalowano zabezpieczenia oświetlenia?","Is er bliksemafleiding geplaatst?","Ali je instaliran strelovod?","Je instalována ochrana osvětlení?","Villámvédelem fel van szerelve?","Är åskskydd installerat ?","Является ли молниезащита установлена?"]
["Handling equipment","Handling equipment","Hebe- und Fördergeräte","Equipamento de movimentação","Equipement de manutention","Equipamiento de carga","Equipaggiamneto per la movimentazione ","Udstyr:","Laitteiden käyttö:","Sprzęt handlingowy:","Materieel voor behandeling","Oprema za manipulacijo","Manipulační zařízení:","Emelőgépek","Hanteringsutrustning","Подъемно-транспортное оборудование"]
[{"$f":"IF(ISERROR(IF(LEN(TEXT(OFFSET(A584,0,langsel),\"\"))>0,TEXT(OFFSET(A584,0,langsel),\"\"),TEXT(B584,\"\"))),IF(LEN(OFFSET(A584,0,langsel))>0,OFFSET(A584,0,langsel),B584),IF(LEN(TEXT(OFFSET(A584,0,langsel),\"\"))>0,TEXT(OFFSET(A584,0,langsel),\"\"),TEXT(B584,\"\")))","v":"Forklift type :"},"Forklift type :","Gabelstaplertypen:","Tipo de empilhador :","Type de chariot-élévateur","Tipo de carretillas elevadoras","Muletti:","Gaffeltruck - type:","Haarukkatrukkien tyyppi:","Typy wózków:","Type vorkheftruck","Tip viličarjev:","Typ vysokozdvižných vozíků:","Targoncák tipusa:","Gaffeltruck typ :","Тип вилочных погрузчиков:"]
["gasoil","gasoil","Gasöl","gasóleo","Diesel","gasoil","gasolio","benzin","polttoaine","spalinowe","diesel","Dizel","benzín","dízel","gasolja","газойль / дизель"]
["LPG","LPG","Propangas","gás (GPL)","LPG","LPG","gas","Gas","kaasu","LPG","LPG","Plin","LPG","gáz","Gasol","сжиженный газ"]
["electric","electric","Elektrisch","eléctrico","Electrique","eléctrica","elettrico","Elektrisk","sähkö","elektryczne","elektrisch","Električen","elektrický","elektromos","Elektrisk","электрический"]
["Fixed storage tanks for liquids","Fixed storage tanks for liquids","Feste Lagertanks für Flüssigkeiten","Tanques fixos de armazenagem para líquidos","Réservoirs de stockage fixes pour liquides ","Tanques fijos de almacenamiento para líquidos","Serbatoio fisso per liquidi","Faste opbevaringstanke til væske","Nesteiden kiinteät varastosäiliöt:","Stałe zbiorniki na ciecze:","Vaste opslagtanks voor vloeistoffen","Stabilni rezervoarji za tekočine","Stabilní zásobníky na tekutiny","Rögzített tároló tartályok","Fasta lagertankar för vätskor","Складские резервуары для хранения жидкостей"]
["Total capacity of storage tanks available (cubic meters) ?","Total capacity of storage tanks available (cubic meters) ?","Gesamtfassungsvermögen der vorhandenen Lagertanks (Kubikmeter)?","Capacidade total de armazenamento dos tanques existentes (m3) ?","Capacité totale disponible des réservoirs de stockage (mètres cubes) ?","Capacidad total de los tanques (metros cúbicos)","Capacità totale dei serbatoi fissi disponibili (metri cubi)","Totale kapacitet af tilgængelige opbevaringstanke (m3)","Käytettävissä olevien varastosäiliöiden kokonaistilavuus (kuutiometriä)?","Pojemeność ogółem (m3):","Totale capaciteit van beschikbare opslagtanks (kubieke meters)","Celotna razpoložljiva kapaciteta (m3)","Celková kapacita zásobních nádrží, která je k dispozici (m3)?","Az elérhető tartálykapacitás (m3)","Total tillgänglig kapacitet i lagertankar (kubikmeter)","Общая емкость существующих складских резервуаров (куб.м.)?"]
["If available:","If available:","Wenn verfügbar:","Se existente :","Si disponible:","Si existe:","Se disponibile:","Hvis tilgængelig:","Jos säiliöitä:","Jeśli dostępne:","Indien beschikbaar","Če je na razpolago:","Pokud je k dispozici:","ha elérhető:","Om tillgängligt:","Если в наличии:"]
["Construction material of:","Construction material of:","Baumaterial aus:","Materiais de construção de :","Matériau de construction :","Material de construcción de:","materiale di costruzione:","Kontruktionsmateriale af:","Säiliöiden rakennemateriaali:","Materiał konstrukcyjny:","Constructiemateriaal van","Konstrukcijski material:","Konstrukční materiál:","anyaga","Konstruktionsmaterial av:","Строительный материал:"]
["stainless steel","stainless steel","Edelstahl","aço inoxidável","acier inoxydable","Acero inoxidable","acciaio inossidabile","Rustfrit stål","ruostumaton teräs","stal nierdzewna","roestvrij staal","Nerjaveče jeklo","nerezová ocel","rozsdamentes acél","Rostfritt stål","нержавеющая сталь"]
["carbon steel","carbon steel","Kohlenstoffstahl","aço ao carbono","acier carbone","acero de carbono","acciaio al carbonio","Stål","hiiliteräs","stal węglowa","koolstofstaal","Jeklo ","uhlíková ocel","szénacél","Kolstål","углеродистая сталь"]
["aluminum","aluminum","Aluminium","alumínio","aluminium","aluminio","alluminio","aluminium","alumiini","aluminium","aluminium","Aluminij","hliník","alumínium","Aluminium","алюминий"]
["polyester/plastic","polyester/plastic","Polyester/Plastik","poliester / plástico","polyester/plastique","poliester/plástico","poliestere / plastica","polyester /plastik","polyester/muovi","poliester/plastik","polyester/kunststof","Poliester/plastika","polyester/plast","poliészter, műanyag","Polyester/plast","полиэстер / пластмасса"]
["Internal coating ?","Internal coating ?","Innenbeschichtung?","Revestimento interno ?","Revêtement intérieur ?","Revestimiento interior?","rivestimento interno","intern belægning","Sisäpuolinen pinnoitus?","Wewnętrzny płaszcz?","interne coating?","Notranja prevleka?","Vnitřní pokrytí?","belső festés?","Invändig beläggning ?","Внутреннее покрытие?"]
["Fixed storage silos for solids","Fixed storage silos for solids","Feste Lagersilos für Feststoffe","Silos fixos de armazenagem de sólidos","Silos de stockage fixes pour solides ","Silos fijos de almacenamiento para sólidos","Silos fissi per solidi ","Faste opbevaringstanke til faste stoffer","Kiinteät varastosiilot kiinteille aineille","Stałe silosy:","Vaste opslagtanks voor vaste stoffen","Stabilni silosi za praškaste materiale","Stabilní zásobníky - sila pro pevné látky","Rögzitett silók","Fasta lagersilos för fasta ämnen","Складские резервуары для хранения твердых веществ (силоса)"]
["Total capacity of storage silos available (cubic meters) ?","Total capacity of storage silos available (cubic meters) ?","Gesamtkapazität der vorhandenen Lagersilos (Kubikmeter)?","Capacidade total disponível de armazenagem em silos (m3)","Capacité totale disponible des silos de stockage ( en mètres cube) ?","Capacidad total de almacenamiento en silos (metros cúbicos)","Capacità totale dei silos fissi disponibili (metri cubi)","Totale kapacitet af tilgængelige opbevaringssiloer (m3) ?","Käytettävissä olevien varastosiilojen kokonaistilavuus (kuutiometriä) ?","Pojemność ogółem","Totale capaciteit van beschikbare opslagsilo's (kubieke meters)","Celotna razpoložljiva kapaciteta (m3)","Celková kapacita zásobních sil, která je k dispozici (m3)?","Teljes silókapacitás (m3)","Total tillgänglig kapacitet i silos (kubikmeter)","Общая емкость существующих силосов (куб.м.)?"]
["If available:","If available:","Wenn verfügbar:","Se existente :","Si disponible:","Si existe:","Se disponibile:","Hvis tilgængelig:","Jos siiloja:","Jeśli dostępne:","Indien beschikbaar","Če so podatki o:","Pokud je k dispozici:","ha elérhető:","Om tillgängligt:","Если в наличии:"]
["Construction material of:","Construction material of:","Baumaterial aus:","Materiais de construção de :","Matériau de construction:","Material de construcción de:","Materiale di costruzione:","Konstruktionsmateriale af:","Siilojen rakennemateriaali:","Materiał konstrukcyjny:","Constructiemateriaal van","Konstrukcijski material:","Konstrukční materiál:","anyaga","Konstruktionsmaterial av:","Строительный материал:"]
["stainless steel","stainless steel","Edelstahl","aço inoxidável","acier inoxydable","Acero inoxidable","acciaio inossidabile","Rustfrit stål","ruostumaton teräs","stal nierdzewna","roestvrij staal","Nerjaveče jeklo","nerezová ocel","rozsdamentes acél","Rostfritt stål","нержавеющая сталь"]
["carbon steel","carbon steel","Kohlenstoffstahl","aço ao carbono","acier","acero de carbono","acciaio al carbonio","Stål","hiiliteräs","stal węglowa","koolstofstaal","Jeklo ","uhlíková ocel","szénacél","Kolstål","углеродистая сталь"]
["aluminum","aluminum","Aluminium","alumínio","aluminium","aluminio","alluminio","aluminium","alumiini","aluminium","aluminium","Aluminij","hliník","alumínium","Aluminium","алюминий"]
["polyester/plastic","polyester/plastic","Polyester/Plastik","poliester / plástico","polyester/plastique","poliester/plástico","poliestere / plastica","polyester /plastik","polyester/muovi","poliester/plastik","polyester/kunststof","Poliester/plastika","polyester/plast","poliészter, műanyag","Polyester/plast","полиэстер / пластмасса"]
["Internal coating?","Internal coating?","Innenbeschichtung?","Revestimento interno ?","Revêtement intérieur ?","Revestimiento interior?","rivestimento interno","intern belægning","Sisäinen pinnoitus?","Wewnętrzny płaszcz?","interne coating?","Notranja prevleka?","Vnitřní pokrytí?","belső festés?","Invändig beläggning ?","Внутреннее покрытие?"]
["Operations","Operations","Betriebliche Tätigkeiten ","Operações","Opérations","Operaciones","Operazioni","Arbejdsprocesser","Toiminnan","Operacje","Operaties","Izvajane aktivnosti","Činnosti","üzemeltetés","Verksamhet","Деятельности"]
["Are hazardous substances handled (filling/blending) in open systems in the warehouses ?","Are hazardous substances handled (filling/blending) in open systems in the warehouses ?","Werden gefährliche Stoffe in offenen Systemen in den Lagerhäusern gehandhabt (abgefüllt/gemischt)?","As substâncias tóxicas são manuseadas (enchimento / mistura) em sistemas abertos nos armazéns ?","Y a-t-il manutention de marchandises dangereuses (remplissage/mélange) dans des systèmes ouverts à l'intérieur des entrepôts ?","¿Se manipulan sustancias peligrosas (llenado/fusión) en sistemas abiertos en el almacén?","Sono movimentate sostanze pericolose (riempimento / miscelatura) con sistema aperto nel deposito ?","Bliver farlige stoffer håndteret (påfyldning/blandet) i åbne systemer på lageret ?","Käsitelläänkö vaarallisia aineita (täyttö/sekoitus) avoimissa järjestelmissä varastorakennuksessa?","Czy niebezpieczne substancje sa obsługiwane w otwarych częściach magazynu (obsługa, mieszanie, napełnianie)","Wordt in het magazijn gevaargoed behandeld (vullen/mengen) in open systemen ?","Ali+M571 se v skladišču rokuje z nevarnimi snovmi (polnjenje/mešanje) v odprtih sistemih?","Je s nebezpečnými látkami manipulováno (plnění/míchání) v otevřeném prostoru skladu?","A veszélyes anyagok kezelése (betöltés, keverés) nyilt rendszerben történik?","Hanteras farliga produkter (fyllning/blandning) i öppna system i lagerlokaler ?","Есть ли опасные вещества (наполнение / смешивания) в открытых системах на складах?"]
["Which classes of hazardous substances are handled in these open systems ?","Which classes of hazardous substances are handled in these open systems ?","Welche Klassen der gefährlichen Stoffe werden in diesen offenen Systemen gehandhabt?","Quais as classes de substâncias perigosas que são tratados nestes sistemas abertos ?","Quelles sont les classes des matières dangereuses qui sont manipulées dans ces systèmes ouverts ?","Qué clase de sustancia peligrosas se manipulan en estos sistemas abiertos?","Quali classi di sostanze pericolose sono movimentate in quasto sistema aperto ?","Hvilke klasser af farlige stoffer bliver håndteret i disse åbne systemer ?","Mitä vaarallisten aineiden luokkia käsitellään näissä avoimissa järjestelmissä?","Jakie klasy materiałó sa obsługiwane w otwrtych częściach magazynu?","Welke klassen gevaargoed worden in deze open systemen behandeld ?","S katerimi razredi (klasifikacije) nevarnih snovi se rokuje v odprtih sistemih?","Se kterými třídami nebezpečných látek je manipulováno v tomto prostoru?","Milyen áruosztályokat kezelnek ezzel a nyilt rendszerrel?","Vilka klasser  av farliga substanser hanteras i dessa öppna system ? ","Какие классы опасных материалов обрабатываются в этих открытых систем?"]
["Are drumming lines available ? ","Are drumming lines available ? ","Sind Fassabfüllstationen vorhanden?","Existem linhas de tambores (embalagem) disponíveis?","Y a-t-il des lignes d'enfûtage ?","¿Hay líneas de llenado de bidones?","E' disponibile una linea di riempimento fusti ?","Er linier med tromler tilgængelige ?","Onko tynnyrien täyttölinjaa?","Czy jest linia do napełniana bębnów?","Zijn er lijnen voor afvullen in vaten beschikbaar?","Ali so polnilne linije za sode v skladišču? ","Je k dispozici linka na plnění sudů?","Hordozó sor elérhető?","Är fatfyllningslinje tillgänglig ?","Есть ли в наличии линия розлива для бочек / баррели?"]
["Are bagging lines available ?","Are bagging lines available ?","Sind Sackabfüllstationen vorhanden?","Existem linhas de ensacamento disponíveis ?","Y a-t-il des lignes d'ensachage ?","¿Hay líneas de llenado de sacos?","E' disponibile una linea di riempimento sacchi ?","Er linier med poser/sække tilgængelige ?","Onko säkityslinjaa?","Czy jest linia do napełniania worków?","Zijn er afzaklijnen beschikbaar?","Ali so linije za vreče v skladišču?","Je k dispozici linka na plnění pytlů?","Zsáktöltő sor elérhető?","Är säckfyllningslinje tillgänglig ?","Есть ли в наличии линия розлива для мешки?"]
["WH-FCI","WH-FCI"]
[{"$f":"IF(ISERROR(IF(LEN(TEXT(OFFSET(A612,0,langsel),\"\"))>0,TEXT(OFFSET(A612,0,langsel),\"\"),TEXT(B612,\"\"))),IF(LEN(OFFSET(A612,0,langsel))>0,OFFSET(A612,0,langsel),B612),IF(LEN(TEXT(OFFSET(A612,0,langsel),\"\"))>0,TEXT(OFFSET(A612,0,langsel),\"\"),TEXT(B612,\"\")))","v":"Fire Compartments Information :"},"Fire Compartments Information :","Informationen Brandabschnitte:","Informação Contra Incêndios de cada área de armazenagem","Information sur les compartiments résistants au feu","Información de sectorización contra incendios","Informazioni sui compartimenti antincendio:","Information om brandsektioner:","Palo-osastojen tiedot:","Informacje o komorze/przegrodzie ogniowej:","Informatie betreffende de brandcompartimenten","Informacije o požarnih sektorjih:","Informace týkající se požárních oddělení:","Tűzszakasz információk","Brandcells Information","Информация о пожарных отсеках:"]
["It is envisaged that one warehouse building may have more than one fire compartment. For this reason the below spreadsheet is used by the warehouse to record fire compartment details per building. The combination is identified through the first two columns.","It is envisaged that one warehouse building may have more than one fire compartment. For this reason the below spreadsheet is used by the warehouse to record fire compartment details per building. The combination is identified through the first two columns.","es ist vorauszusehen, dass ein Lagerhausgebäude mehr als einen Brandabschnitt hat. Aus diesem Grund ist das nachstehende Arbeitsblatt vom Lagerhaus zu benutzen um die Details der Brandabschnitte je Gebäude einzutragen Der Zusammenhang ist durch die ersten zwei Spalten aufgezeigt. ","Foi previsto na construção do armazém ter mais de um compartimento com corta fogo. Por isso, a folha Excel abaixo é utilizada para a empresa para registrar os detalhes de cada compartimento corta fogo por edifício. A combinação destas áreas é identificada através das duas primeiras colunas da folha de Excel.","Il est prévu que d'un bâtiment d'entrepôt peut avoir plus d'un compartiment résistant au feu. Pour cette raison, la feuille de calcul ci-dessous est utilisé par l'entrepôt pour enregistrer des détails des compartiments résistants au feu par bâtiment. La combinaison est identifié par les deux premières colonnes","Se prevé que la construcción de un almacén puede tener más de un sector de incendio. Por esta razón, la siguiente hoja de cálculo será utilizada para registrar los detalles de compartimentación contra incendios por edificio. La combinación se identifica a través de las dos primeras columnas.","E' previsto che una struttura di deposito possa avere più di un compartimento antincendio. Per questa ragione lo spazio sottostante deve essere usata dal Deposito per registrare i dettagli dei compartimenti antincendio per struttura. La combinazione è identificata attraverso le prime due colonne.","Er det forudset at én lagerbygning kan have mere en én brandsektion. Af denne grund skal lageret anvende nedenstående skema til at notere detaljer om brandsektioner pr. bygning. Kombinationen identificeres på de første to kolonner. ","On tiedostettu, että yhdessä varastorakennuksessa saattaa olla enemmän kuin yksi palo-osasto. Tästä johtuen seuraavaan talukkoon kirjataan varstojen palo-osastokohtaisesti tiedot. Varastorakennus ja palo-osasto yksilöidään kahdessa ensimmäisessä sarakkeessa."," Budynek magazynu może mieć więcej niż jedną komorę/przegrodę ogniową. Z tego powodu arkusz jest używany przez magazyn do opisania komory  ogniowej dla budynku. Kombinacja jest identyfikowana poprzez pierwsze dwie kolumny. ","Er wordt verondersteld dat één magazijngebouw meerdere brandcompartimenten kan bevatten. Om deze reden dient het onderstaande werkblad door het bedrijf gebruikt te worden om details betreffende brandcompartimentering per gebouw te registreren. De combinatie wordt geïdentificeerd door de eerste twee kolommen.","Predvideva se, da ima skladiščna stavba lahko več požarnih sektorjev. Spodnja tabela se uporablja za opis požarnih sektorjev za vsako stavbo. Kombinacija se identificira v prvih dveh stolpcih.","Předpokládá se, že každá budova skladu může mít více než jedno požární oddělení. Z tohoto důvodu je použita tabulka k zaznamenání detailů každého požárního oddělení  v každé budově. Kombinace je identifikovaná prvními dvěma sloupci.","Lehetséges, hogy egy raktár épületben több tűzszakasz van. Ezért az alábbi táblázatban az egyes épületeken belüli szakaszok is megadhatók. Az azonosításra az első két oszlop szolgál","Det är tänkt att en lagerbyggnad kan ha mer än en brandcell. Av denna anledning skall nedanstående kalkylblad användas av lagret för att notera brandcellsdetaljer per byggnad. Kombinationen är identifierad genom de två första kolumnerna.","Предполагается, что здание склада может иметь более одного пожарного отсека. По этой причине таблицу ниже надо использовать для записи подробностей о каждом противопожарном отсеке в каждом складе. Взаимосвязь в первых двух колонках."]
["(example WH1 / Compartment X)","(example WH1 / Compartment X)","(Beispiel Lagerhaus1 / Brandabschnitt X)","(exemplo WH1 / Compartimento X)","(exemple WH1/ Compartiment X)","(ejemplo WH1/Sector X)","(esempio Deposito 1/compartimento X)","(eksempel WH1 / Sektion X)","(esimerkiksi WH1 / osasto X)","(przykłądowo WH1/Komora(przegroda) X","(voorbeeld WH1 / compartiment X)","(primer WH1 / sektor X)","(příklad WH1 / oddělení X)","példa WH1/ X tűzszakasz","(exempel WH1 / Cell X)","(например, WH1 / отсек X)"]
["Warehouse","Warehouse","Lagerhaus","Armazém","Entrepôt","Almacén ","Deposito","Lager","Varastorakennus","Magazyn","Magazijn","Skladišče","Skladování","Raktár","Lagerlokal","Склад"]
["(identification)","(identification)","(Identifizierung)","(identificação)","(identification)","(identificación)","(identificazione)","(identifikation)","(yksilöinti)","(identyfikacja)","(identificatie)","(identifikacija)","(identifikace)","azonosítás","(identifikation)","(идентификация)"]
["Fire compartment","Fire compartment","Brandabschnitt","Compartimento corta fogo","Compartiment résistant au feu","Sector de incendio","Compartimento antincendio","Brandsektion","Palo-osasto","Komora/przegroda ogniowa","Brandcompartiment","Požarni sektor","Požární oddělení","Tűzszakasz","Brandcell","противопожарный отсек"]
["Area","Area","Bereich","Área","Surface","área","Area","Område","Ala","Powierzchnia","Oppervlakte  ","Površina","Plocha","Terület","Area","область"]
["[sqm]","[sqm]","(Quadratmeter)","[m2] ou [sqm]","(mètres carré)","Metros cuadrados","(metri quadrati)","(m2)","(neliömetriä)","[m2}","m²","(m2)","(m2)","m2","(kvadratmeter)","[кв.м.]"]
["Max. storage amount","Max. storage amount","Max. Lagermenge","Valor da área máxima de armazenagem","Capacité de stockage maximale","Máxima capacidad de almacenamiento","Totale massimo immagazzinabile","Max. Opbevaringsmænge","Suurin varastointimäärä","Maksymalna ilośc składowana.","Maximale opslaghoeveelheid","Max skladiščena količina","Max. skladované množství","max. Tárolási mennyiség","Max. lagring mängd","Максимум количество товаров в области"]
["(Pallets / Tank / Silo)","(Pallets / Tank / Silo)","(Paletten / Tank Silo)","(Paletes / Tanques / Silos)","(Pallettes/Citernes/ Silo)","(Pallets/Tanques/Silos)","Pallets/Cisterne/Silo","(paller /tank/ silo","(Palletteja/Sälilö/Siilo)","(Palety/Zbiorniki/Silosy)","(Paletten / Tanks / Silo's)","(Palet/rezervarjev/silosov)","(Palety/Zásobník/Silo)","(Paletta/tartály/siló)","(Pallar / Tank / Silo)","(паллеты / складские резервуары / силос)"]
["Storage Type","Storage Type","Lagertyp","Tipo de Armazenagem","Type de stockage","Tipo de almacenamiento","Tipo di immagazzinamento","Opbevaringstype","Varastointitapa","Rodzaj składowania","Opslag type","Tip skladišča","Typ skladování","Tárolás tipus","Lagring Typ","Тип склада"]
["(Block / Rack / High Rack / Tank / Silo)","(Block / Rack / High Rack / Tank / Silo)","(Block / Regal /Hochregal / Tank / Silo)","(Bloco / Rack / Rack ao alto / Tanque / Silo)","(Bloc/Etagère/Etagère en hauteur/Citerne/Silo)","(Bloque/Rack/Gran Rack/Tanque/Silo)","(Blocco / Rastrelliera / Ratrelliera alta / cisterna / silo","(Blok /reoler /højreoler /tank / silo)","(Lattiavarso/Hyllyvarasto/Korkeavarasto/Säiliä/Siilo)","(Bloki/Regały/Wysokie regały/Zbiorniki/Silosy)","(Blok / Rek / Hoog rek / Tank / Silo)","(Blok/regalno/visoko regalno/rezervoarsko/silosi)","(Kusy/Regál/Zásobník/Silo)","(blokk, polcos, magaspolcos, tartály, siló)","(Kvarter / ställage / högställage / Tank / Silo)","(блок / полка / полка высокая / складской резервуар / силос)"]
["Permitted products to store","Permitted products to store","Erlaubte Lagerprodukte","Produtos autorizados a armazenar","Produits autorisés pour le stockage","Productos permitidos a almacenar","Prodotti autorizzati all'immagazzinamento","Tilladte produkter som kan opbevares","Sallitut varastoitavat tuotteet","Produkty dopuszczone do składowania","Producten toegelaten voor opslag","Dovoljeni proizvodi za skladiščenje","Produkty povolené skladovat","engedélyezett termékek","Tillåtna produkter att lagra","Допустимые продукты на складе"]
["Classification","Classification","Klassifizierung","Classificação","Classification","Clasificación","Classificazione","Klassifikation","Luokitus","Klasyfikacja","Classificatie","Klasifikacija","Klasifikace","osztályozás","Klassificering","Классификация"]
["(ADR-Class or Hazardous Symbol)","(ADR-Class or Hazardous Symbol)","ADR-Klassen oder Gefahrsymbole","(ADR-Classe ou Símbolo / Pictograma de Perigo)","(ADR -Classe ou symbole dangereux)","(Clase ADR o Pictograma de Peligro)","(Classe ADR o Simboli di Pericolo)","(ADR klasse eller faresymbol)","(ADR-luokka tai Vaaransymboli)","(Klasy ADR albo symbole zagrożenia)","(ADR-Klasse of Gevaargoedsymbool)","( ADR-klasifikacija ali simboli nevarnosti)","Třída ADR nebo Rizikový symbol","ADR- osztály vagy veszélyességi jel szerint","(ADR-klass eller farosymbol)","(ADR / ДОПОГ - класс или знак опасности)"]
["Risk Phrases","Risk Phrases","Risikosätze","Frases de Risco (R)","Phrases de risque","Frases de riesgo","Frasi di rischio","Risikosætninger","Vaaran lausekkeet","Określenie ryzyka","R-zinnen","Stavki nevarnosti","Rizikové věty","R-mondatok","Riskfraser","Фразы риска"]
["(MSDS)","(MSDS)","(Sicherheitsdatenblätter)","(FDS - Ficha de dados de segurança)","(FDS)","(Ficha de datos de seguridad)","MSDS","(MSDS)","Käyttöturvatiedotteet","(Karty charakterystyki)","(MSDS)","(varnostni listi)","(MSDS)","Biztonsági adatlap","(Säkerhetsdatablad)","(MSDS - информационный лист безопасности)"]
["(as in section 3.5)","(as in section 3.5)","(wie in Abschnitt 3.5)","(como na secção 3.5)","( comme en section 3.5)","(como en la sección 3.5)","(come da sezione 3,5)","(som i sektion 3.5)","(kuten osassa 3.5)","(tak jak sekcja 3.5)","(zoals in sectie 3.5)","(kot v sekciji 3.5)","(jako v sekci 3.5) ","mint a 3.5-ben","(som i sektion 3.5)","(как в разделе 3.5)"]
["Smoke detection system","Smoke detection system","Rauchmeldesystem","Sistema de detecção de fumos","Système de détection de fumée","Sistema de detección de humos","Sistema segnalazione fumi","Røgalarmsystem","Savuhälytysjärjestelmä","System wykrywania dymu.","Rookdetectiesysteem","Sistem za detekcijo dima","Systém detekce kouře","tűzjelző rendszer","Rökdetektorsystem","Система пожарной сигнализации с дымоизвещателями"]
["(existing Y or N)","(existing Y or N)","(vorhanden Ja oder Nein)","(existe S ou N)","(existant O ou N)","(Y o N existente)","(esiste SI o NO)","(Eksisterende J eller N)","(olemassa oleva Y - kyllä tai N - ei)","(istneje tak/nie)","(bestaande J of N)","(obstaja DA/NE)","(existující Ano nebo Ne","van (Y) vagy nincs (N)","(existerande Y eller N)","(в наличии ДА или НЕТ)"]
["Fixed extinguishing system","Fixed extinguishing system","Stationäre Löschanlage","Sistema de extinção de incêndios fixo","Système fixe d'extinction ","Sistemas fijos de extinción de incendios","Sistema fisso estinzione ","Fast slukningssystem","Kiinteä palosammutusjärjestelmä","Wmonowany na stałe system gaśniczy","Brandblussysteem","Stabilni gasilni sistem","Stabilní hasící systém","telepített tűzoltó rendszer","Fast brandsläckningssystem","Стационарная ​​система пожаротушения"]
["Smoke and heat vents","Smoke and heat vents","Rauch- und Wärmeabzugsanlage","Desenfumagem e ventilação","Event pour la fumée et la chaleur","Ventilación contra humos y calor","Bocchette di ventilazione per fumo e calore","Røg og varmeventilation","Savuluukut","Odprowadzenie dymu i ciepła","Rook en warmte uitlaten","Odvodi dima in toplote","Kouřová a tepelná ventilace","füst és forrólevegő ventillátor","Rök och värme ventilation","Система отвода дыма и тепла"]
["Comment","Comment","Anmerkungen","Comentários","Commentaires","Comentario","Commenti","Kommentar","Kommentit","Komentarz","Commentaar","Komentar","Komentář","megjegyzés","Kommentar","Примечание/коментарий"]
["Rail","Rail"]
[{"$f":"IF(ISERROR(IF(LEN(TEXT(OFFSET(A636,0,langsel),\"\"))>0,TEXT(OFFSET(A636,0,langsel),\"\"),TEXT(B636,\"\"))),IF(LEN(OFFSET(A636,0,langsel))>0,OFFSET(A636,0,langsel),B636),IF(LEN(TEXT(OFFSET(A636,0,langsel),\"\"))>0,TEXT(OFFSET(A636,0,langsel),\"\"),TEXT(B636,\"\")))","v":"Activities included in assessment"},"Activities included in assessment","Betriebliche Tätigkeiten die im Assessment erfasst sind","Actividades incluídas na avaliação","Activités incluses dans l'évaluation","Actividades incluidas en la auditoria","Attività incluse nella verifica","Aktiviteter som er inkluderet i assessment","Arviointiin sisältyvät toiminnot","Rodzaje działalności objętych badaniem","Activiteiten opgenomen in het onderzoek","Aktivnosti vključene v presojo","Činnosti zahrnuté do hodnocení","Az auditált tevékenységek","Aktiviteter som inkluderas i granskningen","Деятельности, включенные в оценку"]
["Desciption/location(s)","Desciption/location(s)","Beschreibung/Standort(e)","Descrição/local","Description/situation(s)","Descripción/Ubicación","Descrizione / Località","Beskrivelse / lokation(er)","Kuvaus / toimipaikka ","Opis / Lokalizacja(e)","Beschrijving/locatie(s)","Opis/lokacija","Popis/místo(a)","Leírás/telephely(ek)","Beskrivning/plats(er)","Описание / место"]
[{"$f":"IF(ISERROR(IF(LEN(TEXT(OFFSET(A638,0,langsel),\"\"))>0,TEXT(OFFSET(A638,0,langsel),\"\"),TEXT(B638,\"\"))),IF(LEN(OFFSET(A638,0,langsel))>0,OFFSET(A638,0,langsel),B638),IF(LEN(TEXT(OFFSET(A638,0,langsel),\"\"))>0,TEXT(OFFSET(A638,0,langsel),\"\"),TEXT(B638,\"\")))","v":"Leave location empty if activity is not included"},"Leave location empty if activity is not included"]
["Corporate","Corporate","Gesellschaft","Empresa/Corporação","Société","Entidad","Società ","Koncern","Yhtiö","Nazwa Firmy badanej","Hoofdzetel","Korporativne","Společné činnosti","Cég","Koncern","Объединение"]
["Commercial operations","Commercial operations","Geschäftstätigkeiten","Operações comerciais","Opérations commerciales","Operaciones comerciales","Attività commerciali","Markedsføring","Kaupalliset toiminnot ","Działalność(ci)  handlowa(e) ","Commerciële activiteiten","Komercialne aktivnosti","Obchodní činnosti","Üzleti tevékenység","Marknadsföring","Коммерческие деятельности"]
["Purchasing","Purchasing","Einkauf","Compras","Achats","Compras","Approvvigionamento","Indkøb","Ostotoiminnot","Zakupy (w tym taboru)","Inkoop","Nabava","Nakupování","Beszerzés","Inköp","Покупка"]
["Engineering/technical","Engineering/technical","Technik","Engenharia/técnica","Ingéniérie/ Technique","Ingenieria/Oficina técnica","Ingegneria / Tecnico","Ingeniørarbejde/teknisk","Tekniset toiminnot","Zaplecze techniczne","Engineering/technische dienst","Inženiring/tehnične aktivnosti","Inženýring/technické činnosti","Műszaki tevékenység","Ingenjörsarbete/Teknisk","Инженерное дело / техника"]
["Facility management","Facility management","Gebäudemanagement","Instalações da gestão/direcção","Gestion de l'entreprise","Gestión de las instalaciones","Gestione delle infrastrutture","Drift","Kiinteistöjen hallinta","Zarządzanie taborem","Beheer van de infrastructuur","Upravljanje s stavbami/opremo+M606","Facility management","Telephelyüzemeltetés","Fastighetsförvaltning","Управление объектов недвижимости"]
["Workshop general maintenance","Workshop general maintenance","Werkstatt allgemeine Instandsetzung","Oficina geral de manutenção","Atelier de maintenance générale","Taller de Mantenimiento general","Officina generale di manutenzione","Værksted til alm. vedligeholdelse","Yleinen huoltokorjaamo","Warsztaty naprawcze ogólne","Werkplaats algemeen onderhoud","Delavnice splošnega vzdrževanja","Dílna obecné údržby","Karbantartó műhely","Verkstad för allmänt underhåll","Мастерская - общее техническое обслуживание"]
["Workshop locomotives","Workshop locomotives","Werkstatt Lokomotiven","Oficina para locomotivas","Atelier des locomotives","Taller de locomotoras","Officina manutenzione locomotive","Værksted - lokomotiver","Vetureiden huoltokorjaamo","Warsztat naprawy lokomotyw","Werkplaats locomotieven","Delavnica za lokomotive","Dílna lokomotiv","mozdonyjavító műhely","Verkstad för lokomotiv","Мастерская - локомотивы"]
["Network","Network","Netz","Rede de transporte (network)","Réseau","Red","Network","Netværk","Rataverkosto ","Dostęp do sieci torowej","Netwerk","Omrežje","Síť","hálózat","Nätverk","Сеть"]
["Shunting yard(s)","Shunting yard(s)","Rangierbahnhof(höfe)","Parque para manobras (s)","Gare(s) de triage","Estación de maniobras","Smistamento Binari ","Rangér plads","Ratapiha(t) ","Stacje rozrządowe","Rangeerterrein(en)","Ranžirna postaja/M608e","Vlečka(y)","Tolató","Rangeryta(ytor)","Железнодорожная станция для маневр - распределительная"]
["Is the company mentioned in the list of committed RU's to UIC 471-3?","Is the company mentioned in the list of committed RU's to UIC 471-3?","Ist das Unternehmen in der Liste der Eisenbahnverkehrsunternehmen, die das Merkblatt UIC 471-3 verbindlich anwenden, aufgeführt?","A empresa figura na lista dos comprometidos RU's para UIC 471-3?","Est-ce que la société est mentionnée dans la liste des entreprises ferroviaires (EF) adhérant à la norme UIC 471-3 ?","¿Está la empresa mencionada en la lista de RU's comprometidos con la UIC 471-3?","La società è nominata nell'elenco dei committenti  RU's - UIC 471-3?","Er virksomheden nævnt på listen over godkendte RU's til UIC 471-3?","Onko yritys kirjattu rautatieyhtiöiden luetteloon, jotka ovat sitoutuneet noudattamaan UIC 471-3 määräyksiä?","Czy Firma jest wymieniona na liście przedsiębiorstw kolejowych zobowiązanych do kontroli towarów niebezpiecznych w ruchu międzynarodowym zgodnie z Kartą UIC 471-3 ?","Wordt het bedrijf vermeld in de lijst van aan UIC 471-3 gebonden RU's?","Ali je družba omenjena na listi tistih, ki so zavezani k  UIC471-3?","Je organizace uvedena v seznamu angažovaných RU's k UIC 471-3?","A cég meg van említve az UIC 471-3 döntvény szerinti listában?","Är företaget nämnt i listan över godkända RU's till UIC 471-3?","Является ли компания перечисленна в перечне железнодорожных компаний, которые используют карточку МСЖД 471-3?"]
["Is the company certified by the National Safety Agency?","Is the company certified by the National Safety Agency?","Ist das Unternehmen durch die Nationale Sicherheitsbehörde zertifiziert?","A empresa está certificada pelo IMTT (ou entidade competente para a sua actividade)?","Est-ce que la société est certifiée par l'Agence Nationale de Sécurité ?","¿Está la empresa certificada por la Agencia Nacional de Seguridad?","La società è certificata dall'Agenzia Nazionale Sicurezza?","Er virksomheden certificeret af National Safety Agency?","Onko kansallinen turvallisuuskeskus sertiufioinut yrityksen?","Czy Firma jest certyfikowana przez Krajową Agencję Bezpieczeństwa Kolejowego (UTK) ?","Is het bedrijf gecertificeerd door het Nationaal Veiligheids Agentschap? ","Ali je družba certificirana s strani Nacionalne Varnostne Agencije?","Je organizace certifikovaná Národní Bezpečnostní Agenturou?","A céget tanúsította a nemzeti munkabiztonsági szervezet?","Är företaget certifierat av Nationellt Säkerhetsorgan?","Является ли компания сертифицирована Национальным агентством безопасности?"]
[{"$f":"IF(ISERROR(IF(LEN(TEXT(OFFSET(A650,0,langsel),\"\"))>0,TEXT(OFFSET(A650,0,langsel),\"\"),TEXT(B650,\"\"))),IF(LEN(OFFSET(A650,0,langsel))>0,OFFSET(A650,0,langsel),B650),IF(LEN(TEXT(OFFSET(A650,0,langsel),\"\"))>0,TEXT(OFFSET(A650,0,langsel),\"\"),TEXT(B650,\"\")))","v":"Leave empty if not certified"},"Leave empty if not certified"]
["Cerificate Number","Cerificate Number","Zertifikatsnummer","Número do certificado","Numéro de certificat","Número de certificado","Certificato numero","Cerifikatnr. ","Sertifikaatin numero","Numer Certyfikatu Bezpieczeństwa","Certificaat nummer","Številka certifikata","Číslo certifikátu","Tanúsítvány száma","Certifikatsnummer ","Номер сертификата"]
["Subcontracting","Subcontracting","Untervergabe","Subcontratação","Sous-traitance ","Subcontratación eventual","Sub-appalto","Udlicitering","Alihankinta","Podwykonawstwo","Onderaanneming","Podizvajalci","Subkontrahování","Alvállalkozás","Underleverantörer","Субподряд"]
["Do you subcontract the traction to (other) RU?","Do you subcontract the traction to (other) RU?","Wird die Traktion an (andere) Eisenbahnverkehrsunternehmen vergeben?","Efectua subcontratação da tracção para outro RU","Sous-traitez-vous la traction à une autre entreprise ferroviaire ?","¿Subcontrata la tracción a otras RU's?","E' subappaltata la trazione ad altri RU?","Udliciterer I \"Rangering\" til (andre) RU?","Alihankitteko vetopalvelut toiselta rautatieyhiöltä?","Czy Firma podnajmuje trakcję innemu przedsiębiorstwu kolejowemu?","Besteedt u tractie uit in onderaanneming aan andere RU?","Ali oddajate vleko drugim železniškim organizacijam?","Subkontrahujete trakci jiným RU?","Alvállakozásba adja a vontatást más vasúttársaságnak?","Lejer Ni ut dragning till (andra) RU?","Предоставлена ли тяга на (других) железнодорожных компаний?"]
["Facilities","Facilities","Anlagen und Einrichtungen","Instalações","Installations","Instalaciones","Infrastrutture","Anlæg","Kalusto","Tabor / urządzenia","Middelen","Oprema","Zařízení","Eszközök","Faciliteter","Машины и оборудование"]
["Do you own locomotives?","Do you own locomotives?","Besitzen Sie eigene Lokomotiven?","A empresa possui locomotivas?","Possédez-vous des locomotives?","¿Tiene locomotoras propias?","Locomotive proprie?","Ejer I lokomotiver?","Omistatteko vetureita?","Czy Firma posiada własne lokomotywy ?","Bezit u eigen locomotieven?","Ali imate lastne lokomotive?","Vlastníte lokomotivy?","Vannak saját mozdonyok?","Äger ni lokomotiv?","У вас есть собственные локомотивы?"]
["Number of electrical locomotives","Number of electrical locomotives","Anzahl der E-Loks","Número de locomotivas eléctricas","Nombre de locomotives électriques","Número de locomotoras eléctricas","Numero di locomotive elettriche","Antal af elektriske lokomotiver","Sähkövetureiden lukumäärä","Liczba lokomotyw elektrycznych","Aantal elektrische locomotieven","Število električnih lokomotiv","Počet elektrických lokomotiv","Villanymozdonyok száma","Antal elektriska lokomotiv","Число электровозов"]
["Number of diesel locomotives","Number of diesel locomotives","Anzahl der Diesellokomotiven","Número de locomotivas a gasóleo","Nombre de locomotives diesel","Número de locomotoras diessel","Numero di locomotive diesel","Antal af diesel lokomotiver","Dieselvetureiden lukumäärä","Liczba lokomotyw dieslowskich","Aantal diesel locomotieven","Število dizel lokomotiv","Počet diesel lokomotiv","Dízelmozdonyok száma","Antal diesellokomotiv","Число тепловозов"]
["Number of shunting locomotives","Number of shunting locomotives","Anzahl der Rangierlokomotiven","Número de locomotivas de manobra","Nombre de locomotives de triage","Número de locomotoras de maniobra","Numero locomotive di manovra","Antal af (shunting) lokomotiver","Vaihtovetureiden lukumäärä","Liczba lokomotyw rozrządowych / manewrowych","Aantal rangeer locomotieven","Število ranžirnih lokomotiv","Počet vlečkových lokomotiv","Tolatómozdonyok száma","Antal rangerlokomotiv","Число маневровых локомотивов"]
[{"$f":"IF(ISERROR(IF(LEN(TEXT(OFFSET(A659,0,langsel),\"\"))>0,TEXT(OFFSET(A659,0,langsel),\"\"),TEXT(B659,\"\"))),IF(LEN(OFFSET(A659,0,langsel))>0,OFFSET(A659,0,langsel),B659),IF(LEN(TEXT(OFFSET(A659,0,langsel),\"\"))>0,TEXT(OFFSET(A659,0,langsel),\"\"),TEXT(B659,\"\")))","v":"Leave empty if there are no locomotives"},"Leave empty if there are no locomotives"]
["Do you own railcars?","Do you own railcars?","Besitzen Sie eigene Eisenbahnwaggons","A empresa possui automotoras?","Possédez-vous des wagons ?","¿Tiene vagones propios?","Vagoni propri?","Ejer I togvogne?","Omistatteko rautatievaunuja?","Czy Firma posiada własne wagony ?","Bezit u eigen motortreinstellen ?","Ali imate lastne vagone?","Vlastníte železniční vagony?","Vannak saját vagonok?","Äger ni järnvägsvagnar?","У вас есть собственные вагоны?"]
["Number of owned railcars","Number of owned railcars","Anzahl eigener Eisenbahnwaggons ","Número de automotoras da empresa","Nombre de wagons en propre ?","Número de vagones propios","Numero di vagoni ferroviari","Antal af ejede togvogne","Omien rautatievaunujen lukumäärä","Liczba własnych wagonów","Aantal eigen motortreinstellen","Število lastnih vagonov","Počet vlastních železničních vagonů","Vagonok száma","Antal ägda järnvägsvagnar","Число собственных вагонов"]
["Number of own Rail Tank Cars (RTC's)","Number of own Rail Tank Cars (RTC's)","Anzahl eigener Tankwaggons","Número de contentores ferróviários (RTC's) da empresa ","Nombre de wagons-citernes ","Número de vagones cisterna propios","Numero di vagoni cisterna (RTC's)","Antal af egne Rail Tank Cars (RTC's)","Omien säliövaunujen lukumäärä","Liczba własnych wagonów cystern","Aantal eigen Rail Tank Cars (RTC's)","Število lastnih vagon cistern","Počet vlastních železničních cisternových vagonů (RTC's)","Vasúti tartályvagonok száma","Antal egna järnvägstankvagnar (RTC's)","Число собственных железнодорожных цистерн (вагонах-цистерн)"]
[{"$f":"IF(ISERROR(IF(LEN(TEXT(OFFSET(A663,0,langsel),\"\"))>0,TEXT(OFFSET(A663,0,langsel),\"\"),TEXT(B663,\"\"))),IF(LEN(OFFSET(A663,0,langsel))>0,OFFSET(A663,0,langsel),B663),IF(LEN(TEXT(OFFSET(A663,0,langsel),\"\"))>0,TEXT(OFFSET(A663,0,langsel),\"\"),TEXT(B663,\"\")))","v":"Leave empty if there are no railcars"},"Leave empty if there are no railcars"]
["Number of rented railcars","Number of rented railcars","Anzahl gemieter Eisenbahnwaggons","Número de automotoras alugadas","Nombre de wagons-citernes loués ?","Número de vagones alquilados","Numero di vagoni in affitto","Antal af lejede togvogne","Vuokrattujen rautatievaunujen lukumäärä","Liczba wagonów wziętych w najem / w leasingu","Aantal gehuurde RTC's","Število najetih vagonov","Počet pronajatých vozů","Bérelt vagonok száma","Antal inhyrda järnvägsvagnar","Число арендованных вагонов"]
["Number of let railcars to other companies","Number of let railcars to other companies","Anzahl an andere Unternehmen vermieteter Eisenbahnwaggons","Número de automotoras utilisadas por outras companhias","Nombre de wagons-citernes loués à d'autres compagnies?","Número de vagones cedidos a otras compañías","Numero di vagoni affittati ad altre società","Antal udlejede togvogne til andre selskaber","Muille yhtiöille vuokrattujen rautatievaunujen lukumäärä","Liczba własnych wagonów oddanych w najem innym firmom","Aantal verhuurde RTC's aan andere bedrijven ","Število oddanih vagonov drugim","Počet vozů pronajatých jiným organizacím","Bérbe adott vagonok száma","Antal uthyrda järnvägsvagnar till andra företag","Число вагонов в аренду другим компаниям"]
["Fixed storage tanks present ","Fixed storage tanks present ","Kesselwagen vorhanden?","Tanques de armazenagem","Réservoirs de stockage fixes","Tanques fijos presentes","Cistene fisse presenti","Er der faste opbevaringstanke","Kiinteiden säiliöiden lukumäärä","Posiadane stałe zbiorniki magazynowe","Vaste opslagtanks aanwezig ?","Ali imate stabilne skladiščne rezervoarje","Stabilní zásobní nádrže","Rögzített tároló tartályok","Fasta lagertankar närvarande","Складские резервуары в наличии?"]
["Owned/operated tracks present","Owned/operated tracks present","Eigene/betriebene Gleise vorhanden?","Via-férrea utilizada (própria ou com operação)","Owned/operated tracks present","Tractoras presentes en propiedad/operadas ","Proprieterio / operatore binari presente","Er der ejede / anvendte spor?","Omien / käytettyjen ratojen määrä","Własne /użytkowane tory (ilość)","Eigen/in exploitatie sporen aanwezig","Ali imate lastne proge","Vlastní/provozované trakce","Működtetett vágányok száma","Egna/använda spår uppvisade","Собственные / управляемые колеи в наличии?"]
["Maintenance shop","Maintenance shop","Werkstatt","Oficina de manutenção","Atelier de maintenance","Mantenimiento del lugar","Officina","Værksted","Korjaamo","Warsztaty obsługowo-naprawcze","Onderhoud","Vzdrževanje","Dílna údržby","Javító műhely","Verkstad","Мастерская"]
["Does the maintenance plan include the checking of site equipment ?","Does the maintenance plan include the checking of site equipment ?","Beinhaltet der Wartungsplan auch die Kontrolle des Eqiupments der Anlage?","O plano de manutenção inclui a verificação do equipamento existente na oficina?","Le plan de maintenance inclut-il la vérification des équipements du site ?","¿Incluye el plan de mantenimiento el chequeo del equipo del centro?","Il piano di manutenzione include il controllo degli impianti del sito?","Inkluderer vedligeholdelsesplanen tjek af udstyr på lokationen?","Sisältääkö huoltosuunnitelma toimipaikan laitteiden tarkastuksen?","Czy plan obsługowo-naprawczy utrzymania ruchu zawiera rewizje taboru poza warsztatem ?","Houdt het onderhoudsplan de controle in van uitrusting van de locatie? ","Ali plan vzdrževanja vključuje preverjanje opreme na lokaciji?","Obsahuje plán údržby kontrolu veškerého zařízení v místě ?","A karbantartási terv tartalmazza a telep eszközeinek ellenőrzését?","Innehåller underhållsplanen kontroll av anläggningsutrustning?","Включает ли план для обслуживания также проверку оборудования на месте?"]
["Does the maintenance plan include a procedure for the checking of","Does the maintenance plan include a procedure for the checking of","Beinhaltet der Wartungsplan ein Verfahren zur Kontrolle von","O plano de manutenção inclui um procedimento para a verificação de","Est-ce que le plan de maintenance inclut une procédure de contrôle de :","¿Incluye el plan de mantenimiento un procedimiento para la comprobación de…?","Il piano di manutenzione include la procedura per il controllo della:","Inkluderer vedligeholdelsesplanen en procedure for tjek af:","Sisältyykö huoltosuunnitelmaan menettelyt, seuraaville","Czy plan utrzymania obejmuje procedurę sprawdzania","Bevat het maintenanceplan een procedure voor beoordeling van:","Ali plan vzdrževanja vključuje postopek za preverjanje:","Zahrnuje plán údržby postup pro kontrolu:","Tartalmaz a karbantartási terv eljárást az alábbiak ellenőrzésére:","Innehåller underhållsplanen rutiner för kontroll av","Включает ли план для обслуживания процедуру для проверки:"]
["- tare weights ?","- tare weights ?","Tara Gewichte?"," - peso da tara ?","Poids à vide","pesos de tara?","peso di tara ?","emballagevægte","- taaran tarkastus ?","wagę tary?"," - tarra gewicht","Tara teže?","-váhy obalů?","tára súlyok"," - taravikt ?","веса тары?"]
[{"$f":"IF(ISERROR(IF(LEN(TEXT(OFFSET(A672,0,langsel),\"\"))>0,TEXT(OFFSET(A672,0,langsel),\"\"),TEXT(B672,\"\"))),IF(LEN(OFFSET(A672,0,langsel))>0,OFFSET(A672,0,langsel),B672),IF(LEN(TEXT(OFFSET(A672,0,langsel),\"\"))>0,TEXT(OFFSET(A672,0,langsel),\"\"),TEXT(B672,\"\")))","v":"- tank pressure testing (for tank wagons), if applicable ?"},"- tank pressure testing (for tank wagons), if applicable ?","Tank Druckprüfungen (für Tankwaggons), wenn anwendbar?"," - teste de pressão da cisterna (para vagões), se aplicável ?","Pression d'épreuve de la citerne (pour les wagons-citernes), si applicable","comprobaciones y test de tanques presurizados (para vagones cisternas), si aplica?","test di pressione della cisterna ( per i vagoni cisterna), se applicabile ?","test af tanktryk (for tankvogne), hvis anvendeligt ?","- säiliön painetesti (säiliövaunuille), jos sovellettavissa ?","test ciścnieniowy zbiornika (dla zbiorników na wagonach), jeśli ma zastosowanie?","- beproeving van tankdruk (voor tank wagons) indien van toepassing ?","Preizkušanje tlaka (za vagonske cisterne), če je primerno?","-testování tlaku (cisternové vagony), pokud je aplikovatelné","tartálynyomás ellenőrzők (tartálykocsiknál) ha értelmezhető?"," - tank tryckprovning (för tankvagnar), om det är tillämpligt ?","Испытания под давлением для цистерн (для вагонов-цистерн), если это применимо?"]
["Are changes of tare weights and to the label clip weight limits documented and painted on the wagon ?\n","Are changes of tare weights and to the label clip weight limits documented and painted on the wagon ?\n","Sind Änderungen von Tara Gewichten und dem Label Lastgewichten dokumentiert und am Waggon angezeichnet?","As mudanças de peso da tara e da chapa dos limites de peso do clip são documentados e pintadas no vagão ?","Est-ce que les changements dans les poids à vide et les limites de poids sur l'étiquette sont documentés et peints sur le wagon ? ","¿Son documentados y pintados en el vagón cualquier cambios en los pesos de tara y en los pesos de las etiquetas?","Il cambio del peso di tara e delle etichette di limite peso è documentato e dipinto sul vagone?  ","Bliver ændringer af emballagevægte og grænseværdier dokumenteret og malet på vognen ?","Onko muutokset taarassa ja painorajojen kilvessä dokumentoitu ja merkitty vaunuun?","Czy zmiany w wadze tary są udokumentowane i napisane na tablicy znamionowej   wagonu?","Zijn wijzigingen aan het tarra gewicht en het label met gewichtsgrenzen gedocumenteerd en geschilderd op de wagon ?","Ali so spremembe tara teže dodane na nalepko za omejitev teže in napisane na vagon?","Jsou změny váhy obalů a váhové limity dokumentovány na visačce a zaznamenány na vagon?","A tárasúlyok cseréjét felfestik a vagonokra és dokumentálják?","Är ändringar av taravikt och viktgränser dokumenterade på etiketthållare och målade på vagnen ?","Являются ли изменения веса тары и ограничения по весу документированы и записаны на вагоне?"]
["Is the next maintenance date documented and painted on the wagon ?","Is the next maintenance date documented and painted on the wagon ?","Ist der nächste Werkstatttermin dokumentiert und am Waggon angezeichnet?","A data próxima manutenção é documentada e pintada no vagão ?","Est-ce que la prochaine date de maintenance est documentée et peinte sur le wagon ?","¿Se documenta y pinta sobre el vagón la próxima fecha de mantenimiento?","La data di prossima manutenzione è documentata e dipinta sul vagone ?","Er den næste vedligeholdelsesdato dokumenteret og malet på vognen ?","Onko seuraava huoltopäiväys dokumentoitu ja merkitty vaunuun?","Czy data kolejnego przeglądu jest udokumentowana  i napisana na wagonie?","Is de datum voor het volgende onderhoud gedocumenteerd en geschilderd op de wagon ?","Ali je naslednji datum vzdrževanja dokumentiran in napisan na vagon?","Je příští datum údržby dokumentován a uveden na vagonu?","A karbantartási dátum fel van festve a vagonra?","Är nästa datum för underhåll dokumenterat och målad på vagnen ?","Является ли дата следующего обслуживания документирована и записана на вагоне?"]
["Is the next tank revision date documented and painted on the RTC ?","Is the next tank revision date documented and painted on the RTC ?","Ist das nächste Tank Revisionsdatum dokumentiert und am Tankwaggon angezeichnet?","A data próxima revisão da cisterna é documentada e pintada no RTC (contentores ferróviários) ?","Est-ce que la prochaine date de révision du wagon est documentée et peinte sur le wagon ?","¿Se documenta y pinta sobre el RTC la próxima revisión de la cisterna?","La data della prossima revisione della cisterna è documentata e dipinta sul RTC ?","Er den næste gennemsynsdato for tanken dokumenteret og malet på RTC ?","Onko seuraava säiliön tarkastuspäivämäärä dokumentoitu ja merkitty säiliövaunuun?","Czy data następnej rewizji jest udokumentowana i napisana na RTC?","Is de volgende tank revisiedatum gedocumenteerd en geschilderd op de RTC ?","Ali je naslednji datum pregleda cisterne dokumentiran in napisan  na vagonsko cisterno?","Je datum příští revize cisterny dokumentován a uveden na železniční cisterně?","A következő tartályvizga időpontja dokumentálca van és fel van festve a tartálykocsira?","Är nästa revisiondatum dokumenterat och målad på järnvägstankvagnen ?","Является ли следующая дата пересмотра цистерны документирована и записана на вагонах-цистернах?"]
["Personnel","Personnel","Mitarbeiter","Pessoal","Personnel","Personal","Personale","Personale","Henkilöstö ","Personel","Personeel","Osebje","Personál","Személyzet","Personal","Персонал"]
["Total number of employees","Total number of employees","Gesamtzahl der Beschäftigten","Número total de trabalhadores","Nombre total d'employés","Número total de empleados","Numero totale dei dipendenti","Totale antal ansatte","Henkilökunnan kokonaismäärä","Całkowita liczba pracowników","Totaal aantal bedienden","Število zaposlenih","Celkový počet zaměstnanců","Alkalmazottak száma","Totalt antal anställda","Общая численность работников"]
["Company own drivers?","Company own drivers?","Eigene Lokführer","Motorista da empresa","La société a-t-elle ses propres conducteurs ?","Conductores propios de la compañía?","Macchinisti propri?","Har virksomheden egne chauffører?","Onko yrityksellä omia kuljettaja?","Czy Firma posiada własnych maszynistów ?","Chauffeurs eigen aan het bedrijf?","Ali imate lastne strojevodje?","Řidiči vlastní organizace","Saját alkalmazott mozdonyvezetők","Egna lokförare","Собственные водители локомотивов?"]
["Number of own drivers","Number of own drivers","Anzahl eigener Lokführer","Número motoristas da empresa","Nombre de conducteurs en propre ?","Número de conductores propios","Numero dei macchinisti propri","Antal egne chauffører","Omien kuljettajien lukumäärä","Liczba własnych maszynistów","Aantal eigen chauffeurs","Število lastnih strojevodij","Počet vlastních řidičů","Saját alkalmazott mozdonyvezetők száma","Antal egna förare","Число собственных водителей локомотивов"]
[{"$f":"IF(ISERROR(IF(LEN(TEXT(OFFSET(A680,0,langsel),\"\"))>0,TEXT(OFFSET(A680,0,langsel),\"\"),TEXT(B680,\"\"))),IF(LEN(OFFSET(A680,0,langsel))>0,OFFSET(A680,0,langsel),B680),IF(LEN(TEXT(OFFSET(A680,0,langsel),\"\"))>0,TEXT(OFFSET(A680,0,langsel),\"\"),TEXT(B680,\"\")))","v":"Leave empty if there are no own drivers"},"Leave empty if there are no own drivers"]
["Number of chartered / hired drivers ","Number of chartered / hired drivers ","Anzahl gemieter Lokführer","Número de motoristas contratados","Nombre de conducteurs affrétés/loués  ?","Número de conductores subcontratados","Numero dei macchinisti noleggiati / affittati","Antal af indlejede chauffører","Vuokrattujen kuljettajien lukumäärä ","Liczba maszynistów czarterowanych / podnajętych ","Aantal gecharterde / ingehuurde chauffeurs","Število čarterskih/najetih strojevodij","Počet najatých řidičů","Kölcsönzött mozdonyvezetők száma","Antal inhyrda förare","Число арендованных водителей локомотивов"]
["Products","Products","Produkte","Produtos","Produits","Productos","Prodotti","Produkter","Tuotteet","Transportowane produkty","Producten","Proizvodi","Produkty","Termékek","Produkter","Продукты"]
["Tonnage chem. transported per year","Tonnage chem. transported per year","Gesamttonnage der tranportierten chemischen Produkte pro Jahr","Tonelagem de produtos químicos transportados por ano","Tonnage total de produits chimiques transportés par an?","Toneladas de productos químicos transportados por año","Tonnellaggio prodotti chimici trasportati annualmente","Tons kemikalier transporteret pr. år","Vuotuinen kemikaalikuljetusten tonnimäärä","Roczny tonaż transportowanych produktów chemicznych ","Tonnage chemicaliën vervoerd per jaar","Transportirana letna količina kemikalij v tonah","Tonáž chemikálií transportovaných ročně","Teljes szállított mennyiség tonnában","Antal ton kemikalier som transporteras/hanteras per år","Общий тоннаж транспортированных химических продуктов в год?"]
["% dangerous goods","% dangerous goods","Prozentualer Anteil Gefahrgut","% de mercadorias perigosas","Quel pourcentage du tonnage total est effectué en matières dangereuses ?","% de mercancías peligrosas","% prodotti ADR","% farligt gods","josta % vaarallisia aineita","w tym procent towarów niebezpiecznych (wg RID)","% gevaarlijke goederen","% nevarnega blaga","% nebezpečných látek","Veszélyes áru aránya %","% farligt gods","% опасных грузов"]
["Class 1 : Explosive substances and articles","Class 1 : Explosive substances and articles","Klasse 1: Explosive Stoffe und Gegenstände mit Explosivstoff","Classe 1 : Matérias e objectos explosivos","Classe 1 :   Matières et objets explosibles","Clase 1: Materias y objetos explosivos","Class 1 : Materie ed Oggetti esplosivi ","Klasse 1 : Explosive stoffer og genstande","Luokka 1 : Räjähteet","Klasa 1 : Materiały i przedmioty wybuchowe","Klasse 1: Ontplofbare stoffen en voorwerpen","Razred 1: eksplozivne snovi in predmeti","Třída 1 - Výbušné látky a předměty","1. osztály: robbanóanyagok","Klass 1 : Explosiva ämnen och föremål","Класс 1: Взрывчатые вещества и изделия"]
["Class 2 : Gases","Class 2 : Gases","Klasse 2: Gase","Classe 2 : Gases","Class 2 : Gaz","Clase 2: Gases","Class 2 : Gas","Klasse 2 : Gasarter","Luokka 2 : Kaasut","Klasa 2 : Gazy","Klasse 2: Gassen","Razred 2: plini","Třída 2 - Plyny","2. osztály: Gázok","Klass 2 : Gaser","Класс 2: Газы"]
["Class 3 : Flammable liquids","Class 3 : Flammable liquids","Klasse 3: Entzündbare flüssige Stoffe ","Classe 3 : Líquidos inflamáveis","Classe 3 : liquides inflammables","Clase 3: Líquidos inflamables","Class 3 : Liquidi  infiammabili","Klasse 3 : Brandfarlige væsker","Luokka 3 : Palavat nesteet","Klasa 3 : Materiały ciekłe zapalne","Klasse 3: Brandbare vloeistoffen","Razred 3: vnetljive tekočine","Třída 3 - Hořlavé kapaliny","3. osztály: Gyúlékony folyadékok","Klass 3 : Brandfarliga vätskor","Класс 3: Легковоспламеняющиеся жидкости"]
["Class 4.1. : Flammable solids,  self-reactive substances and solid desensitized explosives.","Class 4.1. : Flammable solids,  self-reactive substances and solid desensitized explosives.","Klasse 4.1: Entzündbare feste Stoffe, selbstzersetzliche Stoffe und desensiblisierte explosive feste Stoffe","Classe 4.1. : Matérias sólidas inflamáveis,  matérias auto-reactivas e matérias explosivas dessensibilizadas sólidas","Class 4.1. : Matières solides inflammables, matières autoréactives et matières solides explosibles désensibilisées","Clase 4.1: Sólidos inflamables, autoreactivos y explosivos desensibilizados","Class 4.1. : Solidi infiammabili, materie autoreattive ed esplosivi solidi desensibilizzati","Klasse 4.1. : Brandfarlige stoffer, selvantændelige stoffer og desensibiliserende sprængstoffer.","Luokka 4.1. : Helposti syttyvät kiinteät aineet","Klasa 4.1 : Materiały stałe zapalne, materiały samoreaktywne i materiały wybuchowe odczulone","Klasse 4.1: Brandbare vaste stoffen, zelfontledende stoffen en vaste ontplofbare stoffen in niet-explosieve toestand","Razred 4.1. : Vnetljive trdne snovi, samo reaktivne snovi in trdni desenz. eksplozivi","Třída 4.1 - Hořlavé tuhé látky,  samovolně se rozkládající látky a znecitlivěné tuhé výbušné látky.","4.1 osztály: Gyúlékony szilárd anyagok, önreaktív anyagok, szilárd érzéketlenített robbanóanyagok","Klass 4.1 : Brandfarliga fasta ämnen, självreaktiva ämnen och fasta okänsliggjorda explosivämnen","Класс 4.1: Легковоспламеняющиеся твердые вещества, самореактивные вещества и твердые десенсибилизированные взрывчатые вещества"]
["Class 4.2. : Substances liable for spontaneous combustion","Class 4.2. : Substances liable for spontaneous combustion","Klasse 4.2: Selbstentzündliche Stoffe","Classe 4.2. : Matérias espontaneamente inflamáveis","Class 4.2. : Matières sujettes à l'inflammation spontanée","Clase 4.2: Materias que reaccionan de forma espontánea","Class 4.2. : Materie soggette ad accensione spontanea","Klasse 4.2. : Letantændelige stoffer","Luokka 4.2. : Helposti itsestään syttyvät aineet","Klasa 4.2 : Materiały samozapalne","Klasse 4.2: Voor zelfontbranding vatbare stoffen","Razred 4.2. : Snovi, ki se spontano vnamejo","Třída 4.2 - Samozápalné látky","4.2 osztály: Öngyulladó anyagok","Klass 4.2 : Självantändande ämnen ","Класс 4.2: Вещества, способные к самовозгоранию"]
["Class 4.3. : Substances which in contact with water, emit flammable gases","Class 4.3. : Substances which in contact with water, emit flammable gases","Klasse 4.3: Stoffe, die in Berührung mit Wasser entzündlbare Gase entwickeln","Classe 4.3. : Matérias que, em contacto com a àgua, libertem gases inflamáveis","Class 4.3. : Matières qui, au contact de l'eau, dégagent des gaz inflammables","Clase 4.3: Materias que en contacto con el agua desprenden gases inflamables","Class 4.3. :Materie che al contatto con l'acqua, sviluppano gas infiammabili","Klasse 4.3. : Stoffer som ved kontakt med vand, udgiver brandfarlige gasser","Luokka 4.3. : Aineet, jotka veden kanssa kosketukseen joutuessaan kehittävät palavia kaasuja ","Klasa 4.3 : Materiały wytwarzające w zetknięciu z wodą gazy palne","Klasse 4.3: Stoffen die in contact met water ontbrandbare gassen ontwikkelen","Razred 4.3. : Snovi, ki ob stiku z vodo sproščajo vnetljive pline","Třída 4.3 - Látky, ve styku s vodou vyvíjející hořlavé plyny","4.3. osztály: Vízzel gyúlékony gázokat képző anyagok","Klass 4.3 : Ämnen som utvecklar brandfarlig gas vid kontakt med vatten","Класс 4.3: Вещества, выделяющие легковоспламеняющиеся газы при соприкосновении с водой"]
["Class 5.1. : Oxidizing substances","Class 5.1. : Oxidizing substances","Klasse 5.1: Entzündend (oxydierend) wirkende Stoffe","Classe 5.1. : Matérias comburentes","Class 5.1. : Matières comburantes","Clase 5.1: Materias comburentes","Class 5.1. : Materie comburenti","Klasse 5.1. : Brandnærende stoffer","Luokka 5.1. : Hapettavat aineet","Klasa 5.1 : Materiały utleniające","Klasse 5.1: Oxiderende stoffen","Razred 5.1. : Oksidirajoče snovi","Třída 5.1 - Látky podporující hoření","5.1. osztály Gyújtó hatású (oxidáló) anyagok","Klass 5.1 : Oxiderande ämnen","Класс 5.1: Окисляющие вещества"]
["Class 5.2. : Organic peroxides","Class 5.2. : Organic peroxides","Klasse 5.2: Organische Peroxide","Classe 5.2. : Peróxidos organicos","Class 5.2. : Peroxydes organiques","Clase 5.2: Peróxidos Orgánicos","Class 5.2. : Perossidi organici","Klasse 5.2. : Organiske peroxider","Luokka 5.2. : Orgaaniset peroksidit ","Klasa 5.2 : Nadtlenki organiczne","Klasse 5.2: Organische peroxiden","Razred 5.2. : Organski peroksidi","Třída 5.2 - Organické peroxidy","5.2 osztály: szerves peroxidok","Klass 5.2 : Organiska peroxider","Класс 5.2: Органические пероксиды"]
["Class 6.1. : Toxic substances","Class 6.1. : Toxic substances","Klasse 6.1: Giftige Stoffe","Classe 6.1. : Matérias toxicas","Class 6.1. : Matières toxiques","Clase 6.1: Sustancias tóxicas","Class 6.1. : Materie tossiche","Klasse 6.1. : Giftige stoffer","Luokka 6.1. : Myrkylliset aineet","Klasa 6.1 : Materiały trujące","Klasse 6.1: Giftige stoffen","Razred 6.1. : Strupene snovi","Třída 6.1 - Toxické látky","6.1 osztály: mérgező anyagok","Klass 6.1 : Giftiga ämnen","Класс 6.1: Токсичные вещества"]
["Class 6.2. : Infectious substances","Class 6.2. : Infectious substances","Klasse 6.2: Ansteckungsgefährliche Stoffe","Classe 6.2. : Matérias infecciosas","Class 6.2. : Matières infectieuses","Clase 6.2: Sustancias infecciosas","Class 6.2. : Materie infettanti","Klasse 6.2. : Smittefarlige stoffer","Luokka 6.2. : Itartuntavaaralliset aineet","Klasa 6.2 : Materiały zakaźne","Klasse 6.2: Infectueuze stoffen (besmettelijke stoffen)","Razred 6.2. : Kužne snovi","Třída 6.2 - Infekční látky","6.2. osztály : Fertőzésveszélyes anyagok","Klass 6.2 : Smittförande ämnen","Класс 6.2: Инфекционные вещества"]
["Class 7 : Radioactive material","Class 7 : Radioactive material","Klasse 7: Radioaktive Stoffe","Classe 7 : Matérias radioactivas","Class 7 : Matières radioactives","Clase 7: Materias radiactivas","Class 7 : Materiali radioattivi","Klasse 7 : Radioaktive materiale","Luokka 7 : Radioaktiiviset aineet","Klasa 7 : Materiały radioaktywne ","Klasse 7: Radioactieve stoffen","Razred 7 : Radioaktivne snovi","Třída 7 - Radioaktivní látky","7. osztály: radioaktív anyagok","Klass 7 : Radioaktiva ämnen","Класс 7: Радиоактивные материалы"]
["Class 8 : Corrosive substances","Class 8 : Corrosive substances","Klasse 8: Ätzende Stoffe","Classe 8 : Matérias corrosivas","Class 8 : Matières corrosives","Clase 8: Sustancias corrosivas","Class 8 : Materie corrosive","Klasse 8 : Ætsende stoffer","Luokka 8 : Syövyttävät aineet","Klasa 8 : Materiały żrące","Klasse 8: Bijtende stoffen","Razred 8 : Jedke snovi","Třída 8 - Žíravé látky","8. osztály: Maró (korrozív) anyagok","Klass 8 : Frätande ämnen","Класс 8: Коррозионные вещества"]
["Class 9 : Miscellaneous dangerous substances and\narticles","Class 9 : Miscellaneous dangerous substances and\narticles","Klasse 9: Verschiedene gefährliche Stoffe und Gegenstände","Classe 9 : Matérias e objectos perigosos","Class 9 : Matières et objets dangereux divers","Clase 9: Materias y objetos con riesgos diversos","Class 9 : Materie ed oggetti pericolosi diversi","Klasse 9 : Diverse farlige stoffer og genstande","Luokka 9 : Muut vaaralliset aineet ja esineet","Klasa 9 : Różne materiały i przedmioty niebezpieczne","Klasse 9: Diverse gevaarlijke stoffen en voorwerpen","Razred 9 : Različne nevarne snovi in predmeti","Třída 9 - Jiné nebezpečné látky a předměty","9. osztály: egyéb veszélyes anyagok és tárgyak","Klass 9 : Övriga farliga ämnen och föremål","Класс 9: Прочие опасные вещества и изделия"]
["Does the company handle/transport HCDG goods (RID 1.10)?","Does the company handle/transport HCDG goods (RID 1.10)?","Das Unternehmen fertigt ab / transportiert HCDG Güter (RID 1.10)?","A empresa movimenta/transporta MPAR - mercadorias perigosas de alto risco (RID 1.10)?","La société manutentionne-t-elle ou transporte-t-elle des marchandises dangereuses à haut risque MDHR (RID 1.10)?","La empresa transporta o trabaja con mercancía peligrosa de alto riesgo  (RID 1.10)?","La società movimenta / trasporta prodotti al alto rischio (ADR 1.10)","Håndterer / transporterer virksomheden HCDG gods (RID 1.10)?","Käsitteleekö / kuljettaako yritys suuren vaaran omaavia aineita (RID 1.10)?","Czy Firma prowadzi obrót/transport materiałów szczególnego ryzyka HCDG (RID 1.10) ?","Behandelt het bedrijf Gevaarlijke Goederen met Hoog Risico (HCDG) (RID 1.10)?","Ali rokujete z / transportirate blago s potencialno hudimi posledicami (po 1.10 ADR )?","Manipuluje/transportuje organizace HCDG látky (RID 1.10)?","Kezel a cég nagy közbiztonsági kockázatú árut? RID 1.10)","Hanterar/transporterar företaget farligt gods med hög riskponential (ADR 1.10)?","Компания обрабатывает / транспортирует грузы повышенной опасности (HCDG) (RID / МПОГ 1.10)?"]
["Countries","Countries"]
[{"$f":"IF(LEN(TEXT(OFFSET(A700,0,langsel),\"\"))>0,TEXT(OFFSET(A700,0,langsel),\"\"),TEXT(B700,\"\"))","v":"AL - Albania"},"AL - Albania","AL - Albania","AL - Albânia","AL - Albania","AL - Albania","AL - Albania","AL - Albanien","AL - Albania","AL - Albania","AL - Albania","AL - Albania","AL - Albania","AL - Albania","AL - Albania","AL - Albania"]
["AD - Andorra","AD - Andorra","AD - Andorra","AD - Andorra","AD - Andorra","AD - Andorra","AD - Andorra","AD - Andorra","AD - Andorra","AD - Andorra","AD - Andorra","AD - Andorra","AD - Andorra","AD - Andorra","AD - Andorra","AD - Andorra"]
["AM - Armenia","AM - Armenia","AM - Armenia","AM - Arménia","AM - Armenia","AM - Armenia","AM - Armenia","AM - Armenia","AM - Armenia","AM - Armenia","AM - Armenia","AM - Armenia","AM - Armenia","AM - Armenia","AM - Armenia","AM - Armenia"]
["AT - Austria","AT - Austria","AT - Austria","AT - Áustria","AT - Austria","AT - Austria","AT - Austria","AT - Austria","AT - Itävalta","AT - Austria","AT - Austria","AT - Austria","AT - Austria","AT - Austria","AT - Austria","AT - Austria"]
["AZ- Azerbaijan","AZ- Azerbaijan","AZ- Azerbaijan","AZ - Azerbeijão","AZ- Azerbaijan","AZ- Azerbaijan","AZ- Azerbaijan","AZ- Azerbaijan","AZ- Azerbaitzan","AZ- Azerbaijan","AZ- Azerbaijan","AZ- Azerbaijan","AZ- Azerbaijan","AZ- Azerbaijan","AZ- Azerbaijan","AZ- Azerbaijan"]
["BY - Belarus","BY - Belarus","BY - Belarus","BY - Bielorússia","BY - Belarus","BY - Belarus","BY - Belarus","BY - Belarus","BY - Valkovenäjä","BY - Belarus","BY - Belarus","BY - Belarus","BY - Belarus","BY - Belarus","BY - Belarus","BY - Belarus"]
["BE - Belgium","BE - Belgium","BE - Belgium","BE - Bélgica","BE - Belgium","BE - Belgium","BE - Belgium","BE - Belgium","BE - Belgia","BE - Belgium","BE - Belgium","BE - Belgium","BE - Belgium","BE - Belgium","BE - Belgium","BE - Belgium"]
["BA - Bosnia and Herzegovina","BA - Bosnia and Herzegovina","BA - Bosnia and Herzegovina","BA - Bósnia-Herzegovina","BA - Bosnia and Herzegovina","BA - Bosnia and Herzegovina","BA - Bosnia and Herzegovina","BA - Bosnia and Herzegovina","BA - Bosnia ja Herzegovina","BA - Bosnia and Herzegovina","BA - Bosnia and Herzegovina","BA - Bosnia and Herzegovina","BA - Bosnia and Herzegovina","BA - Bosnia and Herzegovina","BA - Bosnia and Herzegovina","BA - Bosnia and Herzegovina"]
["BG - Bulgaria","BG - Bulgaria","BG - Bulgaria","BG - Búlgaria","BG - Bulgaria","BG - Bulgaria","BG - Bulgaria","BG - Bulgaria","BG - Bulgaria","BG - Bulgaria","BG - Bulgaria","BG - Bulgaria","BG - Bulgaria","BG - Bulgaria","BG - Bulgaria","BG - Bulgaria"]
["HR - Croatia","HR - Croatia","HR - Croatia","HR - Croácia","HR - Croatia","HR - Croatia","HR - Croatia","HR - Croatia","HR - Kroatia","HR - Croatia","HR - Croatia","HR - Croatia","HR - Croatia","HR - Croatia","HR - Croatia","HR - Croatia"]
["CY - Cyprus","CY - Cyprus","CY - Cyprus","CY - Chipre","CY - Cyprus","CY - Cyprus","CY - Cyprus","CY - Cyprus","CY - Kypros","CY - Cyprus","CY - Cyprus","CY - Cyprus","CY - Cyprus","CY - Cyprus","CY - Cyprus","CY - Cyprus"]
["CZ - Czech Republic","CZ - Czech Republic","CZ - Czech Republic","CZ - Républica Checa","CZ - Czech Republic","CZ - Czech Republic","CZ - Czech Republic","CZ - Czech Republic","CZ - Tsekki","CZ - Czech Republic","CZ - Czech Republic","CZ - Czech Republic","CZ - Czech Republic","CZ - Czech Republic","CZ - Czech Republic","CZ - Czech Republic"]
["DK - Denmark","DK - Denmark","DK - Denmark","DK - Dinamarca","DK - Denmark","DK - Denmark","DK - Denmark","DK - Denmark","DK - Tanska","DK - Denmark","DK - Denmark","DK - Denmark","DK - Denmark","DK - Denmark","DK - Denmark","DK - Denmark"]
["EE - Estonia","EE - Estonia","EE - Estonia","EE - Estónia","EE - Estonia","EE - Estonia","EE - Estonia","EE - Estonia","EE - Viro","EE - Estonia","EE - Estonia","EE - Estonia","EE - Estonia","EE - Estonia","EE - Estonia","EE - Estonia"]
["FI - Finland","FI - Finland","FI - Finland","FI - Finlândia","FI - Finland","FI - Finland","FI - Finland","FI - Finland","FI - Suomi","FI - Finland","FI - Finland","FI - Finland","FI - Finland","FI - Finland","FI - Finland","FI - Finland"]
["FR - France","FR - France","FR - France","FR - França","FR - France","FR - France","FR - France","FR - France","FR - Ranska","FR - France","FR - France","FR - France","FR - France","FR - France","FR - France","FR - France"]
["DE - Germany","DE - Germany","DE - Germany","DE - Alemanha","DE - Germany","DE - Germany","DE - Germany","DE - Germany","DE - Saksa","DE - Germany","DE - Germany","DE - Germany","DE - Germany","DE - Germany","DE - Germany","DE - Germany"]
["GR - Greece","GR - Greece","GR - Greece","GR - Grécia","GR - Greece","GR - Greece","GR - Greece","GR - Greece","GR - Kreikka","GR - Greece","GR - Greece","GR - Greece","GR - Greece","GR - Greece","GR - Greece","GR - Greece"]
["GG - Guernsey","GG - Guernsey","GG - Guernsey","GG - Guernsey","GG - Guernsey","GG - Guernsey","GG - Guernsey","GG - Guernsey","GG - Guernsey","GG - Guernsey","GG - Guernsey","GG - Guernsey","GG - Guernsey","GG - Guernsey","GG - Guernsey","GG - Guernsey"]
["HU - Hungary","HU - Hungary","HU - Hungary","HU - Hungria","HU - Hungary","HU - Hungary","HU - Hungary","HU - Hungary","HU - Unkari","HU - Hungary","HU - Hungary","HU - Hungary","HU - Hungary","HU - Hungary","HU - Hungary","HU - Hungary"]
["IS - Iceland","IS - Iceland","IS - Iceland","IS - Islândia","IS - Iceland","IS - Iceland","IS - Iceland","IS - Iceland","IS - Islanti","IS - Iceland","IS - Iceland","IS - Iceland","IS - Iceland","IS - Iceland","IS - Iceland","IS - Iceland"]
["IE - Ireland","IE - Ireland","IE - Ireland","IE - Irlanda","IE - Ireland","IE - Ireland","IE - Ireland","IE - Ireland","IE - Irlanti","IE - Ireland","IE - Ireland","IE - Ireland","IE - Ireland","IE - Ireland","IE - Ireland","IE - Ireland"]
["IM - Isle of Man","IM - Isle of Man","IM - Isle of Man","IM - Ilha de Man","IM - Isle of Man","IM - Isle of Man","IM - Isle of Man","IM - Isle of Man","IM - Man saaret","IM - Isle of Man","IM - Isle of Man","IM - Isle of Man","IM - Isle of Man","IM - Isle of Man","IM - Isle of Man","IM - Isle of Man"]
["IT - Italy","IT - Italy","IT - Italy","IT - Itália","IT - Italy","IT - Italy","IT - Italy","IT - Italy","IT - Italia","IT - Italy","IT - Italy","IT - Italy","IT - Italy","IT - Italy","IT - Italy","IT - Italy"]
["JE - Jersey","JE - Jersey","JE - Jersey","JE - Jersey","JE - Jersey","JE - Jersey","JE - Jersey","JE - Jersey","JE - Jersey","JE - Jersey","JE - Jersey","JE - Jersey","JE - Jersey","JE - Jersey","JE - Jersey","JE - Jersey"]
["KZ - Kazakhstan","KZ - Kazakhstan","KZ - Kazakhstan","KZ - Cazaquistão","KZ - Kazakhstan","KZ - Kazakhstan","KZ - Kazakhstan","KZ - Kazakhstan","KZ - Kasakstan","KZ - Kazakhstan","KZ - Kazakhstan","KZ - Kazakhstan","KZ - Kazakhstan","KZ - Kazakhstan","KZ - Kazakhstan","KZ - Kazakhstan"]
["LV - Latvia","LV - Latvia","LV - Latvia","LV - Letónia","LV - Latvia","LV - Latvia","LV - Latvia","LV - Latvia","LV - Latvia","LV - Latvia","LV - Latvia","LV - Latvia","LV - Latvia","LV - Latvia","LV - Latvia","LV - Latvia"]
["LI - Liechtenstein","LI - Liechtenstein","LI - Liechtenstein","LI - Liechtenstein","LI - Liechtenstein","LI - Liechtenstein","LI - Liechtenstein","LI - Liechtenstein","LI - Liechtenstein","LI - Liechtenstein","LI - Liechtenstein","LI - Liechtenstein","LI - Liechtenstein","LI - Liechtenstein","LI - Liechtenstein","LI - Liechtenstein"]
["LT - Lithuania","LT - Lithuania","LT - Lithuania","LT - Lituânia","LT - Lithuania","LT - Lithuania","LT - Lithuania","LT - Lithuania","LT - Liettua","LT - Lithuania","LT - Lithuania","LT - Lithuania","LT - Lithuania","LT - Lithuania","LT - Lithuania","LT - Lithuania"]
["LU - Luxembourg","LU - Luxembourg","LU - Luxembourg","LU - Luxemburgo","LU - Luxembourg","LU - Luxembourg","LU - Luxembourg","LU - Luxembourg","LU - Luxembourg","LU - Luxembourg","LU - Luxembourg","LU - Luxembourg","LU - Luxembourg","LU - Luxembourg","LU - Luxembourg","LU - Luxembourg"]
["MK - Macedonia, The Former Yugoslav Republic of","MK - Macedonia, The Former Yugoslav Republic of","MK - Macedonia, The Former Yugoslav Republic of","MK - Macedónia, The Former Yugoslav Republic of","MK - Macedonia, The Former Yugoslav Republic of","MK - Macedonia, The Former Yugoslav Republic of","MK - Macedonia, The Former Yugoslav Republic of","MK - Macedonia, The Former Yugoslav Republic of","MK - Makedonia, Entinen Jugoslavian Makedonian tasavalta","MK - Macedonia, The Former Yugoslav Republic of","MK - Macedonia, The Former Yugoslav Republic of","MK - Macedonia, The Former Yugoslav Republic of","MK - Macedonia, The Former Yugoslav Republic of","MK - Macedonia, The Former Yugoslav Republic of","MK - Macedonia, The Former Yugoslav Republic of","MK - Macedonia, The Former Yugoslav Republic of"]
["MT - Malta","MT - Malta","MT - Malta","MT - Malta","MT - Malta","MT - Malta","MT - Malta","MT - Malta","MT - Malta","MT - Malta","MT - Malta","MT - Malta","MT - Malta","MT - Malta","MT - Malta","MT - Malta"]
[{"$f":"IF(LEN(TEXT(OFFSET(A732,0,langsel),\"\"))>0,TEXT(OFFSET(A732,0,langsel),\"\"),TEXT(B732,\"\"))","v":"MD - Moldova"},"MD - Moldova","MD - Moldova","MD - Moldávia","MD - Moldova","MD - Moldova","MD - Moldova","MD - Moldova","MD - Moldova","MD - Moldova","MD - Moldova","MD - Moldova","MD - Moldova","MD - Moldova","MD - Moldova","MD - Moldova"]
["MC - Monaco","MC - Monaco","MC - Monaco","MC - Mónaco","MC - Monaco","MC - Monaco","MC - Monaco","MC - Monaco","MC - Monaco","MC - Monaco","MC - Monaco","MC - Monaco","MC - Monaco","MC - Monaco","MC - Monaco","MC - Monaco"]
["ME - Montenegro","ME - Montenegro","ME - Montenegro","ME - Montenegro","ME - Montenegro","ME - Montenegro","ME - Montenegro","ME - Montenegro","ME - Montenegro","ME - Montenegro","ME - Montenegro","ME - Montenegro","ME - Montenegro","ME - Montenegro","ME - Montenegro","ME - Montenegro"]
["MA - Morocco","MA - Morocco","MA - Morocco","MA - Morrocos","MA - Morocco","MA - Morocco","MA - Morocco","MA - Morocco","MA - Marokko","MA - Morocco","MA - Morocco","MA - Morocco","MA - Morocco","MA - Morocco","MA - Morocco","MA - Morocco"]
["NL - Netherlands","NL - Netherlands","NL - Netherlands","NL - Holanda","NL - Netherlands","NL - Netherlands","NL - Netherlands","NL - Netherlands","NL - Alankomaat","NL - Netherlands","NL - Netherlands","NL - Netherlands","NL - Netherlands","NL - Netherlands","NL - Netherlands","NL - Netherlands"]
["NO - Norway","NO - Norway","NO - Norway","NO - Noruega","NO - Norway","NO - Norway","NO - Norway","NO - Norway","NO - Norja","NO - Norway","NO - Norway","NO - Norway","NO - Norway","NO - Norway","NO - Norway","NO - Norway"]
["PL - Poland","PL - Poland","PL - Poland","PL - Polónia","PL - Poland","PL - Poland","PL - Poland","PL - Poland","PL - Puola","PL - Poland","PL - Poland","PL - Poland","PL - Poland","PL - Poland","PL - Poland","PL - Poland"]
["PT - Portugal","PT - Portugal","PT - Portugal","PT - Portugal","PT - Portugal","PT - Portugal","PT - Portugal","PT - Portugal","PT - Portugali","PT - Portugal","PT - Portugal","PT - Portugal","PT - Portugal","PT - Portugal","PT - Portugal","PT - Portugal"]
["RO - Romania","RO - Romania","RO - Romania","RO - Roménia","RO - Romania","RO - Romania","RO - Romania","RO - Romania","RO - Romania","RO - Romania","RO - Romania","RO - Romania","RO - Romania","RO - Romania","RO - Romania","RO - Romania"]
["RU - Russia","RU - Russia","RU - Russia","RU - Rússia","RU - Russia","RU - Russia","RU - Russia","RU - Russia","RU - Venäjä","RU - Russia","RU - Russia","RU - Russia","RU - Russia","RU - Russia","RU - Russia","RU - Russia"]
["SM - San Marino","SM - San Marino","SM - San Marino","SM - San Marino","SM - San Marino","SM - San Marino","SM - San Marino","SM - San Marino","SM - San Marino","SM - San Marino","SM - San Marino","SM - San Marino","SM - San Marino","SM - San Marino","SM - San Marino","SM - San Marino"]
["RS- Serbia","RS- Serbia","RS- Serbia","RS - Sérvia","RS- Serbia","RS- Serbia","RS- Serbia","RS- Serbia","RS- Serbia","RS- Serbia","RS- Serbia","RS- Serbia","RS- Serbia","RS- Serbia","RS- Serbia","RS- Serbia"]
["SK - Slovakia","SK - Slovakia","SK - Slovakia","SK - Eslóvaquia","SK - Slovakia","SK - Slovakia","SK - Slovakia","SK - Slovakia","SK - Slovakia","SK - Slovakia","SK - Slovakia","SK - Slovakia","SK - Slovakia","SK - Slovakia","SK - Slovakia","SK - Slovakia"]
["SI - Slovenia","SI - Slovenia","SI - Slovenia","SI - Eslóvenia","SI - Slovenia","SI - Slovenia","SI - Slovenia","SI - Slovenia","SI - Slovenia","SI - Slovenia","SI - Slovenia","SI - Slovenia","SI - Slovenia","SI - Slovenia","SI - Slovenia","SI - Slovenia"]
["ES - Spain","ES - Spain","ES - Spain","ES - Espanha","ES - Spain","ES - Spain","ES - Spain","ES - Spain","ES - Espania","ES - Spain","ES - Spain","ES - Spain","ES - Spain","ES - Spain","ES - Spain","ES - Spain"]
["SE - Sweden","SE - Sweden","SE - Sweden","SE - Suécia","SE - Sweden","SE - Sweden","SE - Sweden","SE - Sweden","SE - Ruotsi","SE - Sweden","SE - Sweden","SE - Sweden","SE - Sweden","SE - Sweden","SE - Sweden","SE - Sweden"]
["CH - Switzerland","CH - Switzerland","CH - Switzerland","CH - Suiça","CH - Switzerland","CH - Switzerland","CH - Switzerland","CH - Switzerland","CH - Sveitsi","CH - Switzerland","CH - Switzerland","CH - Switzerland","CH - Switzerland","CH - Switzerland","CH - Switzerland","CH - Switzerland"]
["TR - Turkey","TR - Turkey","TR - Turkey","TR - Turquia","TR - Turkey","TR - Turkey","TR - Turkey","TR - Turkey","TR - Turkki","TR - Turkey","TR - Turkey","TR - Turkey","TR - Turkey","TR - Turkey","TR - Turkey","TR - Turkey"]
["UA - Ukraine","UA - Ukraine","UA - Ukraine","UA - Ucrânia","UA - Ukraine","UA - Ukraine","UA - Ukraine","UA - Ukraine","UA - Ukraina","UA - Ukraine","UA - Ukraine","UA - Ukraine","UA - Ukraine","UA - Ukraine","UA - Ukraine","UA - Ukraine"]
["GB - United Kingdom","GB - United Kingdom","GB - United Kingdom","GB - Reino Unido","GB - United Kingdom","GB - United Kingdom","GB - United Kingdom","GB - United Kingdom","GB - Yhdistynyt Kuningaskunta","GB - United Kingdom","GB - United Kingdom","GB - United Kingdom","GB - United Kingdom","GB - United Kingdom","GB - United Kingdom","GB - United Kingdom"]
["VA - Vatican City","VA - Vatican City","VA - Vatican City","VA - Cidade do Vaticano","VA - Vatican City","VA - Vatican City","VA - Vatican City","VA - Vatican City","VA - Vatikani","VA - Vatican City","VA - Vatican City","VA - Vatican City","VA - Vatican City","VA - Vatican City","VA - Vatican City","VA - Vatican City"]
["?? - Other Countries","?? - Other Countries","Andere Länder","?? - Outros Países","?? Autres pays","?? - Otros países","Altre Nazioni","?? - Andre lande","Muut maat","?? - inne państwa","?? - Andere landen","?? - Druge države","?? - Jiné země","?? - Egyéb ország","Andra länder?","Другие страны"]
["Yes/No/NA","Yes/No/NA"]
[{"$f":"IF(LEN(TEXT(OFFSET(A755,0,langsel),\"\"))>0,TEXT(OFFSET(A755,0,langsel),\"\"),TEXT(B755,\"\"))","v":"Yes"},"Yes","Ja ","Sim","Oui","Si","SI ","Ja","Kyllä","Tak","Ja","DA","Ano","Igen","Ja","ДА"]
[{"$f":"IF(LEN(TEXT(OFFSET(A756,0,langsel),\"\"))>0,TEXT(OFFSET(A756,0,langsel),\"\"),TEXT(B756,\"\"))","v":"No"},"No","Nein ","Não","Non","No","No ","Nej ","Ei","Nie","Neen","NE","Ne","Nem","Nej","НЕТ"]
[{"$f":"IF(LEN(TEXT(OFFSET(A757,0,langsel),\"\"))>0,TEXT(OFFSET(A757,0,langsel),\"\"),TEXT(B757,\"\"))","v":"N/A"},"N/A","Nicht anwendbar","N/A (Não aplicável)","N/A","N/A","N/A - Non Applicabile","N/A","Ei sovellettavissa","Nie dotyczy","NVT","N/A  \"ne pride v poštev\"","N/A","Nem alkalmazható","Inte tillämpligt","НЕ ПРИМЕНИМО (N/A)"]
["Responsible Care type","Responsible Care type"]
[{"$f":"IF(LEN(TEXT(OFFSET(A759,0,langsel),\"\"))>0,TEXT(OFFSET(A759,0,langsel),\"\"),TEXT(B759,\"\"))","v":"ECTA"},"ECTA","ECTA","ECTA","ECTA","ECTA","ECTA","ECTA","ECTA","ECTA","ECTA","ECTA","ECTA","ECTA","ECTA","ECTA"]
["FECC","FECC","FECC","FECC","FECC","FECC","FECC","FECC","FECC","FECC","FECC","FECC","FECC","FECC","FECC","FECC"]
["CBA","CBA","CBA","CBA","CBA","CBA","CBA","CBA","CBA","CBA","CBA","CBA","CBA","CBA","CBA","CBA"]
["VCH","VCH","VCH","VCH","VCH","VCH","VCH","VCH","VCH","VCH","VCH","VCH","VCH","VCH","VCH","VCH"]
["VHCP","VHCP","VHCP","VHCP","VHCP","VHCP","VHCP","VHCP","VHCP","VHCP","VHCP","VHCP","VHCP","VHCP","VHCP","VHCP"]
["Other","Other","Andere ","Outras Entidades","Autre","Otros","Altro","Andre","Muu ","Inny","Andere ","Drugo","Jiné","Egyéb","Andra","Другие"]
["Type Of Cleaning","Type Of Cleaning",null,null,null,null,null,null,null,null,null,null,null,null,null,"ECTA|FECC|CBA|VCH|VHCP|Другие"]
[{"$f":"IF(LEN(TEXT(OFFSET(A766,0,langsel),\"\"))>0,TEXT(OFFSET(A766,0,langsel),\"\"),TEXT(B766,\"\"))","v":"A : less than 100 / year"},"A : less than 100 / year","A: weniger als 100 / Jahr","A : menos de 100 / ano","A: moins que 100/année","A: menos de 100 por año","A: meno di 100 / anno","A: mindre end 100 /år","A: vähemmän kuin 100 / vuosi","A: mniej niż 100 / rok","A : minder dan 100 / jaar","A: manj kot 100/leto","A : méně než 100 / rok","A: kevesebb, mint 100/ év","A : Färre än 100 / år","A: менее 100 / год"]
[{"$f":"IF(LEN(TEXT(OFFSET(A767,0,langsel),\"\"))>0,TEXT(OFFSET(A767,0,langsel),\"\"),TEXT(B767,\"\"))","v":"B : 101 - 1000 /year"},"B : 101 - 1000 /year","B: 101 - 1000 / Jahr","B : 101 - 1.000 / ano","B: 101 - 1000/année","B: 101 - 1000 por año","B: da 101 a 1000 / anno","B: 101 - 1000 /år","B: 101 - 1000/vuosi","B: 101 - 1000 / rok","B : 101 - 1000 /jaar","B: 101 - 1000/leto","B : 101 - 1000 / rok","B: 101-1000/ év","B : 101 - 1000 /år","B: 101 - 1000 / год"]
[{"$f":"IF(LEN(TEXT(OFFSET(A768,0,langsel),\"\"))>0,TEXT(OFFSET(A768,0,langsel),\"\"),TEXT(B768,\"\"))","v":"C : 1001 - 10.000/year"},"C : 1001 - 10.000/year","C: 1010-10000 /Jahr","C : 1001 - 10.000 / ano","C: 1001 - 10.000/année","C: 1001 - 10000 por año","C: da 1001 a 10000 / anno","C: 1001 - 10.000 /år","C: 1001 - 10 000/vuosi","C: 1001 - 10000 / rok","C : 1001 - 10.000/jaar","C: 1001 - 10.000/leto","C : 1001 - 10.000 / rok","C: 1001-10000/év","C : 1001 - 10.000/år","C: 1001 - 10.000 / год"]
[{"$f":"IF(LEN(TEXT(OFFSET(A769,0,langsel),\"\"))>0,TEXT(OFFSET(A769,0,langsel),\"\"),TEXT(B769,\"\"))","v":"D : more than 10.000/yr"},"D : more than 10.000/yr","D: mehr als 10000 /Jahr","D : mais de 10.000 / ano","D: plus de 10.000/année","D: más de 10000 por año","D: più di 100000 / anno","D: mere end 10.000 /år","D: enemmän kuin 10 000/vuosi","D: powyżej 10000 / rok","D : meer dan 10.000/jaar","D: več kot 10.000/leto","D : více než 10.000 / rok","D: több, mint 10 000/év","D : Fler än 10.000/år","D: более 10.000 / год"]
["Employes number","Employes number"]
[{"$f":"IF(LEN(TEXT(OFFSET(A771,0,langsel),\"\"))>0,TEXT(OFFSET(A771,0,langsel),\"\"),TEXT(B771,\"\"))","v":"Less than 10"},"Less than 10","weniger als 10","Menos de 10","Moins de 10","Menos de 10","meno di 10","Mindre end 10","Vähemmän kuin 10","Mniej niż 10","Minder dan 10","Manj kot 10","Méně než 10","Kevesebb, mint 10","Färre än 10","менее 10"]
[{"$f":"IF(LEN(OFFSET(A772,0,langsel))>0,OFFSET(A772,0,langsel),B772)","v":"10-50"},"10-50","10 bis 50","10 a 50","entre 10 et 50","Entre 10 y 50","da 10 a 50","10-50","10-50","10-50","10-50","Od 10 do 50","od 10 do 50","10-50","10-50","10 до 50"]
[{"$f":"IF(LEN(TEXT(OFFSET(A773,0,langsel),\"\"))>0,TEXT(OFFSET(A773,0,langsel),\"\"),TEXT(B773,\"\"))","v":"more than 50"},"more than 50","mehr als 50","mais de 50","plus de 50","Más de 50","più di 50","mere end 50","yli 50","więcej niż 50","meer dan 50","Več kot 50","více než 50","több, mint 50","Fler än 50","более 50"]
["Application specific","Application specific"]
[{"$f":"IF(LEN(TEXT(OFFSET(A775,0,langsel),\"\"))>0,TEXT(OFFSET(A775,0,langsel),\"\"),TEXT(B775,\"\"))","v":"Report Submission Information"},"Report Submission Information"]
["Please enter (or Copy/Paste) these fields EXACTLY as mentioned in the confirmation e-mail of this authorized assessment, otherwise your assessment report will be rejected by the SQAS system","Please enter (or Copy/Paste) these fields EXACTLY as mentioned in the confirmation e-mail of this authorized assessment, otherwise your assessment report will be rejected by the SQAS system"]
["Report Number","Report Number"]
["Company Name","Company Name"]
["Company Location ( Town/City)","Company Location ( Town/City)"]
["Company Country","Company Country"]
["Done","Done"]
["The contact details of the site that has been assessed should be given. When the assessment covers several sites, the contact details of the main site should be given.","The contact details of the site that has been assessed should be given. When the assessment covers several sites, the contact details of the main site should be given.","Es sind alle Angaben (Name, Anschrift, Ansprechperson usw.) zu der zu beurteilenden Betriebsstätte zu machen. Bezieht sich die Beurteilung auf mehrere Betriebsstätten, sind die Angaben zum Hauptsitz zu machen. ",null,"Les coordonnées du site qui a été évalué doivent être fournies. Quand l'évaluation couvre plusieurs sites, les coordonnées du site principal doivent être fournies.","Deben darse los detalles de contacto con el centro de trabajo que se ha evaluado. Cuando la evaluación incluye varios centros, deben darse los detalles de contacto con el centro principal.","Devono essere forniti dettagli circa luogo e persone da contattare per quanto attiene al sito da ispezionare. Quando l’ispezione riguarda più siti, si devono fornire dettagli circa luoghi e persone da contattare presso il sito principale.",null,"Arvioidun toimipaikan yhteystiedot tulisi antaa. Kun arviointi kattaa useita toimipaikkoja, tulisi antaa päätoimipaikan yhteystiedot. ",null,"De contactgegevens van de onderzochte locatie moeten vermeld worden. Wanneer het onderzoek verschillende locaties behelst, moeten de contactgegevens van de voornaamste locatie vermeld worden."]
["Name: Indicate the name under which the company is normally known. When the company is a subsidiary of a larger organisation (mother company), the name of the mother company should be mentioned under the title Headquarters' Name and address.","Name: Indicate the name under which the company is normally known. When the company is a subsidiary of a larger organisation (mother company), the name of the mother company should be mentioned under the title Headquarters' Name and address.","Geben Sie den Namen an, unter dem das Unternehmen normalerweise firmiert. Ist das Unternehmen eine Tochtergesellschaft einer größeren Organisation (Muttergesellschaft), ist erst der Name der Muttergesellschaft unter \"Name und Anschrift des Hauptsitzes\" zu nennen.",null,"Indiquer le nom sous lequel la société est normalement connue. Quand la société est filiale d'une organisation plus importante (société mère), le nom de la société mère doit être mentionné dans la case Nom du Siège et Adresse.","Indicar el nombre por  el que la empresa es conocida normalmente. Cuando la empresa sea filial de una organización mayor (empresa matriz), debe mencionarse el nombre de la empresa matriz indicando Nombre de la central y  dirección","Indicare la ragione sociale con la quale l’Azienda è normalmente conosciuta.  Se l’Azienda è la filiale di un’impresa più grande (casa-madre), la ragione sociale della casa-madre deve essere menzionata al punto Ragione Sociale e indirizzo della Sede Centrale.",null,"Merkitse nimi, jolla yritys tavallisesti tunnetaan. Kun yritys on suuremman organisaation (emoyhtiön) tytäryhtiö, tulisi emoyhtiön nimi mainita ensin ja sen jälkeen tytäryhtiön nimi tai paikka kohdassa pääkonttorin nimi ja osoite.",null,"Geef de naam onder dewelke het bedrijf normaal gekend is. Wanneer het bedrijf een dochteronderneming is van een groter bedrijf (moederbedrijf), moet de naam van het moederbedrijf vermeld worden onder de titel “Naam hoofdkantoor + Adres”. "]
["Location: Indicate the name of the city or village where the assessed company is located. When the company is located in a village/town close to a city it may be appropriate to indicate the name of the city.","Location: Indicate the name of the city or village where the assessed company is located. When the company is located in a village/town close to a city it may be appropriate to indicate the name of the city.","Geben Sie den Namen der Stadt oder des Ortes an, in dem das zu beurteilende Unternehmen seinen Sitz hat. Hat das Unternehmen seinen Sitz in der Nähe einer größeren Stadt, kann es nützlich sein, diese ebenfalls anzugeben.",null,"Indiquer le nom de la ville ou du village ou la societe evaluee est situee. Quand la societe est situee dans un village/bourg proche d'une ville, il peut etre judicieux d'indiquer le nom de la ville.","Indicar el nombre de la ciudad o pueblo en el que se encuentra la empresa evaluada. Cuando la empresa esté localizada en un pueblo / población cercano a una ciudad, deberá indicarse también el nombre de la ciudad.","Indicare il nome della città o paese in cui è situata l’azienda da valutare.  Quando l’azienda è situata in un paese/villaggio prossimo ad una città, potrebbe essere appropriato indicare il nome della città.",null,"Merkitse kaupungin tai kylän nimi, jossa yritys sijaitsee. Kun yritys sijaitsee kylässä lähellä suurempaa kaupunkia, saattaa olla tarpeen merkitä läheisen kaupungin nimi.",null,"Geef de naam van de stad of de gemeente waar het onderzocht bedrijf gelokaliseerd is. Wanneer het bedrijf gelokaliseerd is in een gemeente / dorp dicht bij een stad kan het aangewezen zijn de naam van de stad te vermelden."]
["Country: Select one of the countries listed in the drop-down menu","Country: Select one of the countries listed in the drop-down menu","Wahlen Sie eines der im Menu angegebenen Lander.",null,"Sélectionner un des pays listés dans le menu déroulant.","Seleccionar el país.","Selezionare una delle nazioni elencate nella scelta proposta dal sistema. ",null,"Valitse yksi maa pudotusvalikosta.",null,"Selecteer één van de landen uit de “drop-down” menu."]
["Postal code : this postal code is important for users who want to search on region","Postal code : this postal code is important for users who want to search on region"]
["Postal address: The full mailing address must be given including the city/village and country.","Postal address: The full mailing address must be given including the city/village and country.","Die komplette Postanschrift einschl. Stadt/Ort und Land sind anzugeben.",null,"L'adresse postale complète doit être fournie incluant la ville, le village et le pays.","Tiene que darse la dirección postal completa, incluyendo la ciudad / población y el país","Riportare l’indirizzo completo inclusi la provincia e la nazione.",null,"Täydellinen postiosoite on kirjattava, mukaan lukien kaupunki/kylä ja maa.",null,"Het volledig postadres moet vermeld worden inclusief de stad/gemeente  en het land."]
["Phone: Either the general company numbers or the numbers of the main contact person should be given.","Phone: Either the general company numbers or the numbers of the main contact person should be given.","Es ist entweder die Nummer der Zentrale des Unternehmens oder die der Ansprechperson anzugeben.",null,"Fournir les coordonnées générales de la société ou les coordonnées de la personne contact principal.","Teléfono/fax: Deben darse, bien los números generales de la empresa o los números de las principales personas de contacto.","Telefono/fax: Riportare i numeri del centralino dell’azienda o quelli diretti dei contatti principali.",null,"Puhelin/fax: Joko yleinen yritysnumero tai pääasiallisten yhteyshenkilöiden numerot tulisi merkitä.",null,"Telefoon/ fax: De algemene bedrijfsnummers of de nummers van de voornaamste contactpersoon moeten vermeld worden."]
["Web site: The web site of the assessed company or of the mother company should be given if available.","Web site: The web site of the assessed company or of the mother company should be given if available.","Web-Adresse: Soweit vorhanden, ist die Web-Adresse des zu beurteilenden Unternehmens oder der Muttergesellschaft anzugeben.",null,"Le site web de la société évaluée ou de la société mère doit être fourni si disponible.","Debe indicarse la página web de la empresa evaluada o el de la empresa matriz si  disponen de ella.","Sito Internet: Riportare, se disponibile, l’indirizzo del sito Internet dell’azienda valutata o quello della Casa-Madre.",null,"Arvioidun yrityksen internetsivun osoite tai sen emoyhtiön sivut tulisi merkitä, jos sellainen on. ",null,"Website: De website van het onderzocht bedrijf of van het moederbedrijf moet vermeld worden indien beschikbaar."]
["Please obtain from the Assessed company 3 person (with correct e-mail addresses) who will get access to report","Please obtain from the Assessed company 3 person (with correct e-mail addresses) who will get access to report"]
[{"$f":"IF(LEN(OFFSET(A791,0,langsel))>0,OFFSET(A791,0,langsel),B791)","v":"Contact person(s): Indicate the name of the person(s) responsible for SQAS in the assessed company. Maximum 3 persons can be mentioned. Both the name of the person and his/her e-mail address should be mentioned. Only these persons will have access to the SQAS database to view the company's assessment report and to input comments on the assessment report into the database."},"Contact person(s): Indicate the name of the person(s) responsible for SQAS in the assessed company. Maximum 3 persons can be mentioned. Both the name of the person and his/her e-mail address should be mentioned. Only these persons will have access to the SQAS database to view the company's assessment report and to input comments on the assessment report into the database.","Ansprechperson/en: Geben Sie den/die Namen der im zu beurteilenden Unternehmen für SQAS zuständigen Person/en an. Es können maximal 3 Personen angegeben werden.  Es sollte sowohl der/die Name/n als auch die E-Mail-Adresse/n angegeben werden. Nur diese Person/en hat/haben Zugriff auf die SQAS-Datenbank und können den Beurteilungsbericht einsehen und Kommentare/Anmerkungen zum Bericht eingeben.",null,"Personne(s) de Contact: Indiquer le nom de la (des) personne(s) responsable(s) du SQAS dans la société évaluée. Un maximum de 3 personnes peut être mentionné. Le nom de la personne et son adresse e-mail doivent être mentionnés. Seules ces personnes auront accès à la base de données SQAS pour visualiser le rapport d'évaluation de la société et pour ajouter des commentaires dans le rapport d'évaluation entré la base de données.","Persona(s) de contacto: Indicar el nombre de la(s) persona(s) responsables de SQAS en la empresa evaluada. Puede citarse un máximo de 3 personas. Debe mencionarse tanto el nombre de la persona como su dirección e-mail. Solamente estas personas tendrán acceso a la base de datos SQAS para ver el informe de la evaluación de la empresa e introducir comentarios.","Persona(e) da contattare: Indicare il nome della(e) persona(e) responsabile per l’SQAS nell’azienda valutata. Possono essere menzionate al massimo 3 persone.  Devono essere riportati sia il nome della persona che il suo indirizzo e-mail. Solamente queste persone avranno l’accesso al database SQAS per prendere visione del rapporto d’ispezione sull’azienda ed inserirvi commenti.",null,"Yhteyshenkilö(t): Merkitse arvioidun yrityksen SQAS arvioinnista vastaavien henkilöiden nimet. Enintään 3 henkilöä voidaan merkitä. Sekä henkilön nimi että hänen sähköpostiosoitteensa tulisi merkitä. Vain näillä henkilöillä tulee olemaan pääsy SQAS tietokantaan katsomaan yrityksen arviointiraporttia ja kirjaamaan kommentteja arvioinnista tietokantaan. ",null,"Contactpersoon / personen: Geef de naam van de persoon/ personen die verantwoordelijk zijn voor SQAS in het onderzocht bedrijf. Maximum 3 personen kunnen vermeld worden. Zowel de naam van de persoon als zijn / haar  e-mail adres moeten vermeld worden. Enkel deze personen zullen toegang hebben tot het SQAS onderzoeksrapport van het bedrijf op de SQAS databank en zullen opmerkingen aan het onderzoeksrapport kunnen toevoegen op de SQAS databank."]
[{"$f":"IF(LEN(TEXT(OFFSET(A792,0,langsel),\"\"))>0,TEXT(OFFSET(A792,0,langsel),\"\"),TEXT(B792,\"\"))","v":"|Stand alone|Headquarter|Subsidiary"},"|Stand alone|Headquarter|Subsidiary","|Eigenständiges Unternehmen|Hauptsitz|Tochterunternehmen","Instalação única|Sede|Subsidiária","|Société Autonome|Siège central|Filiale","|Evaluacion unica|Sede Central|Filial","|Monosede|Sede centrale|Sede secondaria",null,"|Yksinomaan|pääkonttori/tytäryhtiö","|Pojedyncza lokalizacja|centrala|oddział","|Stand alone|hoofdkwartier|filiaal","|Samostojna organizacija|sedež vodstva|podružnica","|Samostatný|ústředí|dceřinná společnost","|Önálló|cégközpont|leányvállalat","|Fristående|Huvudkontor|Dotterbolag","|автономные|штаб|вспомогательные"]
["For a PAD from a mother company with a combined assessment the applicable operating sites have to mentioned.","For a PAD from a mother company with a combined assessment the applicable operating sites have to mentioned."]
["The report number from the report of the main company has to be filled in.","The report number from the report of the main company has to be filled in."]
["Company membership : memberships of all relevant associations or organisations can be filled in","Company membership : memberships of all relevant associations or organisations can be filled in"]
["Total number of employees for all assessed activities: total number of employees involved in the assessed activities (operators, drivers, dispatchers, management, ...)","Total number of employees for all assessed activities: total number of employees involved in the assessed activities (operators, drivers, dispatchers, management, ...)"]
["Give the contact details of the main assessor. The name of other assessors and/or chemical industry observers who attended the assessment should be added.","Give the contact details of the main assessor. The name of other assessors and/or chemical industry observers who attended the assessment should be added.","Hier sind Name und Anschrift usw. des Assessors anzugeben. Der Name anderer bei der Beurteilung anwesenden Assessoren und/oder Beobachter der chemischen Industrie ist hinzuzufügen.",null,"Fournir les détails de contact de l'auditeur principal. Le nom des autres auditeurs et/ou des observateurs des industries chimiques qui ont participé à l'évaluation doivent être ajoutés.","Dar los detalles de contacto del evaluador principal. Pueden añadirse los nombres de otros evaluadores y/u observadores de la industria química que asistieran a la evaluación.","Riportare i riferimenti per contattare l’Ispettore Coordinatore.  Aggiungere inoltre i nominativi degli altri ispettori e/o quello(i) del(degli) osservatore(i) dell’industria chimica che ha(hanno) partecipato all’ispezione.",null,"Merkitse pääarvioijan yhteystiedot. Muiden arviointiin osallistuneiden arvioijien ja/tai kemian teollisuuden yrityksen tarkkailijoiden nimet tulisi lisätä.",null,"Geef de contactgegevens van de hoofdonderzoeker. De naam van de andere onderzoeker(s) en / of waarnemer(s) van de chemische industrie die het onderzoek bijgewoond hebben, moeten eveneens vermeld worden."]
["Lead Assessor","Lead Assessor","Lead Assessor",null,"Auditeur responsable de l'audit","Auditor Jefe","Ispettore ",null,"Pääarvioija","Audytor Wiodący","Hoofd Auditor",null,null,null,null,"Ведущий оценщик"]
["Name","Name","Name",null,"Nom","Nombre","Nome",null,"Nimi","Imię i nazwisko","Naam",null,null,null,null,"Имя / Фамилия"]
["Assessment Agency","Assessment Agency","Zertifizierungsgesellschaft",null,"Organisme d'audit","Compañía auditora","Ente Ispettore",null,"Arviointiyritys","Agencja ","Audit agentschap",null,null,null,null,"Агенство"]
["Address","Address","Anschrift",null,"Adresse","Dirección","Indirizzo",null,"Osoite","Adres","Adres",null,null,null,null,"Адрес"]
["Country","Country","Land",null,"Pays","País","Paese",null,"Maa","Kraj","Land",null,null,null,null,"Страна"]
["Phone","Phone","Telefon",null,"Téléphone","Teléfono","Telefono",null,"Puhelin","Telefon","Telefoon",null,null,null,null,"Телефон"]
["Mobile Phone","Mobile Phone","Mobiltelefon",null,"Téléphone portable","Móvil","Telefono cellulare",null,"Matkapuhelin","Telefon komórkowy","Mobiele telefoon",null,null,null,null,"Мобильный телефон"]
["Email","Email","E-Mail",null,"Adresse courriel","E-mail","E-mail",null,"Sähköposti","E-mail","E-mail",null,null,null,null,"Электронная почта"]
["Other Assessors","Other Assessors","Weitere Assessoren",null,"Autres auditeurs","Otros auditores","Altri Ispettori",null,"Muut arvioijat","Pozostali auditorzy","Andere auditors",null,null,null,null,"Другие оценщики"]
["Name(s)","Name(s)","Name",null,"Nom","Nombre","Nome",null,"Nimi","Imię i nazwisko","Naam",null,null,null,null,"Имя / Фамилия"]
["Observers","Observers","Beobachter eines Chemieunternehmens",null,"Observateurs","Observadores","Osservatori",null,"Tarkkailijat","Obserwatorzy","Waarnemers",null,null,null,null,"Наблюдатели"]
["Name","Name","Name",null,"Nom","Nombre","Nome",null,"Nimi","Imię i nazwisko","Naam",null,null,null,null,"Имя / Фамилия"]
["Company","Company","Firma",null,"Société","Compañía","Azienda",null,"Yritys","Firma","Bedrijf",null,null,null,null,"Компания"]
["Country: Select one of the countries listed in the drop-down menu","Country: Select one of the countries listed in the drop-down menu","Wahlen Sie eines der im Menu angegebenen Lander.",null,"Sélectionner un des pays listés dans le menu déroulant.","Seleccionar el país.","Selezionare una delle nazioni elencate nella scelta proposta dal sistema. ",null,"Valitse yksi maa pudotusvalikosta.",null,"Waarnemers"]
["First assessment or re-assessment : Tick which applies. If re-assessment also indicate the number of the previous report.","First assessment or re-assessment : Tick which applies. If re-assessment also indicate the number of the previous report."]
["Give the names and their location of the people who are responsible for the site(s) that has/have been assessed.","Give the names and their location of the people who are responsible for the site(s) that has/have been assessed.","Nennen Sie die Namen und Anschriften der Person(en), die für die zu beurteilende(n) Betriebsstätte(n) zuständig ist/sind.",null,"Donner les noms et le lieu d'attachement pour les personnes responsables du (des) site(s) qui a (ont) été évalué(s).","Dar los nombres y direcciones  de las personas responsables  en el(los) centro(s) de trabajo que ha(n) sido evaluado(s).","Indicare nominativo e sito di appartenenza delle persone che sono responsabili per il(i) sito(i) che è/sono stato(i) valutato(i)..",null,"Anna nimet ja sijaintipaikat, niistä henkilöistä, jotka ovat vastuussa arvioiduista toimipaikoista. ",null,"Geef de namen en hun locatie, van de personen die verantwoordelijk zijn voor de locatie(s) die onderzocht werden."]
["Indicate the different certificates that have been obtained by the assessed site(s).","Indicate the different certificates that have been obtained by the assessed site(s).","Geben Sie die verschiedenen Zertifizierungen an, die für die zu beurteilende/n Betriebsstätte/n vorliegen. ",null," Indiquer les différents certificats obtenus par le(s) site(s).","Indicar los diferentes certificados que han sido obtenidos por el(los) centro(s) de trabajo. ","Indicare i diversi certificati ottenuti dal(i) sito(i). ",null,"Yksilöi eri sertifikaatit, jotka arvioitu toimipaikka on saanut.",null,"Vermeld de verschillende certificaten die behaald werden door de onderzochte locatie(s)."]
["Indicate if the company joined an approved Responsible Care programme.","Indicate if the company joined an approved Responsible Care programme."]
["Indicate which infrastructure and activities are present at the site and within the scope of the assessment.","Indicate which infrastructure and activities are present at the site and within the scope of the assessment."]
["Give a brief description of the onsite incident response team and equipment such as number of trained employees, sort of equipment present, quantity of water available||||Give also a brief description of the local fire brigade","Give a brief description of the onsite incident response team and equipment such as number of trained employees, sort of equipment present, quantity of water available||||Give also a brief description of the local fire brigade"]
["Assessment dates and duration","Assessment dates and duration"]
["Date","Date"]
["Duration (number of days)","Duration (number of days)"]
["Core or ESAD Di assessment","Core or ESAD Di assessment"]
["Specific assessment 1","Specific assessment 1"]
["Specific assessment 2","Specific assessment 2"]
["Previous Core or ESAD Di assessment","Previous Core or ESAD Di assessment"]
["Previous Specific assessment 1","Previous Specific assessment 1"]
["Previous Specific assessment 2","Previous Specific assessment 2"]
["Scope of assesment - Core Activity","Scope of assesment - Core Activity"]
["Core activity is included in this Assessment","Core activity is included in this Assessment"]
["Core Activity is covered by other assessment","Core Activity is covered by other assessment"]
["|Assessment Date","|Assessment Date"]
["|Report Nr","|Report Nr"]
[""]
[""]